{"text_format":"1","workbook":"xlsx","n_sheets":6,"sheets":["Padrões","Cenários","Tabela_dinamica","Dados_v2","Dados de entrada","Análise de Cenários"],"not_rendered":{"charts":12,"images":8,"macros":1,"external_links":0,"defined_names":35,"comments":0,"pivot_tables":2},"unopened":[],"bounds":{"document_bytes":16777216,"sheet_cells":100000,"rows_first":2000,"rows_last":500,"rows_between":2000,"halvings":0,"cell_chars":16384,"cell_head_chars":4096},"cells_cut":0,"cells_raw":0,"read":"whole","date_system":"1900"}

{"sheet":"Padrões","index":0,"n_rows":1050,"n_cols":30,"rows_kept":1050,"cut":false,"hidden":false,"merged":[]}
["Fluxo_veicular_BH",null,null,null,null,null,null,null,null,"Dist_idade_frota",null,null,null,null,null,null,null,null,null,null,null,null,null,"Idade_frota_BH"]
["Cód","Endereço","Coordenadas",null,"Contagem de veículos",null,null,null," ","Ano de Fabricação","Ônibus","Ônibus-Elétrico","Microônibus","Caminhão","Moto-Gasolina","Moto-Flex","Automóvel-Gasolina","Automóvel-Álcool","Automóvel-Flex","Automóvel-Diesel",null,null,null,"Ano_de_fabricacao","Tipologia_veicular","Veiculo_ID","Tipologia_ID","Quantidade","Poluente","Fator_Emissao"]
[null,null,"X","Y","Automóveis","Motos","Ônibus","Caminhões",null,1983,26,null,0,147,969,0,2057,2904,0,163,null,null,null,1983,"Onibus",1,3,26,"CO",3.0191304347825998]
["SPL0023",null,-43.995637199999997,-19.900704900000001,7350,2274,384,147,null,1984,27,null,1,159,633,0,849,3281,1,186,null,null,null,1984,"Onibus",1,3,27,"CO",3.0191304347825998]
["SPL2411",null,-43.9352582,-19.947263700000001,44652,5253,1694,294,null,1985,30,null,1,248,473,0,816,3376,2,157,null,null,null,1985,"Onibus",1,3,30,"CO",3.0191304347825998]
["SPL2430",null,-43.972056000000002,-19.922920999999999,40868,4650,4027,700,null,1986,58,null,4,444,765,0,1406,5821,0,254,null,null,null,1986,"Onibus",1,3,58,"CO",3.0191304347825998]
["SPL3253",null,-44.017564999999998,-19.991669000000002,20518,5710,2522,438,null,1987,57,null,3,378,883,0,808,3387,0,196,null,null,null,1987,"Onibus",1,3,57,"CO",3.0191304347825998]
["SPL3254",null,-43.987047799999999,-19.944541900000001,47762,7939,2812,489,null,1988,67,null,3,302,922,0,1012,4326,18,274,null,null,null,1988,"Onibus",1,3,67,"CO",3.0191304347825998]
["SPL3255",null,-43.9830623,-19.928611400000001,7595,2412,199,235,null,1989,81,null,0,332,702,0,3130,4395,2,390,null,null,null,1989,"Onibus",1,3,81,"CO",3.0191304347825998]
["SPL3256",null,-43.967910500000002,-19.888414699999998,44116,6767,1741,303,null,1990,54,null,6,316,881,0,5837,988,13,341,null,null,null,1990,"Onibus",1,3,54,"CO",3.0191304347825998]
["SPL3257",null,-43.951402000000002,-19.971215999999998,29575,4337,1262,484,null,1991,50,null,3,273,631,0,6655,838,0,271,null,null,null,1991,"Onibus",1,3,50,"CO",3.0191304347825998]
["SPL3258",null,-43.921536000000003,-19.893325000000001,25380,5008,1013,388,null,1992,97,null,0,258,524,0,5726,1103,0,289,null,null,null,1992,"Onibus",1,3,97,"CO",3.0191304347825998]
["SPL3259",null,-43.951562000000003,-19.887463,34842,7880,1204,209,null,1993,71,null,10,189,316,0,8575,1489,1,359,null,null,null,1993,"Onibus",1,3,71,"CO",3.0191304347825998]
["SPL3260",null,-43.950531099999999,-19.888290999999999,38215,4677,1350,235,null,1994,49,null,28,327,559,0,11036,1343,0,491,null,null,null,1994,"Onibus",1,3,49,"CO",3.0191304347825998]
["SPL3261",null,-43.946916999999999,-19.898799,11234,5128,1389,241,null,1995,86,null,103,527,1134,0,18944,344,2,553,null,null,null,1995,"Onibus",1,3,86,"CO",3.0191304347825998]
["SPL3262",null,-43.940307500000003,-19.9556957,33772,2780,1715,602,null,1996,101,null,37,321,1365,0,17211,51,1,209,null,null,null,1996,"Onibus",1,3,101,"CO",3.0191304347825998]
["SPL3264",null,-43.949055999999999,-19.917736999999999,45895,7989,2538,683,null,1997,89,null,218,613,2602,0,19715,12,0,299,null,null,null,1997,"Onibus",1,3,89,"CO",3.0191304347825998]
["SPL3265",null,-43.949397099999999,-19.917889800000001,40549,3026,983,346,null,1998,97,null,159,641,2838,0,16751,7,3,409,null,null,null,1998,"Onibus",1,3,97,"CO",3.0191304347825998]
["SPL3266",null,-43.928483999999997,-19.901449,50023,13865,2003,704,null,1999,139,null,124,481,2267,0,15116,14,0,344,null,null,null,1999,"Onibus",1,3,139,"CO",3.0191304347825998]
["SPL3268",null,-43.928259799999999,-19.939372899999999,20237,4257,359,126,null,2000,77,null,138,489,3136,0,15355,73,1,529,null,null,null,2000,"Onibus",1,3,77,"CO",2.7140007977662499]
["SPL3269",null,-43.999321000000002,-19.873925,6287,970,201,71,null,2001,156,null,208,620,3541,0,18573,85,3,894,null,null,null,2001,"Onibus",1,3,156,"CO",2.7140007977662499]
["SPL3271",null,-43.952756999999998,-19.927254000000001,47718,21369,3264,1147,null,2002,91,null,45,509,4223,0,14698,147,3,532,null,null,null,2002,"Onibus",1,3,91,"CO",1.47826086956521]
["SPL3272",null,-43.993487999999999,-19.934742,34403,5207,1501,292,null,2003,103,null,57,456,5047,0,16345,198,22,522,null,null,null,2003,"Onibus",1,3,103,"CO",1.47826086956521]
["SPL3273",null,-43.930651699999999,-19.8646028,41679,8627,3564,694,null,2004,131,null,84,686,4619,0,13063,83,1663,700,null,null,null,2004,"Onibus",1,3,131,"CO",1.41]
["SPL3274",null,-43.980853000000003,-19.930296800000001,44070,6711,1758,618,null,2005,96,null,77,824,6828,0,11807,85,6460,776,null,null,null,2005,"Onibus",1,3,96,"CO",1.41]
["SPL3275",null,-43.970151899999998,-19.9311106,49021,8335,1957,687,null,2006,156,null,125,852,7519,0,5134,77,15094,1095,null,null,null,2006,"Onibus",1,3,156,"CO",1.81064493026762]
["SPL3276",null,-43.9313474,-19.864540300000002,35282,7543,1370,368,null,2007,212,null,157,738,12449,0,6019,190,20967,1000,null,null,null,2007,"Onibus",1,3,212,"CO",1.81064493026762]
["SPL3277",null,-43.955369900000001,-19.963863400000001,34027,4445,1173,450,null,2008,332,null,267,1217,22881,2,5907,254,36083,1612,null,null,null,2008,"Onibus",1,3,332,"CO",2.2890324117918399]
["SPL3278",null,-44.013793999999997,-19.973559999999999,27888,6890,2804,985,null,2009,187,null,234,1418,7798,895,3888,134,32438,1582,null,null,null,2009,"Onibus",1,3,187,"CO",1.8949554093262]
["SPL3279",null,-43.948174000000002,-19.897164,38437,5624,896,282,null,2010,303,null,148,1874,12526,2665,5853,197,46011,1717,null,null,null,2010,"Onibus",1,3,303,"CO",1.83927204365977]
["SPL3280",null,-43.964354299999997,-19.850285800000002,56979,11459,2492,671,null,2011,420,null,408,2231,10202,4522,7341,242,48491,2451,null,null,null,2011,"Onibus",1,3,420,"CO",1.6769686192372699]
["SPL3281",null,-43.919865000000001,-19.849679999999999,26415,4289,1999,702,null,2012,472,null,369,1796,9318,4781,9155,392,51333,2546,null,null,null,2012,"Onibus",1,3,472,"CO",0.53742707712389404]
["SPL3282",null,-43.965398299999997,-19.9177699,37854,5089,2517,677,null,2013,394,null,391,2092,5906,4566,4837,492,64123,3295,null,null,null,2013,"Onibus",1,3,394,"CO",0.538719005787334]
["SPL3283",null,-43.927084299999997,-19.937569799999999,10703,1227,402,141,null,2014,799,null,473,1273,5599,7138,5336,461,55650,2466,null,null,null,2014,"Onibus",1,3,799,"CO",0.538719005787334]
["SPL3284",null,-43.935591000000002,-19.840201,41728,7056,3475,1221,null,2015,209,null,187,717,4403,7772,4590,519,53023,2216,null,null,null,2015,"Onibus",1,3,209,"CO",0.53900000000000003]
["SPL3285",null,-43.9541203,-19.9276552,9925,2121,3500,1230,null,2016,272,null,168,570,2840,5014,3165,449,40082,1862,null,null,null,2016,"Onibus",1,3,272,"CO",0.56601901800101495]
["SPL3286",null,-43.965558999999999,-19.849489599999998,38385,7570,1803,633,null,2017,281,null,93,299,3672,4695,1866,275,34847,2583,null,null,null,2017,"Onibus",1,3,281,"CO",0.46176867419393702]
["SPL3290",null,-43.939595300000001,-19.837233600000001,34007,6447,2933,789,null,2018,188,null,173,699,4076,6148,2561,494,55358,3654,null,null,null,2018,"Onibus",1,3,188,"CO",0.53811077490837]
["SPL3292",null,-43.947625000000002,-19.819562000000001,12501,7610,4824,940,null,2019,363,null,272,1163,4486,8330,2561,361,64656,5965,null,null,null,2019,"Onibus",1,3,363,"CO",0.43425597230827401]
["SPL3295",null,-43.929243,-19.902055000000001,55306,9859,1364,367,null,2020,561,null,238,1472,3923,8031,2925,510,86744,7280,null,null,null,2020,"Onibus",1,3,561,"CO",0.39334954645112502]
["SPL3296",null,-43.963338100000001,-19.9636958,27664,5418,1141,222,null,2021,175,null,412,2067,4248,7180,1564,150,127283,10740,null,null,null,2021,"Onibus",1,3,175,"CO",0.47196063187563297]
["SPL3299",null,-43.941103599999998,-19.929055300000002,22407,4737,881,172,null,2022,239,null,470,4601,6938,11020,2879,232,209009,20006]
["SPL3300",null,-43.936725000000003,-19.913972000000001,52675,6287,3314,892,null,2023]
["SPL3301",null,-43.922157599999998,-19.9295212,29728,5895,1043,281,null,2024]
["SPL3302",null,-43.9121138,-19.918516100000002,36712,8249,1548,302,null,2025]
["SPL3303",null,-43.909329700000001,-19.9103259,27318,6586,1407,379,null,null,null,null,null,null,null,null,null,null,null,null,null,null,null,2022,"Onibus",1,3,239,"CO",0.43452239401147302]
["SPL3304",null,-43.999951000000003,-19.875145,8898,1474,296,80,null,null,null,null,null,null,null,null,null,null,null,null,null,null,null,1983,"Microonibus",2,3,0,"CO",3.0191304347825998]
["SPL3305",null,-44.0066068,-19.9468672,19307,6064,2684,523,null,null,null,null,null,null,null,null,null,null,null,null,null,null,null,1984,"Microonibus",2,3,1,"CO",3.0191304347825998]
[null,null,null,null,null,null,null,null,null,null,null,null,null,null,null,null,null,null,null,null,null,null,null,1985,"Microonibus",2,3,1,"CO",3.0191304347825998]
[null,null,null,null,null,null,null,null,null,null,null,null,null,null,null,null,null,null,null,null,null,null,null,1986,"Microonibus",2,3,4,"CO",3.0191304347825998]
[null,null,null,null,null,null,null,null,null,null,null,null,null,null,null,null,null,null,null,null,null,null,null,1987,"Microonibus",2,3,3,"CO",3.0191304347825998]
[null,null,null,null,null,null,null,null,null,null,null,null,null,null,null,null,null,null,null,null,null,null,null,1988,"Microonibus",2,3,3,"CO",3.0191304347825998]
[null,null,null,null,null,null,null,null,null,null,null,null,null,null,null,null,null,null,null,null,null,null,null,1989,"Microonibus",2,3,0,"CO",3.0191304347825998]
[null,null,null,null,null,null,null,null,null,null,null,null,null,null,null,null,null,null,null,null,null,null,null,1990,"Microonibus",2,3,6,"CO",3.0191304347825998]
[null,null,null,null,null,null,null,null,null,null,null,null,null,null,null,null,null,null,null,null,null,null,null,1991,"Microonibus",2,3,3,"CO",3.0191304347825998]
[null,null,null,null,null,null,null,null,null,null,null,null,null,null,null,null,null,null,null,null,null,null,null,1992,"Microonibus",2,3,0,"CO",3.0191304347825998]
[null,null,null,null,null,null,null,null,null,null,null,null,null,null,null,null,null,null,null,null,null,null,null,1993,"Microonibus",2,3,10,"CO",3.0191304347825998]
[null,null,null,null,null,null,null,null,null,null,null,null,null,null,null,null,null,null,null,null,null,null,null,1994,"Microonibus",2,3,28,"CO",3.0191304347825998]
[null,null,null,null,null,null,null,null,null,null,null,null,null,null,null,null,null,null,null,null,null,null,null,1995,"Microonibus",2,3,103,"CO",3.0191304347825998]
[null,null,null,null,null,null,null,null,null,null,null,null,null,null,null,null,null,null,null,null,null,null,null,1996,"Microonibus",2,3,37,"CO",3.0191304347825998]
[null,null,null,null,null,null,null,null,null,null,null,null,null,null,null,null,null,null,null,null,null,null,null,1997,"Microonibus",2,3,218,"CO",3.0191304347825998]
[null,null,null,null,null,null,null,null,null,null,null,null,null,null,null,null,null,null,null,null,null,null,null,1998,"Microonibus",2,3,159,"CO",3.0191304347825998]
[null,null,null,null,null,null,null,null,null,null,null,null,null,null,null,null,null,null,null,null,null,null,null,1999,"Microonibus",2,3,124,"CO",3.0191304347825998]
[null,null,null,null,null,null,null,null,null,null,null,null,null,null,null,null,null,null,null,null,null,null,null,2000,"Microonibus",2,3,138,"CO",2.7140007977662499]
[null,null,null,null,null,null,null,null,null,null,null,null,null,null,null,null,null,null,null,null,null,null,null,2001,"Microonibus",2,3,208,"CO",2.7140007977662499]
[null,null,null,null,null,null,null,null,null,null,null,null,null,null,null,null,null,null,null,null,null,null,null,2002,"Microonibus",2,3,45,"CO",1.47826086956521]
[null,null,null,null,null,null,null,null,null,null,null,null,null,null,null,null,null,null,null,null,null,null,null,2003,"Microonibus",2,3,57,"CO",1.47826086956521]
[null,null,null,null,null,null,null,null,null,null,null,null,null,null,null,null,null,null,null,null,null,null,null,2004,"Microonibus",2,3,84,"CO",1.41]
[null,null,null,null,null,null,null,null,null,null,null,null,null,null,null,null,null,null,null,null,null,null,null,2005,"Microonibus",2,3,77,"CO",1.41]
[null,null,null,null,null,null,null,null,null,null,null,null,null,null,null,null,null,null,null,null,null,null,null,2006,"Microonibus",2,3,125,"CO",1.56052705050715]
[null,null,null,null,null,null,null,null,null,null,null,null,null,null,null,null,null,null,null,null,null,null,null,2007,"Microonibus",2,3,157,"CO",1.56052705050715]
[null,null,null,null,null,null,null,null,null,null,null,null,null,null,null,null,null,null,null,null,null,null,null,2008,"Microonibus",2,3,267,"CO",0.83566138325374995]
[null,null,null,null,null,null,null,null,null,null,null,null,null,null,null,null,null,null,null,null,null,null,null,2009,"Microonibus",2,3,234,"CO",0.76137886009009503]
[null,null,null,null,null,null,null,null,null,null,null,null,null,null,null,null,null,null,null,null,null,null,null,2010,"Microonibus",2,3,148,"CO",1.2080754863374901]
[null,null,null,null,null,null,null,null,null,null,null,null,null,null,null,null,null,null,null,null,null,null,null,2011,"Microonibus",2,3,408,"CO",1.17660165231476]
[null,null,null,null,null,null,null,null,null,null,null,null,null,null,null,null,null,null,null,null,null,null,null,2012,"Microonibus",2,3,369,"CO",0.21315720609855199]
[null,null,null,null,null,null,null,null,null,null,null,null,null,null,null,null,null,null,null,null,null,null,null,2013,"Microonibus",2,3,391,"CO",0.13151216257696499]
[null,null,null,null,null,null,null,null,null,null,null,null,null,null,null,null,null,null,null,null,null,null,null,2014,"Microonibus",2,3,473,"CO",0.13151216257696499]
[null,null,null,null,null,null,null,null,null,null,null,null,null,null,null,null,null,null,null,null,null,null,null,2015,"Microonibus",2,3,187,"CO",0.13200000000000001]
[null,null,null,null,null,null,null,null,null,null,null,null,null,null,null,null,null,null,null,null,null,null,null,2016,"Microonibus",2,3,168,"CO",7.2143149802188694E-2]
[null,null,null,null,null,null,null,null,null,null,null,null,null,null,null,null,null,null,null,null,null,null,null,2017,"Microonibus",2,3,93,"CO",8.1092444741463196E-2]
[null,null,null,null,null,null,null,null,null,null,null,null,null,null,null,null,null,null,null,null,null,null,null,2018,"Microonibus",2,3,173,"CO",0.121719737469533]
[null,null,null,null,null,null,null,null,null,null,null,null,null,null,null,null,null,null,null,null,null,null,null,2019,"Microonibus",2,3,272,"CO",0.15393534725823799]
[null,null,null,null,null,null,null,null,null,null,null,null,null,null,null,null,null,null,null,null,null,null,null,2020,"Microonibus",2,3,238,"CO",0.14323393589446301]
[null,null,null,null,null,null,null,null,null,null,null,null,null,null,null,null,null,null,null,null,null,null,null,2021,"Microonibus",2,3,412,"CO",0.19635132321801799]
[null,null,null,null,null,null,null,null,null,null,null,null,null,null,null,null,null,null,null,null,null,null,null,2022,"Microonibus",2,3,470,"CO",0.24765262907367599]
[null,null,null,null,null,null,null,null,null,null,null,null,null,null,null,null,null,null,null,null,null,null,null,1983,"Caminhao",3,4,147,"CO",1.25]
[null,null,null,null,null,null,null,null,null,null,null,null,null,null,null,null,null,null,null,null,null,null,null,1984,"Caminhao",3,4,159,"CO",1.25]
[null,null,null,null,null,null,null,null,null,null,null,null,null,null,null,null,null,null,null,null,null,null,null,1985,"Caminhao",3,4,248,"CO",1.25]
[null,null,null,null,null,null,null,null,null,null,null,null,null,null,null,null,null,null,null,null,null,null,null,1986,"Caminhao",3,4,444,"CO",1.25]
[null,null,null,null,null,null,null,null,null,null,null,null,null,null,null,null,null,null,null,null,null,null,null,1987,"Caminhao",3,4,378,"CO",1.25]
[null,null,null,null,null,null,null,null,null,null,null,null,null,null,null,null,null,null,null,null,null,null,null,1988,"Caminhao",3,4,302,"CO",1.25]
[null,null,null,null,null,null,null,null,null,null,null,null,null,null,null,null,null,null,null,null,null,null,null,1989,"Caminhao",3,4,332,"CO",1.25]
[null,null,null,null,null,null,null,null,null,null,null,null,null,null,null,null,null,null,null,null,null,null,null,1990,"Caminhao",3,4,316,"CO",1.25]
[null,null,null,null,null,null,null,null,null,null,null,null,null,null,null,null,null,null,null,null,null,null,null,1991,"Caminhao",3,4,273,"CO",1.25]
[null,null,null,null,null,null,null,null,null,null,null,null,null,null,null,null,null,null,null,null,null,null,null,1992,"Caminhao",3,4,258,"CO",1.25]
[null,null,null,null,null,null,null,null,null,null,null,null,null,null,null,null,null,null,null,null,null,null,null,1993,"Caminhao",3,4,189,"CO",1.25]
[null,null,null,null,null,null,null,null,null,null,null,null,null,null,null,null,null,null,null,null,null,null,null,1994,"Caminhao",3,4,327,"CO",1.25]
[null,null,null,null,null,null,null,null,null,null,null,null,null,null,null,null,null,null,null,null,null,null,null,1995,"Caminhao",3,4,527,"CO",1.25]
[null,null,null,null,null,null,null,null,null,null,null,null,null,null,null,null,null,null,null,null,null,null,null,1996,"Caminhao",3,4,321,"CO",1.25]
[null,null,null,null,null,null,null,null,null,null,null,null,null,null,null,null,null,null,null,null,null,null,null,1997,"Caminhao",3,4,613,"CO",1.25]
[null,null,null,null,null,null,null,null,null,null,null,null,null,null,null,null,null,null,null,null,null,null,null,1998,"Caminhao",3,4,641,"CO",1.25]
[null,null,null,null,null,null,null,null,null,null,null,null,null,null,null,null,null,null,null,null,null,null,null,1999,"Caminhao",3,4,481,"CO",1.25]
[null,null,null,null,null,null,null,null,null,null,null,null,null,null,null,null,null,null,null,null,null,null,null,2000,"Caminhao",3,4,489,"CO",1.1240000000000001]
[null,null,null,null,null,null,null,null,null,null,null,null,null,null,null,null,null,null,null,null,null,null,null,2001,"Caminhao",3,4,620,"CO",1.1240000000000001]
[null,null,null,null,null,null,null,null,null,null,null,null,null,null,null,null,null,null,null,null,null,null,null,2002,"Caminhao",3,4,509,"CO",0.61199999999999999]
[null,null,null,null,null,null,null,null,null,null,null,null,null,null,null,null,null,null,null,null,null,null,null,2003,"Caminhao",3,4,456,"CO",0.61199999999999999]
[null,null,null,null,null,null,null,null,null,null,null,null,null,null,null,null,null,null,null,null,null,null,null,2004,"Caminhao",3,4,686,"CO",0.57999999999999996]
[null,null,null,null,null,null,null,null,null,null,null,null,null,null,null,null,null,null,null,null,null,null,null,2005,"Caminhao",3,4,824,"CO",0.57999999999999996]
[null,null,null,null,null,null,null,null,null,null,null,null,null,null,null,null,null,null,null,null,null,null,null,2006,"Caminhao",3,4,852,"CO",0.66500000000000004]
[null,null,null,null,null,null,null,null,null,null,null,null,null,null,null,null,null,null,null,null,null,null,null,2007,"Caminhao",3,4,738,"CO",0.66500000000000004]
[null,null,null,null,null,null,null,null,null,null,null,null,null,null,null,null,null,null,null,null,null,null,null,2008,"Caminhao",3,4,1217,"CO",0.49]
[null,null,null,null,null,null,null,null,null,null,null,null,null,null,null,null,null,null,null,null,null,null,null,2009,"Caminhao",3,4,1418,"CO",0.48399999999999999]
[null,null,null,null,null,null,null,null,null,null,null,null,null,null,null,null,null,null,null,null,null,null,null,2010,"Caminhao",3,4,1874,"CO",0.48099999999999998]
[null,null,null,null,null,null,null,null,null,null,null,null,null,null,null,null,null,null,null,null,null,null,null,2011,"Caminhao",3,4,2231,"CO",0.51500000000000001]
[null,null,null,null,null,null,null,null,null,null,null,null,null,null,null,null,null,null,null,null,null,null,null,2012,"Caminhao",3,4,1796,"CO",0.124]
[null,null,null,null,null,null,null,null,null,null,null,null,null,null,null,null,null,null,null,null,null,null,null,2013,"Caminhao",3,4,2092,"CO",8.1000000000000003E-2]
[null,null,null,null,null,null,null,null,null,null,null,null,null,null,null,null,null,null,null,null,null,null,null,2014,"Caminhao",3,4,1273,"CO",8.1000000000000003E-2]
[null,null,null,null,null,null,null,null,null,null,null,null,null,null,null,null,null,null,null,null,null,null,null,2015,"Caminhao",3,4,717,"CO",8.1000000000000003E-2]
[null,null,null,null,null,null,null,null,null,null,null,null,null,null,null,null,null,null,null,null,null,null,null,2016,"Caminhao",3,4,570,"CO",9.1090454757870198E-2]
[null,null,null,null,null,null,null,null,null,null,null,null,null,null,null,null,null,null,null,null,null,null,null,2017,"Caminhao",3,4,299,"CO",0.102250318525911]
[null,null,null,null,null,null,null,null,null,null,null,null,null,null,null,null,null,null,null,null,null,null,null,2018,"Caminhao",3,4,699,"CO",0.20800347421336901]
[null,null,null,null,null,null,null,null,null,null,null,null,null,null,null,null,null,null,null,null,null,null,null,2019,"Caminhao",3,4,1163,"CO",0.20335462513854499]
[null,null,null,null,null,null,null,null,null,null,null,null,null,null,null,null,null,null,null,null,null,null,null,2020,"Caminhao",3,4,1472,"CO",0.140814064778748]
[null,null,null,null,null,null,null,null,null,null,null,null,null,null,null,null,null,null,null,null,null,null,null,2021,"Caminhao",3,4,2067,"CO",0.154566412802914]
[null,null,null,null,null,null,null,null,null,null,null,null,null,null,null,null,null,null,null,null,null,null,null,2022,"Caminhao",3,4,4601,"CO",0.1784560457561]
[null,null,null,null,null,null,null,null,null,null,null,null,null,null,null,null,null,null,null,null,null,null,null,1983,"Moto-Gasolina",false,2,969,"CO",6.7439499999999999]
[null,null,null,null,null,null,null,null,null,null,null,null,null,null,null,null,null,null,null,null,null,null,null,1984,"Moto-Gasolina",false,2,633,"CO",6.7439499999999999]
[null,null,null,null,null,null,null,null,null,null,null,null,null,null,null,null,null,null,null,null,null,null,null,1985,"Moto-Gasolina",false,2,473,"CO",6.7439499999999999]
[null,null,null,null,null,null,null,null,null,null,null,null,null,null,null,null,null,null,null,null,null,null,null,1986,"Moto-Gasolina",false,2,765,"CO",6.7439499999999999]
[null,null,null,null,null,null,null,null,null,null,null,null,null,null,null,null,null,null,null,null,null,null,null,1987,"Moto-Gasolina",false,2,883,"CO",6.7439499999999999]
[null,null,null,null,null,null,null,null,null,null,null,null,null,null,null,null,null,null,null,null,null,null,null,1988,"Moto-Gasolina",false,2,922,"CO",6.7439499999999999]
[null,null,null,null,null,null,null,null,null,null,null,null,null,null,null,null,null,null,null,null,null,null,null,1989,"Moto-Gasolina",false,2,702,"CO",6.7439499999999999]
[null,null,null,null,null,null,null,null,null,null,null,null,null,null,null,null,null,null,null,null,null,null,null,1990,"Moto-Gasolina",false,2,881,"CO",6.7439499999999999]
[null,null,null,null,null,null,null,null,null,null,null,null,null,null,null,null,null,null,null,null,null,null,null,1991,"Moto-Gasolina",false,2,631,"CO",6.7439499999999999]
[null,null,null,null,null,null,null,null,null,null,null,null,null,null,null,null,null,null,null,null,null,null,null,1992,"Moto-Gasolina",false,2,524,"CO",6.7439499999999999]
[null,null,null,null,null,null,null,null,null,null,null,null,null,null,null,null,null,null,null,null,null,null,null,1993,"Moto-Gasolina",false,2,316,"CO",6.7439499999999999]
[null,null,null,null,null,null,null,null,null,null,null,null,null,null,null,null,null,null,null,null,null,null,null,1994,"Moto-Gasolina",false,2,559,"CO",6.7439499999999999]
[null,null,null,null,null,null,null,null,null,null,null,null,null,null,null,null,null,null,null,null,null,null,null,1995,"Moto-Gasolina",false,2,1134,"CO",6.7439499999999999]
[null,null,null,null,null,null,null,null,null,null,null,null,null,null,null,null,null,null,null,null,null,null,null,1996,"Moto-Gasolina",false,2,1365,"CO",6.7439499999999999]
[null,null,null,null,null,null,null,null,null,null,null,null,null,null,null,null,null,null,null,null,null,null,null,1997,"Moto-Gasolina",false,2,2602,"CO",6.7439499999999999]
[null,null,null,null,null,null,null,null,null,null,null,null,null,null,null,null,null,null,null,null,null,null,null,1998,"Moto-Gasolina",false,2,2838,"CO",6.7439499999999999]
[null,null,null,null,null,null,null,null,null,null,null,null,null,null,null,null,null,null,null,null,null,null,null,1999,"Moto-Gasolina",false,2,2267,"CO",6.7439499999999999]
[null,null,null,null,null,null,null,null,null,null,null,null,null,null,null,null,null,null,null,null,null,null,null,2000,"Moto-Gasolina",false,2,3136,"CO",6.7439499999999999]
[null,null,null,null,null,null,null,null,null,null,null,null,null,null,null,null,null,null,null,null,null,null,null,2001,"Moto-Gasolina",false,2,3541,"CO",6.7439499999999999]
[null,null,null,null,null,null,null,null,null,null,null,null,null,null,null,null,null,null,null,null,null,null,null,2002,"Moto-Gasolina",false,2,4223,"CO",6.7439499999999999]
[null,null,null,null,null,null,null,null,null,null,null,null,null,null,null,null,null,null,null,null,null,null,null,2003,"Moto-Gasolina",false,2,5047,"CO",6.7439499999999999]
[null,null,null,null,null,null,null,null,null,null,null,null,null,null,null,null,null,null,null,null,null,null,null,2004,"Moto-Gasolina",false,2,4619,"CO",6.7734100000000002]
[null,null,null,null,null,null,null,null,null,null,null,null,null,null,null,null,null,null,null,null,null,null,null,2005,"Moto-Gasolina",false,2,6828,"CO",2.9348299999999998]
[null,null,null,null,null,null,null,null,null,null,null,null,null,null,null,null,null,null,null,null,null,null,null,2006,"Moto-Gasolina",false,2,7519,"CO",1.6825599999999901]
[null,null,null,null,null,null,null,null,null,null,null,null,null,null,null,null,null,null,null,null,null,null,null,2007,"Moto-Gasolina",false,2,12449,"CO",1.9017200000000001]
[null,null,null,null,null,null,null,null,null,null,null,null,null,null,null,null,null,null,null,null,null,null,null,2008,"Moto-Gasolina",false,2,22881,"CO",1.64941]
[null,null,null,null,null,null,null,null,null,null,null,null,null,null,null,null,null,null,null,null,null,null,null,2009,"Moto-Gasolina",false,2,7798,"CO",1.0631900000000001]
[null,null,null,null,null,null,null,null,null,null,null,null,null,null,null,null,null,null,null,null,null,null,null,2010,"Moto-Gasolina",false,2,12526,"CO",1.1344799999999999]
[null,null,null,null,null,null,null,null,null,null,null,null,null,null,null,null,null,null,null,null,null,null,null,2011,"Moto-Gasolina",false,2,10202,"CO",1.0249599999999901]
[null,null,null,null,null,null,null,null,null,null,null,null,null,null,null,null,null,null,null,null,null,null,null,2012,"Moto-Gasolina",false,2,9318,"CO",0.984119999999999]
[null,null,null,null,null,null,null,null,null,null,null,null,null,null,null,null,null,null,null,null,null,null,null,2013,"Moto-Gasolina",false,2,5906,"CO",0.81603999999999899]
[null,null,null,null,null,null,null,null,null,null,null,null,null,null,null,null,null,null,null,null,null,null,null,2014,"Moto-Gasolina",false,2,5599,"CO",0.81603999999999899]
[null,null,null,null,null,null,null,null,null,null,null,null,null,null,null,null,null,null,null,null,null,null,null,2015,"Moto-Gasolina",false,2,4403,"CO",0.81603999999999899]
[null,null,null,null,null,null,null,null,null,null,null,null,null,null,null,null,null,null,null,null,null,null,null,2016,"Moto-Gasolina",false,2,2840,"CO",0.504]
[null,null,null,null,null,null,null,null,null,null,null,null,null,null,null,null,null,null,null,null,null,null,null,2017,"Moto-Gasolina",false,2,3672,"CO",0.52500000000000002]
[null,null,null,null,null,null,null,null,null,null,null,null,null,null,null,null,null,null,null,null,null,null,null,2018,"Moto-Gasolina",false,2,4076,"CO",0.54500000000000004]
[null,null,null,null,null,null,null,null,null,null,null,null,null,null,null,null,null,null,null,null,null,null,null,2019,"Moto-Gasolina",false,2,4486,"CO",0.503426943774549]
[null,null,null,null,null,null,null,null,null,null,null,null,null,null,null,null,null,null,null,null,null,null,null,2020,"Moto-Gasolina",false,2,3923,"CO",0.462123053334348]
[null,null,null,null,null,null,null,null,null,null,null,null,null,null,null,null,null,null,null,null,null,null,null,2021,"Moto-Gasolina",false,2,4248,"CO",0.43899753499653599]
[null,null,null,null,null,null,null,null,null,null,null,null,null,null,null,null,null,null,null,null,null,null,null,2022,"Moto-Gasolina",false,2,6938,"CO",0.40362415441671801]
[null,null,null,null,null,null,null,null,null,null,null,null,null,null,null,null,null,null,null,null,null,null,null,2009,"Moto-Flex-G",false,2,269,"CO",0.75]
[null,null,null,null,null,null,null,null,null,null,null,null,null,null,null,null,null,null,null,null,null,null,null,2010,"Moto-Flex-G",false,2,1279,"CO",0.75]
[null,null,null,null,null,null,null,null,null,null,null,null,null,null,null,null,null,null,null,null,null,null,null,2011,"Moto-Flex-G",false,2,3075,"CO",0.76]
[null,null,null,null,null,null,null,null,null,null,null,null,null,null,null,null,null,null,null,null,null,null,null,2012,"Moto-Flex-G",false,2,3586,"CO",1.1352]
[null,null,null,null,null,null,null,null,null,null,null,null,null,null,null,null,null,null,null,null,null,null,null,2013,"Moto-Flex-G",false,2,3425,"CO",0.69964000000000004]
[null,null,null,null,null,null,null,null,null,null,null,null,null,null,null,null,null,null,null,null,null,null,null,2014,"Moto-Flex-G",false,2,5354,"CO",0.69964000000000004]
[null,null,null,null,null,null,null,null,null,null,null,null,null,null,null,null,null,null,null,null,null,null,null,2015,"Moto-Flex-G",false,2,5829,"CO",0.69964000000000004]
[null,null,null,null,null,null,null,null,null,null,null,null,null,null,null,null,null,null,null,null,null,null,null,2016,"Moto-Flex-G",false,2,3761,"CO",0.71499999999999997]
[null,null,null,null,null,null,null,null,null,null,null,null,null,null,null,null,null,null,null,null,null,null,null,2017,"Moto-Flex-G",false,2,3521,"CO",0.69399999999999995]
[null,null,null,null,null,null,null,null,null,null,null,null,null,null,null,null,null,null,null,null,null,null,null,2018,"Moto-Flex-G",false,2,4611,"CO",0.72599999999999998]
[null,null,null,null,null,null,null,null,null,null,null,null,null,null,null,null,null,null,null,null,null,null,null,2019,"Moto-Flex-G",false,2,6248,"CO",0.75388561813520205]
[null,null,null,null,null,null,null,null,null,null,null,null,null,null,null,null,null,null,null,null,null,null,null,2020,"Moto-Flex-G",false,2,6023,"CO",0.792513177639109]
[null,null,null,null,null,null,null,null,null,null,null,null,null,null,null,null,null,null,null,null,null,null,null,2021,"Moto-Flex-G",false,2,5385,"CO",0.67450944912921895]
[null,null,null,null,null,null,null,null,null,null,null,null,null,null,null,null,null,null,null,null,null,null,null,2022,"Moto-Flex-G",false,2,8265,"CO",0.66684530062449798]
[null,null,null,null,null,null,null,null,null,null,null,null,null,null,null,null,null,null,null,null,null,null,null,2009,"Moto-Flex-A",false,2,627,"CO",0.57999999999999996]
[null,null,null,null,null,null,null,null,null,null,null,null,null,null,null,null,null,null,null,null,null,null,null,2010,"Moto-Flex-A",false,2,1386,"CO",0.57999999999999996]
[null,null,null,null,null,null,null,null,null,null,null,null,null,null,null,null,null,null,null,null,null,null,null,2011,"Moto-Flex-A",false,2,1447,"CO",0.68]
[null,null,null,null,null,null,null,null,null,null,null,null,null,null,null,null,null,null,null,null,null,null,null,2012,"Moto-Flex-A",false,2,1195,"CO",1.42364]
[null,null,null,null,null,null,null,null,null,null,null,null,null,null,null,null,null,null,null,null,null,null,null,2013,"Moto-Flex-A",false,2,1142,"CO",0.78036000000000005]
[null,null,null,null,null,null,null,null,null,null,null,null,null,null,null,null,null,null,null,null,null,null,null,2014,"Moto-Flex-A",false,2,1785,"CO",0.78036000000000005]
[null,null,null,null,null,null,null,null,null,null,null,null,null,null,null,null,null,null,null,null,null,null,null,2015,"Moto-Flex-A",false,2,1943,"CO",0.78036000000000005]
[null,null,null,null,null,null,null,null,null,null,null,null,null,null,null,null,null,null,null,null,null,null,null,2016,"Moto-Flex-A",false,2,1254,"CO",0.82699999999999996]
[null,null,null,null,null,null,null,null,null,null,null,null,null,null,null,null,null,null,null,null,null,null,null,2017,"Moto-Flex-A",false,2,1174,"CO",0.68899999999999995]
[null,null,null,null,null,null,null,null,null,null,null,null,null,null,null,null,null,null,null,null,null,null,null,2018,"Moto-Flex-A",false,2,1537,"CO",0.65400000000000003]
[null,null,null,null,null,null,null,null,null,null,null,null,null,null,null,null,null,null,null,null,null,null,null,2019,"Moto-Flex-A",false,2,2083,"CO",0.67991022717469096]
[null,null,null,null,null,null,null,null,null,null,null,null,null,null,null,null,null,null,null,null,null,null,null,2020,"Moto-Flex-A",false,2,2008,"CO",0.68207278612659805]
[null,null,null,null,null,null,null,null,null,null,null,null,null,null,null,null,null,null,null,null,null,null,null,2021,"Moto-Flex-A",false,2,1795,"CO",0.68318620223100301]
[null,null,null,null,null,null,null,null,null,null,null,null,null,null,null,null,null,null,null,null,null,null,null,2022,"Moto-Flex-A",false,2,2755,"CO",0.63865646740784998]
[null,null,null,null,null,null,null,null,null,null,null,null,null,null,null,null,null,null,null,null,null,null,null,1983,"Automovel-Gasolina",6,1,2057,"CO",33.6]
[null,null,null,null,null,null,null,null,null,null,null,null,null,null,null,null,null,null,null,null,null,null,null,1984,"Automovel-Gasolina",6,1,849,"CO",33.6]
[null,null,null,null,null,null,null,null,null,null,null,null,null,null,null,null,null,null,null,null,null,null,null,1985,"Automovel-Gasolina",6,1,816,"CO",33.6]
[null,null,null,null,null,null,null,null,null,null,null,null,null,null,null,null,null,null,null,null,null,null,null,1986,"Automovel-Gasolina",6,1,1406,"CO",26.4]
[null,null,null,null,null,null,null,null,null,null,null,null,null,null,null,null,null,null,null,null,null,null,null,1987,"Automovel-Gasolina",6,1,808,"CO",26.4]
[null,null,null,null,null,null,null,null,null,null,null,null,null,null,null,null,null,null,null,null,null,null,null,1988,"Automovel-Gasolina",6,1,1012,"CO",22.2]
[null,null,null,null,null,null,null,null,null,null,null,null,null,null,null,null,null,null,null,null,null,null,null,1989,"Automovel-Gasolina",6,1,3130,"CO",18.239999999999998]
[null,null,null,null,null,null,null,null,null,null,null,null,null,null,null,null,null,null,null,null,null,null,null,1990,"Automovel-Gasolina",6,1,5837,"CO",15.96]
[null,null,null,null,null,null,null,null,null,null,null,null,null,null,null,null,null,null,null,null,null,null,null,1991,"Automovel-Gasolina",6,1,6655,"CO",13.8]
[null,null,null,null,null,null,null,null,null,null,null,null,null,null,null,null,null,null,null,null,null,null,null,1992,"Automovel-Gasolina",6,1,5726,"CO",7.44]
[null,null,null,null,null,null,null,null,null,null,null,null,null,null,null,null,null,null,null,null,null,null,null,1993,"Automovel-Gasolina",6,1,8575,"CO",7.56]
[null,null,null,null,null,null,null,null,null,null,null,null,null,null,null,null,null,null,null,null,null,null,null,1994,"Automovel-Gasolina",6,1,11036,"CO",7.2]
[null,null,null,null,null,null,null,null,null,null,null,null,null,null,null,null,null,null,null,null,null,null,null,1995,"Automovel-Gasolina",6,1,18944,"CO",6.0432432363916]
[null,null,null,null,null,null,null,null,null,null,null,null,null,null,null,null,null,null,null,null,null,null,null,1996,"Automovel-Gasolina",6,1,17211,"CO",5.1079019156749101]
[null,null,null,null,null,null,null,null,null,null,null,null,null,null,null,null,null,null,null,null,null,null,null,1997,"Automovel-Gasolina",6,1,19715,"CO",2.47093575649011]
[null,null,null,null,null,null,null,null,null,null,null,null,null,null,null,null,null,null,null,null,null,null,null,1998,"Automovel-Gasolina",6,1,16751,"CO",2.02232356827286]
[null,null,null,null,null,null,null,null,null,null,null,null,null,null,null,null,null,null,null,null,null,null,null,1999,"Automovel-Gasolina",6,1,15116,"CO",1.9320593068860401]
[null,null,null,null,null,null,null,null,null,null,null,null,null,null,null,null,null,null,null,null,null,null,null,2000,"Automovel-Gasolina",6,1,15355,"CO",1.88015207461973]
[null,null,null,null,null,null,null,null,null,null,null,null,null,null,null,null,null,null,null,null,null,null,null,2001,"Automovel-Gasolina",6,1,18573,"CO",1.5866261201912499]
[null,null,null,null,null,null,null,null,null,null,null,null,null,null,null,null,null,null,null,null,null,null,null,2002,"Automovel-Gasolina",6,1,14698,"CO",1.49152083874514]
[null,null,null,null,null,null,null,null,null,null,null,null,null,null,null,null,null,null,null,null,null,null,null,2003,"Automovel-Gasolina",6,1,16345,"CO",1.41489077185315]
[null,null,null,null,null,null,null,null,null,null,null,null,null,null,null,null,null,null,null,null,null,null,null,2004,"Automovel-Gasolina",6,1,13063,"CO",1.31680560751428]
[null,null,null,null,null,null,null,null,null,null,null,null,null,null,null,null,null,null,null,null,null,null,null,2005,"Automovel-Gasolina",6,1,11807,"CO",1.25735018015473]
[null,null,null,null,null,null,null,null,null,null,null,null,null,null,null,null,null,null,null,null,null,null,null,2006,"Automovel-Gasolina",6,1,5134,"CO",1.1686244706279201]
[null,null,null,null,null,null,null,null,null,null,null,null,null,null,null,null,null,null,null,null,null,null,null,2007,"Automovel-Gasolina",6,1,6019,"CO",1.1167436062145]
[null,null,null,null,null,null,null,null,null,null,null,null,null,null,null,null,null,null,null,null,null,null,null,2008,"Automovel-Gasolina",6,1,5907,"CO",1.1308378606223499]
[null,null,null,null,null,null,null,null,null,null,null,null,null,null,null,null,null,null,null,null,null,null,null,2009,"Automovel-Gasolina",6,1,3888,"CO",0.90705265398655899]
[null,null,null,null,null,null,null,null,null,null,null,null,null,null,null,null,null,null,null,null,null,null,null,2010,"Automovel-Gasolina",6,1,5853,"CO",0.85754855286943599]
[null,null,null,null,null,null,null,null,null,null,null,null,null,null,null,null,null,null,null,null,null,null,null,2011,"Automovel-Gasolina",6,1,7341,"CO",0.87250127026052504]
[null,null,null,null,null,null,null,null,null,null,null,null,null,null,null,null,null,null,null,null,null,null,null,2012,"Automovel-Gasolina",6,1,9155,"CO",0.81710166557658503]
[null,null,null,null,null,null,null,null,null,null,null,null,null,null,null,null,null,null,null,null,null,null,null,2013,"Automovel-Gasolina",6,1,4837,"CO",0.7285557446616]
[null,null,null,null,null,null,null,null,null,null,null,null,null,null,null,null,null,null,null,null,null,null,null,2014,"Automovel-Gasolina",6,1,5336,"CO",0.64308465978677298]
[null,null,null,null,null,null,null,null,null,null,null,null,null,null,null,null,null,null,null,null,null,null,null,2015,"Automovel-Gasolina",6,1,4590,"CO",0.53192470965053096]
[null,null,null,null,null,null,null,null,null,null,null,null,null,null,null,null,null,null,null,null,null,null,null,2016,"Automovel-Gasolina",6,1,3165,"CO",0.43632733937852403]
[null,null,null,null,null,null,null,null,null,null,null,null,null,null,null,null,null,null,null,null,null,null,null,2017,"Automovel-Gasolina",6,1,1866,"CO",0.40955914052362402]
[null,null,null,null,null,null,null,null,null,null,null,null,null,null,null,null,null,null,null,null,null,null,null,2018,"Automovel-Gasolina",6,1,2561,"CO",0.38890185106592301]
[null,null,null,null,null,null,null,null,null,null,null,null,null,null,null,null,null,null,null,null,null,null,null,2019,"Automovel-Gasolina",6,1,2561,"CO",0.33065235541273702]
[null,null,null,null,null,null,null,null,null,null,null,null,null,null,null,null,null,null,null,null,null,null,null,2020,"Automovel-Gasolina",6,1,2925,"CO",0.25012268439860402]
[null,null,null,null,null,null,null,null,null,null,null,null,null,null,null,null,null,null,null,null,null,null,null,2021,"Automovel-Gasolina",6,1,1564,"CO",0.210640015285285]
[null,null,null,null,null,null,null,null,null,null,null,null,null,null,null,null,null,null,null,null,null,null,null,2022,"Automovel-Gasolina",6,1,2879,"CO",0.101846671761761]
[null,null,null,null,null,null,null,null,null,null,null,null,null,null,null,null,null,null,null,null,null,null,null,1983,"Automovel-Alcool",7,1,2904,"CO",21.6]
[null,null,null,null,null,null,null,null,null,null,null,null,null,null,null,null,null,null,null,null,null,null,null,1984,"Automovel-Alcool",7,1,3281,"CO",20.279999999999902]
[null,null,null,null,null,null,null,null,null,null,null,null,null,null,null,null,null,null,null,null,null,null,null,1985,"Automovel-Alcool",7,1,3376,"CO",20.279999999999902]
[null,null,null,null,null,null,null,null,null,null,null,null,null,null,null,null,null,null,null,null,null,null,null,1986,"Automovel-Alcool",7,1,5821,"CO",19.2]
[null,null,null,null,null,null,null,null,null,null,null,null,null,null,null,null,null,null,null,null,null,null,null,1987,"Automovel-Alcool",7,1,3387,"CO",19.2]
[null,null,null,null,null,null,null,null,null,null,null,null,null,null,null,null,null,null,null,null,null,null,null,1988,"Automovel-Alcool",7,1,4326,"CO",15.96]
[null,null,null,null,null,null,null,null,null,null,null,null,null,null,null,null,null,null,null,null,null,null,null,1989,"Automovel-Alcool",7,1,4395,"CO",15.36]
[null,null,null,null,null,null,null,null,null,null,null,null,null,null,null,null,null,null,null,null,null,null,null,1990,"Automovel-Alcool",7,1,988,"CO",12.96]
[null,null,null,null,null,null,null,null,null,null,null,null,null,null,null,null,null,null,null,null,null,null,null,1991,"Automovel-Alcool",7,1,838,"CO",10.08]
[null,null,null,null,null,null,null,null,null,null,null,null,null,null,null,null,null,null,null,null,null,null,null,1992,"Automovel-Alcool",7,1,1103,"CO",4.32]
[null,null,null,null,null,null,null,null,null,null,null,null,null,null,null,null,null,null,null,null,null,null,null,1993,"Automovel-Alcool",7,1,1489,"CO",5.04]
[null,null,null,null,null,null,null,null,null,null,null,null,null,null,null,null,null,null,null,null,null,null,null,1994,"Automovel-Alcool",7,1,1343,"CO",5.048]
[null,null,null,null,null,null,null,null,null,null,null,null,null,null,null,null,null,null,null,null,null,null,null,1995,"Automovel-Alcool",7,1,344,"CO",5.7701726460470999]
[null,null,null,null,null,null,null,null,null,null,null,null,null,null,null,null,null,null,null,null,null,null,null,1996,"Automovel-Alcool",7,1,51,"CO",5.0431864067239598]
[null,null,null,null,null,null,null,null,null,null,null,null,null,null,null,null,null,null,null,null,null,null,null,1997,"Automovel-Alcool",7,1,12,"CO",2.0114742002011101]
[null,null,null,null,null,null,null,null,null,null,null,null,null,null,null,null,null,null,null,null,null,null,null,1998,"Automovel-Alcool",7,1,7,"CO",1.74662617636303]
[null,null,null,null,null,null,null,null,null,null,null,null,null,null,null,null,null,null,null,null,null,null,null,1999,"Automovel-Alcool",7,1,14,"CO",1.6392435657936]
[null,null,null,null,null,null,null,null,null,null,null,null,null,null,null,null,null,null,null,null,null,null,null,2000,"Automovel-Alcool",7,1,73,"CO",1.6298632234435599]
[null,null,null,null,null,null,null,null,null,null,null,null,null,null,null,null,null,null,null,null,null,null,null,2001,"Automovel-Alcool",7,1,85,"CO",1.6189576286305001]
[null,null,null,null,null,null,null,null,null,null,null,null,null,null,null,null,null,null,null,null,null,null,null,2002,"Automovel-Alcool",7,1,147,"CO",1.6569348850388901]
[null,null,null,null,null,null,null,null,null,null,null,null,null,null,null,null,null,null,null,null,null,null,null,2003,"Automovel-Alcool",7,1,198,"CO",1.64413872072004]
[null,null,null,null,null,null,null,null,null,null,null,null,null,null,null,null,null,null,null,null,null,null,null,2004,"Automovel-Alcool",7,1,83,"CO",1.6508484880921299]
[null,null,null,null,null,null,null,null,null,null,null,null,null,null,null,null,null,null,null,null,null,null,null,2005,"Automovel-Alcool",7,1,85,"CO",1.6072791639402]
[null,null,null,null,null,null,null,null,null,null,null,null,null,null,null,null,null,null,null,null,null,null,null,2006,"Automovel-Alcool",7,1,77,"CO",1.41358134941615]
[null,null,null,null,null,null,null,null,null,null,null,null,null,null,null,null,null,null,null,null,null,null,null,2007,"Automovel-Alcool",7,1,190,"CO",1.41358134941615]
[null,null,null,null,null,null,null,null,null,null,null,null,null,null,null,null,null,null,null,null,null,null,null,2008,"Automovel-Alcool",7,1,254,"CO",1.41358134941615]
[null,null,null,null,null,null,null,null,null,null,null,null,null,null,null,null,null,null,null,null,null,null,null,2009,"Automovel-Alcool",7,1,134,"CO",1.41358134941615]
[null,null,null,null,null,null,null,null,null,null,null,null,null,null,null,null,null,null,null,null,null,null,null,2010,"Automovel-Alcool",7,1,197,"CO",1.41358134941615]
[null,null,null,null,null,null,null,null,null,null,null,null,null,null,null,null,null,null,null,null,null,null,null,2011,"Automovel-Alcool",7,1,242,"CO",1.41358134941615]
[null,null,null,null,null,null,null,null,null,null,null,null,null,null,null,null,null,null,null,null,null,null,null,2012,"Automovel-Alcool",7,1,392,"CO",1.41358134941615]
[null,null,null,null,null,null,null,null,null,null,null,null,null,null,null,null,null,null,null,null,null,null,null,2013,"Automovel-Alcool",7,1,492,"CO",1.41358134941615]
[null,null,null,null,null,null,null,null,null,null,null,null,null,null,null,null,null,null,null,null,null,null,null,2014,"Automovel-Alcool",7,1,461,"CO",1.41358134941615]
[null,null,null,null,null,null,null,null,null,null,null,null,null,null,null,null,null,null,null,null,null,null,null,2015,"Automovel-Alcool",7,1,519,"CO",1.41358134941615]
[null,null,null,null,null,null,null,null,null,null,null,null,null,null,null,null,null,null,null,null,null,null,null,2016,"Automovel-Alcool",7,1,449,"CO",1.41358134941615]
[null,null,null,null,null,null,null,null,null,null,null,null,null,null,null,null,null,null,null,null,null,null,null,2017,"Automovel-Alcool",7,1,275,"CO",1.41358134941615]
[null,null,null,null,null,null,null,null,null,null,null,null,null,null,null,null,null,null,null,null,null,null,null,2018,"Automovel-Alcool",7,1,494,"CO",1.41358134941615]
[null,null,null,null,null,null,null,null,null,null,null,null,null,null,null,null,null,null,null,null,null,null,null,2019,"Automovel-Alcool",7,1,361,"CO",1.41358134941615]
[null,null,null,null,null,null,null,null,null,null,null,null,null,null,null,null,null,null,null,null,null,null,null,2020,"Automovel-Alcool",7,1,510,"CO",1.41358134941615]
[null,null,null,null,null,null,null,null,null,null,null,null,null,null,null,null,null,null,null,null,null,null,null,2021,"Automovel-Alcool",7,1,150,"CO",1.41358134941615]
[null,null,null,null,null,null,null,null,null,null,null,null,null,null,null,null,null,null,null,null,null,null,null,2022,"Automovel-Alcool",7,1,232,"CO",1.41358134941615]
[null,null,null,null,null,null,null,null,null,null,null,null,null,null,null,null,null,null,null,null,null,null,null,2003,"Automovel-Flex-G",false,1,11,"CO",1.5807846238938601]
[null,null,null,null,null,null,null,null,null,null,null,null,null,null,null,null,null,null,null,null,null,null,null,2004,"Automovel-Flex-G",false,1,0,"CO",1.42269945955499]
[null,null,null,null,null,null,null,null,null,null,null,null,null,null,null,null,null,null,null,null,null,null,null,2005,"Automovel-Flex-G",false,1,0,"CO",1.4332440321954401]
[null,null,null,null,null,null,null,null,null,null,null,null,null,null,null,null,null,null,null,null,null,null,null,2006,"Automovel-Flex-G",false,1,1283,"CO",1.4415183226686299]
[null,null,null,null,null,null,null,null,null,null,null,null,null,null,null,null,null,null,null,null,null,null,null,2007,"Automovel-Flex-G",false,1,3355,"CO",1.38963745825521]
[null,null,null,null,null,null,null,null,null,null,null,null,null,null,null,null,null,null,null,null,null,null,null,2008,"Automovel-Flex-G",false,1,7217,"CO",1.34673171266305]
[null,null,null,null,null,null,null,null,null,null,null,null,null,null,null,null,null,null,null,null,null,null,null,2009,"Automovel-Flex-G",false,1,9731,"CO",1.0909465060272601]
[null,null,null,null,null,null,null,null,null,null,null,null,null,null,null,null,null,null,null,null,null,null,null,2010,"Automovel-Flex-G",false,1,22085,"CO",0.99744240491014102]
[null,null,null,null,null,null,null,null,null,null,null,null,null,null,null,null,null,null,null,null,null,null,null,2011,"Automovel-Flex-G",false,1,32974,"CO",0.94839512230123002]
[null,null,null,null,null,null,null,null,null,null,null,null,null,null,null,null,null,null,null,null,null,null,null,2012,"Automovel-Flex-G",false,1,38500,"CO",0.87599551761729]
[null,null,null,null,null,null,null,null,null,null,null,null,null,null,null,null,null,null,null,null,null,null,null,2013,"Automovel-Flex-G",false,1,48092,"CO",0.78057493060606298]
[null,null,null,null,null,null,null,null,null,null,null,null,null,null,null,null,null,null,null,null,null,null,null,2014,"Automovel-Flex-G",false,1,41738,"CO",0.72613336126754702]
[null,null,null,null,null,null,null,null,null,null,null,null,null,null,null,null,null,null,null,null,null,null,null,2015,"Automovel-Flex-G",false,1,39767,"CO",0.65824215375127604]
[null,null,null,null,null,null,null,null,null,null,null,null,null,null,null,null,null,null,null,null,null,null,null,2016,"Automovel-Flex-G",false,1,30062,"CO",0.63507947877747895]
[null,null,null,null,null,null,null,null,null,null,null,null,null,null,null,null,null,null,null,null,null,null,null,2017,"Automovel-Flex-G",false,1,26135,"CO",0.55627574586273598]
[null,null,null,null,null,null,null,null,null,null,null,null,null,null,null,null,null,null,null,null,null,null,null,2018,"Automovel-Flex-G",false,1,41519,"CO",0.52391360331996994]
[null,null,null,null,null,null,null,null,null,null,null,null,null,null,null,null,null,null,null,null,null,null,null,2019,"Automovel-Flex-G",false,1,48492,"CO",0.48952793825845298]
[null,null,null,null,null,null,null,null,null,null,null,null,null,null,null,null,null,null,null,null,null,null,null,2020,"Automovel-Flex-G",false,1,65058,"CO",0.42110587658380599]
[null,null,null,null,null,null,null,null,null,null,null,null,null,null,null,null,null,null,null,null,null,null,null,2021,"Automovel-Flex-G",false,1,95462,"CO",0.348086782997994]
[null,null,null,null,null,null,null,null,null,null,null,null,null,null,null,null,null,null,null,null,null,null,null,2022,"Automovel-Flex-G",false,1,156757,"CO",0.18836226099933101]
[null,null,null,null,null,null,null,null,null,null,null,null,null,null,null,null,null,null,null,null,null,null,null,2003,"Automovel-Flex-A",false,1,11,"CO",1.44770289737436]
[null,null,null,null,null,null,null,null,null,null,null,null,null,null,null,null,null,null,null,null,null,null,null,2004,"Automovel-Flex-A",false,1,1663,"CO",1.3559835789047501]
[null,null,null,null,null,null,null,null,null,null,null,null,null,null,null,null,null,null,null,null,null,null,null,2005,"Automovel-Flex-A",false,1,6460,"CO",1.2430754022887101]
[null,null,null,null,null,null,null,null,null,null,null,null,null,null,null,null,null,null,null,null,null,null,null,2006,"Automovel-Flex-A",false,1,13811,"CO",1.3010651122243599]
[null,null,null,null,null,null,null,null,null,null,null,null,null,null,null,null,null,null,null,null,null,null,null,2007,"Automovel-Flex-A",false,1,17612,"CO",1.25605259464849]
[null,null,null,null,null,null,null,null,null,null,null,null,null,null,null,null,null,null,null,null,null,null,null,2008,"Automovel-Flex-A",false,1,28866,"CO",1.2761508767365799]
[null,null,null,null,null,null,null,null,null,null,null,null,null,null,null,null,null,null,null,null,null,null,null,2009,"Automovel-Flex-A",false,1,22707,"CO",1.2154861269027399]
[null,null,null,null,null,null,null,null,null,null,null,null,null,null,null,null,null,null,null,null,null,null,null,2010,"Automovel-Flex-A",false,1,23926,"CO",1.1321976547997801]
[null,null,null,null,null,null,null,null,null,null,null,null,null,null,null,null,null,null,null,null,null,null,null,2011,"Automovel-Flex-A",false,1,15517,"CO",1.06443791131917]
[null,null,null,null,null,null,null,null,null,null,null,null,null,null,null,null,null,null,null,null,null,null,null,2012,"Automovel-Flex-A",false,1,12833,"CO",1.0043724885910399]
[null,null,null,null,null,null,null,null,null,null,null,null,null,null,null,null,null,null,null,null,null,null,null,2013,"Automovel-Flex-A",false,1,16031,"CO",0.90328886132089603]
[null,null,null,null,null,null,null,null,null,null,null,null,null,null,null,null,null,null,null,null,null,null,null,2014,"Automovel-Flex-A",false,1,13913,"CO",0.83018702950873902]
[null,null,null,null,null,null,null,null,null,null,null,null,null,null,null,null,null,null,null,null,null,null,null,2015,"Automovel-Flex-A",false,1,13256,"CO",0.74282747262409898]
[null,null,null,null,null,null,null,null,null,null,null,null,null,null,null,null,null,null,null,null,null,null,null,2016,"Automovel-Flex-A",false,1,10021,"CO",0.696232387017236]
[null,null,null,null,null,null,null,null,null,null,null,null,null,null,null,null,null,null,null,null,null,null,null,2017,"Automovel-Flex-A",false,1,8712,"CO",0.62394872424275005]
[null,null,null,null,null,null,null,null,null,null,null,null,null,null,null,null,null,null,null,null,null,null,null,2018,"Automovel-Flex-A",false,1,13840,"CO",0.57304819105958305]
[null,null,null,null,null,null,null,null,null,null,null,null,null,null,null,null,null,null,null,null,null,null,null,2019,"Automovel-Flex-A",false,1,16164,"CO",0.52512724943101596]
[null,null,null,null,null,null,null,null,null,null,null,null,null,null,null,null,null,null,null,null,null,null,null,2020,"Automovel-Flex-A",false,1,21686,"CO",0.45130711652467098]
[null,null,null,null,null,null,null,null,null,null,null,null,null,null,null,null,null,null,null,null,null,null,null,2021,"Automovel-Flex-A",false,1,31821,"CO",0.37723376471251002]
[null,null,null,null,null,null,null,null,null,null,null,null,null,null,null,null,null,null,null,null,null,null,null,2022,"Automovel-Flex-A",false,1,52252,"CO",0.192077921570836]
[null,null,null,null,null,null,null,null,null,null,null,null,null,null,null,null,null,null,null,null,null,null,null,1983,"Automovel-Diesel",9,1,163,"CO",0.27359121938160802]
[null,null,null,null,null,null,null,null,null,null,null,null,null,null,null,null,null,null,null,null,null,null,null,1984,"Automovel-Diesel",9,1,186,"CO",0.27359121938160802]
[null,null,null,null,null,null,null,null,null,null,null,null,null,null,null,null,null,null,null,null,null,null,null,1985,"Automovel-Diesel",9,1,157,"CO",0.27359121938160802]
[null,null,null,null,null,null,null,null,null,null,null,null,null,null,null,null,null,null,null,null,null,null,null,1986,"Automovel-Diesel",9,1,254,"CO",0.27359121938160802]
[null,null,null,null,null,null,null,null,null,null,null,null,null,null,null,null,null,null,null,null,null,null,null,1987,"Automovel-Diesel",9,1,196,"CO",0.27359121938160802]
[null,null,null,null,null,null,null,null,null,null,null,null,null,null,null,null,null,null,null,null,null,null,null,1988,"Automovel-Diesel",9,1,274,"CO",0.27359121938160802]
[null,null,null,null,null,null,null,null,null,null,null,null,null,null,null,null,null,null,null,null,null,null,null,1989,"Automovel-Diesel",9,1,390,"CO",0.27359121938160802]
[null,null,null,null,null,null,null,null,null,null,null,null,null,null,null,null,null,null,null,null,null,null,null,1990,"Automovel-Diesel",9,1,341,"CO",0.27359121938160802]
[null,null,null,null,null,null,null,null,null,null,null,null,null,null,null,null,null,null,null,null,null,null,null,1991,"Automovel-Diesel",9,1,271,"CO",0.27359121938160802]
[null,null,null,null,null,null,null,null,null,null,null,null,null,null,null,null,null,null,null,null,null,null,null,1992,"Automovel-Diesel",9,1,289,"CO",0.27359121938160802]
[null,null,null,null,null,null,null,null,null,null,null,null,null,null,null,null,null,null,null,null,null,null,null,1993,"Automovel-Diesel",9,1,359,"CO",0.27359121938160802]
[null,null,null,null,null,null,null,null,null,null,null,null,null,null,null,null,null,null,null,null,null,null,null,1994,"Automovel-Diesel",9,1,491,"CO",0.27359121938160802]
[null,null,null,null,null,null,null,null,null,null,null,null,null,null,null,null,null,null,null,null,null,null,null,1995,"Automovel-Diesel",9,1,553,"CO",0.27359121938160802]
[null,null,null,null,null,null,null,null,null,null,null,null,null,null,null,null,null,null,null,null,null,null,null,1996,"Automovel-Diesel",9,1,209,"CO",0.27359121938160802]
[null,null,null,null,null,null,null,null,null,null,null,null,null,null,null,null,null,null,null,null,null,null,null,1997,"Automovel-Diesel",9,1,299,"CO",0.27359121938160802]
[null,null,null,null,null,null,null,null,null,null,null,null,null,null,null,null,null,null,null,null,null,null,null,1998,"Automovel-Diesel",9,1,409,"CO",0.27359121938160802]
[null,null,null,null,null,null,null,null,null,null,null,null,null,null,null,null,null,null,null,null,null,null,null,1999,"Automovel-Diesel",9,1,344,"CO",0.27359121938160802]
[null,null,null,null,null,null,null,null,null,null,null,null,null,null,null,null,null,null,null,null,null,null,null,2000,"Automovel-Diesel",9,1,529,"CO",0.31478855191356803]
[null,null,null,null,null,null,null,null,null,null,null,null,null,null,null,null,null,null,null,null,null,null,null,2001,"Automovel-Diesel",9,1,894,"CO",0.31612093146271097]
[null,null,null,null,null,null,null,null,null,null,null,null,null,null,null,null,null,null,null,null,null,null,null,2002,"Automovel-Diesel",9,1,532,"CO",0.276944126521941]
[null,null,null,null,null,null,null,null,null,null,null,null,null,null,null,null,null,null,null,null,null,null,null,2003,"Automovel-Diesel",9,1,522,"CO",0.24548253245884]
[null,null,null,null,null,null,null,null,null,null,null,null,null,null,null,null,null,null,null,null,null,null,null,2004,"Automovel-Diesel",9,1,700,"CO",0.51601404987255395]
[null,null,null,null,null,null,null,null,null,null,null,null,null,null,null,null,null,null,null,null,null,null,null,2005,"Automovel-Diesel",9,1,776,"CO",0.49910882245937499]
[null,null,null,null,null,null,null,null,null,null,null,null,null,null,null,null,null,null,null,null,null,null,null,2006,"Automovel-Diesel",9,1,1095,"CO",0.468063226926696]
[null,null,null,null,null,null,null,null,null,null,null,null,null,null,null,null,null,null,null,null,null,null,null,2007,"Automovel-Diesel",9,1,1000,"CO",0.61619999999999997]
[null,null,null,null,null,null,null,null,null,null,null,null,null,null,null,null,null,null,null,null,null,null,null,2008,"Automovel-Diesel",9,1,1612,"CO",0.65829003786628404]
[null,null,null,null,null,null,null,null,null,null,null,null,null,null,null,null,null,null,null,null,null,null,null,2009,"Automovel-Diesel",9,1,1582,"CO",0.51666116285194297]
[null,null,null,null,null,null,null,null,null,null,null,null,null,null,null,null,null,null,null,null,null,null,null,2010,"Automovel-Diesel",9,1,1717,"CO",0.75084144450803603]
[null,null,null,null,null,null,null,null,null,null,null,null,null,null,null,null,null,null,null,null,null,null,null,2011,"Automovel-Diesel",9,1,2451,"CO",0.49613566949389698]
[null,null,null,null,null,null,null,null,null,null,null,null,null,null,null,null,null,null,null,null,null,null,null,2012,"Automovel-Diesel",9,1,2546,"CO",0.49613566949389698]
[null,null,null,null,null,null,null,null,null,null,null,null,null,null,null,null,null,null,null,null,null,null,null,2013,"Automovel-Diesel",9,1,3295,"CO",0.49613566949389698]
[null,null,null,null,null,null,null,null,null,null,null,null,null,null,null,null,null,null,null,null,null,null,null,2014,"Automovel-Diesel",9,1,2466,"CO",0.49613566949389698]
[null,null,null,null,null,null,null,null,null,null,null,null,null,null,null,null,null,null,null,null,null,null,null,2015,"Automovel-Diesel",9,1,2216,"CO",0.49613566949389698]
[null,null,null,null,null,null,null,null,null,null,null,null,null,null,null,null,null,null,null,null,null,null,null,2016,"Automovel-Diesel",9,1,1862,"CO",0.49613566949389698]
[null,null,null,null,null,null,null,null,null,null,null,null,null,null,null,null,null,null,null,null,null,null,null,2017,"Automovel-Diesel",9,1,2583,"CO",0.49613566949389698]
[null,null,null,null,null,null,null,null,null,null,null,null,null,null,null,null,null,null,null,null,null,null,null,2018,"Automovel-Diesel",9,1,3654,"CO",0.49613566949389698]
[null,null,null,null,null,null,null,null,null,null,null,null,null,null,null,null,null,null,null,null,null,null,null,2019,"Automovel-Diesel",9,1,5965,"CO",0.49613566949389698]
[null,null,null,null,null,null,null,null,null,null,null,null,null,null,null,null,null,null,null,null,null,null,null,2020,"Automovel-Diesel",9,1,7280,"CO",0.49613566949389698]
[null,null,null,null,null,null,null,null,null,null,null,null,null,null,null,null,null,null,null,null,null,null,null,2021,"Automovel-Diesel",9,1,10740,"CO",0.49613566949389698]
[null,null,null,null,null,null,null,null,null,null,null,null,null,null,null,null,null,null,null,null,null,null,null,2022,"Automovel-Diesel",9,1,20006,"CO",0]
[null,null,null,null,null,null,null,null,null,null,null,null,null,null,null,null,null,null,null,null,null,null,null,1983,"Onibus",1,3,26,"NOx",17.367999999999999]
[null,null,null,null,null,null,null,null,null,null,null,null,null,null,null,null,null,null,null,null,null,null,null,1984,"Onibus",1,3,27,"NOx",17.367999999999999]
[null,null,null,null,null,null,null,null,null,null,null,null,null,null,null,null,null,null,null,null,null,null,null,1985,"Onibus",1,3,30,"NOx",17.367999999999999]
[null,null,null,null,null,null,null,null,null,null,null,null,null,null,null,null,null,null,null,null,null,null,null,1986,"Onibus",1,3,58,"NOx",17.367999999999999]
[null,null,null,null,null,null,null,null,null,null,null,null,null,null,null,null,null,null,null,null,null,null,null,1987,"Onibus",1,3,57,"NOx",17.367999999999999]
[null,null,null,null,null,null,null,null,null,null,null,null,null,null,null,null,null,null,null,null,null,null,null,1988,"Onibus",1,3,67,"NOx",17.367999999999999]
[null,null,null,null,null,null,null,null,null,null,null,null,null,null,null,null,null,null,null,null,null,null,null,1989,"Onibus",1,3,81,"NOx",17.367999999999999]
[null,null,null,null,null,null,null,null,null,null,null,null,null,null,null,null,null,null,null,null,null,null,null,1990,"Onibus",1,3,54,"NOx",17.367999999999999]
[null,null,null,null,null,null,null,null,null,null,null,null,null,null,null,null,null,null,null,null,null,null,null,1991,"Onibus",1,3,50,"NOx",17.367999999999999]
[null,null,null,null,null,null,null,null,null,null,null,null,null,null,null,null,null,null,null,null,null,null,null,1992,"Onibus",1,3,97,"NOx",17.367999999999999]
[null,null,null,null,null,null,null,null,null,null,null,null,null,null,null,null,null,null,null,null,null,null,null,1993,"Onibus",1,3,71,"NOx",17.367999999999999]
[null,null,null,null,null,null,null,null,null,null,null,null,null,null,null,null,null,null,null,null,null,null,null,1994,"Onibus",1,3,49,"NOx",17.367999999999999]
[null,null,null,null,null,null,null,null,null,null,null,null,null,null,null,null,null,null,null,null,null,null,null,1995,"Onibus",1,3,86,"NOx",17.367999999999999]
[null,null,null,null,null,null,null,null,null,null,null,null,null,null,null,null,null,null,null,null,null,null,null,1996,"Onibus",1,3,101,"NOx",17.367999999999999]
[null,null,null,null,null,null,null,null,null,null,null,null,null,null,null,null,null,null,null,null,null,null,null,1997,"Onibus",1,3,89,"NOx",17.367999999999999]
[null,null,null,null,null,null,null,null,null,null,null,null,null,null,null,null,null,null,null,null,null,null,null,1998,"Onibus",1,3,97,"NOx",17.367999999999999]
[null,null,null,null,null,null,null,null,null,null,null,null,null,null,null,null,null,null,null,null,null,null,null,1999,"Onibus",1,3,139,"NOx",17.367999999999999]
[null,null,null,null,null,null,null,null,null,null,null,null,null,null,null,null,null,null,null,null,null,null,null,2000,"Onibus",1,3,77,"NOx",10.973000000000001]
[null,null,null,null,null,null,null,null,null,null,null,null,null,null,null,null,null,null,null,null,null,null,null,2001,"Onibus",1,3,156,"NOx",10.973000000000001]
[null,null,null,null,null,null,null,null,null,null,null,null,null,null,null,null,null,null,null,null,null,null,null,2002,"Onibus",1,3,91,"NOx",10.712999999999999]
[null,null,null,null,null,null,null,null,null,null,null,null,null,null,null,null,null,null,null,null,null,null,null,2003,"Onibus",1,3,103,"NOx",10.712999999999999]
[null,null,null,null,null,null,null,null,null,null,null,null,null,null,null,null,null,null,null,null,null,null,null,2004,"Onibus",1,3,131,"NOx",9]
[null,null,null,null,null,null,null,null,null,null,null,null,null,null,null,null,null,null,null,null,null,null,null,2005,"Onibus",1,3,96,"NOx",9]
[null,null,null,null,null,null,null,null,null,null,null,null,null,null,null,null,null,null,null,null,null,null,null,2006,"Onibus",1,3,156,"NOx",8.2129999999999992]
[null,null,null,null,null,null,null,null,null,null,null,null,null,null,null,null,null,null,null,null,null,null,null,2007,"Onibus",1,3,212,"NOx",8.2129999999999992]
[null,null,null,null,null,null,null,null,null,null,null,null,null,null,null,null,null,null,null,null,null,null,null,2008,"Onibus",1,3,332,"NOx",8.6229999999999993]
[null,null,null,null,null,null,null,null,null,null,null,null,null,null,null,null,null,null,null,null,null,null,null,2009,"Onibus",1,3,187,"NOx",8.2620000000000005]
[null,null,null,null,null,null,null,null,null,null,null,null,null,null,null,null,null,null,null,null,null,null,null,2010,"Onibus",1,3,303,"NOx",8.3849999999999998]
[null,null,null,null,null,null,null,null,null,null,null,null,null,null,null,null,null,null,null,null,null,null,null,2011,"Onibus",1,3,420,"NOx",8.4640000000000004]
[null,null,null,null,null,null,null,null,null,null,null,null,null,null,null,null,null,null,null,null,null,null,null,2012,"Onibus",1,3,472,"NOx",2.6230000000000002]
[null,null,null,null,null,null,null,null,null,null,null,null,null,null,null,null,null,null,null,null,null,null,null,2013,"Onibus",1,3,394,"NOx",2.6859999999999999]
[null,null,null,null,null,null,null,null,null,null,null,null,null,null,null,null,null,null,null,null,null,null,null,2014,"Onibus",1,3,799,"NOx",2.6859999999999999]
[null,null,null,null,null,null,null,null,null,null,null,null,null,null,null,null,null,null,null,null,null,null,null,2015,"Onibus",1,3,209,"NOx",2.6859999999999999]
[null,null,null,null,null,null,null,null,null,null,null,null,null,null,null,null,null,null,null,null,null,null,null,2016,"Onibus",1,3,272,"NOx",2.87289934099041]
[null,null,null,null,null,null,null,null,null,null,null,null,null,null,null,null,null,null,null,null,null,null,null,2017,"Onibus",1,3,281,"NOx",2.6445976798930899]
[null,null,null,null,null,null,null,null,null,null,null,null,null,null,null,null,null,null,null,null,null,null,null,2018,"Onibus",1,3,188,"NOx",2.0212106599099902]
[null,null,null,null,null,null,null,null,null,null,null,null,null,null,null,null,null,null,null,null,null,null,null,2019,"Onibus",1,3,363,"NOx",2.6103611484974598]
[null,null,null,null,null,null,null,null,null,null,null,null,null,null,null,null,null,null,null,null,null,null,null,2020,"Onibus",1,3,561,"NOx",2.6337305546080598]
[null,null,null,null,null,null,null,null,null,null,null,null,null,null,null,null,null,null,null,null,null,null,null,2021,"Onibus",1,3,175,"NOx",2.6870385015736602]
[null,null,null,null,null,null,null,null,null,null,null,null,null,null,null,null,null,null,null,null,null,null,null,2022,"Onibus",1,3,239,"NOx",2.5812137713605199]
[null,null,null,null,null,null,null,null,null,null,null,null,null,null,null,null,null,null,null,null,null,null,null,1983,"Microonibus",2,3,0,"NOx",17.367999999999999]
[null,null,null,null,null,null,null,null,null,null,null,null,null,null,null,null,null,null,null,null,null,null,null,1984,"Microonibus",2,3,1,"NOx",17.367999999999999]
[null,null,null,null,null,null,null,null,null,null,null,null,null,null,null,null,null,null,null,null,null,null,null,1985,"Microonibus",2,3,1,"NOx",17.367999999999999]
[null,null,null,null,null,null,null,null,null,null,null,null,null,null,null,null,null,null,null,null,null,null,null,1986,"Microonibus",2,3,4,"NOx",17.367999999999999]
[null,null,null,null,null,null,null,null,null,null,null,null,null,null,null,null,null,null,null,null,null,null,null,1987,"Microonibus",2,3,3,"NOx",17.367999999999999]
[null,null,null,null,null,null,null,null,null,null,null,null,null,null,null,null,null,null,null,null,null,null,null,1988,"Microonibus",2,3,3,"NOx",17.367999999999999]
[null,null,null,null,null,null,null,null,null,null,null,null,null,null,null,null,null,null,null,null,null,null,null,1989,"Microonibus",2,3,0,"NOx",17.367999999999999]
[null,null,null,null,null,null,null,null,null,null,null,null,null,null,null,null,null,null,null,null,null,null,null,1990,"Microonibus",2,3,6,"NOx",17.367999999999999]
[null,null,null,null,null,null,null,null,null,null,null,null,null,null,null,null,null,null,null,null,null,null,null,1991,"Microonibus",2,3,3,"NOx",17.367999999999999]
[null,null,null,null,null,null,null,null,null,null,null,null,null,null,null,null,null,null,null,null,null,null,null,1992,"Microonibus",2,3,0,"NOx",17.367999999999999]
[null,null,null,null,null,null,null,null,null,null,null,null,null,null,null,null,null,null,null,null,null,null,null,1993,"Microonibus",2,3,10,"NOx",17.367999999999999]
[null,null,null,null,null,null,null,null,null,null,null,null,null,null,null,null,null,null,null,null,null,null,null,1994,"Microonibus",2,3,28,"NOx",17.367999999999999]
[null,null,null,null,null,null,null,null,null,null,null,null,null,null,null,null,null,null,null,null,null,null,null,1995,"Microonibus",2,3,103,"NOx",17.367999999999999]
[null,null,null,null,null,null,null,null,null,null,null,null,null,null,null,null,null,null,null,null,null,null,null,1996,"Microonibus",2,3,37,"NOx",17.367999999999999]
[null,null,null,null,null,null,null,null,null,null,null,null,null,null,null,null,null,null,null,null,null,null,null,1997,"Microonibus",2,3,218,"NOx",17.367999999999999]
[null,null,null,null,null,null,null,null,null,null,null,null,null,null,null,null,null,null,null,null,null,null,null,1998,"Microonibus",2,3,159,"NOx",17.367999999999999]
[null,null,null,null,null,null,null,null,null,null,null,null,null,null,null,null,null,null,null,null,null,null,null,1999,"Microonibus",2,3,124,"NOx",17.367999999999999]
[null,null,null,null,null,null,null,null,null,null,null,null,null,null,null,null,null,null,null,null,null,null,null,2000,"Microonibus",2,3,138,"NOx",10.973000000000001]
[null,null,null,null,null,null,null,null,null,null,null,null,null,null,null,null,null,null,null,null,null,null,null,2001,"Microonibus",2,3,208,"NOx",10.973000000000001]
[null,null,null,null,null,null,null,null,null,null,null,null,null,null,null,null,null,null,null,null,null,null,null,2002,"Microonibus",2,3,45,"NOx",10.712999999999999]
[null,null,null,null,null,null,null,null,null,null,null,null,null,null,null,null,null,null,null,null,null,null,null,2003,"Microonibus",2,3,57,"NOx",10.712999999999999]
[null,null,null,null,null,null,null,null,null,null,null,null,null,null,null,null,null,null,null,null,null,null,null,2004,"Microonibus",2,3,84,"NOx",9]
[null,null,null,null,null,null,null,null,null,null,null,null,null,null,null,null,null,null,null,null,null,null,null,2005,"Microonibus",2,3,77,"NOx",9]
[null,null,null,null,null,null,null,null,null,null,null,null,null,null,null,null,null,null,null,null,null,null,null,2006,"Microonibus",2,3,125,"NOx",4.7692280915395697]
[null,null,null,null,null,null,null,null,null,null,null,null,null,null,null,null,null,null,null,null,null,null,null,2007,"Microonibus",2,3,157,"NOx",4.7692280915395697]
[null,null,null,null,null,null,null,null,null,null,null,null,null,null,null,null,null,null,null,null,null,null,null,2008,"Microonibus",2,3,267,"NOx",4.5084372785539299]
[null,null,null,null,null,null,null,null,null,null,null,null,null,null,null,null,null,null,null,null,null,null,null,2009,"Microonibus",2,3,234,"NOx",4.7415856891036103]
[null,null,null,null,null,null,null,null,null,null,null,null,null,null,null,null,null,null,null,null,null,null,null,2010,"Microonibus",2,3,148,"NOx",4.7253984244479597]
[null,null,null,null,null,null,null,null,null,null,null,null,null,null,null,null,null,null,null,null,null,null,null,2011,"Microonibus",2,3,408,"NOx",4.8714684001270898]
[null,null,null,null,null,null,null,null,null,null,null,null,null,null,null,null,null,null,null,null,null,null,null,2012,"Microonibus",2,3,369,"NOx",1.4106206006481501]
[null,null,null,null,null,null,null,null,null,null,null,null,null,null,null,null,null,null,null,null,null,null,null,2013,"Microonibus",2,3,391,"NOx",1.2210290798900401]
[null,null,null,null,null,null,null,null,null,null,null,null,null,null,null,null,null,null,null,null,null,null,null,2014,"Microonibus",2,3,473,"NOx",1.2210290798900401]
[null,null,null,null,null,null,null,null,null,null,null,null,null,null,null,null,null,null,null,null,null,null,null,2015,"Microonibus",2,3,187,"NOx",1.2210290798900401]
[null,null,null,null,null,null,null,null,null,null,null,null,null,null,null,null,null,null,null,null,null,null,null,2016,"Microonibus",2,3,168,"NOx",1.30265174758327]
[null,null,null,null,null,null,null,null,null,null,null,null,null,null,null,null,null,null,null,null,null,null,null,2017,"Microonibus",2,3,93,"NOx",1.36227395267289]
[null,null,null,null,null,null,null,null,null,null,null,null,null,null,null,null,null,null,null,null,null,null,null,2018,"Microonibus",2,3,173,"NOx",1.4213894601577699]
[null,null,null,null,null,null,null,null,null,null,null,null,null,null,null,null,null,null,null,null,null,null,null,2019,"Microonibus",2,3,272,"NOx",1.47220064463913]
[null,null,null,null,null,null,null,null,null,null,null,null,null,null,null,null,null,null,null,null,null,null,null,2020,"Microonibus",2,3,238,"NOx",1.32465096323318]
[null,null,null,null,null,null,null,null,null,null,null,null,null,null,null,null,null,null,null,null,null,null,null,2021,"Microonibus",2,3,412,"NOx",1.5264933205606801]
[null,null,null,null,null,null,null,null,null,null,null,null,null,null,null,null,null,null,null,null,null,null,null,2022,"Microonibus",2,3,470,"NOx",1.62434857697762]
[null,null,null,null,null,null,null,null,null,null,null,null,null,null,null,null,null,null,null,null,null,null,null,1983,"Caminhao",3,4,147,"NOx",7.19]
[null,null,null,null,null,null,null,null,null,null,null,null,null,null,null,null,null,null,null,null,null,null,null,1984,"Caminhao",3,4,159,"NOx",7.19]
[null,null,null,null,null,null,null,null,null,null,null,null,null,null,null,null,null,null,null,null,null,null,null,1985,"Caminhao",3,4,248,"NOx",7.19]
[null,null,null,null,null,null,null,null,null,null,null,null,null,null,null,null,null,null,null,null,null,null,null,1986,"Caminhao",3,4,444,"NOx",7.19]
[null,null,null,null,null,null,null,null,null,null,null,null,null,null,null,null,null,null,null,null,null,null,null,1987,"Caminhao",3,4,378,"NOx",7.19]
[null,null,null,null,null,null,null,null,null,null,null,null,null,null,null,null,null,null,null,null,null,null,null,1988,"Caminhao",3,4,302,"NOx",7.19]
[null,null,null,null,null,null,null,null,null,null,null,null,null,null,null,null,null,null,null,null,null,null,null,1989,"Caminhao",3,4,332,"NOx",7.19]
[null,null,null,null,null,null,null,null,null,null,null,null,null,null,null,null,null,null,null,null,null,null,null,1990,"Caminhao",3,4,316,"NOx",7.19]
[null,null,null,null,null,null,null,null,null,null,null,null,null,null,null,null,null,null,null,null,null,null,null,1991,"Caminhao",3,4,273,"NOx",7.19]
[null,null,null,null,null,null,null,null,null,null,null,null,null,null,null,null,null,null,null,null,null,null,null,1992,"Caminhao",3,4,258,"NOx",7.19]
[null,null,null,null,null,null,null,null,null,null,null,null,null,null,null,null,null,null,null,null,null,null,null,1993,"Caminhao",3,4,189,"NOx",7.19]
[null,null,null,null,null,null,null,null,null,null,null,null,null,null,null,null,null,null,null,null,null,null,null,1994,"Caminhao",3,4,327,"NOx",7.19]
[null,null,null,null,null,null,null,null,null,null,null,null,null,null,null,null,null,null,null,null,null,null,null,1995,"Caminhao",3,4,527,"NOx",7.19]
[null,null,null,null,null,null,null,null,null,null,null,null,null,null,null,null,null,null,null,null,null,null,null,1996,"Caminhao",3,4,321,"NOx",7.19]
[null,null,null,null,null,null,null,null,null,null,null,null,null,null,null,null,null,null,null,null,null,null,null,1997,"Caminhao",3,4,613,"NOx",7.19]
[null,null,null,null,null,null,null,null,null,null,null,null,null,null,null,null,null,null,null,null,null,null,null,1998,"Caminhao",3,4,641,"NOx",7.19]
[null,null,null,null,null,null,null,null,null,null,null,null,null,null,null,null,null,null,null,null,null,null,null,1999,"Caminhao",3,4,481,"NOx",7.19]
[null,null,null,null,null,null,null,null,null,null,null,null,null,null,null,null,null,null,null,null,null,null,null,2000,"Caminhao",3,4,489,"NOx",4.5430000000000001]
[null,null,null,null,null,null,null,null,null,null,null,null,null,null,null,null,null,null,null,null,null,null,null,2001,"Caminhao",3,4,620,"NOx",4.5430000000000001]
[null,null,null,null,null,null,null,null,null,null,null,null,null,null,null,null,null,null,null,null,null,null,null,2002,"Caminhao",3,4,509,"NOx",4.4349999999999996]
[null,null,null,null,null,null,null,null,null,null,null,null,null,null,null,null,null,null,null,null,null,null,null,2003,"Caminhao",3,4,456,"NOx",4.4349999999999996]
[null,null,null,null,null,null,null,null,null,null,null,null,null,null,null,null,null,null,null,null,null,null,null,2004,"Caminhao",3,4,686,"NOx",3.72]
[null,null,null,null,null,null,null,null,null,null,null,null,null,null,null,null,null,null,null,null,null,null,null,2005,"Caminhao",3,4,824,"NOx",3.72]
[null,null,null,null,null,null,null,null,null,null,null,null,null,null,null,null,null,null,null,null,null,null,null,2006,"Caminhao",3,4,852,"NOx",3.0880000000000001]
[null,null,null,null,null,null,null,null,null,null,null,null,null,null,null,null,null,null,null,null,null,null,null,2007,"Caminhao",3,4,738,"NOx",3.0880000000000001]
[null,null,null,null,null,null,null,null,null,null,null,null,null,null,null,null,null,null,null,null,null,null,null,2008,"Caminhao",3,4,1217,"NOx",2.919]
[null,null,null,null,null,null,null,null,null,null,null,null,null,null,null,null,null,null,null,null,null,null,null,2009,"Caminhao",3,4,1418,"NOx",3.012]
[null,null,null,null,null,null,null,null,null,null,null,null,null,null,null,null,null,null,null,null,null,null,null,2010,"Caminhao",3,4,1874,"NOx",3.0179999999999998]
[null,null,null,null,null,null,null,null,null,null,null,null,null,null,null,null,null,null,null,null,null,null,null,2011,"Caminhao",3,4,2231,"NOx",3.0579999999999998]
[null,null,null,null,null,null,null,null,null,null,null,null,null,null,null,null,null,null,null,null,null,null,null,2012,"Caminhao",3,4,1796,"NOx",1.032]
[null,null,null,null,null,null,null,null,null,null,null,null,null,null,null,null,null,null,null,null,null,null,null,2013,"Caminhao",3,4,2092,"NOx",1.0609999999999999]
[null,null,null,null,null,null,null,null,null,null,null,null,null,null,null,null,null,null,null,null,null,null,null,2014,"Caminhao",3,4,1273,"NOx",1.0609999999999999]
[null,null,null,null,null,null,null,null,null,null,null,null,null,null,null,null,null,null,null,null,null,null,null,2015,"Caminhao",3,4,717,"NOx",1.0609999999999999]
[null,null,null,null,null,null,null,null,null,null,null,null,null,null,null,null,null,null,null,null,null,null,null,2016,"Caminhao",3,4,570,"NOx",0.97460933865891097]
[null,null,null,null,null,null,null,null,null,null,null,null,null,null,null,null,null,null,null,null,null,null,null,2017,"Caminhao",3,4,299,"NOx",0.90630278758476901]
[null,null,null,null,null,null,null,null,null,null,null,null,null,null,null,null,null,null,null,null,null,null,null,2018,"Caminhao",3,4,699,"NOx",0.84876183080933498]
[null,null,null,null,null,null,null,null,null,null,null,null,null,null,null,null,null,null,null,null,null,null,null,2019,"Caminhao",3,4,1163,"NOx",0.82893043758491203]
[null,null,null,null,null,null,null,null,null,null,null,null,null,null,null,null,null,null,null,null,null,null,null,2020,"Caminhao",3,4,1472,"NOx",0.94513103608258398]
[null,null,null,null,null,null,null,null,null,null,null,null,null,null,null,null,null,null,null,null,null,null,null,2021,"Caminhao",3,4,2067,"NOx",1.00727935664027]
[null,null,null,null,null,null,null,null,null,null,null,null,null,null,null,null,null,null,null,null,null,null,null,2022,"Caminhao",3,4,4601,"NOx",0.89042353936914298]
[null,null,null,null,null,null,null,null,null,null,null,null,null,null,null,null,null,null,null,null,null,null,null,1983,"Moto-Gasolina",false,2,969,"NOx",0.1613]
[null,null,null,null,null,null,null,null,null,null,null,null,null,null,null,null,null,null,null,null,null,null,null,1984,"Moto-Gasolina",false,2,633,"NOx",0.1613]
[null,null,null,null,null,null,null,null,null,null,null,null,null,null,null,null,null,null,null,null,null,null,null,1985,"Moto-Gasolina",false,2,473,"NOx",0.1613]
[null,null,null,null,null,null,null,null,null,null,null,null,null,null,null,null,null,null,null,null,null,null,null,1986,"Moto-Gasolina",false,2,765,"NOx",0.1613]
[null,null,null,null,null,null,null,null,null,null,null,null,null,null,null,null,null,null,null,null,null,null,null,1987,"Moto-Gasolina",false,2,883,"NOx",0.1613]
[null,null,null,null,null,null,null,null,null,null,null,null,null,null,null,null,null,null,null,null,null,null,null,1988,"Moto-Gasolina",false,2,922,"NOx",0.1613]
[null,null,null,null,null,null,null,null,null,null,null,null,null,null,null,null,null,null,null,null,null,null,null,1989,"Moto-Gasolina",false,2,702,"NOx",0.1613]
[null,null,null,null,null,null,null,null,null,null,null,null,null,null,null,null,null,null,null,null,null,null,null,1990,"Moto-Gasolina",false,2,881,"NOx",0.1613]
[null,null,null,null,null,null,null,null,null,null,null,null,null,null,null,null,null,null,null,null,null,null,null,1991,"Moto-Gasolina",false,2,631,"NOx",0.1613]
[null,null,null,null,null,null,null,null,null,null,null,null,null,null,null,null,null,null,null,null,null,null,null,1992,"Moto-Gasolina",false,2,524,"NOx",0.1613]
[null,null,null,null,null,null,null,null,null,null,null,null,null,null,null,null,null,null,null,null,null,null,null,1993,"Moto-Gasolina",false,2,316,"NOx",0.1613]
[null,null,null,null,null,null,null,null,null,null,null,null,null,null,null,null,null,null,null,null,null,null,null,1994,"Moto-Gasolina",false,2,559,"NOx",0.1613]
[null,null,null,null,null,null,null,null,null,null,null,null,null,null,null,null,null,null,null,null,null,null,null,1995,"Moto-Gasolina",false,2,1134,"NOx",0.1613]
[null,null,null,null,null,null,null,null,null,null,null,null,null,null,null,null,null,null,null,null,null,null,null,1996,"Moto-Gasolina",false,2,1365,"NOx",0.1613]
[null,null,null,null,null,null,null,null,null,null,null,null,null,null,null,null,null,null,null,null,null,null,null,1997,"Moto-Gasolina",false,2,2602,"NOx",0.1613]
[null,null,null,null,null,null,null,null,null,null,null,null,null,null,null,null,null,null,null,null,null,null,null,1998,"Moto-Gasolina",false,2,2838,"NOx",0.1613]
[null,null,null,null,null,null,null,null,null,null,null,null,null,null,null,null,null,null,null,null,null,null,null,1999,"Moto-Gasolina",false,2,2267,"NOx",0.1613]
[null,null,null,null,null,null,null,null,null,null,null,null,null,null,null,null,null,null,null,null,null,null,null,2000,"Moto-Gasolina",false,2,3136,"NOx",0.1613]
[null,null,null,null,null,null,null,null,null,null,null,null,null,null,null,null,null,null,null,null,null,null,null,2001,"Moto-Gasolina",false,2,3541,"NOx",0.1613]
[null,null,null,null,null,null,null,null,null,null,null,null,null,null,null,null,null,null,null,null,null,null,null,2002,"Moto-Gasolina",false,2,4223,"NOx",0.1613]
[null,null,null,null,null,null,null,null,null,null,null,null,null,null,null,null,null,null,null,null,null,null,null,2003,"Moto-Gasolina",false,2,5047,"NOx",0.1613]
[null,null,null,null,null,null,null,null,null,null,null,null,null,null,null,null,null,null,null,null,null,null,null,2004,"Moto-Gasolina",false,2,4619,"NOx",0.16306999999999999]
[null,null,null,null,null,null,null,null,null,null,null,null,null,null,null,null,null,null,null,null,null,null,null,2005,"Moto-Gasolina",false,2,6828,"NOx",0.13883000000000001]
[null,null,null,null,null,null,null,null,null,null,null,null,null,null,null,null,null,null,null,null,null,null,null,2006,"Moto-Gasolina",false,2,7519,"NOx",0.14473]
[null,null,null,null,null,null,null,null,null,null,null,null,null,null,null,null,null,null,null,null,null,null,null,2007,"Moto-Gasolina",false,2,12449,"NOx",0.14319000000000001]
[null,null,null,null,null,null,null,null,null,null,null,null,null,null,null,null,null,null,null,null,null,null,null,2008,"Moto-Gasolina",false,2,22881,"NOx",0.13836000000000001]
[null,null,null,null,null,null,null,null,null,null,null,null,null,null,null,null,null,null,null,null,null,null,null,2009,"Moto-Gasolina",false,2,7798,"NOx",0.10987999999999901]
[null,null,null,null,null,null,null,null,null,null,null,null,null,null,null,null,null,null,null,null,null,null,null,2010,"Moto-Gasolina",false,2,12526,"NOx",8.9759999999999895E-2]
[null,null,null,null,null,null,null,null,null,null,null,null,null,null,null,null,null,null,null,null,null,null,null,2011,"Moto-Gasolina",false,2,10202,"NOx",8.9880000000000002E-2]
[null,null,null,null,null,null,null,null,null,null,null,null,null,null,null,null,null,null,null,null,null,null,null,2012,"Moto-Gasolina",false,2,9318,"NOx",8.9759999999999895E-2]
[null,null,null,null,null,null,null,null,null,null,null,null,null,null,null,null,null,null,null,null,null,null,null,2013,"Moto-Gasolina",false,2,5906,"NOx",6.9879999999999998E-2]
[null,null,null,null,null,null,null,null,null,null,null,null,null,null,null,null,null,null,null,null,null,null,null,2014,"Moto-Gasolina",false,2,5599,"NOx",6.9879999999999998E-2]
[null,null,null,null,null,null,null,null,null,null,null,null,null,null,null,null,null,null,null,null,null,null,null,2015,"Moto-Gasolina",false,2,4403,"NOx",6.9879999999999998E-2]
[null,null,null,null,null,null,null,null,null,null,null,null,null,null,null,null,null,null,null,null,null,null,null,2016,"Moto-Gasolina",false,2,2840,"NOx",4.9000000000000002E-2]
[null,null,null,null,null,null,null,null,null,null,null,null,null,null,null,null,null,null,null,null,null,null,null,2017,"Moto-Gasolina",false,2,3672,"NOx",4.2999999999999997E-2]
[null,null,null,null,null,null,null,null,null,null,null,null,null,null,null,null,null,null,null,null,null,null,null,2018,"Moto-Gasolina",false,2,4076,"NOx",4.5999999999999999E-2]
[null,null,null,null,null,null,null,null,null,null,null,null,null,null,null,null,null,null,null,null,null,null,null,2019,"Moto-Gasolina",false,2,4486,"NOx",4.7316367065401099E-2]
[null,null,null,null,null,null,null,null,null,null,null,null,null,null,null,null,null,null,null,null,null,null,null,2020,"Moto-Gasolina",false,2,3923,"NOx",4.7527706445307502E-2]
[null,null,null,null,null,null,null,null,null,null,null,null,null,null,null,null,null,null,null,null,null,null,null,2021,"Moto-Gasolina",false,2,4248,"NOx",5.0667386451575702E-2]
[null,null,null,null,null,null,null,null,null,null,null,null,null,null,null,null,null,null,null,null,null,null,null,2022,"Moto-Gasolina",false,2,6938,"NOx",5.3303050868712898E-2]
[null,null,null,null,null,null,null,null,null,null,null,null,null,null,null,null,null,null,null,null,null,null,null,2009,"Moto-Flex-G",false,2,269,"NOx",0.05]
[null,null,null,null,null,null,null,null,null,null,null,null,null,null,null,null,null,null,null,null,null,null,null,2010,"Moto-Flex-G",false,2,1279,"NOx",0.05]
[null,null,null,null,null,null,null,null,null,null,null,null,null,null,null,null,null,null,null,null,null,null,null,2011,"Moto-Flex-G",false,2,3075,"NOx",0.06]
[null,null,null,null,null,null,null,null,null,null,null,null,null,null,null,null,null,null,null,null,null,null,null,2012,"Moto-Flex-G",false,2,3586,"NOx",8.9399999999999993E-2]
[null,null,null,null,null,null,null,null,null,null,null,null,null,null,null,null,null,null,null,null,null,null,null,2013,"Moto-Flex-G",false,2,3425,"NOx",7.9639999999999905E-2]
[null,null,null,null,null,null,null,null,null,null,null,null,null,null,null,null,null,null,null,null,null,null,null,2014,"Moto-Flex-G",false,2,5354,"NOx",7.9639999999999905E-2]
[null,null,null,null,null,null,null,null,null,null,null,null,null,null,null,null,null,null,null,null,null,null,null,2015,"Moto-Flex-G",false,2,5829,"NOx",7.9639999999999905E-2]
[null,null,null,null,null,null,null,null,null,null,null,null,null,null,null,null,null,null,null,null,null,null,null,2016,"Moto-Flex-G",false,2,3761,"NOx",4.3999999999999997E-2]
[null,null,null,null,null,null,null,null,null,null,null,null,null,null,null,null,null,null,null,null,null,null,null,2017,"Moto-Flex-G",false,2,3521,"NOx",4.4999999999999998E-2]
[null,null,null,null,null,null,null,null,null,null,null,null,null,null,null,null,null,null,null,null,null,null,null,2018,"Moto-Flex-G",false,2,4611,"NOx",4.2000000000000003E-2]
[null,null,null,null,null,null,null,null,null,null,null,null,null,null,null,null,null,null,null,null,null,null,null,2019,"Moto-Flex-G",false,2,6248,"NOx",4.29135375522307E-2]
[null,null,null,null,null,null,null,null,null,null,null,null,null,null,null,null,null,null,null,null,null,null,null,2020,"Moto-Flex-G",false,2,6023,"NOx",4.4428594895526898E-2]
[null,null,null,null,null,null,null,null,null,null,null,null,null,null,null,null,null,null,null,null,null,null,null,2021,"Moto-Flex-G",false,2,5385,"NOx",4.9732874385201797E-2]
[null,null,null,null,null,null,null,null,null,null,null,null,null,null,null,null,null,null,null,null,null,null,null,2022,"Moto-Flex-G",false,2,8265,"NOx",4.8817935789892603E-2]
[null,null,null,null,null,null,null,null,null,null,null,null,null,null,null,null,null,null,null,null,null,null,null,2009,"Moto-Flex-A",false,2,627,"NOx",7.0000000000000007E-2]
[null,null,null,null,null,null,null,null,null,null,null,null,null,null,null,null,null,null,null,null,null,null,null,2010,"Moto-Flex-A",false,2,1386,"NOx",7.0000000000000007E-2]
[null,null,null,null,null,null,null,null,null,null,null,null,null,null,null,null,null,null,null,null,null,null,null,2011,"Moto-Flex-A",false,2,1447,"NOx",0.06]
[null,null,null,null,null,null,null,null,null,null,null,null,null,null,null,null,null,null,null,null,null,null,null,2012,"Moto-Flex-A",false,2,1195,"NOx",4.9880000000000001E-2]
[null,null,null,null,null,null,null,null,null,null,null,null,null,null,null,null,null,null,null,null,null,null,null,2013,"Moto-Flex-A",false,2,1142,"NOx",0.04]
[null,null,null,null,null,null,null,null,null,null,null,null,null,null,null,null,null,null,null,null,null,null,null,2014,"Moto-Flex-A",false,2,1785,"NOx",0.04]
[null,null,null,null,null,null,null,null,null,null,null,null,null,null,null,null,null,null,null,null,null,null,null,2015,"Moto-Flex-A",false,2,1943,"NOx",0.04]
[null,null,null,null,null,null,null,null,null,null,null,null,null,null,null,null,null,null,null,null,null,null,null,2016,"Moto-Flex-A",false,2,1254,"NOx",2.1000000000000001E-2]
[null,null,null,null,null,null,null,null,null,null,null,null,null,null,null,null,null,null,null,null,null,null,null,2017,"Moto-Flex-A",false,2,1174,"NOx",2.8000000000000001E-2]
[null,null,null,null,null,null,null,null,null,null,null,null,null,null,null,null,null,null,null,null,null,null,null,2018,"Moto-Flex-A",false,2,1537,"NOx",3.5000000000000003E-2]
[null,null,null,null,null,null,null,null,null,null,null,null,null,null,null,null,null,null,null,null,null,null,null,2019,"Moto-Flex-A",false,2,2083,"NOx",3.40564276004542E-2]
[null,null,null,null,null,null,null,null,null,null,null,null,null,null,null,null,null,null,null,null,null,null,null,2020,"Moto-Flex-A",false,2,2008,"NOx",2.8919401018268901E-2]
[null,null,null,null,null,null,null,null,null,null,null,null,null,null,null,null,null,null,null,null,null,null,null,2021,"Moto-Flex-A",false,2,1795,"NOx",3.19301153513371E-2]
[null,null,null,null,null,null,null,null,null,null,null,null,null,null,null,null,null,null,null,null,null,null,null,2022,"Moto-Flex-A",false,2,2755,"NOx",3.1110946831741499E-2]
[null,null,null,null,null,null,null,null,null,null,null,null,null,null,null,null,null,null,null,null,null,null,null,1983,"Automovel-Gasolina",6,1,2057,"NOx",1.4]
[null,null,null,null,null,null,null,null,null,null,null,null,null,null,null,null,null,null,null,null,null,null,null,1984,"Automovel-Gasolina",6,1,849,"NOx",1.6]
[null,null,null,null,null,null,null,null,null,null,null,null,null,null,null,null,null,null,null,null,null,null,null,1985,"Automovel-Gasolina",6,1,816,"NOx",1.6]
[null,null,null,null,null,null,null,null,null,null,null,null,null,null,null,null,null,null,null,null,null,null,null,1986,"Automovel-Gasolina",6,1,1406,"NOx",1.9]
[null,null,null,null,null,null,null,null,null,null,null,null,null,null,null,null,null,null,null,null,null,null,null,1987,"Automovel-Gasolina",6,1,808,"NOx",1.9]
[null,null,null,null,null,null,null,null,null,null,null,null,null,null,null,null,null,null,null,null,null,null,null,1988,"Automovel-Gasolina",6,1,1012,"NOx",1.8]
[null,null,null,null,null,null,null,null,null,null,null,null,null,null,null,null,null,null,null,null,null,null,null,1989,"Automovel-Gasolina",6,1,3130,"NOx",1.6]
[null,null,null,null,null,null,null,null,null,null,null,null,null,null,null,null,null,null,null,null,null,null,null,1990,"Automovel-Gasolina",6,1,5837,"NOx",1.4]
[null,null,null,null,null,null,null,null,null,null,null,null,null,null,null,null,null,null,null,null,null,null,null,1991,"Automovel-Gasolina",6,1,6655,"NOx",1.3]
[null,null,null,null,null,null,null,null,null,null,null,null,null,null,null,null,null,null,null,null,null,null,null,1992,"Automovel-Gasolina",6,1,5726,"NOx",0.6]
[null,null,null,null,null,null,null,null,null,null,null,null,null,null,null,null,null,null,null,null,null,null,null,1993,"Automovel-Gasolina",6,1,8575,"NOx",0.8]
[null,null,null,null,null,null,null,null,null,null,null,null,null,null,null,null,null,null,null,null,null,null,null,1994,"Automovel-Gasolina",6,1,11036,"NOx",0.7]
[null,null,null,null,null,null,null,null,null,null,null,null,null,null,null,null,null,null,null,null,null,null,null,1995,"Automovel-Gasolina",6,1,18944,"NOx",0.75310523211150504]
[null,null,null,null,null,null,null,null,null,null,null,null,null,null,null,null,null,null,null,null,null,null,null,1996,"Automovel-Gasolina",6,1,17211,"NOx",0.64907696607236798]
[null,null,null,null,null,null,null,null,null,null,null,null,null,null,null,null,null,null,null,null,null,null,null,1997,"Automovel-Gasolina",6,1,19715,"NOx",0.44486349808018]
[null,null,null,null,null,null,null,null,null,null,null,null,null,null,null,null,null,null,null,null,null,null,null,1998,"Automovel-Gasolina",6,1,16751,"NOx",0.37046241279705899]
[null,null,null,null,null,null,null,null,null,null,null,null,null,null,null,null,null,null,null,null,null,null,null,1999,"Automovel-Gasolina",6,1,15116,"NOx",0.36587302130159999]
[null,null,null,null,null,null,null,null,null,null,null,null,null,null,null,null,null,null,null,null,null,null,null,2000,"Automovel-Gasolina",6,1,15355,"NOx",0.34109636108887498]
[null,null,null,null,null,null,null,null,null,null,null,null,null,null,null,null,null,null,null,null,null,null,null,2001,"Automovel-Gasolina",6,1,18573,"NOx",0.26613519607043101]
[null,null,null,null,null,null,null,null,null,null,null,null,null,null,null,null,null,null,null,null,null,null,null,2002,"Automovel-Gasolina",6,1,14698,"NOx",0.24099401657429401]
[null,null,null,null,null,null,null,null,null,null,null,null,null,null,null,null,null,null,null,null,null,null,null,2003,"Automovel-Gasolina",6,1,16345,"NOx",0.23567903934496401]
[null,null,null,null,null,null,null,null,null,null,null,null,null,null,null,null,null,null,null,null,null,null,null,2004,"Automovel-Gasolina",6,1,13063,"NOx",0.20019820754342199]
[null,null,null,null,null,null,null,null,null,null,null,null,null,null,null,null,null,null,null,null,null,null,null,2005,"Automovel-Gasolina",6,1,11807,"NOx",0.19456119074712]
[null,null,null,null,null,null,null,null,null,null,null,null,null,null,null,null,null,null,null,null,null,null,null,2006,"Automovel-Gasolina",6,1,5134,"NOx",0.164779384949991]
[null,null,null,null,null,null,null,null,null,null,null,null,null,null,null,null,null,null,null,null,null,null,null,2007,"Automovel-Gasolina",6,1,6019,"NOx",0.15886591256244301]
[null,null,null,null,null,null,null,null,null,null,null,null,null,null,null,null,null,null,null,null,null,null,null,2008,"Automovel-Gasolina",6,1,5907,"NOx",0.13183562241136201]
[null,null,null,null,null,null,null,null,null,null,null,null,null,null,null,null,null,null,null,null,null,null,null,2009,"Automovel-Gasolina",6,1,3888,"NOx",0.101705089740109]
[null,null,null,null,null,null,null,null,null,null,null,null,null,null,null,null,null,null,null,null,null,null,null,2010,"Automovel-Gasolina",6,1,5853,"NOx",0.102492616208522]
[null,null,null,null,null,null,null,null,null,null,null,null,null,null,null,null,null,null,null,null,null,null,null,2011,"Automovel-Gasolina",6,1,7341,"NOx",9.3218229892917004E-2]
[null,null,null,null,null,null,null,null,null,null,null,null,null,null,null,null,null,null,null,null,null,null,null,2012,"Automovel-Gasolina",6,1,9155,"NOx",8.3903685286084995E-2]
[null,null,null,null,null,null,null,null,null,null,null,null,null,null,null,null,null,null,null,null,null,null,null,2013,"Automovel-Gasolina",6,1,4837,"NOx",7.5572463297294806E-2]
[null,null,null,null,null,null,null,null,null,null,null,null,null,null,null,null,null,null,null,null,null,null,null,2014,"Automovel-Gasolina",6,1,5336,"NOx",6.4249771252291699E-2]
[null,null,null,null,null,null,null,null,null,null,null,null,null,null,null,null,null,null,null,null,null,null,null,2015,"Automovel-Gasolina",6,1,4590,"NOx",6.79625428932977E-2]
[null,null,null,null,null,null,null,null,null,null,null,null,null,null,null,null,null,null,null,null,null,null,null,2016,"Automovel-Gasolina",6,1,3165,"NOx",5.8739438379011202E-2]
[null,null,null,null,null,null,null,null,null,null,null,null,null,null,null,null,null,null,null,null,null,null,null,2017,"Automovel-Gasolina",6,1,1866,"NOx",4.3610844284607597E-2]
[null,null,null,null,null,null,null,null,null,null,null,null,null,null,null,null,null,null,null,null,null,null,null,2018,"Automovel-Gasolina",6,1,2561,"NOx",3.46088736017389E-2]
[null,null,null,null,null,null,null,null,null,null,null,null,null,null,null,null,null,null,null,null,null,null,null,2019,"Automovel-Gasolina",6,1,2561,"NOx",3.2767365738533803E-2]
[null,null,null,null,null,null,null,null,null,null,null,null,null,null,null,null,null,null,null,null,null,null,null,2020,"Automovel-Gasolina",6,1,2925,"NOx",2.81218865195977E-2]
[null,null,null,null,null,null,null,null,null,null,null,null,null,null,null,null,null,null,null,null,null,null,null,2021,"Automovel-Gasolina",6,1,1564,"NOx",2.27097281860127E-2]
[null,null,null,null,null,null,null,null,null,null,null,null,null,null,null,null,null,null,null,null,null,null,null,2022,"Automovel-Gasolina",6,1,2879,"NOx",9.5699093953375801E-3]
[null,null,null,null,null,null,null,null,null,null,null,null,null,null,null,null,null,null,null,null,null,null,null,1983,"Automovel-Alcool",7,1,2904,"NOx",1]
[null,null,null,null,null,null,null,null,null,null,null,null,null,null,null,null,null,null,null,null,null,null,null,1984,"Automovel-Alcool",7,1,3281,"NOx",1]
[null,null,null,null,null,null,null,null,null,null,null,null,null,null,null,null,null,null,null,null,null,null,null,1985,"Automovel-Alcool",7,1,3376,"NOx",1.2]
[null,null,null,null,null,null,null,null,null,null,null,null,null,null,null,null,null,null,null,null,null,null,null,1986,"Automovel-Alcool",7,1,5821,"NOx",1.2]
[null,null,null,null,null,null,null,null,null,null,null,null,null,null,null,null,null,null,null,null,null,null,null,1987,"Automovel-Alcool",7,1,3387,"NOx",1.8]
[null,null,null,null,null,null,null,null,null,null,null,null,null,null,null,null,null,null,null,null,null,null,null,1988,"Automovel-Alcool",7,1,4326,"NOx",1.8]
[null,null,null,null,null,null,null,null,null,null,null,null,null,null,null,null,null,null,null,null,null,null,null,1989,"Automovel-Alcool",7,1,4395,"NOx",1.4]
[null,null,null,null,null,null,null,null,null,null,null,null,null,null,null,null,null,null,null,null,null,null,null,1990,"Automovel-Alcool",7,1,988,"NOx",1.1000000000000001]
[null,null,null,null,null,null,null,null,null,null,null,null,null,null,null,null,null,null,null,null,null,null,null,1991,"Automovel-Alcool",7,1,838,"NOx",1.2]
[null,null,null,null,null,null,null,null,null,null,null,null,null,null,null,null,null,null,null,null,null,null,null,1992,"Automovel-Alcool",7,1,1103,"NOx",1]
[null,null,null,null,null,null,null,null,null,null,null,null,null,null,null,null,null,null,null,null,null,null,null,1993,"Automovel-Alcool",7,1,1489,"NOx",0.5]
[null,null,null,null,null,null,null,null,null,null,null,null,null,null,null,null,null,null,null,null,null,null,null,1994,"Automovel-Alcool",7,1,1343,"NOx",0.6]
[null,null,null,null,null,null,null,null,null,null,null,null,null,null,null,null,null,null,null,null,null,null,null,1995,"Automovel-Alcool",7,1,344,"NOx",0.80447970053992002]
[null,null,null,null,null,null,null,null,null,null,null,null,null,null,null,null,null,null,null,null,null,null,null,1996,"Automovel-Alcool",7,1,51,"NOx",0.802070214886068]
[null,null,null,null,null,null,null,null,null,null,null,null,null,null,null,null,null,null,null,null,null,null,null,1997,"Automovel-Alcool",7,1,12,"NOx",0.39923876787509899]
[null,null,null,null,null,null,null,null,null,null,null,null,null,null,null,null,null,null,null,null,null,null,null,1998,"Automovel-Alcool",7,1,7,"NOx",0.33612733717527099]
[null,null,null,null,null,null,null,null,null,null,null,null,null,null,null,null,null,null,null,null,null,null,null,1999,"Automovel-Alcool",7,1,14,"NOx",0.31278960408871398]
[null,null,null,null,null,null,null,null,null,null,null,null,null,null,null,null,null,null,null,null,null,null,null,2000,"Automovel-Alcool",7,1,73,"NOx",0.29927350209317499]
[null,null,null,null,null,null,null,null,null,null,null,null,null,null,null,null,null,null,null,null,null,null,null,2001,"Automovel-Alcool",7,1,85,"NOx",0.16562121684200901]
[null,null,null,null,null,null,null,null,null,null,null,null,null,null,null,null,null,null,null,null,null,null,null,2002,"Automovel-Alcool",7,1,147,"NOx",0.161869186164186]
[null,null,null,null,null,null,null,null,null,null,null,null,null,null,null,null,null,null,null,null,null,null,null,2003,"Automovel-Alcool",7,1,198,"NOx",0.168048100064289]
[null,null,null,null,null,null,null,null,null,null,null,null,null,null,null,null,null,null,null,null,null,null,null,2004,"Automovel-Alcool",7,1,83,"NOx",0.15418290072251201]
[null,null,null,null,null,null,null,null,null,null,null,null,null,null,null,null,null,null,null,null,null,null,null,2005,"Automovel-Alcool",7,1,85,"NOx",0.15029278249466099]
[null,null,null,null,null,null,null,null,null,null,null,null,null,null,null,null,null,null,null,null,null,null,null,2006,"Automovel-Alcool",7,1,77,"NOx",0.11639119191215599]
[null,null,null,null,null,null,null,null,null,null,null,null,null,null,null,null,null,null,null,null,null,null,null,2007,"Automovel-Alcool",7,1,190,"NOx",0.11639119191215599]
[null,null,null,null,null,null,null,null,null,null,null,null,null,null,null,null,null,null,null,null,null,null,null,2008,"Automovel-Alcool",7,1,254,"NOx",0.11639119191215599]
[null,null,null,null,null,null,null,null,null,null,null,null,null,null,null,null,null,null,null,null,null,null,null,2009,"Automovel-Alcool",7,1,134,"NOx",0.11639119191215599]
[null,null,null,null,null,null,null,null,null,null,null,null,null,null,null,null,null,null,null,null,null,null,null,2010,"Automovel-Alcool",7,1,197,"NOx",0.11639119191215599]
[null,null,null,null,null,null,null,null,null,null,null,null,null,null,null,null,null,null,null,null,null,null,null,2011,"Automovel-Alcool",7,1,242,"NOx",0.11639119191215599]
[null,null,null,null,null,null,null,null,null,null,null,null,null,null,null,null,null,null,null,null,null,null,null,2012,"Automovel-Alcool",7,1,392,"NOx",0.11639119191215599]
[null,null,null,null,null,null,null,null,null,null,null,null,null,null,null,null,null,null,null,null,null,null,null,2013,"Automovel-Alcool",7,1,492,"NOx",0.11639119191215599]
[null,null,null,null,null,null,null,null,null,null,null,null,null,null,null,null,null,null,null,null,null,null,null,2014,"Automovel-Alcool",7,1,461,"NOx",0.11639119191215599]
[null,null,null,null,null,null,null,null,null,null,null,null,null,null,null,null,null,null,null,null,null,null,null,2015,"Automovel-Alcool",7,1,519,"NOx",0.11639119191215599]
[null,null,null,null,null,null,null,null,null,null,null,null,null,null,null,null,null,null,null,null,null,null,null,2016,"Automovel-Alcool",7,1,449,"NOx",0.11639119191215599]
[null,null,null,null,null,null,null,null,null,null,null,null,null,null,null,null,null,null,null,null,null,null,null,2017,"Automovel-Alcool",7,1,275,"NOx",0.11639119191215599]
[null,null,null,null,null,null,null,null,null,null,null,null,null,null,null,null,null,null,null,null,null,null,null,2018,"Automovel-Alcool",7,1,494,"NOx",0.11639119191215599]
[null,null,null,null,null,null,null,null,null,null,null,null,null,null,null,null,null,null,null,null,null,null,null,2019,"Automovel-Alcool",7,1,361,"NOx",0.11639119191215599]
[null,null,null,null,null,null,null,null,null,null,null,null,null,null,null,null,null,null,null,null,null,null,null,2020,"Automovel-Alcool",7,1,510,"NOx",0.11639119191215599]
[null,null,null,null,null,null,null,null,null,null,null,null,null,null,null,null,null,null,null,null,null,null,null,2021,"Automovel-Alcool",7,1,150,"NOx",0.11639119191215599]
[null,null,null,null,null,null,null,null,null,null,null,null,null,null,null,null,null,null,null,null,null,null,null,2022,"Automovel-Alcool",7,1,232,"NOx",0.11639119191215599]
[null,null,null,null,null,null,null,null,null,null,null,null,null,null,null,null,null,null,null,null,null,null,null,2003,"Automovel-Flex-G",false,1,11,"NOx",0.163189736766017]
[null,null,null,null,null,null,null,null,null,null,null,null,null,null,null,null,null,null,null,null,null,null,null,2004,"Automovel-Flex-G",false,1,0,"NOx",0.16770890496447499]
[null,null,null,null,null,null,null,null,null,null,null,null,null,null,null,null,null,null,null,null,null,null,null,2005,"Automovel-Flex-G",false,1,0,"NOx",0.162071888168173]
[null,null,null,null,null,null,null,null,null,null,null,null,null,null,null,null,null,null,null,null,null,null,null,2006,"Automovel-Flex-G",false,1,1283,"NOx",0.14929008237104399]
[null,null,null,null,null,null,null,null,null,null,null,null,null,null,null,null,null,null,null,null,null,null,null,2007,"Automovel-Flex-G",false,1,3355,"NOx",0.143376609983496]
[null,null,null,null,null,null,null,null,null,null,null,null,null,null,null,null,null,null,null,null,null,null,null,2008,"Automovel-Flex-G",false,1,7217,"NOx",0.13334631983241499]
[null,null,null,null,null,null,null,null,null,null,null,null,null,null,null,null,null,null,null,null,null,null,null,2009,"Automovel-Flex-G",false,1,9731,"NOx",0.115215787161162]
[null,null,null,null,null,null,null,null,null,null,null,null,null,null,null,null,null,null,null,null,null,null,null,2010,"Automovel-Flex-G",false,1,22085,"NOx",0.112003313629575]
[null,null,null,null,null,null,null,null,null,null,null,null,null,null,null,null,null,null,null,null,null,null,null,2011,"Automovel-Flex-G",false,1,32974,"NOx",0.10472892731397]
[null,null,null,null,null,null,null,null,null,null,null,null,null,null,null,null,null,null,null,null,null,null,null,2012,"Automovel-Flex-G",false,1,38500,"NOx",9.6414382707137994E-2]
[null,null,null,null,null,null,null,null,null,null,null,null,null,null,null,null,null,null,null,null,null,null,null,2013,"Automovel-Flex-G",false,1,48092,"NOx",8.90974464976515E-2]
[null,null,null,null,null,null,null,null,null,null,null,null,null,null,null,null,null,null,null,null,null,null,null,2014,"Automovel-Flex-G",false,1,41738,"NOx",7.5778118685510695E-2]
[null,null,null,null,null,null,null,null,null,null,null,null,null,null,null,null,null,null,null,null,null,null,null,2015,"Automovel-Flex-G",false,1,39767,"NOx",6.5293558558276094E-2]
[null,null,null,null,null,null,null,null,null,null,null,null,null,null,null,null,null,null,null,null,null,null,null,2016,"Automovel-Flex-G",false,1,30062,"NOx",5.5778056091658E-2]
[null,null,null,null,null,null,null,null,null,null,null,null,null,null,null,null,null,null,null,null,null,null,null,2017,"Automovel-Flex-G",false,1,26135,"NOx",4.8303466473716097E-2]
[null,null,null,null,null,null,null,null,null,null,null,null,null,null,null,null,null,null,null,null,null,null,null,2018,"Automovel-Flex-G",false,1,41519,"NOx",4.2879210104859802E-2]
[null,null,null,null,null,null,null,null,null,null,null,null,null,null,null,null,null,null,null,null,null,null,null,2019,"Automovel-Flex-G",false,1,48492,"NOx",3.5452272597848E-2]
[null,null,null,null,null,null,null,null,null,null,null,null,null,null,null,null,null,null,null,null,null,null,null,2020,"Automovel-Flex-G",false,1,65058,"NOx",2.8907204777789401E-2]
[null,null,null,null,null,null,null,null,null,null,null,null,null,null,null,null,null,null,null,null,null,null,null,2021,"Automovel-Flex-G",false,1,95462,"NOx",2.20661226821421E-2]
[null,null,null,null,null,null,null,null,null,null,null,null,null,null,null,null,null,null,null,null,null,null,null,2022,"Automovel-Flex-G",false,1,156757,"NOx",1.0688707560714E-2]
[null,null,null,null,null,null,null,null,null,null,null,null,null,null,null,null,null,null,null,null,null,null,null,2003,"Automovel-Flex-A",false,1,11,"NOx",0.22372347297985301]
[null,null,null,null,null,null,null,null,null,null,null,null,null,null,null,null,null,null,null,null,null,null,null,2004,"Automovel-Flex-A",false,1,1663,"NOx",0.219998533830781]
[null,null,null,null,null,null,null,null,null,null,null,null,null,null,null,null,null,null,null,null,null,null,null,2005,"Automovel-Flex-A",false,1,6460,"NOx",0.176167446632921]
[null,null,null,null,null,null,null,null,null,null,null,null,null,null,null,null,null,null,null,null,null,null,null,2006,"Automovel-Flex-A",false,1,13811,"NOx",0.13323795644860301]
[null,null,null,null,null,null,null,null,null,null,null,null,null,null,null,null,null,null,null,null,null,null,null,2007,"Automovel-Flex-A",false,1,17612,"NOx",0.129218981665044]
[null,null,null,null,null,null,null,null,null,null,null,null,null,null,null,null,null,null,null,null,null,null,null,2008,"Automovel-Flex-A",false,1,28866,"NOx",0.113120613994337]
[null,null,null,null,null,null,null,null,null,null,null,null,null,null,null,null,null,null,null,null,null,null,null,2009,"Automovel-Flex-A",false,1,22707,"NOx",9.09541184734593E-2]
[null,null,null,null,null,null,null,null,null,null,null,null,null,null,null,null,null,null,null,null,null,null,null,2010,"Automovel-Flex-A",false,1,23926,"NOx",9.3731933464266698E-2]
[null,null,null,null,null,null,null,null,null,null,null,null,null,null,null,null,null,null,null,null,null,null,null,2011,"Automovel-Flex-A",false,1,15517,"NOx",8.2467670653497693E-2]
[null,null,null,null,null,null,null,null,null,null,null,null,null,null,null,null,null,null,null,null,null,null,null,2012,"Automovel-Flex-A",false,1,12833,"NOx",7.6176115052771498E-2]
[null,null,null,null,null,null,null,null,null,null,null,null,null,null,null,null,null,null,null,null,null,null,null,2013,"Automovel-Flex-A",false,1,16031,"NOx",6.5882934046508607E-2]
[null,null,null,null,null,null,null,null,null,null,null,null,null,null,null,null,null,null,null,null,null,null,null,2014,"Automovel-Flex-A",false,1,13913,"NOx",5.6588127634708899E-2]
[null,null,null,null,null,null,null,null,null,null,null,null,null,null,null,null,null,null,null,null,null,null,null,2015,"Automovel-Flex-A",false,1,13256,"NOx",5.0181024341437397E-2]
[null,null,null,null,null,null,null,null,null,null,null,null,null,null,null,null,null,null,null,null,null,null,null,2016,"Automovel-Flex-A",false,1,10021,"NOx",4.2752891697967497E-2]
[null,null,null,null,null,null,null,null,null,null,null,null,null,null,null,null,null,null,null,null,null,null,null,2017,"Automovel-Flex-A",false,1,8712,"NOx",3.7352564664531303E-2]
[null,null,null,null,null,null,null,null,null,null,null,null,null,null,null,null,null,null,null,null,null,null,null,2018,"Automovel-Flex-A",false,1,13840,"NOx",3.2986445630319897E-2]
[null,null,null,null,null,null,null,null,null,null,null,null,null,null,null,null,null,null,null,null,null,null,null,2019,"Automovel-Flex-A",false,1,16164,"NOx",2.6618504413483599E-2]
[null,null,null,null,null,null,null,null,null,null,null,null,null,null,null,null,null,null,null,null,null,null,null,2020,"Automovel-Flex-A",false,1,21686,"NOx",2.4170278261131301E-2]
[null,null,null,null,null,null,null,null,null,null,null,null,null,null,null,null,null,null,null,null,null,null,null,2021,"Automovel-Flex-A",false,1,31821,"NOx",1.9520871849331298E-2]
[null,null,null,null,null,null,null,null,null,null,null,null,null,null,null,null,null,null,null,null,null,null,null,2022,"Automovel-Flex-A",false,1,52252,"NOx",9.5069572831104308E-3]
[null,null,null,null,null,null,null,null,null,null,null,null,null,null,null,null,null,null,null,null,null,null,null,1983,"Automovel-Diesel",9,1,163,"NOx",2.45857314951144]
[null,null,null,null,null,null,null,null,null,null,null,null,null,null,null,null,null,null,null,null,null,null,null,1984,"Automovel-Diesel",9,1,186,"NOx",2.45857314951144]
[null,null,null,null,null,null,null,null,null,null,null,null,null,null,null,null,null,null,null,null,null,null,null,1985,"Automovel-Diesel",9,1,157,"NOx",2.45857314951144]
[null,null,null,null,null,null,null,null,null,null,null,null,null,null,null,null,null,null,null,null,null,null,null,1986,"Automovel-Diesel",9,1,254,"NOx",2.45857314951144]
[null,null,null,null,null,null,null,null,null,null,null,null,null,null,null,null,null,null,null,null,null,null,null,1987,"Automovel-Diesel",9,1,196,"NOx",2.45857314951144]
[null,null,null,null,null,null,null,null,null,null,null,null,null,null,null,null,null,null,null,null,null,null,null,1988,"Automovel-Diesel",9,1,274,"NOx",2.45857314951144]
[null,null,null,null,null,null,null,null,null,null,null,null,null,null,null,null,null,null,null,null,null,null,null,1989,"Automovel-Diesel",9,1,390,"NOx",2.45857314951144]
[null,null,null,null,null,null,null,null,null,null,null,null,null,null,null,null,null,null,null,null,null,null,null,1990,"Automovel-Diesel",9,1,341,"NOx",2.45857314951144]
[null,null,null,null,null,null,null,null,null,null,null,null,null,null,null,null,null,null,null,null,null,null,null,1991,"Automovel-Diesel",9,1,271,"NOx",2.45857314951144]
[null,null,null,null,null,null,null,null,null,null,null,null,null,null,null,null,null,null,null,null,null,null,null,1992,"Automovel-Diesel",9,1,289,"NOx",2.45857314951144]
[null,null,null,null,null,null,null,null,null,null,null,null,null,null,null,null,null,null,null,null,null,null,null,1993,"Automovel-Diesel",9,1,359,"NOx",2.45857314951144]
[null,null,null,null,null,null,null,null,null,null,null,null,null,null,null,null,null,null,null,null,null,null,null,1994,"Automovel-Diesel",9,1,491,"NOx",2.45857314951144]
[null,null,null,null,null,null,null,null,null,null,null,null,null,null,null,null,null,null,null,null,null,null,null,1995,"Automovel-Diesel",9,1,553,"NOx",2.45857314951144]
[null,null,null,null,null,null,null,null,null,null,null,null,null,null,null,null,null,null,null,null,null,null,null,1996,"Automovel-Diesel",9,1,209,"NOx",2.45857314951144]
[null,null,null,null,null,null,null,null,null,null,null,null,null,null,null,null,null,null,null,null,null,null,null,1997,"Automovel-Diesel",9,1,299,"NOx",2.45857314951144]
[null,null,null,null,null,null,null,null,null,null,null,null,null,null,null,null,null,null,null,null,null,null,null,1998,"Automovel-Diesel",9,1,409,"NOx",2.45857314951144]
[null,null,null,null,null,null,null,null,null,null,null,null,null,null,null,null,null,null,null,null,null,null,null,1999,"Automovel-Diesel",9,1,344,"NOx",2.45857314951144]
[null,null,null,null,null,null,null,null,null,null,null,null,null,null,null,null,null,null,null,null,null,null,null,2000,"Automovel-Diesel",9,1,529,"NOx",2.4904074519225001]
[null,null,null,null,null,null,null,null,null,null,null,null,null,null,null,null,null,null,null,null,null,null,null,2001,"Automovel-Diesel",9,1,894,"NOx",2.4914370179377499]
[null,null,null,null,null,null,null,null,null,null,null,null,null,null,null,null,null,null,null,null,null,null,null,2002,"Automovel-Diesel",9,1,532,"NOx",2.5155495313222498]
[null,null,null,null,null,null,null,null,null,null,null,null,null,null,null,null,null,null,null,null,null,null,null,2003,"Automovel-Diesel",9,1,522,"NOx",2.4285905501271499]
[null,null,null,null,null,null,null,null,null,null,null,null,null,null,null,null,null,null,null,null,null,null,null,2004,"Automovel-Diesel",9,1,700,"NOx",2.0260292969421498]
[null,null,null,null,null,null,null,null,null,null,null,null,null,null,null,null,null,null,null,null,null,null,null,2005,"Automovel-Diesel",9,1,776,"NOx",2.0175233752368]
[null,null,null,null,null,null,null,null,null,null,null,null,null,null,null,null,null,null,null,null,null,null,null,2006,"Automovel-Diesel",9,1,1095,"NOx",2.2539387563805899]
[null,null,null,null,null,null,null,null,null,null,null,null,null,null,null,null,null,null,null,null,null,null,null,2007,"Automovel-Diesel",9,1,1000,"NOx",1.8269]
[null,null,null,null,null,null,null,null,null,null,null,null,null,null,null,null,null,null,null,null,null,null,null,2008,"Automovel-Diesel",9,1,1612,"NOx",1.7377568818257201]
[null,null,null,null,null,null,null,null,null,null,null,null,null,null,null,null,null,null,null,null,null,null,null,2009,"Automovel-Diesel",9,1,1582,"NOx",1.66022940250716]
[null,null,null,null,null,null,null,null,null,null,null,null,null,null,null,null,null,null,null,null,null,null,null,2010,"Automovel-Diesel",9,1,1717,"NOx",1.9551977674928001]
[null,null,null,null,null,null,null,null,null,null,null,null,null,null,null,null,null,null,null,null,null,null,null,2011,"Automovel-Diesel",9,1,2451,"NOx",1.4635729474439501]
[null,null,null,null,null,null,null,null,null,null,null,null,null,null,null,null,null,null,null,null,null,null,null,2012,"Automovel-Diesel",9,1,2546,"NOx",1.4635729474439501]
[null,null,null,null,null,null,null,null,null,null,null,null,null,null,null,null,null,null,null,null,null,null,null,2013,"Automovel-Diesel",9,1,3295,"NOx",1.4635729474439501]
[null,null,null,null,null,null,null,null,null,null,null,null,null,null,null,null,null,null,null,null,null,null,null,2014,"Automovel-Diesel",9,1,2466,"NOx",1.4635729474439501]
[null,null,null,null,null,null,null,null,null,null,null,null,null,null,null,null,null,null,null,null,null,null,null,2015,"Automovel-Diesel",9,1,2216,"NOx",1.4635729474439501]
[null,null,null,null,null,null,null,null,null,null,null,null,null,null,null,null,null,null,null,null,null,null,null,2016,"Automovel-Diesel",9,1,1862,"NOx",1.4635729474439501]
[null,null,null,null,null,null,null,null,null,null,null,null,null,null,null,null,null,null,null,null,null,null,null,2017,"Automovel-Diesel",9,1,2583,"NOx",1.4635729474439501]
[null,null,null,null,null,null,null,null,null,null,null,null,null,null,null,null,null,null,null,null,null,null,null,2018,"Automovel-Diesel",9,1,3654,"NOx",1.4635729474439501]
[null,null,null,null,null,null,null,null,null,null,null,null,null,null,null,null,null,null,null,null,null,null,null,2019,"Automovel-Diesel",9,1,5965,"NOx",1.4635729474439501]
[null,null,null,null,null,null,null,null,null,null,null,null,null,null,null,null,null,null,null,null,null,null,null,2020,"Automovel-Diesel",9,1,7280,"NOx",1.4635729474439501]
[null,null,null,null,null,null,null,null,null,null,null,null,null,null,null,null,null,null,null,null,null,null,null,2021,"Automovel-Diesel",9,1,10740,"NOx",1.4635729474439501]
[null,null,null,null,null,null,null,null,null,null,null,null,null,null,null,null,null,null,null,null,null,null,null,2022,"Automovel-Diesel",9,1,20006,"NOx",3.4000000000000002E-2]
[null,null,null,null,null,null,null,null,null,null,null,null,null,null,null,null,null,null,null,null,null,null,null,1983,"Onibus",1,3,26,"MP",1.071]
[null,null,null,null,null,null,null,null,null,null,null,null,null,null,null,null,null,null,null,null,null,null,null,1984,"Onibus",1,3,27,"MP",1.071]
[null,null,null,null,null,null,null,null,null,null,null,null,null,null,null,null,null,null,null,null,null,null,null,1985,"Onibus",1,3,30,"MP",1.071]
[null,null,null,null,null,null,null,null,null,null,null,null,null,null,null,null,null,null,null,null,null,null,null,1986,"Onibus",1,3,58,"MP",1.071]
[null,null,null,null,null,null,null,null,null,null,null,null,null,null,null,null,null,null,null,null,null,null,null,1987,"Onibus",1,3,57,"MP",1.071]
[null,null,null,null,null,null,null,null,null,null,null,null,null,null,null,null,null,null,null,null,null,null,null,1988,"Onibus",1,3,67,"MP",1.071]
[null,null,null,null,null,null,null,null,null,null,null,null,null,null,null,null,null,null,null,null,null,null,null,1989,"Onibus",1,3,81,"MP",1.071]
[null,null,null,null,null,null,null,null,null,null,null,null,null,null,null,null,null,null,null,null,null,null,null,1990,"Onibus",1,3,54,"MP",1.071]
[null,null,null,null,null,null,null,null,null,null,null,null,null,null,null,null,null,null,null,null,null,null,null,1991,"Onibus",1,3,50,"MP",1.071]
[null,null,null,null,null,null,null,null,null,null,null,null,null,null,null,null,null,null,null,null,null,null,null,1992,"Onibus",1,3,97,"MP",1.071]
[null,null,null,null,null,null,null,null,null,null,null,null,null,null,null,null,null,null,null,null,null,null,null,1993,"Onibus",1,3,71,"MP",1.071]
[null,null,null,null,null,null,null,null,null,null,null,null,null,null,null,null,null,null,null,null,null,null,null,1994,"Onibus",1,3,49,"MP",1.071]
[null,null,null,null,null,null,null,null,null,null,null,null,null,null,null,null,null,null,null,null,null,null,null,1995,"Onibus",1,3,86,"MP",1.071]
[null,null,null,null,null,null,null,null,null,null,null,null,null,null,null,null,null,null,null,null,null,null,null,1996,"Onibus",1,3,101,"MP",1.071]
[null,null,null,null,null,null,null,null,null,null,null,null,null,null,null,null,null,null,null,null,null,null,null,1997,"Onibus",1,3,89,"MP",1.071]
[null,null,null,null,null,null,null,null,null,null,null,null,null,null,null,null,null,null,null,null,null,null,null,1998,"Onibus",1,3,97,"MP",1.071]
[null,null,null,null,null,null,null,null,null,null,null,null,null,null,null,null,null,null,null,null,null,null,null,1999,"Onibus",1,3,139,"MP",1.071]
[null,null,null,null,null,null,null,null,null,null,null,null,null,null,null,null,null,null,null,null,null,null,null,2000,"Onibus",1,3,77,"MP",0.53300000000000003]
[null,null,null,null,null,null,null,null,null,null,null,null,null,null,null,null,null,null,null,null,null,null,null,2001,"Onibus",1,3,156,"MP",0.53300000000000003]
[null,null,null,null,null,null,null,null,null,null,null,null,null,null,null,null,null,null,null,null,null,null,null,2002,"Onibus",1,3,91,"MP",0.20899999999999999]
[null,null,null,null,null,null,null,null,null,null,null,null,null,null,null,null,null,null,null,null,null,null,null,2003,"Onibus",1,3,103,"MP",0.20899999999999999]
[null,null,null,null,null,null,null,null,null,null,null,null,null,null,null,null,null,null,null,null,null,null,null,2004,"Onibus",1,3,131,"MP",0.16600000000000001]
[null,null,null,null,null,null,null,null,null,null,null,null,null,null,null,null,null,null,null,null,null,null,null,2005,"Onibus",1,3,96,"MP",0.16600000000000001]
[null,null,null,null,null,null,null,null,null,null,null,null,null,null,null,null,null,null,null,null,null,null,null,2006,"Onibus",1,3,156,"MP",0.16300000000000001]
[null,null,null,null,null,null,null,null,null,null,null,null,null,null,null,null,null,null,null,null,null,null,null,2007,"Onibus",1,3,212,"MP",0.16300000000000001]
[null,null,null,null,null,null,null,null,null,null,null,null,null,null,null,null,null,null,null,null,null,null,null,2008,"Onibus",1,3,332,"MP",0.16]
[null,null,null,null,null,null,null,null,null,null,null,null,null,null,null,null,null,null,null,null,null,null,null,2009,"Onibus",1,3,187,"MP",0.14699999999999999]
[null,null,null,null,null,null,null,null,null,null,null,null,null,null,null,null,null,null,null,null,null,null,null,2010,"Onibus",1,3,303,"MP",0.152]
[null,null,null,null,null,null,null,null,null,null,null,null,null,null,null,null,null,null,null,null,null,null,null,2011,"Onibus",1,3,420,"MP",0.152]
[null,null,null,null,null,null,null,null,null,null,null,null,null,null,null,null,null,null,null,null,null,null,null,2012,"Onibus",1,3,472,"MP",2.1000000000000001E-2]
[null,null,null,null,null,null,null,null,null,null,null,null,null,null,null,null,null,null,null,null,null,null,null,2013,"Onibus",1,3,394,"MP",2.1000000000000001E-2]
[null,null,null,null,null,null,null,null,null,null,null,null,null,null,null,null,null,null,null,null,null,null,null,2014,"Onibus",1,3,799,"MP",2.1000000000000001E-2]
[null,null,null,null,null,null,null,null,null,null,null,null,null,null,null,null,null,null,null,null,null,null,null,2015,"Onibus",1,3,209,"MP",2.1000000000000001E-2]
[null,null,null,null,null,null,null,null,null,null,null,null,null,null,null,null,null,null,null,null,null,null,null,2016,"Onibus",1,3,272,"MP",2.0964051181738601E-2]
[null,null,null,null,null,null,null,null,null,null,null,null,null,null,null,null,null,null,null,null,null,null,null,2017,"Onibus",1,3,281,"MP",2.1428279730067199E-2]
[null,null,null,null,null,null,null,null,null,null,null,null,null,null,null,null,null,null,null,null,null,null,null,2018,"Onibus",1,3,188,"MP",2.15593965277836E-2]
[null,null,null,null,null,null,null,null,null,null,null,null,null,null,null,null,null,null,null,null,null,null,null,2019,"Onibus",1,3,363,"MP",2.3382147677525101E-2]
[null,null,null,null,null,null,null,null,null,null,null,null,null,null,null,null,null,null,null,null,null,null,null,2020,"Onibus",1,3,561,"MP",2.3596447699795901E-2]
[null,null,null,null,null,null,null,null,null,null,null,null,null,null,null,null,null,null,null,null,null,null,null,2021,"Onibus",1,3,175,"MP",2.4662222555546499E-2]
[null,null,null,null,null,null,null,null,null,null,null,null,null,null,null,null,null,null,null,null,null,null,null,2022,"Onibus",1,3,239,"MP",2.7501697801625799E-2]
[null,null,null,null,null,null,null,null,null,null,null,null,null,null,null,null,null,null,null,null,null,null,null,1983,"Microonibus",2,3,0,"MP",1.071]
[null,null,null,null,null,null,null,null,null,null,null,null,null,null,null,null,null,null,null,null,null,null,null,1984,"Microonibus",2,3,1,"MP",1.071]
[null,null,null,null,null,null,null,null,null,null,null,null,null,null,null,null,null,null,null,null,null,null,null,1985,"Microonibus",2,3,1,"MP",1.071]
[null,null,null,null,null,null,null,null,null,null,null,null,null,null,null,null,null,null,null,null,null,null,null,1986,"Microonibus",2,3,4,"MP",1.071]
[null,null,null,null,null,null,null,null,null,null,null,null,null,null,null,null,null,null,null,null,null,null,null,1987,"Microonibus",2,3,3,"MP",1.071]
[null,null,null,null,null,null,null,null,null,null,null,null,null,null,null,null,null,null,null,null,null,null,null,1988,"Microonibus",2,3,3,"MP",1.071]
[null,null,null,null,null,null,null,null,null,null,null,null,null,null,null,null,null,null,null,null,null,null,null,1989,"Microonibus",2,3,0,"MP",1.071]
[null,null,null,null,null,null,null,null,null,null,null,null,null,null,null,null,null,null,null,null,null,null,null,1990,"Microonibus",2,3,6,"MP",1.071]
[null,null,null,null,null,null,null,null,null,null,null,null,null,null,null,null,null,null,null,null,null,null,null,1991,"Microonibus",2,3,3,"MP",1.071]
[null,null,null,null,null,null,null,null,null,null,null,null,null,null,null,null,null,null,null,null,null,null,null,1992,"Microonibus",2,3,0,"MP",1.071]
[null,null,null,null,null,null,null,null,null,null,null,null,null,null,null,null,null,null,null,null,null,null,null,1993,"Microonibus",2,3,10,"MP",1.071]
[null,null,null,null,null,null,null,null,null,null,null,null,null,null,null,null,null,null,null,null,null,null,null,1994,"Microonibus",2,3,28,"MP",1.071]
[null,null,null,null,null,null,null,null,null,null,null,null,null,null,null,null,null,null,null,null,null,null,null,1995,"Microonibus",2,3,103,"MP",1.071]
[null,null,null,null,null,null,null,null,null,null,null,null,null,null,null,null,null,null,null,null,null,null,null,1996,"Microonibus",2,3,37,"MP",1.071]
[null,null,null,null,null,null,null,null,null,null,null,null,null,null,null,null,null,null,null,null,null,null,null,1997,"Microonibus",2,3,218,"MP",1.071]
[null,null,null,null,null,null,null,null,null,null,null,null,null,null,null,null,null,null,null,null,null,null,null,1998,"Microonibus",2,3,159,"MP",1.071]
[null,null,null,null,null,null,null,null,null,null,null,null,null,null,null,null,null,null,null,null,null,null,null,1999,"Microonibus",2,3,124,"MP",1.071]
[null,null,null,null,null,null,null,null,null,null,null,null,null,null,null,null,null,null,null,null,null,null,null,2000,"Microonibus",2,3,138,"MP",0.53300000000000003]
[null,null,null,null,null,null,null,null,null,null,null,null,null,null,null,null,null,null,null,null,null,null,null,2001,"Microonibus",2,3,208,"MP",0.53300000000000003]
[null,null,null,null,null,null,null,null,null,null,null,null,null,null,null,null,null,null,null,null,null,null,null,2002,"Microonibus",2,3,45,"MP",0.20899999999999999]
[null,null,null,null,null,null,null,null,null,null,null,null,null,null,null,null,null,null,null,null,null,null,null,2003,"Microonibus",2,3,57,"MP",0.20899999999999999]
[null,null,null,null,null,null,null,null,null,null,null,null,null,null,null,null,null,null,null,null,null,null,null,2004,"Microonibus",2,3,84,"MP",0.16600000000000001]
[null,null,null,null,null,null,null,null,null,null,null,null,null,null,null,null,null,null,null,null,null,null,null,2005,"Microonibus",2,3,77,"MP",0.16600000000000001]
[null,null,null,null,null,null,null,null,null,null,null,null,null,null,null,null,null,null,null,null,null,null,null,2006,"Microonibus",2,3,125,"MP",0.10990451015043699]
[null,null,null,null,null,null,null,null,null,null,null,null,null,null,null,null,null,null,null,null,null,null,null,2007,"Microonibus",2,3,157,"MP",0.10990451015043699]
[null,null,null,null,null,null,null,null,null,null,null,null,null,null,null,null,null,null,null,null,null,null,null,2008,"Microonibus",2,3,267,"MP",8.534487698722E-2]
[null,null,null,null,null,null,null,null,null,null,null,null,null,null,null,null,null,null,null,null,null,null,null,2009,"Microonibus",2,3,234,"MP",8.1344127440099195E-2]
[null,null,null,null,null,null,null,null,null,null,null,null,null,null,null,null,null,null,null,null,null,null,null,2010,"Microonibus",2,3,148,"MP",8.1770399894879706E-2]
[null,null,null,null,null,null,null,null,null,null,null,null,null,null,null,null,null,null,null,null,null,null,null,2011,"Microonibus",2,3,408,"MP",9.4265736725622995E-2]
[null,null,null,null,null,null,null,null,null,null,null,null,null,null,null,null,null,null,null,null,null,null,null,2012,"Microonibus",2,3,369,"MP",1.64783417868898E-2]
[null,null,null,null,null,null,null,null,null,null,null,null,null,null,null,null,null,null,null,null,null,null,null,2013,"Microonibus",2,3,391,"MP",1.13148147816122E-2]
[null,null,null,null,null,null,null,null,null,null,null,null,null,null,null,null,null,null,null,null,null,null,null,2014,"Microonibus",2,3,473,"MP",1.13148147816122E-2]
[null,null,null,null,null,null,null,null,null,null,null,null,null,null,null,null,null,null,null,null,null,null,null,2015,"Microonibus",2,3,187,"MP",1.13148147816122E-2]
[null,null,null,null,null,null,null,null,null,null,null,null,null,null,null,null,null,null,null,null,null,null,null,2016,"Microonibus",2,3,168,"MP",1.00881120267868E-2]
[null,null,null,null,null,null,null,null,null,null,null,null,null,null,null,null,null,null,null,null,null,null,null,2017,"Microonibus",2,3,93,"MP",8.1872894010093893E-3]
[null,null,null,null,null,null,null,null,null,null,null,null,null,null,null,null,null,null,null,null,null,null,null,2018,"Microonibus",2,3,173,"MP",8.0802453237561501E-3]
[null,null,null,null,null,null,null,null,null,null,null,null,null,null,null,null,null,null,null,null,null,null,null,2019,"Microonibus",2,3,272,"MP",8.4835772661414396E-3]
[null,null,null,null,null,null,null,null,null,null,null,null,null,null,null,null,null,null,null,null,null,null,null,2020,"Microonibus",2,3,238,"MP",8.5754050511185394E-3]
[null,null,null,null,null,null,null,null,null,null,null,null,null,null,null,null,null,null,null,null,null,null,null,2021,"Microonibus",2,3,412,"MP",7.4525873449955496E-3]
[null,null,null,null,null,null,null,null,null,null,null,null,null,null,null,null,null,null,null,null,null,null,null,2022,"Microonibus",2,3,470,"MP",9.88725893880011E-3]
[null,null,null,null,null,null,null,null,null,null,null,null,null,null,null,null,null,null,null,null,null,null,null,1983,"Caminhao",3,4,147,"MP",0.44400000000000001]
[null,null,null,null,null,null,null,null,null,null,null,null,null,null,null,null,null,null,null,null,null,null,null,1984,"Caminhao",3,4,159,"MP",0.44400000000000001]
[null,null,null,null,null,null,null,null,null,null,null,null,null,null,null,null,null,null,null,null,null,null,null,1985,"Caminhao",3,4,248,"MP",0.44400000000000001]
[null,null,null,null,null,null,null,null,null,null,null,null,null,null,null,null,null,null,null,null,null,null,null,1986,"Caminhao",3,4,444,"MP",0.44400000000000001]
[null,null,null,null,null,null,null,null,null,null,null,null,null,null,null,null,null,null,null,null,null,null,null,1987,"Caminhao",3,4,378,"MP",0.44400000000000001]
[null,null,null,null,null,null,null,null,null,null,null,null,null,null,null,null,null,null,null,null,null,null,null,1988,"Caminhao",3,4,302,"MP",0.44400000000000001]
[null,null,null,null,null,null,null,null,null,null,null,null,null,null,null,null,null,null,null,null,null,null,null,1989,"Caminhao",3,4,332,"MP",0.44400000000000001]
[null,null,null,null,null,null,null,null,null,null,null,null,null,null,null,null,null,null,null,null,null,null,null,1990,"Caminhao",3,4,316,"MP",0.44400000000000001]
[null,null,null,null,null,null,null,null,null,null,null,null,null,null,null,null,null,null,null,null,null,null,null,1991,"Caminhao",3,4,273,"MP",0.44400000000000001]
[null,null,null,null,null,null,null,null,null,null,null,null,null,null,null,null,null,null,null,null,null,null,null,1992,"Caminhao",3,4,258,"MP",0.44400000000000001]
[null,null,null,null,null,null,null,null,null,null,null,null,null,null,null,null,null,null,null,null,null,null,null,1993,"Caminhao",3,4,189,"MP",0.44400000000000001]
[null,null,null,null,null,null,null,null,null,null,null,null,null,null,null,null,null,null,null,null,null,null,null,1994,"Caminhao",3,4,327,"MP",0.44400000000000001]
[null,null,null,null,null,null,null,null,null,null,null,null,null,null,null,null,null,null,null,null,null,null,null,1995,"Caminhao",3,4,527,"MP",0.44400000000000001]
[null,null,null,null,null,null,null,null,null,null,null,null,null,null,null,null,null,null,null,null,null,null,null,1996,"Caminhao",3,4,321,"MP",0.44400000000000001]
[null,null,null,null,null,null,null,null,null,null,null,null,null,null,null,null,null,null,null,null,null,null,null,1997,"Caminhao",3,4,613,"MP",0.44400000000000001]
[null,null,null,null,null,null,null,null,null,null,null,null,null,null,null,null,null,null,null,null,null,null,null,1998,"Caminhao",3,4,641,"MP",0.44400000000000001]
[null,null,null,null,null,null,null,null,null,null,null,null,null,null,null,null,null,null,null,null,null,null,null,1999,"Caminhao",3,4,481,"MP",0.44400000000000001]
[null,null,null,null,null,null,null,null,null,null,null,null,null,null,null,null,null,null,null,null,null,null,null,2000,"Caminhao",3,4,489,"MP",0.221]
[null,null,null,null,null,null,null,null,null,null,null,null,null,null,null,null,null,null,null,null,null,null,null,2001,"Caminhao",3,4,620,"MP",0.221]
[null,null,null,null,null,null,null,null,null,null,null,null,null,null,null,null,null,null,null,null,null,null,null,2002,"Caminhao",3,4,509,"MP",8.5999999999999993E-2]
[null,null,null,null,null,null,null,null,null,null,null,null,null,null,null,null,null,null,null,null,null,null,null,2003,"Caminhao",3,4,456,"MP",8.5999999999999993E-2]
[null,null,null,null,null,null,null,null,null,null,null,null,null,null,null,null,null,null,null,null,null,null,null,2004,"Caminhao",3,4,686,"MP",6.9000000000000006E-2]
[null,null,null,null,null,null,null,null,null,null,null,null,null,null,null,null,null,null,null,null,null,null,null,2005,"Caminhao",3,4,824,"MP",6.9000000000000006E-2]
[null,null,null,null,null,null,null,null,null,null,null,null,null,null,null,null,null,null,null,null,null,null,null,2006,"Caminhao",3,4,852,"MP",6.0999999999999999E-2]
[null,null,null,null,null,null,null,null,null,null,null,null,null,null,null,null,null,null,null,null,null,null,null,2007,"Caminhao",3,4,738,"MP",6.0999999999999999E-2]
[null,null,null,null,null,null,null,null,null,null,null,null,null,null,null,null,null,null,null,null,null,null,null,2008,"Caminhao",3,4,1217,"MP",5.3999999999999999E-2]
[null,null,null,null,null,null,null,null,null,null,null,null,null,null,null,null,null,null,null,null,null,null,null,2009,"Caminhao",3,4,1418,"MP",5.8000000000000003E-2]
[null,null,null,null,null,null,null,null,null,null,null,null,null,null,null,null,null,null,null,null,null,null,null,2010,"Caminhao",3,4,1874,"MP",5.0999999999999997E-2]
[null,null,null,null,null,null,null,null,null,null,null,null,null,null,null,null,null,null,null,null,null,null,null,2011,"Caminhao",3,4,2231,"MP",5.6000000000000001E-2]
[null,null,null,null,null,null,null,null,null,null,null,null,null,null,null,null,null,null,null,null,null,null,null,2012,"Caminhao",3,4,1796,"MP",7.0000000000000001E-3]
[null,null,null,null,null,null,null,null,null,null,null,null,null,null,null,null,null,null,null,null,null,null,null,2013,"Caminhao",3,4,2092,"MP",8.9999999999999993E-3]
[null,null,null,null,null,null,null,null,null,null,null,null,null,null,null,null,null,null,null,null,null,null,null,2014,"Caminhao",3,4,1273,"MP",8.9999999999999993E-3]
[null,null,null,null,null,null,null,null,null,null,null,null,null,null,null,null,null,null,null,null,null,null,null,2015,"Caminhao",3,4,717,"MP",8.9999999999999993E-3]
[null,null,null,null,null,null,null,null,null,null,null,null,null,null,null,null,null,null,null,null,null,null,null,2016,"Caminhao",3,4,570,"MP",8.8110993137877798E-3]
[null,null,null,null,null,null,null,null,null,null,null,null,null,null,null,null,null,null,null,null,null,null,null,2017,"Caminhao",3,4,299,"MP",7.57268782667823E-3]
[null,null,null,null,null,null,null,null,null,null,null,null,null,null,null,null,null,null,null,null,null,null,null,2018,"Caminhao",3,4,699,"MP",7.23030878237476E-3]
[null,null,null,null,null,null,null,null,null,null,null,null,null,null,null,null,null,null,null,null,null,null,null,2019,"Caminhao",3,4,1163,"MP",8.2380106283720701E-3]
[null,null,null,null,null,null,null,null,null,null,null,null,null,null,null,null,null,null,null,null,null,null,null,2020,"Caminhao",3,4,1472,"MP",8.4939036839067495E-3]
[null,null,null,null,null,null,null,null,null,null,null,null,null,null,null,null,null,null,null,null,null,null,null,2021,"Caminhao",3,4,2067,"MP",8.8920315517598998E-3]
[null,null,null,null,null,null,null,null,null,null,null,null,null,null,null,null,null,null,null,null,null,null,null,2022,"Caminhao",3,4,4601,"MP",8.3963774790420595E-3]
[null,null,null,null,null,null,null,null,null,null,null,null,null,null,null,null,null,null,null,null,null,null,null,1983,"Moto-Gasolina",false,2,969,"MP"]
[null,null,null,null,null,null,null,null,null,null,null,null,null,null,null,null,null,null,null,null,null,null,null,1984,"Moto-Gasolina",false,2,633,"MP"]
[null,null,null,null,null,null,null,null,null,null,null,null,null,null,null,null,null,null,null,null,null,null,null,1985,"Moto-Gasolina",false,2,473,"MP"]
[null,null,null,null,null,null,null,null,null,null,null,null,null,null,null,null,null,null,null,null,null,null,null,1986,"Moto-Gasolina",false,2,765,"MP"]
[null,null,null,null,null,null,null,null,null,null,null,null,null,null,null,null,null,null,null,null,null,null,null,1987,"Moto-Gasolina",false,2,883,"MP"]
[null,null,null,null,null,null,null,null,null,null,null,null,null,null,null,null,null,null,null,null,null,null,null,1988,"Moto-Gasolina",false,2,922,"MP"]
[null,null,null,null,null,null,null,null,null,null,null,null,null,null,null,null,null,null,null,null,null,null,null,1989,"Moto-Gasolina",false,2,702,"MP"]
[null,null,null,null,null,null,null,null,null,null,null,null,null,null,null,null,null,null,null,null,null,null,null,1990,"Moto-Gasolina",false,2,881,"MP"]
[null,null,null,null,null,null,null,null,null,null,null,null,null,null,null,null,null,null,null,null,null,null,null,1991,"Moto-Gasolina",false,2,631,"MP"]
[null,null,null,null,null,null,null,null,null,null,null,null,null,null,null,null,null,null,null,null,null,null,null,1992,"Moto-Gasolina",false,2,524,"MP"]
[null,null,null,null,null,null,null,null,null,null,null,null,null,null,null,null,null,null,null,null,null,null,null,1993,"Moto-Gasolina",false,2,316,"MP"]
[null,null,null,null,null,null,null,null,null,null,null,null,null,null,null,null,null,null,null,null,null,null,null,1994,"Moto-Gasolina",false,2,559,"MP"]
[null,null,null,null,null,null,null,null,null,null,null,null,null,null,null,null,null,null,null,null,null,null,null,1995,"Moto-Gasolina",false,2,1134,"MP"]
[null,null,null,null,null,null,null,null,null,null,null,null,null,null,null,null,null,null,null,null,null,null,null,1996,"Moto-Gasolina",false,2,1365,"MP"]
[null,null,null,null,null,null,null,null,null,null,null,null,null,null,null,null,null,null,null,null,null,null,null,1997,"Moto-Gasolina",false,2,2602,"MP"]
[null,null,null,null,null,null,null,null,null,null,null,null,null,null,null,null,null,null,null,null,null,null,null,1998,"Moto-Gasolina",false,2,2838,"MP"]
[null,null,null,null,null,null,null,null,null,null,null,null,null,null,null,null,null,null,null,null,null,null,null,1999,"Moto-Gasolina",false,2,2267,"MP"]
[null,null,null,null,null,null,null,null,null,null,null,null,null,null,null,null,null,null,null,null,null,null,null,2000,"Moto-Gasolina",false,2,3136,"MP"]
[null,null,null,null,null,null,null,null,null,null,null,null,null,null,null,null,null,null,null,null,null,null,null,2001,"Moto-Gasolina",false,2,3541,"MP"]
[null,null,null,null,null,null,null,null,null,null,null,null,null,null,null,null,null,null,null,null,null,null,null,2002,"Moto-Gasolina",false,2,4223,"MP"]
[null,null,null,null,null,null,null,null,null,null,null,null,null,null,null,null,null,null,null,null,null,null,null,2003,"Moto-Gasolina",false,2,5047,"MP"]
[null,null,null,null,null,null,null,null,null,null,null,null,null,null,null,null,null,null,null,null,null,null,null,2004,"Moto-Gasolina",false,2,4619,"MP"]
[null,null,null,null,null,null,null,null,null,null,null,null,null,null,null,null,null,null,null,null,null,null,null,2005,"Moto-Gasolina",false,2,6828,"MP"]
[null,null,null,null,null,null,null,null,null,null,null,null,null,null,null,null,null,null,null,null,null,null,null,2006,"Moto-Gasolina",false,2,7519,"MP"]
[null,null,null,null,null,null,null,null,null,null,null,null,null,null,null,null,null,null,null,null,null,null,null,2007,"Moto-Gasolina",false,2,12449,"MP"]
[null,null,null,null,null,null,null,null,null,null,null,null,null,null,null,null,null,null,null,null,null,null,null,2008,"Moto-Gasolina",false,2,22881,"MP"]
[null,null,null,null,null,null,null,null,null,null,null,null,null,null,null,null,null,null,null,null,null,null,null,2009,"Moto-Gasolina",false,2,7798,"MP"]
[null,null,null,null,null,null,null,null,null,null,null,null,null,null,null,null,null,null,null,null,null,null,null,2010,"Moto-Gasolina",false,2,12526,"MP"]
[null,null,null,null,null,null,null,null,null,null,null,null,null,null,null,null,null,null,null,null,null,null,null,2011,"Moto-Gasolina",false,2,10202,"MP"]
[null,null,null,null,null,null,null,null,null,null,null,null,null,null,null,null,null,null,null,null,null,null,null,2012,"Moto-Gasolina",false,2,9318,"MP"]
[null,null,null,null,null,null,null,null,null,null,null,null,null,null,null,null,null,null,null,null,null,null,null,2013,"Moto-Gasolina",false,2,5906,"MP"]
[null,null,null,null,null,null,null,null,null,null,null,null,null,null,null,null,null,null,null,null,null,null,null,2014,"Moto-Gasolina",false,2,5599,"MP"]
[null,null,null,null,null,null,null,null,null,null,null,null,null,null,null,null,null,null,null,null,null,null,null,2015,"Moto-Gasolina",false,2,4403,"MP"]
[null,null,null,null,null,null,null,null,null,null,null,null,null,null,null,null,null,null,null,null,null,null,null,2016,"Moto-Gasolina",false,2,2840,"MP"]
[null,null,null,null,null,null,null,null,null,null,null,null,null,null,null,null,null,null,null,null,null,null,null,2017,"Moto-Gasolina",false,2,3672,"MP"]
[null,null,null,null,null,null,null,null,null,null,null,null,null,null,null,null,null,null,null,null,null,null,null,2018,"Moto-Gasolina",false,2,4076,"MP"]
[null,null,null,null,null,null,null,null,null,null,null,null,null,null,null,null,null,null,null,null,null,null,null,2019,"Moto-Gasolina",false,2,4486,"MP"]
[null,null,null,null,null,null,null,null,null,null,null,null,null,null,null,null,null,null,null,null,null,null,null,2020,"Moto-Gasolina",false,2,3923,"MP"]
[null,null,null,null,null,null,null,null,null,null,null,null,null,null,null,null,null,null,null,null,null,null,null,2021,"Moto-Gasolina",false,2,4248,"MP"]
[null,null,null,null,null,null,null,null,null,null,null,null,null,null,null,null,null,null,null,null,null,null,null,2022,"Moto-Gasolina",false,2,6938,"MP"]
[null,null,null,null,null,null,null,null,null,null,null,null,null,null,null,null,null,null,null,null,null,null,null,2009,"Moto-Flex-G",false,2,269,"MP"]
[null,null,null,null,null,null,null,null,null,null,null,null,null,null,null,null,null,null,null,null,null,null,null,2010,"Moto-Flex-G",false,2,1279,"MP"]
[null,null,null,null,null,null,null,null,null,null,null,null,null,null,null,null,null,null,null,null,null,null,null,2011,"Moto-Flex-G",false,2,3075,"MP"]
[null,null,null,null,null,null,null,null,null,null,null,null,null,null,null,null,null,null,null,null,null,null,null,2012,"Moto-Flex-G",false,2,3586,"MP"]
[null,null,null,null,null,null,null,null,null,null,null,null,null,null,null,null,null,null,null,null,null,null,null,2013,"Moto-Flex-G",false,2,3425,"MP"]
[null,null,null,null,null,null,null,null,null,null,null,null,null,null,null,null,null,null,null,null,null,null,null,2014,"Moto-Flex-G",false,2,5354,"MP"]
[null,null,null,null,null,null,null,null,null,null,null,null,null,null,null,null,null,null,null,null,null,null,null,2015,"Moto-Flex-G",false,2,5829,"MP"]
[null,null,null,null,null,null,null,null,null,null,null,null,null,null,null,null,null,null,null,null,null,null,null,2016,"Moto-Flex-G",false,2,3761,"MP"]
[null,null,null,null,null,null,null,null,null,null,null,null,null,null,null,null,null,null,null,null,null,null,null,2017,"Moto-Flex-G",false,2,3521,"MP"]
[null,null,null,null,null,null,null,null,null,null,null,null,null,null,null,null,null,null,null,null,null,null,null,2018,"Moto-Flex-G",false,2,4611,"MP"]
[null,null,null,null,null,null,null,null,null,null,null,null,null,null,null,null,null,null,null,null,null,null,null,2019,"Moto-Flex-G",false,2,6248,"MP"]
[null,null,null,null,null,null,null,null,null,null,null,null,null,null,null,null,null,null,null,null,null,null,null,2020,"Moto-Flex-G",false,2,6023,"MP"]
[null,null,null,null,null,null,null,null,null,null,null,null,null,null,null,null,null,null,null,null,null,null,null,2021,"Moto-Flex-G",false,2,5385,"MP"]
[null,null,null,null,null,null,null,null,null,null,null,null,null,null,null,null,null,null,null,null,null,null,null,2022,"Moto-Flex-G",false,2,8265,"MP"]
[null,null,null,null,null,null,null,null,null,null,null,null,null,null,null,null,null,null,null,null,null,null,null,2009,"Moto-Flex-A",false,2,627,"MP"]
[null,null,null,null,null,null,null,null,null,null,null,null,null,null,null,null,null,null,null,null,null,null,null,2010,"Moto-Flex-A",false,2,1386,"MP"]
[null,null,null,null,null,null,null,null,null,null,null,null,null,null,null,null,null,null,null,null,null,null,null,2011,"Moto-Flex-A",false,2,1447,"MP"]
[null,null,null,null,null,null,null,null,null,null,null,null,null,null,null,null,null,null,null,null,null,null,null,2012,"Moto-Flex-A",false,2,1195,"MP"]
[null,null,null,null,null,null,null,null,null,null,null,null,null,null,null,null,null,null,null,null,null,null,null,2013,"Moto-Flex-A",false,2,1142,"MP"]
[null,null,null,null,null,null,null,null,null,null,null,null,null,null,null,null,null,null,null,null,null,null,null,2014,"Moto-Flex-A",false,2,1785,"MP"]
[null,null,null,null,null,null,null,null,null,null,null,null,null,null,null,null,null,null,null,null,null,null,null,2015,"Moto-Flex-A",false,2,1943,"MP"]
[null,null,null,null,null,null,null,null,null,null,null,null,null,null,null,null,null,null,null,null,null,null,null,2016,"Moto-Flex-A",false,2,1254,"MP"]
[null,null,null,null,null,null,null,null,null,null,null,null,null,null,null,null,null,null,null,null,null,null,null,2017,"Moto-Flex-A",false,2,1174,"MP"]
[null,null,null,null,null,null,null,null,null,null,null,null,null,null,null,null,null,null,null,null,null,null,null,2018,"Moto-Flex-A",false,2,1537,"MP"]
[null,null,null,null,null,null,null,null,null,null,null,null,null,null,null,null,null,null,null,null,null,null,null,2019,"Moto-Flex-A",false,2,2083,"MP"]
[null,null,null,null,null,null,null,null,null,null,null,null,null,null,null,null,null,null,null,null,null,null,null,2020,"Moto-Flex-A",false,2,2008,"MP"]
[null,null,null,null,null,null,null,null,null,null,null,null,null,null,null,null,null,null,null,null,null,null,null,2021,"Moto-Flex-A",false,2,1795,"MP"]
[null,null,null,null,null,null,null,null,null,null,null,null,null,null,null,null,null,null,null,null,null,null,null,2022,"Moto-Flex-A",false,2,2755,"MP"]
[null,null,null,null,null,null,null,null,null,null,null,null,null,null,null,null,null,null,null,null,null,null,null,1983,"Automovel-Gasolina",6,1,2057,"MP",2.3999999999999998E-3]
[null,null,null,null,null,null,null,null,null,null,null,null,null,null,null,null,null,null,null,null,null,null,null,1984,"Automovel-Gasolina",6,1,849,"MP",2.3999999999999998E-3]
[null,null,null,null,null,null,null,null,null,null,null,null,null,null,null,null,null,null,null,null,null,null,null,1985,"Automovel-Gasolina",6,1,816,"MP",2.3999999999999998E-3]
[null,null,null,null,null,null,null,null,null,null,null,null,null,null,null,null,null,null,null,null,null,null,null,1986,"Automovel-Gasolina",6,1,1406,"MP",2.3999999999999998E-3]
[null,null,null,null,null,null,null,null,null,null,null,null,null,null,null,null,null,null,null,null,null,null,null,1987,"Automovel-Gasolina",6,1,808,"MP",2.3999999999999998E-3]
[null,null,null,null,null,null,null,null,null,null,null,null,null,null,null,null,null,null,null,null,null,null,null,1988,"Automovel-Gasolina",6,1,1012,"MP",2.3999999999999998E-3]
[null,null,null,null,null,null,null,null,null,null,null,null,null,null,null,null,null,null,null,null,null,null,null,1989,"Automovel-Gasolina",6,1,3130,"MP",2.3999999999999998E-3]
[null,null,null,null,null,null,null,null,null,null,null,null,null,null,null,null,null,null,null,null,null,null,null,1990,"Automovel-Gasolina",6,1,5837,"MP",2.3999999999999998E-3]
[null,null,null,null,null,null,null,null,null,null,null,null,null,null,null,null,null,null,null,null,null,null,null,1991,"Automovel-Gasolina",6,1,6655,"MP",2.3999999999999998E-3]
[null,null,null,null,null,null,null,null,null,null,null,null,null,null,null,null,null,null,null,null,null,null,null,1992,"Automovel-Gasolina",6,1,5726,"MP",2.3999999999999998E-3]
[null,null,null,null,null,null,null,null,null,null,null,null,null,null,null,null,null,null,null,null,null,null,null,1993,"Automovel-Gasolina",6,1,8575,"MP",2.3999999999999998E-3]
[null,null,null,null,null,null,null,null,null,null,null,null,null,null,null,null,null,null,null,null,null,null,null,1994,"Automovel-Gasolina",6,1,11036,"MP",2.3999999999999998E-3]
[null,null,null,null,null,null,null,null,null,null,null,null,null,null,null,null,null,null,null,null,null,null,null,1995,"Automovel-Gasolina",6,1,18944,"MP",2.3999999999999998E-3]
[null,null,null,null,null,null,null,null,null,null,null,null,null,null,null,null,null,null,null,null,null,null,null,1996,"Automovel-Gasolina",6,1,17211,"MP",2.3999999999999998E-3]
[null,null,null,null,null,null,null,null,null,null,null,null,null,null,null,null,null,null,null,null,null,null,null,1997,"Automovel-Gasolina",6,1,19715,"MP",1.1000000000000001E-3]
[null,null,null,null,null,null,null,null,null,null,null,null,null,null,null,null,null,null,null,null,null,null,null,1998,"Automovel-Gasolina",6,1,16751,"MP",1.1000000000000001E-3]
[null,null,null,null,null,null,null,null,null,null,null,null,null,null,null,null,null,null,null,null,null,null,null,1999,"Automovel-Gasolina",6,1,15116,"MP",1.1000000000000001E-3]
[null,null,null,null,null,null,null,null,null,null,null,null,null,null,null,null,null,null,null,null,null,null,null,2000,"Automovel-Gasolina",6,1,15355,"MP",1.1000000000000001E-3]
[null,null,null,null,null,null,null,null,null,null,null,null,null,null,null,null,null,null,null,null,null,null,null,2001,"Automovel-Gasolina",6,1,18573,"MP",1.1000000000000001E-3]
[null,null,null,null,null,null,null,null,null,null,null,null,null,null,null,null,null,null,null,null,null,null,null,2002,"Automovel-Gasolina",6,1,14698,"MP",1.1000000000000001E-3]
[null,null,null,null,null,null,null,null,null,null,null,null,null,null,null,null,null,null,null,null,null,null,null,2003,"Automovel-Gasolina",6,1,16345,"MP",1.1000000000000001E-3]
[null,null,null,null,null,null,null,null,null,null,null,null,null,null,null,null,null,null,null,null,null,null,null,2004,"Automovel-Gasolina",6,1,13063,"MP",1.1000000000000001E-3]
[null,null,null,null,null,null,null,null,null,null,null,null,null,null,null,null,null,null,null,null,null,null,null,2005,"Automovel-Gasolina",6,1,11807,"MP",1.1000000000000001E-3]
[null,null,null,null,null,null,null,null,null,null,null,null,null,null,null,null,null,null,null,null,null,null,null,2006,"Automovel-Gasolina",6,1,5134,"MP",1.1000000000000001E-3]
[null,null,null,null,null,null,null,null,null,null,null,null,null,null,null,null,null,null,null,null,null,null,null,2007,"Automovel-Gasolina",6,1,6019,"MP",1.1000000000000001E-3]
[null,null,null,null,null,null,null,null,null,null,null,null,null,null,null,null,null,null,null,null,null,null,null,2008,"Automovel-Gasolina",6,1,5907,"MP",1.1000000000000001E-3]
[null,null,null,null,null,null,null,null,null,null,null,null,null,null,null,null,null,null,null,null,null,null,null,2009,"Automovel-Gasolina",6,1,3888,"MP",1.1000000000000001E-3]
[null,null,null,null,null,null,null,null,null,null,null,null,null,null,null,null,null,null,null,null,null,null,null,2010,"Automovel-Gasolina",6,1,5853,"MP",1.1000000000000001E-3]
[null,null,null,null,null,null,null,null,null,null,null,null,null,null,null,null,null,null,null,null,null,null,null,2011,"Automovel-Gasolina",6,1,7341,"MP",1.1000000000000001E-3]
[null,null,null,null,null,null,null,null,null,null,null,null,null,null,null,null,null,null,null,null,null,null,null,2012,"Automovel-Gasolina",6,1,9155,"MP",1.1000000000000001E-3]
[null,null,null,null,null,null,null,null,null,null,null,null,null,null,null,null,null,null,null,null,null,null,null,2013,"Automovel-Gasolina",6,1,4837,"MP",1.1000000000000001E-3]
[null,null,null,null,null,null,null,null,null,null,null,null,null,null,null,null,null,null,null,null,null,null,null,2014,"Automovel-Gasolina",6,1,5336,"MP",1.1000000000000001E-3]
[null,null,null,null,null,null,null,null,null,null,null,null,null,null,null,null,null,null,null,null,null,null,null,2015,"Automovel-Gasolina",6,1,4590,"MP",1.1000000000000001E-3]
[null,null,null,null,null,null,null,null,null,null,null,null,null,null,null,null,null,null,null,null,null,null,null,2016,"Automovel-Gasolina",6,1,3165,"MP",1.1000000000000001E-3]
[null,null,null,null,null,null,null,null,null,null,null,null,null,null,null,null,null,null,null,null,null,null,null,2017,"Automovel-Gasolina",6,1,1866,"MP",1.1000000000000001E-3]
[null,null,null,null,null,null,null,null,null,null,null,null,null,null,null,null,null,null,null,null,null,null,null,2018,"Automovel-Gasolina",6,1,2561,"MP",1.1000000000000001E-3]
[null,null,null,null,null,null,null,null,null,null,null,null,null,null,null,null,null,null,null,null,null,null,null,2019,"Automovel-Gasolina",6,1,2561,"MP",1.1000000000000001E-3]
[null,null,null,null,null,null,null,null,null,null,null,null,null,null,null,null,null,null,null,null,null,null,null,2020,"Automovel-Gasolina",6,1,2925,"MP",1.1000000000000001E-3]
[null,null,null,null,null,null,null,null,null,null,null,null,null,null,null,null,null,null,null,null,null,null,null,2021,"Automovel-Gasolina",6,1,1564,"MP",1.1000000000000001E-3]
[null,null,null,null,null,null,null,null,null,null,null,null,null,null,null,null,null,null,null,null,null,null,null,2022,"Automovel-Gasolina",6,1,2879,"MP",1.1000000000000001E-3]
[null,null,null,null,null,null,null,null,null,null,null,null,null,null,null,null,null,null,null,null,null,null,null,1983,"Automovel-Alcool",7,1,2904,"MP"]
[null,null,null,null,null,null,null,null,null,null,null,null,null,null,null,null,null,null,null,null,null,null,null,1984,"Automovel-Alcool",7,1,3281,"MP"]
[null,null,null,null,null,null,null,null,null,null,null,null,null,null,null,null,null,null,null,null,null,null,null,1985,"Automovel-Alcool",7,1,3376,"MP"]
[null,null,null,null,null,null,null,null,null,null,null,null,null,null,null,null,null,null,null,null,null,null,null,1986,"Automovel-Alcool",7,1,5821,"MP"]
[null,null,null,null,null,null,null,null,null,null,null,null,null,null,null,null,null,null,null,null,null,null,null,1987,"Automovel-Alcool",7,1,3387,"MP"]
[null,null,null,null,null,null,null,null,null,null,null,null,null,null,null,null,null,null,null,null,null,null,null,1988,"Automovel-Alcool",7,1,4326,"MP"]
[null,null,null,null,null,null,null,null,null,null,null,null,null,null,null,null,null,null,null,null,null,null,null,1989,"Automovel-Alcool",7,1,4395,"MP"]
[null,null,null,null,null,null,null,null,null,null,null,null,null,null,null,null,null,null,null,null,null,null,null,1990,"Automovel-Alcool",7,1,988,"MP"]
[null,null,null,null,null,null,null,null,null,null,null,null,null,null,null,null,null,null,null,null,null,null,null,1991,"Automovel-Alcool",7,1,838,"MP"]
[null,null,null,null,null,null,null,null,null,null,null,null,null,null,null,null,null,null,null,null,null,null,null,1992,"Automovel-Alcool",7,1,1103,"MP"]
[null,null,null,null,null,null,null,null,null,null,null,null,null,null,null,null,null,null,null,null,null,null,null,1993,"Automovel-Alcool",7,1,1489,"MP"]
[null,null,null,null,null,null,null,null,null,null,null,null,null,null,null,null,null,null,null,null,null,null,null,1994,"Automovel-Alcool",7,1,1343,"MP"]
[null,null,null,null,null,null,null,null,null,null,null,null,null,null,null,null,null,null,null,null,null,null,null,1995,"Automovel-Alcool",7,1,344,"MP"]
[null,null,null,null,null,null,null,null,null,null,null,null,null,null,null,null,null,null,null,null,null,null,null,1996,"Automovel-Alcool",7,1,51,"MP"]
[null,null,null,null,null,null,null,null,null,null,null,null,null,null,null,null,null,null,null,null,null,null,null,1997,"Automovel-Alcool",7,1,12,"MP"]
[null,null,null,null,null,null,null,null,null,null,null,null,null,null,null,null,null,null,null,null,null,null,null,1998,"Automovel-Alcool",7,1,7,"MP"]
[null,null,null,null,null,null,null,null,null,null,null,null,null,null,null,null,null,null,null,null,null,null,null,1999,"Automovel-Alcool",7,1,14,"MP"]
[null,null,null,null,null,null,null,null,null,null,null,null,null,null,null,null,null,null,null,null,null,null,null,2000,"Automovel-Alcool",7,1,73,"MP"]
[null,null,null,null,null,null,null,null,null,null,null,null,null,null,null,null,null,null,null,null,null,null,null,2001,"Automovel-Alcool",7,1,85,"MP"]
[null,null,null,null,null,null,null,null,null,null,null,null,null,null,null,null,null,null,null,null,null,null,null,2002,"Automovel-Alcool",7,1,147,"MP"]
[null,null,null,null,null,null,null,null,null,null,null,null,null,null,null,null,null,null,null,null,null,null,null,2003,"Automovel-Alcool",7,1,198,"MP"]
[null,null,null,null,null,null,null,null,null,null,null,null,null,null,null,null,null,null,null,null,null,null,null,2004,"Automovel-Alcool",7,1,83,"MP"]
[null,null,null,null,null,null,null,null,null,null,null,null,null,null,null,null,null,null,null,null,null,null,null,2005,"Automovel-Alcool",7,1,85,"MP"]
[null,null,null,null,null,null,null,null,null,null,null,null,null,null,null,null,null,null,null,null,null,null,null,2006,"Automovel-Alcool",7,1,77,"MP"]
[null,null,null,null,null,null,null,null,null,null,null,null,null,null,null,null,null,null,null,null,null,null,null,2007,"Automovel-Alcool",7,1,190,"MP"]
[null,null,null,null,null,null,null,null,null,null,null,null,null,null,null,null,null,null,null,null,null,null,null,2008,"Automovel-Alcool",7,1,254,"MP"]
[null,null,null,null,null,null,null,null,null,null,null,null,null,null,null,null,null,null,null,null,null,null,null,2009,"Automovel-Alcool",7,1,134,"MP"]
[null,null,null,null,null,null,null,null,null,null,null,null,null,null,null,null,null,null,null,null,null,null,null,2010,"Automovel-Alcool",7,1,197,"MP"]
[null,null,null,null,null,null,null,null,null,null,null,null,null,null,null,null,null,null,null,null,null,null,null,2011,"Automovel-Alcool",7,1,242,"MP"]
[null,null,null,null,null,null,null,null,null,null,null,null,null,null,null,null,null,null,null,null,null,null,null,2012,"Automovel-Alcool",7,1,392,"MP"]
[null,null,null,null,null,null,null,null,null,null,null,null,null,null,null,null,null,null,null,null,null,null,null,2013,"Automovel-Alcool",7,1,492,"MP"]
[null,null,null,null,null,null,null,null,null,null,null,null,null,null,null,null,null,null,null,null,null,null,null,2014,"Automovel-Alcool",7,1,461,"MP"]
[null,null,null,null,null,null,null,null,null,null,null,null,null,null,null,null,null,null,null,null,null,null,null,2015,"Automovel-Alcool",7,1,519,"MP"]
[null,null,null,null,null,null,null,null,null,null,null,null,null,null,null,null,null,null,null,null,null,null,null,2016,"Automovel-Alcool",7,1,449,"MP"]
[null,null,null,null,null,null,null,null,null,null,null,null,null,null,null,null,null,null,null,null,null,null,null,2017,"Automovel-Alcool",7,1,275,"MP"]
[null,null,null,null,null,null,null,null,null,null,null,null,null,null,null,null,null,null,null,null,null,null,null,2018,"Automovel-Alcool",7,1,494,"MP"]
[null,null,null,null,null,null,null,null,null,null,null,null,null,null,null,null,null,null,null,null,null,null,null,2019,"Automovel-Alcool",7,1,361,"MP"]
[null,null,null,null,null,null,null,null,null,null,null,null,null,null,null,null,null,null,null,null,null,null,null,2020,"Automovel-Alcool",7,1,510,"MP"]
[null,null,null,null,null,null,null,null,null,null,null,null,null,null,null,null,null,null,null,null,null,null,null,2021,"Automovel-Alcool",7,1,150,"MP"]
[null,null,null,null,null,null,null,null,null,null,null,null,null,null,null,null,null,null,null,null,null,null,null,2022,"Automovel-Alcool",7,1,232,"MP"]
[null,null,null,null,null,null,null,null,null,null,null,null,null,null,null,null,null,null,null,null,null,null,null,2003,"Automovel-Flex-G",false,1,11,"MP",1.1000000000000001E-3]
[null,null,null,null,null,null,null,null,null,null,null,null,null,null,null,null,null,null,null,null,null,null,null,2004,"Automovel-Flex-G",false,1,0,"MP",1.1000000000000001E-3]
[null,null,null,null,null,null,null,null,null,null,null,null,null,null,null,null,null,null,null,null,null,null,null,2005,"Automovel-Flex-G",false,1,0,"MP",1.1000000000000001E-3]
[null,null,null,null,null,null,null,null,null,null,null,null,null,null,null,null,null,null,null,null,null,null,null,2006,"Automovel-Flex-G",false,1,1283,"MP",1.1000000000000001E-3]
[null,null,null,null,null,null,null,null,null,null,null,null,null,null,null,null,null,null,null,null,null,null,null,2007,"Automovel-Flex-G",false,1,3355,"MP",1.1000000000000001E-3]
[null,null,null,null,null,null,null,null,null,null,null,null,null,null,null,null,null,null,null,null,null,null,null,2008,"Automovel-Flex-G",false,1,7217,"MP",1.1000000000000001E-3]
[null,null,null,null,null,null,null,null,null,null,null,null,null,null,null,null,null,null,null,null,null,null,null,2009,"Automovel-Flex-G",false,1,9731,"MP",1.1000000000000001E-3]
[null,null,null,null,null,null,null,null,null,null,null,null,null,null,null,null,null,null,null,null,null,null,null,2010,"Automovel-Flex-G",false,1,22085,"MP",1.1000000000000001E-3]
[null,null,null,null,null,null,null,null,null,null,null,null,null,null,null,null,null,null,null,null,null,null,null,2011,"Automovel-Flex-G",false,1,32974,"MP",1.1000000000000001E-3]
[null,null,null,null,null,null,null,null,null,null,null,null,null,null,null,null,null,null,null,null,null,null,null,2012,"Automovel-Flex-G",false,1,38500,"MP",1.1000000000000001E-3]
[null,null,null,null,null,null,null,null,null,null,null,null,null,null,null,null,null,null,null,null,null,null,null,2013,"Automovel-Flex-G",false,1,48092,"MP",1.1000000000000001E-3]
[null,null,null,null,null,null,null,null,null,null,null,null,null,null,null,null,null,null,null,null,null,null,null,2014,"Automovel-Flex-G",false,1,41738,"MP",1.1000000000000001E-3]
[null,null,null,null,null,null,null,null,null,null,null,null,null,null,null,null,null,null,null,null,null,null,null,2015,"Automovel-Flex-G",false,1,39767,"MP",1.1000000000000001E-3]
[null,null,null,null,null,null,null,null,null,null,null,null,null,null,null,null,null,null,null,null,null,null,null,2016,"Automovel-Flex-G",false,1,30062,"MP",1.1000000000000001E-3]
[null,null,null,null,null,null,null,null,null,null,null,null,null,null,null,null,null,null,null,null,null,null,null,2017,"Automovel-Flex-G",false,1,26135,"MP",1.1000000000000001E-3]
[null,null,null,null,null,null,null,null,null,null,null,null,null,null,null,null,null,null,null,null,null,null,null,2018,"Automovel-Flex-G",false,1,41519,"MP",1.1000000000000001E-3]
[null,null,null,null,null,null,null,null,null,null,null,null,null,null,null,null,null,null,null,null,null,null,null,2019,"Automovel-Flex-G",false,1,48492,"MP",1.1000000000000001E-3]
[null,null,null,null,null,null,null,null,null,null,null,null,null,null,null,null,null,null,null,null,null,null,null,2020,"Automovel-Flex-G",false,1,65058,"MP",1.1000000000000001E-3]
[null,null,null,null,null,null,null,null,null,null,null,null,null,null,null,null,null,null,null,null,null,null,null,2021,"Automovel-Flex-G",false,1,95462,"MP",1.1000000000000001E-3]
[null,null,null,null,null,null,null,null,null,null,null,null,null,null,null,null,null,null,null,null,null,null,null,2022,"Automovel-Flex-G",false,1,156757,"MP",1.1000000000000001E-3]
[null,null,null,null,null,null,null,null,null,null,null,null,null,null,null,null,null,null,null,null,null,null,null,2003,"Automovel-Flex-A",false,1,11,"MP"]
[null,null,null,null,null,null,null,null,null,null,null,null,null,null,null,null,null,null,null,null,null,null,null,2004,"Automovel-Flex-A",false,1,1663,"MP"]
[null,null,null,null,null,null,null,null,null,null,null,null,null,null,null,null,null,null,null,null,null,null,null,2005,"Automovel-Flex-A",false,1,6460,"MP"]
[null,null,null,null,null,null,null,null,null,null,null,null,null,null,null,null,null,null,null,null,null,null,null,2006,"Automovel-Flex-A",false,1,13811,"MP"]
[null,null,null,null,null,null,null,null,null,null,null,null,null,null,null,null,null,null,null,null,null,null,null,2007,"Automovel-Flex-A",false,1,17612,"MP"]
[null,null,null,null,null,null,null,null,null,null,null,null,null,null,null,null,null,null,null,null,null,null,null,2008,"Automovel-Flex-A",false,1,28866,"MP"]
[null,null,null,null,null,null,null,null,null,null,null,null,null,null,null,null,null,null,null,null,null,null,null,2009,"Automovel-Flex-A",false,1,22707,"MP"]
[null,null,null,null,null,null,null,null,null,null,null,null,null,null,null,null,null,null,null,null,null,null,null,2010,"Automovel-Flex-A",false,1,23926,"MP"]
[null,null,null,null,null,null,null,null,null,null,null,null,null,null,null,null,null,null,null,null,null,null,null,2011,"Automovel-Flex-A",false,1,15517,"MP"]
[null,null,null,null,null,null,null,null,null,null,null,null,null,null,null,null,null,null,null,null,null,null,null,2012,"Automovel-Flex-A",false,1,12833,"MP"]
[null,null,null,null,null,null,null,null,null,null,null,null,null,null,null,null,null,null,null,null,null,null,null,2013,"Automovel-Flex-A",false,1,16031,"MP"]
[null,null,null,null,null,null,null,null,null,null,null,null,null,null,null,null,null,null,null,null,null,null,null,2014,"Automovel-Flex-A",false,1,13913,"MP"]
[null,null,null,null,null,null,null,null,null,null,null,null,null,null,null,null,null,null,null,null,null,null,null,2015,"Automovel-Flex-A",false,1,13256,"MP"]
[null,null,null,null,null,null,null,null,null,null,null,null,null,null,null,null,null,null,null,null,null,null,null,2016,"Automovel-Flex-A",false,1,10021,"MP"]
[null,null,null,null,null,null,null,null,null,null,null,null,null,null,null,null,null,null,null,null,null,null,null,2017,"Automovel-Flex-A",false,1,8712,"MP"]
[null,null,null,null,null,null,null,null,null,null,null,null,null,null,null,null,null,null,null,null,null,null,null,2018,"Automovel-Flex-A",false,1,13840,"MP"]
[null,null,null,null,null,null,null,null,null,null,null,null,null,null,null,null,null,null,null,null,null,null,null,2019,"Automovel-Flex-A",false,1,16164,"MP"]
[null,null,null,null,null,null,null,null,null,null,null,null,null,null,null,null,null,null,null,null,null,null,null,2020,"Automovel-Flex-A",false,1,21686,"MP"]
[null,null,null,null,null,null,null,null,null,null,null,null,null,null,null,null,null,null,null,null,null,null,null,2021,"Automovel-Flex-A",false,1,31821,"MP"]
[null,null,null,null,null,null,null,null,null,null,null,null,null,null,null,null,null,null,null,null,null,null,null,2022,"Automovel-Flex-A",false,1,52252,"MP"]
[null,null,null,null,null,null,null,null,null,null,null,null,null,null,null,null,null,null,null,null,null,null,null,1983,"Automovel-Diesel",9,1,163,"MP",7.6080845937625402E-2]
[null,null,null,null,null,null,null,null,null,null,null,null,null,null,null,null,null,null,null,null,null,null,null,1984,"Automovel-Diesel",9,1,186,"MP",7.6080845937625402E-2]
[null,null,null,null,null,null,null,null,null,null,null,null,null,null,null,null,null,null,null,null,null,null,null,1985,"Automovel-Diesel",9,1,157,"MP",7.6080845937625402E-2]
[null,null,null,null,null,null,null,null,null,null,null,null,null,null,null,null,null,null,null,null,null,null,null,1986,"Automovel-Diesel",9,1,254,"MP",7.6080845937625402E-2]
[null,null,null,null,null,null,null,null,null,null,null,null,null,null,null,null,null,null,null,null,null,null,null,1987,"Automovel-Diesel",9,1,196,"MP",7.6080845937625402E-2]
[null,null,null,null,null,null,null,null,null,null,null,null,null,null,null,null,null,null,null,null,null,null,null,1988,"Automovel-Diesel",9,1,274,"MP",7.6080845937625402E-2]
[null,null,null,null,null,null,null,null,null,null,null,null,null,null,null,null,null,null,null,null,null,null,null,1989,"Automovel-Diesel",9,1,390,"MP",7.6080845937625402E-2]
[null,null,null,null,null,null,null,null,null,null,null,null,null,null,null,null,null,null,null,null,null,null,null,1990,"Automovel-Diesel",9,1,341,"MP",7.6080845937625402E-2]
[null,null,null,null,null,null,null,null,null,null,null,null,null,null,null,null,null,null,null,null,null,null,null,1991,"Automovel-Diesel",9,1,271,"MP",7.6080845937625402E-2]
[null,null,null,null,null,null,null,null,null,null,null,null,null,null,null,null,null,null,null,null,null,null,null,1992,"Automovel-Diesel",9,1,289,"MP",7.6080845937625402E-2]
[null,null,null,null,null,null,null,null,null,null,null,null,null,null,null,null,null,null,null,null,null,null,null,1993,"Automovel-Diesel",9,1,359,"MP",7.6080845937625402E-2]
[null,null,null,null,null,null,null,null,null,null,null,null,null,null,null,null,null,null,null,null,null,null,null,1994,"Automovel-Diesel",9,1,491,"MP",7.6080845937625402E-2]
[null,null,null,null,null,null,null,null,null,null,null,null,null,null,null,null,null,null,null,null,null,null,null,1995,"Automovel-Diesel",9,1,553,"MP",7.6080845937625402E-2]
[null,null,null,null,null,null,null,null,null,null,null,null,null,null,null,null,null,null,null,null,null,null,null,1996,"Automovel-Diesel",9,1,209,"MP",7.6080845937625402E-2]
[null,null,null,null,null,null,null,null,null,null,null,null,null,null,null,null,null,null,null,null,null,null,null,1997,"Automovel-Diesel",9,1,299,"MP",7.6080845937625402E-2]
[null,null,null,null,null,null,null,null,null,null,null,null,null,null,null,null,null,null,null,null,null,null,null,1998,"Automovel-Diesel",9,1,409,"MP",7.6080845937625402E-2]
[null,null,null,null,null,null,null,null,null,null,null,null,null,null,null,null,null,null,null,null,null,null,null,1999,"Automovel-Diesel",9,1,344,"MP",7.6080845937625402E-2]
[null,null,null,null,null,null,null,null,null,null,null,null,null,null,null,null,null,null,null,null,null,null,null,2000,"Automovel-Diesel",9,1,529,"MP",8.2497298695046295E-2]
[null,null,null,null,null,null,null,null,null,null,null,null,null,null,null,null,null,null,null,null,null,null,null,2001,"Automovel-Diesel",9,1,894,"MP",8.2460302749790798E-2]
[null,null,null,null,null,null,null,null,null,null,null,null,null,null,null,null,null,null,null,null,null,null,null,2002,"Automovel-Diesel",9,1,532,"MP",7.0746778737432306E-2]
[null,null,null,null,null,null,null,null,null,null,null,null,null,null,null,null,null,null,null,null,null,null,null,2003,"Automovel-Diesel",9,1,522,"MP",7.30825859991968E-2]
[null,null,null,null,null,null,null,null,null,null,null,null,null,null,null,null,null,null,null,null,null,null,null,2004,"Automovel-Diesel",9,1,700,"MP",5.3666448385772503E-2]
[null,null,null,null,null,null,null,null,null,null,null,null,null,null,null,null,null,null,null,null,null,null,null,2005,"Automovel-Diesel",9,1,776,"MP",5.3648863887277798E-2]
[null,null,null,null,null,null,null,null,null,null,null,null,null,null,null,null,null,null,null,null,null,null,null,2006,"Automovel-Diesel",9,1,1095,"MP",7.4276791018263399E-2]
[null,null,null,null,null,null,null,null,null,null,null,null,null,null,null,null,null,null,null,null,null,null,null,2007,"Automovel-Diesel",9,1,1000,"MP",4.2000000000000003E-2]
[null,null,null,null,null,null,null,null,null,null,null,null,null,null,null,null,null,null,null,null,null,null,null,2008,"Automovel-Diesel",9,1,1612,"MP",4.3999999999999997E-2]
[null,null,null,null,null,null,null,null,null,null,null,null,null,null,null,null,null,null,null,null,null,null,null,2009,"Automovel-Diesel",9,1,1582,"MP",3.6975271484135298E-2]
[null,null,null,null,null,null,null,null,null,null,null,null,null,null,null,null,null,null,null,null,null,null,null,2010,"Automovel-Diesel",9,1,1717,"MP",4.3802444767690997E-2]
[null,null,null,null,null,null,null,null,null,null,null,null,null,null,null,null,null,null,null,null,null,null,null,2011,"Automovel-Diesel",9,1,2451,"MP",3.25734882596199E-2]
[null,null,null,null,null,null,null,null,null,null,null,null,null,null,null,null,null,null,null,null,null,null,null,2012,"Automovel-Diesel",9,1,2546,"MP",3.25734882596199E-2]
[null,null,null,null,null,null,null,null,null,null,null,null,null,null,null,null,null,null,null,null,null,null,null,2013,"Automovel-Diesel",9,1,3295,"MP",3.25734882596199E-2]
[null,null,null,null,null,null,null,null,null,null,null,null,null,null,null,null,null,null,null,null,null,null,null,2014,"Automovel-Diesel",9,1,2466,"MP",3.25734882596199E-2]
[null,null,null,null,null,null,null,null,null,null,null,null,null,null,null,null,null,null,null,null,null,null,null,2015,"Automovel-Diesel",9,1,2216,"MP",3.25734882596199E-2]
[null,null,null,null,null,null,null,null,null,null,null,null,null,null,null,null,null,null,null,null,null,null,null,2016,"Automovel-Diesel",9,1,1862,"MP",3.25734882596199E-2]
[null,null,null,null,null,null,null,null,null,null,null,null,null,null,null,null,null,null,null,null,null,null,null,2017,"Automovel-Diesel",9,1,2583,"MP",3.25734882596199E-2]
[null,null,null,null,null,null,null,null,null,null,null,null,null,null,null,null,null,null,null,null,null,null,null,2018,"Automovel-Diesel",9,1,3654,"MP",3.25734882596199E-2]
[null,null,null,null,null,null,null,null,null,null,null,null,null,null,null,null,null,null,null,null,null,null,null,2019,"Automovel-Diesel",9,1,5965,"MP",3.25734882596199E-2]
[null,null,null,null,null,null,null,null,null,null,null,null,null,null,null,null,null,null,null,null,null,null,null,2020,"Automovel-Diesel",9,1,7280,"MP",3.25734882596199E-2]
[null,null,null,null,null,null,null,null,null,null,null,null,null,null,null,null,null,null,null,null,null,null,null,2021,"Automovel-Diesel",9,1,10740,"MP",3.25734882596199E-2]
[null,null,null,null,null,null,null,null,null,null,null,null,null,null,null,null,null,null,null,null,null,null,null,2022,"Automovel-Diesel",9,1,20006,"MP",5.0000000000000001E-4]

{"sheet":"Cenários","index":1,"n_rows":1006,"n_cols":122,"rows_kept":1006,"cut":false,"hidden":false,"merged":[]}
["Cenário Base",null,null,null,null,null,null,null,null,null,null,null,null,null,null,null,null,null,null,null,null,null,null,"Cenário 1",null,null,null,null,null,null,null,null,null,null,null,null,null,null,null,null,null,null,null,"Cenário 2",null,null,null,null,null,null,null,null,null,null,null,null,null,null,null,null,null,null,null,"Cenário 3",null,null,null,null,null,null,null,null,null,null,null,null,null,null,null,null,null,null,null,"Cenário 4",null,null,null,null,null,null,null,null,null,null,null,null,null,null,null,null,null,null,null,"Cenário 5"]
["Nome",null,"Cenário Base",null,null,null,"Descrição",null,null,null,null,null,null,null,null,null,null,null," ",null,null,null,null,"Nome",null,"Cenário 1",null,null,null,"Descrição",null,null,null,null,null,null,null,null,null,null,null," ",null,"Nome",null,"Cenário 2",null,null,null,"Descrição",null,null,null,null,null,null,null,null,null,null,null," ",null,"Nome",null,"Cenário 3",null,null,null,"Descrição",null,null,null,null,null,null,null,null,null,null,null," ",null,"Nome",null,"Cenário 4",null,null,null,"Descrição",null,null,null,null,null,null,null,null,null,null,null," ",null,"Nome",null,"Cenário 5",null,null,null,"Descrição",null,null,null,null,null,null,null,null,null,null,null," "]
["Cód","Endereço","Coordenadas",null,"Contagem de veículos",null,null,null,"Distribuição da idade da frota",null,null,null,null,null,null,null,null,null,null,"Emissões",null,null,null,"Cód","Endereço","Coordenadas",null,"Contagem de veículos",null,null,null,"Distribuição da idade da frota",null,null,null,null,null,null,null,null,null,null,null,"Cód","Endereço","Coordenadas",null,"Contagem de veículos",null,null,null,"Distribuição da idade da frota",null,null,null,null,null,null,null,null,null,null,null,"Cód","Endereço","Coordenadas",null,"Contagem de veículos",null,null,null,"Distribuição da idade da frota",null,null,null,null,null,null,null,null,null,null,null,"Cód","Endereço","Coordenadas",null,"Contagem de veículos",null,null,null,"Distribuição da idade da frota",null,null,null,null,null,null,null,null,null,null,null,"Cód","Endereço","Coordenadas",null,"Contagem de veículos",null,null,null,"Distribuição da idade da frota"]
[null,null,"X","Y","Automóveis","Motos","Ônibus","Caminhão",null,"Ônibus","Ônibus-Elétrico","Microônibus","Caminhão","Moto-Gasolina","Moto-Flex","Automóvel-Gasolina","Automóvel-Álcool","Automóvel-Flex","Automóvel-Diesel","CO","NOx","MP",null,null,null,"X","Y","Automóveis","Motos","Ônibus","Caminhões",null,"Ônibus","Ônibus-Elétrico","Microônibus","Caminhão","Moto-Gasolina","Moto-Flex","Automóvel-Gasolina","Automóvel-Álcool","Automóvel-Flex","Automóvel-Diesel",null,null,null,"X","Y","Automóveis","Motos","Ônibus","Caminhões",null,"Ônibus","Ônibus-Elétrico","Microônibus","Caminhão","Moto-Gasolina","Moto-Flex","Automóvel-Gasolina","Automóvel-Álcool","Automóvel-Flex","Automóvel-Diesel",null,null,null,"X","Y","Automóveis","Motos","Ônibus","Caminhões",null,"Ônibus","Ônibus-Elétrico","Microônibus","Caminhão","Moto-Gasolina","Moto-Flex","Automóvel-Gasolina","Automóvel-Álcool","Automóvel-Flex","Automóvel-Diesel",null,null,null,"X","Y","Automóveis","Motos","Ônibus","Caminhões",null,"Ônibus","Ônibus-Elétrico","Microônibus","Caminhão","Moto-Gasolina","Moto-Flex","Automóvel-Gasolina","Automóvel-Álcool","Automóvel-Flex","Automóvel-Diesel",null,null,null,"X","Y","Automóveis","Motos","Ônibus","Caminhões",null,"Ônibus","Ônibus-Elétrico","Microônibus","Caminhão","Moto-Gasolina","Moto-Flex","Automóvel-Gasolina","Automóvel-Álcool","Automóvel-Flex","Automóvel-Diesel"]
["SPL0023",null,-43.995637199999997,-19.900704900000001,7350,2274,384,147,1983,26,null,0,147,969,0,2057,2904,0,163,{"$f":"SUM($E5:$H5*TRANSPOSE(M$63:M$66))","v":16704.129836410266},{"$f":"SUM($E5:$H5*TRANSPOSE(N$63:N$66))","v":4589.9169167880655},{"$f":"SUM($E5:$H5*TRANSPOSE(O$63:O$66))","v":119.10986477242881},null,"SPL0023",null,-43.995637199999997,-19.900704900000001,7350,2274,384,147,1983,26,null,0,147,969,0,2057,2904,0,163,null,"SPL0023",null,-43.995637199999997,-19.900704900000001,7350,2274,384,147,1983,26,null,0,147,969,0,2057,2904,0,163,null,"SPL0023",null,-43.995637199999997,-19.900704900000001,7350,2274,384,147,1983,26,null,0,147,969,0,2057,2904,0,163,null,"SPL0023",null,-43.995637199999997,-19.900704900000001,7350,2274,384,147,1983,26,null,0,147,969,0,2057,2904,0,163]
["SPL2411",null,-43.9352582,-19.947263700000001,44652,5253,1694,294,1984,27,null,1,159,633,0,849,3281,1,186,{"$f":"SUM($E6:$H6*TRANSPOSE(M$63:M$66))","v":84219.280033489747},{"$f":"SUM($E6:$H6*TRANSPOSE(N$63:N$66))","v":21505.993988695449},{"$f":"SUM($E6:$H6*TRANSPOSE(O$63:O$66))","v":518.41821410369289},null,"SPL2411",null,-43.9352582,-19.947263700000001,44652,5253,1694,294,1984,27,null,1,159,633,0,849,3281,1,186,null,"SPL2411",null,-43.9352582,-19.947263700000001,44652,5253,1694,294,1984,27,null,1,159,633,0,849,3281,1,186,null,"SPL2411",null,-43.9352582,-19.947263700000001,44652,5253,1694,294,1984,27,null,1,159,633,0,849,3281,1,186,null,"SPL2411",null,-43.9352582,-19.947263700000001,44652,5253,1694,294,1984,27,null,1,159,633,0,849,3281,1,186]
["SPL2430",null,-43.972056000000002,-19.922920999999999,40868,4650,4027,700,1985,30,null,1,248,473,0,816,3376,2,157,{"$f":"SUM($E7:$H7*TRANSPOSE(M$63:M$66))","v":79837.293364229656},{"$f":"SUM($E7:$H7*TRANSPOSE(N$63:N$66))","v":35893.288663784697},{"$f":"SUM($E7:$H7*TRANSPOSE(O$63:O$66))","v":1068.7095945084795},null,"SPL2430",null,-43.972056000000002,-19.922920999999999,40868,4650,4027,700,1985,30,null,1,248,473,0,816,3376,2,157,null,"SPL2430",null,-43.972056000000002,-19.922920999999999,40868,4650,4027,700,1985,30,null,1,248,473,0,816,3376,2,157,null,"SPL2430",null,-43.972056000000002,-19.922920999999999,40868,4650,4027,700,1985,30,null,1,248,473,0,816,3376,2,157,null,"SPL2430",null,-43.972056000000002,-19.922920999999999,40868,4650,4027,700,1985,30,null,1,248,473,0,816,3376,2,157]
["SPL3253",null,-44.017564999999998,-19.991669000000002,20518,5710,2522,438,1986,58,null,4,444,765,0,1406,5821,0,254,{"$f":"SUM($E8:$H8*TRANSPOSE(M$63:M$66))","v":47099.527706397275},{"$f":"SUM($E8:$H8*TRANSPOSE(N$63:N$66))","v":21610.069104203329},{"$f":"SUM($E8:$H8*TRANSPOSE(O$63:O$66))","v":656.52409232810055},null,"SPL3253",null,-44.017564999999998,-19.991669000000002,20518,5710,2522,438,1986,58,null,4,444,765,0,1406,5821,0,254,null,"SPL3253",null,-44.017564999999998,-19.991669000000002,20518,5710,2522,438,1986,58,null,4,444,765,0,1406,5821,0,254,null,"SPL3253",null,-44.017564999999998,-19.991669000000002,20518,5710,2522,438,1986,58,null,4,444,765,0,1406,5821,0,254,null,"SPL3253",null,-44.017564999999998,-19.991669000000002,20518,5710,2522,438,1986,58,null,4,444,765,0,1406,5821,0,254]
["SPL3254",null,-43.987047799999999,-19.944541900000001,47762,7939,2812,489,1987,57,null,3,378,883,0,808,3387,0,196,{"$f":"SUM($E9:$H9*TRANSPOSE(M$63:M$66))","v":95717.855470336654},{"$f":"SUM($E9:$H9*TRANSPOSE(N$63:N$66))","v":29772.480626127752},{"$f":"SUM($E9:$H9*TRANSPOSE(O$63:O$66))","v":794.52448169904403},null,"SPL3254",null,-43.987047799999999,-19.944541900000001,47762,7939,2812,489,1987,57,null,3,378,883,0,808,3387,0,196,null,"SPL3254",null,-43.987047799999999,-19.944541900000001,47762,7939,2812,489,1987,57,null,3,378,883,0,808,3387,0,196,null,"SPL3254",null,-43.987047799999999,-19.944541900000001,47762,7939,2812,489,1987,57,null,3,378,883,0,808,3387,0,196,null,"SPL3254",null,-43.987047799999999,-19.944541900000001,47762,7939,2812,489,1987,57,null,3,378,883,0,808,3387,0,196]
["SPL3255",null,-43.9830623,-19.928611400000001,7595,2412,199,235,1988,67,null,3,302,922,0,1012,4326,18,274,{"$f":"SUM($E10:$H10*TRANSPOSE(M$63:M$66))","v":17192.33446092861},{"$f":"SUM($E10:$H10*TRANSPOSE(N$63:N$66))","v":3789.298385269522},{"$f":"SUM($E10:$H10*TRANSPOSE(O$63:O$66))","v":88.122127526254772},null,"SPL3255",null,-43.9830623,-19.928611400000001,7595,2412,199,235,1988,67,null,3,302,922,0,1012,4326,18,274,null,"SPL3255",null,-43.9830623,-19.928611400000001,7595,2412,199,235,1988,67,null,3,302,922,0,1012,4326,18,274,null,"SPL3255",null,-43.9830623,-19.928611400000001,7595,2412,199,235,1988,67,null,3,302,922,0,1012,4326,18,274,null,"SPL3255",null,-43.9830623,-19.928611400000001,7595,2412,199,235,1988,67,null,3,302,922,0,1012,4326,18,274]
["SPL3256",null,-43.967910500000002,-19.888414699999998,44116,6767,1741,303,1989,81,null,0,332,702,0,3130,4395,2,390,{"$f":"SUM($E11:$H11*TRANSPOSE(M$63:M$66))","v":86281.972131402319},{"$f":"SUM($E11:$H11*TRANSPOSE(N$63:N$66))","v":21837.967135217819},{"$f":"SUM($E11:$H11*TRANSPOSE(O$63:O$66))","v":528.43791643668874},null,"SPL3256",null,-43.967910500000002,-19.888414699999998,44116,6767,1741,303,1989,81,null,0,332,702,0,3130,4395,2,390,null,"SPL3256",null,-43.967910500000002,-19.888414699999998,44116,6767,1741,303,1989,81,null,0,332,702,0,3130,4395,2,390,null,"SPL3256",null,-43.967910500000002,-19.888414699999998,44116,6767,1741,303,1989,81,null,0,332,702,0,3130,4395,2,390,null,"SPL3256",null,-43.967910500000002,-19.888414699999998,44116,6767,1741,303,1989,81,null,0,332,702,0,3130,4395,2,390]
["SPL3257",null,-43.951402000000002,-19.971215999999998,29575,4337,1262,484,1990,54,null,6,316,881,0,5837,988,13,341,{"$f":"SUM($E12:$H12*TRANSPOSE(M$63:M$66))","v":57710.51457500222},{"$f":"SUM($E12:$H12*TRANSPOSE(N$63:N$66))","v":15999.647989259642},{"$f":"SUM($E12:$H12*TRANSPOSE(O$63:O$66))","v":405.14298519972306},null,"SPL3257",null,-43.951402000000002,-19.971215999999998,29575,4337,1262,484,1990,54,null,6,316,881,0,5837,988,13,341,null,"SPL3257",null,-43.951402000000002,-19.971215999999998,29575,4337,1262,484,1990,54,null,6,316,881,0,5837,988,13,341,null,"SPL3257",null,-43.951402000000002,-19.971215999999998,29575,4337,1262,484,1990,54,null,6,316,881,0,5837,988,13,341,null,"SPL3257",null,-43.951402000000002,-19.971215999999998,29575,4337,1262,484,1990,54,null,6,316,881,0,5837,988,13,341]
["SPL3258",null,-43.921536000000003,-19.893325000000001,25380,5008,1013,388,1991,50,null,3,273,631,0,6655,838,0,271,{"$f":"SUM($E13:$H13*TRANSPOSE(M$63:M$66))","v":51869.633311408077},{"$f":"SUM($E13:$H13*TRANSPOSE(N$63:N$66))","v":13347.860184839914},{"$f":"SUM($E13:$H13*TRANSPOSE(O$63:O$66))","v":329.26815988329929},null,"SPL3258",null,-43.921536000000003,-19.893325000000001,25380,5008,1013,388,1991,50,null,3,273,631,0,6655,838,0,271,null,"SPL3258",null,-43.921536000000003,-19.893325000000001,25380,5008,1013,388,1991,50,null,3,273,631,0,6655,838,0,271,null,"SPL3258",null,-43.921536000000003,-19.893325000000001,25380,5008,1013,388,1991,50,null,3,273,631,0,6655,838,0,271,null,"SPL3258",null,-43.921536000000003,-19.893325000000001,25380,5008,1013,388,1991,50,null,3,273,631,0,6655,838,0,271]
["SPL3259",null,-43.951562000000003,-19.887463,34842,7880,1204,209,1992,97,null,0,258,524,0,5726,1103,0,289,{"$f":"SUM($E14:$H14*TRANSPOSE(M$63:M$66))","v":72740.309430312351},{"$f":"SUM($E14:$H14*TRANSPOSE(N$63:N$66))","v":16361.153223168427},{"$f":"SUM($E14:$H14*TRANSPOSE(O$63:O$66))","v":376.2601377849835},null,"SPL3259",null,-43.951562000000003,-19.887463,34842,7880,1204,209,1992,97,null,0,258,524,0,5726,1103,0,289,null,"SPL3259",null,-43.951562000000003,-19.887463,34842,7880,1204,209,1992,97,null,0,258,524,0,5726,1103,0,289,null,"SPL3259",null,-43.951562000000003,-19.887463,34842,7880,1204,209,1992,97,null,0,258,524,0,5726,1103,0,289,null,"SPL3259",null,-43.951562000000003,-19.887463,34842,7880,1204,209,1992,97,null,0,258,524,0,5726,1103,0,289]
["SPL3260",null,-43.950531099999999,-19.888290999999999,38215,4677,1350,235,1993,71,null,10,189,316,0,8575,1489,1,359,{"$f":"SUM($E15:$H15*TRANSPOSE(M$63:M$66))","v":72299.274776115009},{"$f":"SUM($E15:$H15*TRANSPOSE(N$63:N$66))","v":17770.928305605794},{"$f":"SUM($E15:$H15*TRANSPOSE(O$63:O$66))","v":419.81827544888432},null,"SPL3260",null,-43.950531099999999,-19.888290999999999,38215,4677,1350,235,1993,71,null,10,189,316,0,8575,1489,1,359,null,"SPL3260",null,-43.950531099999999,-19.888290999999999,38215,4677,1350,235,1993,71,null,10,189,316,0,8575,1489,1,359,null,"SPL3260",null,-43.950531099999999,-19.888290999999999,38215,4677,1350,235,1993,71,null,10,189,316,0,8575,1489,1,359,null,"SPL3260",null,-43.950531099999999,-19.888290999999999,38215,4677,1350,235,1993,71,null,10,189,316,0,8575,1489,1,359]
["SPL3261",null,-43.946916999999999,-19.898799,11234,5128,1389,241,1994,49,null,28,327,559,0,11036,1343,0,491,{"$f":"SUM($E16:$H16*TRANSPOSE(M$63:M$66))","v":29593.145016148472},{"$f":"SUM($E16:$H16*TRANSPOSE(N$63:N$66))","v":12070.866549726592},{"$f":"SUM($E16:$H16*TRANSPOSE(O$63:O$66))","v":361.39188665489615},null,"SPL3261",null,-43.946916999999999,-19.898799,11234,5128,1389,241,1994,49,null,28,327,559,0,11036,1343,0,491,null,"SPL3261",null,-43.946916999999999,-19.898799,11234,5128,1389,241,1994,49,null,28,327,559,0,11036,1343,0,491,null,"SPL3261",null,-43.946916999999999,-19.898799,11234,5128,1389,241,1994,49,null,28,327,559,0,11036,1343,0,491,null,"SPL3261",null,-43.946916999999999,-19.898799,11234,5128,1389,241,1994,49,null,28,327,559,0,11036,1343,0,491]
["SPL3262",null,-43.940307500000003,-19.9556957,33772,2780,1715,602,1995,86,null,103,527,1134,0,18944,344,2,553,{"$f":"SUM($E17:$H17*TRANSPOSE(M$63:M$66))","v":62119.712323328371},{"$f":"SUM($E17:$H17*TRANSPOSE(N$63:N$66))","v":19867.290662323561},{"$f":"SUM($E17:$H17*TRANSPOSE(O$63:O$66))","v":528.53481409616813},null,"SPL3262",null,-43.940307500000003,-19.9556957,33772,2780,1715,602,1995,86,null,103,527,1134,0,18944,344,2,553,null,"SPL3262",null,-43.940307500000003,-19.9556957,33772,2780,1715,602,1995,86,null,103,527,1134,0,18944,344,2,553,null,"SPL3262",null,-43.940307500000003,-19.9556957,33772,2780,1715,602,1995,86,null,103,527,1134,0,18944,344,2,553,null,"SPL3262",null,-43.940307500000003,-19.9556957,33772,2780,1715,602,1995,86,null,103,527,1134,0,18944,344,2,553]
["SPL3264",null,-43.949055999999999,-19.917736999999999,45895,7989,2538,683,1996,101,null,37,321,1365,0,17211,51,1,209,{"$f":"SUM($E18:$H18*TRANSPOSE(M$63:M$66))","v":92575.201723086095},{"$f":"SUM($E18:$H18*TRANSPOSE(N$63:N$66))","v":28259.120440280563},{"$f":"SUM($E18:$H18*TRANSPOSE(O$63:O$66))","v":749.8069619531226},null,"SPL3264",null,-43.949055999999999,-19.917736999999999,45895,7989,2538,683,1996,101,null,37,321,1365,0,17211,51,1,209,null,"SPL3264",null,-43.949055999999999,-19.917736999999999,45895,7989,2538,683,1996,101,null,37,321,1365,0,17211,51,1,209,null,"SPL3264",null,-43.949055999999999,-19.917736999999999,45895,7989,2538,683,1996,101,null,37,321,1365,0,17211,51,1,209,null,"SPL3264",null,-43.949055999999999,-19.917736999999999,45895,7989,2538,683,1996,101,null,37,321,1365,0,17211,51,1,209]
["SPL3265",null,-43.949397099999999,-19.917889800000001,40549,3026,983,346,1997,89,null,218,613,2602,0,19715,12,0,299,{"$f":"SUM($E19:$H19*TRANSPOSE(M$63:M$66))","v":72574.069927068253},{"$f":"SUM($E19:$H19*TRANSPOSE(N$63:N$66))","v":16232.283348207839},{"$f":"SUM($E19:$H19*TRANSPOSE(O$63:O$66))","v":356.2190101333839},null,"SPL3265",null,-43.949397099999999,-19.917889800000001,40549,3026,983,346,1997,89,null,218,613,2602,0,19715,12,0,299,null,"SPL3265",null,-43.949397099999999,-19.917889800000001,40549,3026,983,346,1997,89,null,218,613,2602,0,19715,12,0,299,null,"SPL3265",null,-43.949397099999999,-19.917889800000001,40549,3026,983,346,1997,89,null,218,613,2602,0,19715,12,0,299,null,"SPL3265",null,-43.949397099999999,-19.917889800000001,40549,3026,983,346,1997,89,null,218,613,2602,0,19715,12,0,299]
["SPL3266",null,-43.928483999999997,-19.901449,50023,13865,2003,704,1998,97,null,159,641,2838,0,16751,7,3,409,{"$f":"SUM($E20:$H20*TRANSPOSE(M$63:M$66))","v":109784.45766785862},{"$f":"SUM($E20:$H20*TRANSPOSE(N$63:N$66))","v":26544.59505940857},{"$f":"SUM($E20:$H20*TRANSPOSE(O$63:O$66))","v":643.93446329165715},null,"SPL3266",null,-43.928483999999997,-19.901449,50023,13865,2003,704,1998,97,null,159,641,2838,0,16751,7,3,409,null,"SPL3266",null,-43.928483999999997,-19.901449,50023,13865,2003,704,1998,97,null,159,641,2838,0,16751,7,3,409,null,"SPL3266",null,-43.928483999999997,-19.901449,50023,13865,2003,704,1998,97,null,159,641,2838,0,16751,7,3,409,null,"SPL3266",null,-43.928483999999997,-19.901449,50023,13865,2003,704,1998,97,null,159,641,2838,0,16751,7,3,409]
["SPL3268",null,-43.928259799999999,-19.939372899999999,20237,4257,359,126,1999,139,null,124,481,2267,0,15116,14,0,344,{"$f":"SUM($E21:$H21*TRANSPOSE(M$63:M$66))","v":41254.131931209849},{"$f":"SUM($E21:$H21*TRANSPOSE(N$63:N$66))","v":7426.4312120151781},{"$f":"SUM($E21:$H21*TRANSPOSE(O$63:O$66))","v":143.67597479448636},null,"SPL3268",null,-43.928259799999999,-19.939372899999999,20237,4257,359,126,1999,139,null,124,481,2267,0,15116,14,0,344,null,"SPL3268",null,-43.928259799999999,-19.939372899999999,20237,4257,359,126,1999,139,null,124,481,2267,0,15116,14,0,344,null,"SPL3268",null,-43.928259799999999,-19.939372899999999,20237,4257,359,126,1999,139,null,124,481,2267,0,15116,14,0,344,null,"SPL3268",null,-43.928259799999999,-19.939372899999999,20237,4257,359,126,1999,139,null,124,481,2267,0,15116,14,0,344]
["SPL3269",null,-43.999321000000002,-19.873925,6287,970,201,71,2000,77,null,138,489,3136,0,15355,73,1,529,{"$f":"SUM($E22:$H22*TRANSPOSE(M$63:M$66))","v":12266.269528927742},{"$f":"SUM($E22:$H22*TRANSPOSE(N$63:N$66))","v":2907.1409841020409},{"$f":"SUM($E22:$H22*TRANSPOSE(O$63:O$66))","v":67.835832769195434},null,"SPL3269",null,-43.999321000000002,-19.873925,6287,970,201,71,2000,77,null,138,489,3136,0,15355,73,1,529,null,"SPL3269",null,-43.999321000000002,-19.873925,6287,970,201,71,2000,77,null,138,489,3136,0,15355,73,1,529,null,"SPL3269",null,-43.999321000000002,-19.873925,6287,970,201,71,2000,77,null,138,489,3136,0,15355,73,1,529,null,"SPL3269",null,-43.999321000000002,-19.873925,6287,970,201,71,2000,77,null,138,489,3136,0,15355,73,1,529]
["SPL3271",null,-43.952756999999998,-19.927254000000001,47718,21369,3264,1147,2001,156,null,208,620,3541,0,18573,85,3,894,{"$f":"SUM($E23:$H23*TRANSPOSE(M$63:M$66))","v":121951.50066820215},{"$f":"SUM($E23:$H23*TRANSPOSE(N$63:N$66))","v":35631.538993906506},{"$f":"SUM($E23:$H23*TRANSPOSE(O$63:O$66))","v":964.50128942660081},null,"SPL3271",null,-43.952756999999998,-19.927254000000001,47718,21369,3264,1147,2001,156,null,208,620,3541,0,18573,85,3,894,null,"SPL3271",null,-43.952756999999998,-19.927254000000001,47718,21369,3264,1147,2001,156,null,208,620,3541,0,18573,85,3,894,null,"SPL3271",null,-43.952756999999998,-19.927254000000001,47718,21369,3264,1147,2001,156,null,208,620,3541,0,18573,85,3,894,null,"SPL3271",null,-43.952756999999998,-19.927254000000001,47718,21369,3264,1147,2001,156,null,208,620,3541,0,18573,85,3,894]
["SPL3272",null,-43.993487999999999,-19.934742,34403,5207,1501,292,2002,91,null,45,509,4223,0,14698,147,3,532,{"$f":"SUM($E24:$H24*TRANSPOSE(M$63:M$66))","v":67344.159417209972},{"$f":"SUM($E24:$H24*TRANSPOSE(N$63:N$66))","v":18050.384596517375},{"$f":"SUM($E24:$H24*TRANSPOSE(O$63:O$66))","v":449.75296860976385},null,"SPL3272",null,-43.993487999999999,-19.934742,34403,5207,1501,292,2002,91,null,45,509,4223,0,14698,147,3,532,null,"SPL3272",null,-43.993487999999999,-19.934742,34403,5207,1501,292,2002,91,null,45,509,4223,0,14698,147,3,532,null,"SPL3272",null,-43.993487999999999,-19.934742,34403,5207,1501,292,2002,91,null,45,509,4223,0,14698,147,3,532,null,"SPL3272",null,-43.993487999999999,-19.934742,34403,5207,1501,292,2002,91,null,45,509,4223,0,14698,147,3,532]
["SPL3273",null,-43.930651699999999,-19.8646028,41679,8627,3564,694,2003,103,null,57,456,5047,0,16345,198,22,522,{"$f":"SUM($E25:$H25*TRANSPOSE(M$63:M$66))","v":88154.179645707816},{"$f":"SUM($E25:$H25*TRANSPOSE(N$63:N$66))","v":33623.622353807674},{"$f":"SUM($E25:$H25*TRANSPOSE(O$63:O$66))","v":967.58460988968329},null,"SPL3273",null,-43.930651699999999,-19.8646028,41679,8627,3564,694,2003,103,null,57,456,5047,0,16345,198,22,522,null,"SPL3273",null,-43.930651699999999,-19.8646028,41679,8627,3564,694,2003,103,null,57,456,5047,0,16345,198,22,522,null,"SPL3273",null,-43.930651699999999,-19.8646028,41679,8627,3564,694,2003,103,null,57,456,5047,0,16345,198,22,522,null,"SPL3273",null,-43.930651699999999,-19.8646028,41679,8627,3564,694,2003,103,null,57,456,5047,0,16345,198,22,522]
["SPL3274",null,-43.980853000000003,-19.930296800000001,44070,6711,1758,618,2004,131,null,84,686,4619,0,13063,83,1663,700,{"$f":"SUM($E26:$H26*TRANSPOSE(M$63:M$66))","v":86274.864019878398},{"$f":"SUM($E26:$H26*TRANSPOSE(N$63:N$66))","v":22827.235304605168},{"$f":"SUM($E26:$H26*TRANSPOSE(O$63:O$66))","v":565.59804924206856},null,"SPL3274",null,-43.980853000000003,-19.930296800000001,44070,6711,1758,618,2004,131,null,84,686,4619,0,13063,83,1663,700,null,"SPL3274",null,-43.980853000000003,-19.930296800000001,44070,6711,1758,618,2004,131,null,84,686,4619,0,13063,83,1663,700,null,"SPL3274",null,-43.980853000000003,-19.930296800000001,44070,6711,1758,618,2004,131,null,84,686,4619,0,13063,83,1663,700,null,"SPL3274",null,-43.980853000000003,-19.930296800000001,44070,6711,1758,618,2004,131,null,84,686,4619,0,13063,83,1663,700]
["SPL3275",null,-43.970151899999998,-19.9311106,49021,8335,1957,687,2005,96,null,77,824,6828,0,11807,85,6460,776,{"$f":"SUM($E27:$H27*TRANSPOSE(M$63:M$66))","v":97618.534677718519},{"$f":"SUM($E27:$H27*TRANSPOSE(N$63:N$66))","v":25480.507968164038},{"$f":"SUM($E27:$H27*TRANSPOSE(O$63:O$66))","v":629.42597752842391},null,"SPL3275",null,-43.970151899999998,-19.9311106,49021,8335,1957,687,2005,96,null,77,824,6828,0,11807,85,6460,776,null,"SPL3275",null,-43.970151899999998,-19.9311106,49021,8335,1957,687,2005,96,null,77,824,6828,0,11807,85,6460,776,null,"SPL3275",null,-43.970151899999998,-19.9311106,49021,8335,1957,687,2005,96,null,77,824,6828,0,11807,85,6460,776,null,"SPL3275",null,-43.970151899999998,-19.9311106,49021,8335,1957,687,2005,96,null,77,824,6828,0,11807,85,6460,776]
["SPL3276",null,-43.9313474,-19.864540300000002,35282,7543,1370,368,2006,156,null,125,852,7519,0,5134,77,15094,1095,{"$f":"SUM($E28:$H28*TRANSPOSE(M$63:M$66))","v":73080.80047632943},{"$f":"SUM($E28:$H28*TRANSPOSE(N$63:N$66))","v":17887.585406818354},{"$f":"SUM($E28:$H28*TRANSPOSE(O$63:O$66))","v":431.03660371318421},null,"SPL3276",null,-43.9313474,-19.864540300000002,35282,7543,1370,368,2006,156,null,125,852,7519,0,5134,77,15094,1095,null,"SPL3276",null,-43.9313474,-19.864540300000002,35282,7543,1370,368,2006,156,null,125,852,7519,0,5134,77,15094,1095,null,"SPL3276",null,-43.9313474,-19.864540300000002,35282,7543,1370,368,2006,156,null,125,852,7519,0,5134,77,15094,1095,null,"SPL3276",null,-43.9313474,-19.864540300000002,35282,7543,1370,368,2006,156,null,125,852,7519,0,5134,77,15094,1095]
["SPL3277",null,-43.955369900000001,-19.963863400000001,34027,4445,1173,450,2007,212,null,157,738,12449,0,6019,190,20967,1000,{"$f":"SUM($E29:$H29*TRANSPOSE(M$63:M$66))","v":64992.178268350668},{"$f":"SUM($E29:$H29*TRANSPOSE(N$63:N$66))","v":16362.877530941449},{"$f":"SUM($E29:$H29*TRANSPOSE(O$63:O$66))","v":392.98962513621376},null,"SPL3277",null,-43.955369900000001,-19.963863400000001,34027,4445,1173,450,2007,212,null,157,738,12449,0,6019,190,20967,1000,null,"SPL3277",null,-43.955369900000001,-19.963863400000001,34027,4445,1173,450,2007,212,null,157,738,12449,0,6019,190,20967,1000,null,"SPL3277",null,-43.955369900000001,-19.963863400000001,34027,4445,1173,450,2007,212,null,157,738,12449,0,6019,190,20967,1000,null,"SPL3277",null,-43.955369900000001,-19.963863400000001,34027,4445,1173,450,2007,212,null,157,738,12449,0,6019,190,20967,1000]
["SPL3278",null,-44.013793999999997,-19.973559999999999,27888,6890,2804,985,2008,332,null,267,1217,22881,2,5907,254,36083,1612,{"$f":"SUM($E30:$H30*TRANSPOSE(M$63:M$66))","v":61839.981205074393},{"$f":"SUM($E30:$H30*TRANSPOSE(N$63:N$66))","v":26630.401064733294},{"$f":"SUM($E30:$H30*TRANSPOSE(O$63:O$66))","v":795.65236696448574},null,"SPL3278",null,-44.013793999999997,-19.973559999999999,27888,6890,2804,985,2008,332,null,267,1217,22881,2,5907,254,36083,1612,null,"SPL3278",null,-44.013793999999997,-19.973559999999999,27888,6890,2804,985,2008,332,null,267,1217,22881,2,5907,254,36083,1612,null,"SPL3278",null,-44.013793999999997,-19.973559999999999,27888,6890,2804,985,2008,332,null,267,1217,22881,2,5907,254,36083,1612,null,"SPL3278",null,-44.013793999999997,-19.973559999999999,27888,6890,2804,985,2008,332,null,267,1217,22881,2,5907,254,36083,1612]
["SPL3279",null,-43.948174000000002,-19.897164,38437,5624,896,282,2009,187,null,234,1418,7798,895,3888,134,32438,1582,{"$f":"SUM($E31:$H31*TRANSPOSE(M$63:M$66))","v":73955.300446712223},{"$f":"SUM($E31:$H31*TRANSPOSE(N$63:N$66))","v":15294.781675932416},{"$f":"SUM($E31:$H31*TRANSPOSE(O$63:O$66))","v":324.84664238305913},null,"SPL3279",null,-43.948174000000002,-19.897164,38437,5624,896,282,2009,187,null,234,1418,7798,895,3888,134,32438,1582,null,"SPL3279",null,-43.948174000000002,-19.897164,38437,5624,896,282,2009,187,null,234,1418,7798,895,3888,134,32438,1582,null,"SPL3279",null,-43.948174000000002,-19.897164,38437,5624,896,282,2009,187,null,234,1418,7798,895,3888,134,32438,1582,null,"SPL3279",null,-43.948174000000002,-19.897164,38437,5624,896,282,2009,187,null,234,1418,7798,895,3888,134,32438,1582]
["SPL3280",null,-43.964354299999997,-19.850285800000002,56979,11459,2492,671,2010,303,null,148,1874,12526,2665,5853,197,46011,1717,{"$f":"SUM($E32:$H32*TRANSPOSE(M$63:M$66))","v":117010.78439698672},{"$f":"SUM($E32:$H32*TRANSPOSE(N$63:N$66))","v":30731.954919409454},{"$f":"SUM($E32:$H32*TRANSPOSE(O$63:O$66))","v":766.15645976554947},null,"SPL3280",null,-43.964354299999997,-19.850285800000002,56979,11459,2492,671,2010,303,null,148,1874,12526,2665,5853,197,46011,1717,null,"SPL3280",null,-43.964354299999997,-19.850285800000002,56979,11459,2492,671,2010,303,null,148,1874,12526,2665,5853,197,46011,1717,null,"SPL3280",null,-43.964354299999997,-19.850285800000002,56979,11459,2492,671,2010,303,null,148,1874,12526,2665,5853,197,46011,1717,null,"SPL3280",null,-43.964354299999997,-19.850285800000002,56979,11459,2492,671,2010,303,null,148,1874,12526,2665,5853,197,46011,1717]
["SPL3281",null,-43.919865000000001,-19.849679999999999,26415,4289,1999,702,2011,420,null,408,2231,10202,4522,7341,242,48491,2451,{"$f":"SUM($E33:$H33*TRANSPOSE(M$63:M$66))","v":53464.85633421698},{"$f":"SUM($E33:$H33*TRANSPOSE(N$63:N$66))","v":20378.256006650219},{"$f":"SUM($E33:$H33*TRANSPOSE(O$63:O$66))","v":583.5990424415487},null,"SPL3281",null,-43.919865000000001,-19.849679999999999,26415,4289,1999,702,2011,420,null,408,2231,10202,4522,7341,242,48491,2451,null,"SPL3281",null,-43.919865000000001,-19.849679999999999,26415,4289,1999,702,2011,420,null,408,2231,10202,4522,7341,242,48491,2451,null,"SPL3281",null,-43.919865000000001,-19.849679999999999,26415,4289,1999,702,2011,420,null,408,2231,10202,4522,7341,242,48491,2451,null,"SPL3281",null,-43.919865000000001,-19.849679999999999,26415,4289,1999,702,2011,420,null,408,2231,10202,4522,7341,242,48491,2451]
["SPL3282",null,-43.965398299999997,-19.9177699,37854,5089,2517,677,2012,472,null,369,1796,9318,4781,9155,392,51333,2546,{"$f":"SUM($E34:$H34*TRANSPOSE(M$63:M$66))","v":74053.002979446115},{"$f":"SUM($E34:$H34*TRANSPOSE(N$63:N$66))","v":26058.374549260858},{"$f":"SUM($E34:$H34*TRANSPOSE(O$63:O$66))","v":724.34225408849636},null,"SPL3282",null,-43.965398299999997,-19.9177699,37854,5089,2517,677,2012,472,null,369,1796,9318,4781,9155,392,51333,2546,null,"SPL3282",null,-43.965398299999997,-19.9177699,37854,5089,2517,677,2012,472,null,369,1796,9318,4781,9155,392,51333,2546,null,"SPL3282",null,-43.965398299999997,-19.9177699,37854,5089,2517,677,2012,472,null,369,1796,9318,4781,9155,392,51333,2546,null,"SPL3282",null,-43.965398299999997,-19.9177699,37854,5089,2517,677,2012,472,null,369,1796,9318,4781,9155,392,51333,2546]
["SPL3283",null,-43.927084299999997,-19.937569799999999,10703,1227,402,141,2013,394,null,391,2092,5906,4566,4837,492,64123,3295,{"$f":"SUM($E35:$H35*TRANSPOSE(M$63:M$66))","v":20156.082770012126},{"$f":"SUM($E35:$H35*TRANSPOSE(N$63:N$66))","v":5329.363520970348},{"$f":"SUM($E35:$H35*TRANSPOSE(O$63:O$66))","v":130.87058787856591},null,"SPL3283",null,-43.927084299999997,-19.937569799999999,10703,1227,402,141,2013,394,null,391,2092,5906,4566,4837,492,64123,3295,null,"SPL3283",null,-43.927084299999997,-19.937569799999999,10703,1227,402,141,2013,394,null,391,2092,5906,4566,4837,492,64123,3295,null,"SPL3283",null,-43.927084299999997,-19.937569799999999,10703,1227,402,141,2013,394,null,391,2092,5906,4566,4837,492,64123,3295,null,"SPL3283",null,-43.927084299999997,-19.937569799999999,10703,1227,402,141,2013,394,null,391,2092,5906,4566,4837,492,64123,3295]
["SPL3284",null,-43.935591000000002,-19.840201,41728,7056,3475,1221,2014,799,null,473,1273,5599,7138,5336,461,55650,2466,{"$f":"SUM($E36:$H36*TRANSPOSE(M$63:M$66))","v":85409.925728202783},{"$f":"SUM($E36:$H36*TRANSPOSE(N$63:N$66))","v":34458.388135485395},{"$f":"SUM($E36:$H36*TRANSPOSE(O$63:O$66))","v":1004.0652531990218},null,"SPL3284",null,-43.935591000000002,-19.840201,41728,7056,3475,1221,2014,799,null,473,1273,5599,7138,5336,461,55650,2466,null,"SPL3284",null,-43.935591000000002,-19.840201,41728,7056,3475,1221,2014,799,null,473,1273,5599,7138,5336,461,55650,2466,null,"SPL3284",null,-43.935591000000002,-19.840201,41728,7056,3475,1221,2014,799,null,473,1273,5599,7138,5336,461,55650,2466,null,"SPL3284",null,-43.935591000000002,-19.840201,41728,7056,3475,1221,2014,799,null,473,1273,5599,7138,5336,461,55650,2466]
["SPL3285",null,-43.9541203,-19.9276552,9925,2121,3500,1230,2015,209,null,187,717,4403,7772,4590,519,53023,2216,{"$f":"SUM($E37:$H37*TRANSPOSE(M$63:M$66))","v":24683.217635531779},{"$f":"SUM($E37:$H37*TRANSPOSE(N$63:N$66))","v":27109.773314320304},{"$f":"SUM($E37:$H37*TRANSPOSE(O$63:O$66))","v":930.75870371524513},null,"SPL3285",null,-43.9541203,-19.9276552,9925,2121,3500,1230,2015,209,null,187,717,4403,7772,4590,519,53023,2216,null,"SPL3285",null,-43.9541203,-19.9276552,9925,2121,3500,1230,2015,209,null,187,717,4403,7772,4590,519,53023,2216,null,"SPL3285",null,-43.9541203,-19.9276552,9925,2121,3500,1230,2015,209,null,187,717,4403,7772,4590,519,53023,2216,null,"SPL3285",null,-43.9541203,-19.9276552,9925,2121,3500,1230,2015,209,null,187,717,4403,7772,4590,519,53023,2216]
["SPL3286",null,-43.965558999999999,-19.849489599999998,38385,7570,1803,633,2016,272,null,168,570,2840,5014,3165,449,40082,1862,{"$f":"SUM($E38:$H38*TRANSPOSE(M$63:M$66))","v":78774.014592675871},{"$f":"SUM($E38:$H38*TRANSPOSE(N$63:N$66))","v":21959.237075272024},{"$f":"SUM($E38:$H38*TRANSPOSE(O$63:O$66))","v":562.8933889535374},null,"SPL3286",null,-43.965558999999999,-19.849489599999998,38385,7570,1803,633,2016,272,null,168,570,2840,5014,3165,449,40082,1862,null,"SPL3286",null,-43.965558999999999,-19.849489599999998,38385,7570,1803,633,2016,272,null,168,570,2840,5014,3165,449,40082,1862,null,"SPL3286",null,-43.965558999999999,-19.849489599999998,38385,7570,1803,633,2016,272,null,168,570,2840,5014,3165,449,40082,1862,null,"SPL3286",null,-43.965558999999999,-19.849489599999998,38385,7570,1803,633,2016,272,null,168,570,2840,5014,3165,449,40082,1862]
["SPL3290",null,-43.939595300000001,-19.837233600000001,34007,6447,2933,789,2017,281,null,93,299,3672,4695,1866,275,34847,2583,{"$f":"SUM($E39:$H39*TRANSPOSE(M$63:M$66))","v":70942.438616701533},{"$f":"SUM($E39:$H39*TRANSPOSE(N$63:N$66))","v":28168.591091446739},{"$f":"SUM($E39:$H39*TRANSPOSE(O$63:O$66))","v":818.71898354728057},null,"SPL3290",null,-43.939595300000001,-19.837233600000001,34007,6447,2933,789,2017,281,null,93,299,3672,4695,1866,275,34847,2583,null,"SPL3290",null,-43.939595300000001,-19.837233600000001,34007,6447,2933,789,2017,281,null,93,299,3672,4695,1866,275,34847,2583,null,"SPL3290",null,-43.939595300000001,-19.837233600000001,34007,6447,2933,789,2017,281,null,93,299,3672,4695,1866,275,34847,2583,null,"SPL3290",null,-43.939595300000001,-19.837233600000001,34007,6447,2933,789,2017,281,null,93,299,3672,4695,1866,275,34847,2583]
["SPL3292",null,-43.947625000000002,-19.819562000000001,12501,7610,4824,940,2018,188,null,173,699,4076,6148,2561,494,55358,3654,{"$f":"SUM($E40:$H40*TRANSPOSE(M$63:M$66))","v":40632.981796586682},{"$f":"SUM($E40:$H40*TRANSPOSE(N$63:N$66))","v":35376.76238612755},{"$f":"SUM($E40:$H40*TRANSPOSE(O$63:O$66))","v":1199.5427326912461},null,"SPL3292",null,-43.947625000000002,-19.819562000000001,12501,7610,4824,940,2018,188,null,173,699,4076,6148,2561,494,55358,3654,null,"SPL3292",null,-43.947625000000002,-19.819562000000001,12501,7610,4824,940,2018,188,null,173,699,4076,6148,2561,494,55358,3654,null,"SPL3292",null,-43.947625000000002,-19.819562000000001,12501,7610,4824,940,2018,188,null,173,699,4076,6148,2561,494,55358,3654,null,"SPL3292",null,-43.947625000000002,-19.819562000000001,12501,7610,4824,940,2018,188,null,173,699,4076,6148,2561,494,55358,3654]
["SPL3295",null,-43.929243,-19.902055000000001,55306,9859,1364,367,2019,363,null,272,1163,4486,8330,2561,361,64656,5965,{"$f":"SUM($E41:$H41*TRANSPOSE(M$63:M$66))","v":109829.20672634026},{"$f":"SUM($E41:$H41*TRANSPOSE(N$63:N$66))","v":22513.198703344882},{"$f":"SUM($E41:$H41*TRANSPOSE(O$63:O$66))","v":479.84564614844993},null,"SPL3295",null,-43.929243,-19.902055000000001,55306,9859,1364,367,2019,363,null,272,1163,4486,8330,2561,361,64656,5965,null,"SPL3295",null,-43.929243,-19.902055000000001,55306,9859,1364,367,2019,363,null,272,1163,4486,8330,2561,361,64656,5965,null,"SPL3295",null,-43.929243,-19.902055000000001,55306,9859,1364,367,2019,363,null,272,1163,4486,8330,2561,361,64656,5965,null,"SPL3295",null,-43.929243,-19.902055000000001,55306,9859,1364,367,2019,363,null,272,1163,4486,8330,2561,361,64656,5965]
["SPL3296",null,-43.963338100000001,-19.9636958,27664,5418,1141,222,2020,561,null,238,1472,3923,8031,2925,510,86744,7280,{"$f":"SUM($E42:$H42*TRANSPOSE(M$63:M$66))","v":56404.497626635348},{"$f":"SUM($E42:$H42*TRANSPOSE(N$63:N$66))","v":14193.069342573037},{"$f":"SUM($E42:$H42*TRANSPOSE(O$63:O$66))","v":345.68215629473212},null,"SPL3296",null,-43.963338100000001,-19.9636958,27664,5418,1141,222,2020,561,null,238,1472,3923,8031,2925,510,86744,7280,null,"SPL3296",null,-43.963338100000001,-19.9636958,27664,5418,1141,222,2020,561,null,238,1472,3923,8031,2925,510,86744,7280,null,"SPL3296",null,-43.963338100000001,-19.9636958,27664,5418,1141,222,2020,561,null,238,1472,3923,8031,2925,510,86744,7280,null,"SPL3296",null,-43.963338100000001,-19.9636958,27664,5418,1141,222,2020,561,null,238,1472,3923,8031,2925,510,86744,7280]
["SPL3299",null,-43.941103599999998,-19.929055300000002,22407,4737,881,172,2021,175,null,412,2067,4248,7180,1564,150,127283,10740,{"$f":"SUM($E43:$H43*TRANSPOSE(M$63:M$66))","v":46293.47571889995},{"$f":"SUM($E43:$H43*TRANSPOSE(N$63:N$66))","v":11244.663202419571},{"$f":"SUM($E43:$H43*TRANSPOSE(O$63:O$66))","v":269.60056138442798},null,"SPL3299",null,-43.941103599999998,-19.929055300000002,22407,4737,881,172,2021,175,null,412,2067,4248,7180,1564,150,127283,10740,null,"SPL3299",null,-43.941103599999998,-19.929055300000002,22407,4737,881,172,2021,175,null,412,2067,4248,7180,1564,150,127283,10740,null,"SPL3299",null,-43.941103599999998,-19.929055300000002,22407,4737,881,172,2021,175,null,412,2067,4248,7180,1564,150,127283,10740,null,"SPL3299",null,-43.941103599999998,-19.929055300000002,22407,4737,881,172,2021,175,null,412,2067,4248,7180,1564,150,127283,10740]
["SPL3300",null,-43.936725000000003,-19.913972000000001,52675,6287,3314,892,2022,239,null,470,4601,6938,11020,2879,232,209009,20006,{"$f":"SUM($E44:$H44*TRANSPOSE(M$63:M$66))","v":101299.69591699181},{"$f":"SUM($E44:$H44*TRANSPOSE(N$63:N$66))","v":34902.89669357767},{"$f":"SUM($E44:$H44*TRANSPOSE(O$63:O$66))","v":960.88262465441835},null,"SPL3300",null,-43.936725000000003,-19.913972000000001,52675,6287,3314,892,2022,239,null,470,4601,6938,11020,2879,232,209009,20006,null,"SPL3300",null,-43.936725000000003,-19.913972000000001,52675,6287,3314,892,2022,239,null,470,4601,6938,11020,2879,232,209009,20006,null,"SPL3300",null,-43.936725000000003,-19.913972000000001,52675,6287,3314,892,2022,239,null,470,4601,6938,11020,2879,232,209009,20006,null,"SPL3300",null,-43.936725000000003,-19.913972000000001,52675,6287,3314,892,2022,239,null,470,4601,6938,11020,2879,232,209009,20006]
["SPL3301",null,-43.922157599999998,-19.9295212,29728,5895,1043,281,null,null,null,null,null,null,null,null,null,null,null,{"$f":"SUM($E45:$H45*TRANSPOSE(M$63:M$66))","v":60561.226628090655},{"$f":"SUM($E45:$H45*TRANSPOSE(N$63:N$66))","v":14271.764422248321},{"$f":"SUM($E45:$H45*TRANSPOSE(O$63:O$66))","v":335.43779310120021},null,"SPL3301",null,-43.922157599999998,-19.9295212,29728,5895,1043,281,null,null,null,null,null,null,null,null,null,null,null,null,"SPL3301",null,-43.922157599999998,-19.9295212,29728,5895,1043,281,null,null,null,null,null,null,null,null,null,null,null,null,"SPL3301",null,-43.922157599999998,-19.9295212,29728,5895,1043,281,null,null,null,null,null,null,null,null,null,null,null,null,"SPL3301",null,-43.922157599999998,-19.9295212,29728,5895,1043,281]
["SPL3302",null,-43.9121138,-19.918516100000002,36712,8249,1548,302,null,null,null,null,null,null,null,null,null,null,null,{"$f":"SUM($E46:$H46*TRANSPOSE(M$63:M$66))","v":76902.867609925263},{"$f":"SUM($E46:$H46*TRANSPOSE(N$63:N$66))","v":19159.502532638609},{"$f":"SUM($E46:$H46*TRANSPOSE(O$63:O$66))","v":467.01769873050318},null,"SPL3302",null,-43.9121138,-19.918516100000002,36712,8249,1548,302,null,null,null,null,null,null,null,null,null,null,null,null,"SPL3302",null,-43.9121138,-19.918516100000002,36712,8249,1548,302,null,null,null,null,null,null,null,null,null,null,null,null,"SPL3302",null,-43.9121138,-19.918516100000002,36712,8249,1548,302,null,null,null,null,null,null,null,null,null,null,null,null,"SPL3302",null,-43.9121138,-19.918516100000002,36712,8249,1548,302]
["SPL3303",null,-43.909329700000001,-19.9103259,27318,6586,1407,379,null,null,null,null,null,null,null,null,null,null,null,{"$f":"SUM($E47:$H47*TRANSPOSE(M$63:M$66))","v":58442.031104077694},{"$f":"SUM($E47:$H47*TRANSPOSE(N$63:N$66))","v":16284.409871215499},{"$f":"SUM($E47:$H47*TRANSPOSE(O$63:O$66))","v":420.41652975141056},null,"SPL3303",null,-43.909329700000001,-19.9103259,27318,6586,1407,379,null,null,null,null,null,null,null,null,null,null,null,null,"SPL3303",null,-43.909329700000001,-19.9103259,27318,6586,1407,379,null,null,null,null,null,null,null,null,null,null,null,null,"SPL3303",null,-43.909329700000001,-19.9103259,27318,6586,1407,379,null,null,null,null,null,null,null,null,null,null,null,null,"SPL3303",null,-43.909329700000001,-19.9103259,27318,6586,1407,379]
["SPL3304",null,-43.999951000000003,-19.875145,8898,1474,296,80,null,null,null,null,null,null,null,null,null,null,null,{"$f":"SUM($E48:$H48*TRANSPOSE(M$63:M$66))","v":17555.495309249898},{"$f":"SUM($E48:$H48*TRANSPOSE(N$63:N$66))","v":4134.9982218638515},{"$f":"SUM($E48:$H48*TRANSPOSE(O$63:O$66))","v":96.380545038346483},null,"SPL3304",null,-43.999951000000003,-19.875145,8898,1474,296,80,null,null,null,null,null,null,null,null,null,null,null,null,"SPL3304",null,-43.999951000000003,-19.875145,8898,1474,296,80,null,null,null,null,null,null,null,null,null,null,null,null,"SPL3304",null,-43.999951000000003,-19.875145,8898,1474,296,80,null,null,null,null,null,null,null,null,null,null,null,null,"SPL3304",null,-43.999951000000003,-19.875145,8898,1474,296,80]
["SPL3305",null,-44.0066068,-19.9468672,19307,6064,2684,523,null,null,null,null,null,null,null,null,null,null,null,{"$f":"SUM($E49:$H49*TRANSPOSE(M$63:M$66))","v":46040.971203412802},{"$f":"SUM($E49:$H49*TRANSPOSE(N$63:N$66))","v":22597.849503125617},{"$f":"SUM($E49:$H49*TRANSPOSE(O$63:O$66))","v":698.39968408243249},null,"SPL3305",null,-44.0066068,-19.9468672,19307,6064,2684,523,null,null,null,null,null,null,null,null,null,null,null,null,"SPL3305",null,-44.0066068,-19.9468672,19307,6064,2684,523,null,null,null,null,null,null,null,null,null,null,null,null,"SPL3305",null,-44.0066068,-19.9468672,19307,6064,2684,523,null,null,null,null,null,null,null,null,null,null,null,null,"SPL3305",null,-44.0066068,-19.9468672,19307,6064,2684,523]
[null,null,null,null,null,null,null,null,null,null,null,null,null,null,null,null,null,null,null,{"$f":"SUM($E50:$H50*TRANSPOSE(M$63:M$66))","v":0},{"$f":"SUM($E50:$H50*TRANSPOSE(N$63:N$66))","v":0},{"$f":"SUM($E50:$H50*TRANSPOSE(O$63:O$66))","v":0}]
[null,null,null,null,null,null,null,null,null,null,null,null,null,null,null,null,null,null,null,{"$f":"SUM($E51:$H51*TRANSPOSE(M$63:M$66))","v":0},{"$f":"SUM($E51:$H51*TRANSPOSE(N$63:N$66))","v":0},{"$f":"SUM($E51:$H51*TRANSPOSE(O$63:O$66))","v":0}]
[null,null,null,null,null,null,null,null,null,"Contribuição por tipologia: Cenário Base",null,null,null,null,null,null,null,null,null,{"$f":"SUM($E52:$H52*TRANSPOSE(M$63:M$66))","v":0},{"$f":"SUM($E52:$H52*TRANSPOSE(N$63:N$66))","v":0},{"$f":"SUM($E52:$H52*TRANSPOSE(O$63:O$66))","v":0}]
[null,null,null,null,null,null,null,null,null,null,null,null,null,null,null,null,null,null,null,{"$f":"SUM($E53:$H53*TRANSPOSE(M$63:M$66))","v":0},{"$f":"SUM($E53:$H53*TRANSPOSE(N$63:N$66))","v":0},{"$f":"SUM($E53:$H53*TRANSPOSE(O$63:O$66))","v":0}]
[null,null,null,null,null,null,null,null,null,null,"Tipologia","CO","NOx","MP",null,null,null,null,null,{"$f":"SUM($E54:$H54*TRANSPOSE(M$63:M$66))","v":0},{"$f":"SUM($E54:$H54*TRANSPOSE(N$63:N$66))","v":0},{"$f":"SUM($E54:$H54*TRANSPOSE(O$63:O$66))","v":0}]
[null,null,null,null,null,null,null,null,null,null,"Automóveis",{"$f":"SUM($E$5:$E$1006)*M63","v":2343462.2969945809},{"$f":"SUM($E$5:$E$1006)*N63","v":322173.50770750653},{"$f":"SUM($E$5:$E$1006)*O63","v":3638.0907578233196},null,null,null,null,null,{"$f":"SUM($E55:$H55*TRANSPOSE(M$63:M$66))","v":0},{"$f":"SUM($E55:$H55*TRANSPOSE(N$63:N$66))","v":0},{"$f":"SUM($E55:$H55*TRANSPOSE(O$63:O$66))","v":0}]
[null,null,null,null,null,null,null,null,null,null,"Motos",{"$f":"SUM($F$5:$F$1006)*M64","v":525420.5003198036},{"$f":"SUM($F$5:$F$1006)*N64","v":25773.18151596254},{"$f":"SUM($F$5:$F$1006)*O64","v":0},null,null,null,null,null,{"$f":"SUM($E56:$H56*TRANSPOSE(M$63:M$66))","v":0},{"$f":"SUM($E56:$H56*TRANSPOSE(N$63:N$66))","v":0},{"$f":"SUM($E56:$H56*TRANSPOSE(O$63:O$66))","v":0}]
[null,null,null,null,null,null,null,null,null,null,"Ônibus",{"$f":"SUM($G$5:$G$1006)*M65","v":95661.062502546571},{"$f":"SUM($G$5:$G$1006)*N65","v":504259.45856675191},{"$f":"SUM($G$5:$G$1006)*O65","v":18446.364304747396},null,null,null,null,null,{"$f":"SUM($E57:$H57*TRANSPOSE(M$63:M$66))","v":0},{"$f":"SUM($E57:$H57*TRANSPOSE(N$63:N$66))","v":0},{"$f":"SUM($E57:$H57*TRANSPOSE(O$63:O$66))","v":0}]
[null,null,null,null,null,null,null,null,null,null,"Caminhões",{"$f":"SUM($H$5:$H$1006)*M66","v":10963.52491589646},{"$f":"SUM($H$5:$H$1006)*N66","v":64242.173376179926},{"$f":"SUM($H$5:$H$1006)*O66","v":2387.2785091736687},null,null,null,null,null,{"$f":"SUM($E58:$H58*TRANSPOSE(M$63:M$66))","v":0},{"$f":"SUM($E58:$H58*TRANSPOSE(N$63:N$66))","v":0},{"$f":"SUM($E58:$H58*TRANSPOSE(O$63:O$66))","v":0}]
[null,null,null,null,null,null,null,null,null,null,null,null,null,null,null,null,null,null,null,{"$f":"SUM($E59:$H59*TRANSPOSE(M$63:M$66))","v":0},{"$f":"SUM($E59:$H59*TRANSPOSE(N$63:N$66))","v":0},{"$f":"SUM($E59:$H59*TRANSPOSE(O$63:O$66))","v":0}]
[null,null,null,null,null,null,null,null,null,"Fatores de emissão",null,null,null,null,null,null,null,null,null,{"$f":"SUM($E60:$H60*TRANSPOSE(M$63:M$66))","v":0},{"$f":"SUM($E60:$H60*TRANSPOSE(N$63:N$66))","v":0},{"$f":"SUM($E60:$H60*TRANSPOSE(O$63:O$66))","v":0}]
[null,null,null,null,null,null,null,null,null,null,null,null,null,null,null,null,null,null,null,{"$f":"SUM($E61:$H61*TRANSPOSE(M$63:M$66))","v":0},{"$f":"SUM($E61:$H61*TRANSPOSE(N$63:N$66))","v":0},{"$f":"SUM($E61:$H61*TRANSPOSE(O$63:O$66))","v":0}]
[null,null,null,null,null,null,null,null,null,null,"Tipologia agrupada","ID","CO","NOx","MP",null,null,null,null,{"$f":"SUM($E62:$H62*TRANSPOSE(M$63:M$66))","v":0},{"$f":"SUM($E62:$H62*TRANSPOSE(N$63:N$66))","v":0},{"$f":"SUM($E62:$H62*TRANSPOSE(O$63:O$66))","v":0}]
[null,null,null,null,null,null,null,null,null,null,"Automóveis",1,1.6162845596266386,0.22220287763801855,2.5091890430374636E-3,null,null,null,null,{"$f":"SUM($E63:$H63*TRANSPOSE(M$63:M$66))","v":0},{"$f":"SUM($E63:$H63*TRANSPOSE(N$63:N$66))","v":0},{"$f":"SUM($E63:$H63*TRANSPOSE(O$63:O$66))","v":0}]
[null,null,null,null,null,null,null,null,null,null,"Motos",2,1.8960719581386585,9.3007042387364375E-2,0,null,null,null,null,{"$f":"SUM($E64:$H64*TRANSPOSE(M$63:M$66))","v":0},{"$f":"SUM($E64:$H64*TRANSPOSE(N$63:N$66))","v":0},{"$f":"SUM($E64:$H64*TRANSPOSE(O$63:O$66))","v":0}]
[null,null,null,null,null,null,null,null,null,null,"Ônibus",3,1.1483093955122869,6.0530989192465361,0.22142900036908983,null,null,null,null,{"$f":"SUM($E65:$H65*TRANSPOSE(M$63:M$66))","v":0},{"$f":"SUM($E65:$H65*TRANSPOSE(N$63:N$66))","v":0},{"$f":"SUM($E65:$H65*TRANSPOSE(O$63:O$66))","v":0}]
[null,null,null,null,null,null,null,null,null,null,"Caminhões",4,0.48857062905064436,2.8628419508101572,0.10638496030185689,null,null,null,null,{"$f":"SUM($E66:$H66*TRANSPOSE(M$63:M$66))","v":0},{"$f":"SUM($E66:$H66*TRANSPOSE(N$63:N$66))","v":0},{"$f":"SUM($E66:$H66*TRANSPOSE(O$63:O$66))","v":0}]
[null,null,null,null,null,null,null,null,null,null,null,null,null,null,null,null,null,null,null,{"$f":"SUM($E67:$H67*TRANSPOSE(M$63:M$66))","v":0},{"$f":"SUM($E67:$H67*TRANSPOSE(N$63:N$66))","v":0},{"$f":"SUM($E67:$H67*TRANSPOSE(O$63:O$66))","v":0}]
[null,null,null,null,null,null,null,null,null,null,null,null,null,null,null,null,null,null,null,{"$f":"SUM($E68:$H68*TRANSPOSE(M$63:M$66))","v":0},{"$f":"SUM($E68:$H68*TRANSPOSE(N$63:N$66))","v":0},{"$f":"SUM($E68:$H68*TRANSPOSE(O$63:O$66))","v":0}]
[null,null,null,null,null,null,null,null,null,"Total de emissões",null,null,null,null,null,null,null,null,null,{"$f":"SUM($E69:$H69*TRANSPOSE(M$63:M$66))","v":0},{"$f":"SUM($E69:$H69*TRANSPOSE(N$63:N$66))","v":0},{"$f":"SUM($E69:$H69*TRANSPOSE(O$63:O$66))","v":0}]
[null,null,null,null,null,null,null,null,null,null,null,null,null,null,null,null,null,null,null,{"$f":"SUM($E70:$H70*TRANSPOSE(M$63:M$66))","v":0},{"$f":"SUM($E70:$H70*TRANSPOSE(N$63:N$66))","v":0},{"$f":"SUM($E70:$H70*TRANSPOSE(O$63:O$66))","v":0}]
[null,null,null,null,null,null,null,null,null,null,"CO","NOx","MP",null,null,null,null,null,null,{"$f":"SUM($E71:$H71*TRANSPOSE(M$63:M$66))","v":0},{"$f":"SUM($E71:$H71*TRANSPOSE(N$63:N$66))","v":0},{"$f":"SUM($E71:$H71*TRANSPOSE(O$63:O$66))","v":0}]
[null,null,null,null,null,null,null,null,null,null,{"$f":"SUM($E$5:$H$1006*TRANSPOSE(M63:M66))","v":2975507.3847328285},{"$f":"SUM($E$5:$H$1006*TRANSPOSE(N63:N66))","v":916448.32116640068},{"$f":"SUM($E$5:$H$1006*TRANSPOSE(O63:O66))","v":24471.733571744389},null,null,null,null,null,null,{"$f":"SUM($E72:$H72*TRANSPOSE(M$63:M$66))","v":0},{"$f":"SUM($E72:$H72*TRANSPOSE(N$63:N$66))","v":0},{"$f":"SUM($E72:$H72*TRANSPOSE(O$63:O$66))","v":0}]
[null,null,null,null,null,null,null,null,null,null,null,null,null,null,null,null,null,null,null,{"$f":"SUM($E73:$H73*TRANSPOSE(M$63:M$66))","v":0},{"$f":"SUM($E73:$H73*TRANSPOSE(N$63:N$66))","v":0},{"$f":"SUM($E73:$H73*TRANSPOSE(O$63:O$66))","v":0}]
[null,null,null,null,null,null,null,null,null,null,{"$f":"('Dados de entrada'!AP1013-Cenários!K72)/Cenários!K72","v":-4.6949433534968466E-16},{"$f":"('Dados de entrada'!AQ1013-Cenários!L72)/Cenários!L72","v":2.5405758107291495E-16},{"$f":"('Dados de entrada'!AR1013-Cenários!M72)/Cenários!M72","v":1.4866044517958485E-16},null,null,null,null,null,null,{"$f":"SUM($E74:$H74*TRANSPOSE(M$63:M$66))","v":0},{"$f":"SUM($E74:$H74*TRANSPOSE(N$63:N$66))","v":0},{"$f":"SUM($E74:$H74*TRANSPOSE(O$63:O$66))","v":0}]
[null,null,null,null,null,null,null,null,null,null,null,null,null,null,null,null,null,null,null,{"$f":"SUM($E75:$H75*TRANSPOSE(M$63:M$66))","v":0},{"$f":"SUM($E75:$H75*TRANSPOSE(N$63:N$66))","v":0},{"$f":"SUM($E75:$H75*TRANSPOSE(O$63:O$66))","v":0}]
[null,null,null,null,null,null,null,null,null,null,null,null,null,null,null,null,null,null,null,{"$f":"SUM($E76:$H76*TRANSPOSE(M$63:M$66))","v":0},{"$f":"SUM($E76:$H76*TRANSPOSE(N$63:N$66))","v":0},{"$f":"SUM($E76:$H76*TRANSPOSE(O$63:O$66))","v":0}]
[null,null,null,null,null,null,null,null,null,null,null,null,null,null,null,null,null,null,null,{"$f":"SUM($E77:$H77*TRANSPOSE(M$63:M$66))","v":0},{"$f":"SUM($E77:$H77*TRANSPOSE(N$63:N$66))","v":0},{"$f":"SUM($E77:$H77*TRANSPOSE(O$63:O$66))","v":0}]
[null,null,null,null,null,null,null,null,null,null,null,null,null,null,null,null,null,null,null,{"$f":"SUM($E78:$H78*TRANSPOSE(M$63:M$66))","v":0},{"$f":"SUM($E78:$H78*TRANSPOSE(N$63:N$66))","v":0},{"$f":"SUM($E78:$H78*TRANSPOSE(O$63:O$66))","v":0}]
[null,null,null,null,null,null,null,null,null,null,null,null,null,null,null,null,null,null,null,{"$f":"SUM($E79:$H79*TRANSPOSE(M$63:M$66))","v":0},{"$f":"SUM($E79:$H79*TRANSPOSE(N$63:N$66))","v":0},{"$f":"SUM($E79:$H79*TRANSPOSE(O$63:O$66))","v":0}]
[null,null,null,null,null,null,null,null,null,null,null,null,null,null,null,null,null,null,null,{"$f":"SUM($E80:$H80*TRANSPOSE(M$63:M$66))","v":0},{"$f":"SUM($E80:$H80*TRANSPOSE(N$63:N$66))","v":0},{"$f":"SUM($E80:$H80*TRANSPOSE(O$63:O$66))","v":0}]
[null,null,null,null,null,null,null,null,null,null,null,null,null,null,null,null,null,null,null,{"$f":"SUM($E81:$H81*TRANSPOSE(M$63:M$66))","v":0},{"$f":"SUM($E81:$H81*TRANSPOSE(N$63:N$66))","v":0},{"$f":"SUM($E81:$H81*TRANSPOSE(O$63:O$66))","v":0}]
[null,null,null,null,null,null,null,null,null,null,null,null,null,null,null,null,null,null,null,{"$f":"SUM($E82:$H82*TRANSPOSE(M$63:M$66))","v":0},{"$f":"SUM($E82:$H82*TRANSPOSE(N$63:N$66))","v":0},{"$f":"SUM($E82:$H82*TRANSPOSE(O$63:O$66))","v":0}]
[null,null,null,null,null,null,null,null,null,null,null,null,null,null,null,null,null,null,null,{"$f":"SUM($E83:$H83*TRANSPOSE(M$63:M$66))","v":0},{"$f":"SUM($E83:$H83*TRANSPOSE(N$63:N$66))","v":0},{"$f":"SUM($E83:$H83*TRANSPOSE(O$63:O$66))","v":0}]
[null,null,null,null,null,null,null,null,null,null,null,null,null,null,null,null,null,null,null,{"$f":"SUM($E84:$H84*TRANSPOSE(M$63:M$66))","v":0},{"$f":"SUM($E84:$H84*TRANSPOSE(N$63:N$66))","v":0},{"$f":"SUM($E84:$H84*TRANSPOSE(O$63:O$66))","v":0}]
[null,null,null,null,null,null,null,null,null,null,null,null,null,null,null,null,null,null,null,{"$f":"SUM($E85:$H85*TRANSPOSE(M$63:M$66))","v":0},{"$f":"SUM($E85:$H85*TRANSPOSE(N$63:N$66))","v":0},{"$f":"SUM($E85:$H85*TRANSPOSE(O$63:O$66))","v":0}]
[null,null,null,null,null,null,null,null,null,null,null,null,null,null,null,null,null,null,null,{"$f":"SUM($E86:$H86*TRANSPOSE(M$63:M$66))","v":0},{"$f":"SUM($E86:$H86*TRANSPOSE(N$63:N$66))","v":0},{"$f":"SUM($E86:$H86*TRANSPOSE(O$63:O$66))","v":0}]
[null,null,null,null,null,null,null,null,null,null,null,null,null,null,null,null,null,null,null,{"$f":"SUM($E87:$H87*TRANSPOSE(M$63:M$66))","v":0},{"$f":"SUM($E87:$H87*TRANSPOSE(N$63:N$66))","v":0},{"$f":"SUM($E87:$H87*TRANSPOSE(O$63:O$66))","v":0}]
[null,null,null,null,null,null,null,null,null,null,null,null,null,null,null,null,null,null,null,{"$f":"SUM($E88:$H88*TRANSPOSE(M$63:M$66))","v":0},{"$f":"SUM($E88:$H88*TRANSPOSE(N$63:N$66))","v":0},{"$f":"SUM($E88:$H88*TRANSPOSE(O$63:O$66))","v":0}]
[null,null,null,null,null,null,null,null,null,null,null,null,null,null,null,null,null,null,null,{"$f":"SUM($E89:$H89*TRANSPOSE(M$63:M$66))","v":0},{"$f":"SUM($E89:$H89*TRANSPOSE(N$63:N$66))","v":0},{"$f":"SUM($E89:$H89*TRANSPOSE(O$63:O$66))","v":0}]
[null,null,null,null,null,null,null,null,null,null,null,null,null,null,null,null,null,null,null,{"$f":"SUM($E90:$H90*TRANSPOSE(M$63:M$66))","v":0},{"$f":"SUM($E90:$H90*TRANSPOSE(N$63:N$66))","v":0},{"$f":"SUM($E90:$H90*TRANSPOSE(O$63:O$66))","v":0}]
[null,null,null,null,null,null,null,null,null,null,null,null,null,null,null,null,null,null,null,{"$f":"SUM($E91:$H91*TRANSPOSE(M$63:M$66))","v":0},{"$f":"SUM($E91:$H91*TRANSPOSE(N$63:N$66))","v":0},{"$f":"SUM($E91:$H91*TRANSPOSE(O$63:O$66))","v":0}]
[null,null,null,null,null,null,null,null,null,null,null,null,null,null,null,null,null,null,null,{"$f":"SUM($E92:$H92*TRANSPOSE(M$63:M$66))","v":0},{"$f":"SUM($E92:$H92*TRANSPOSE(N$63:N$66))","v":0},{"$f":"SUM($E92:$H92*TRANSPOSE(O$63:O$66))","v":0}]
[null,null,null,null,null,null,null,null,null,null,null,null,null,null,null,null,null,null,null,{"$f":"SUM($E93:$H93*TRANSPOSE(M$63:M$66))","v":0},{"$f":"SUM($E93:$H93*TRANSPOSE(N$63:N$66))","v":0},{"$f":"SUM($E93:$H93*TRANSPOSE(O$63:O$66))","v":0}]
[null,null,null,null,null,null,null,null,null,null,null,null,null,null,null,null,null,null,null,{"$f":"SUM($E94:$H94*TRANSPOSE(M$63:M$66))","v":0},{"$f":"SUM($E94:$H94*TRANSPOSE(N$63:N$66))","v":0},{"$f":"SUM($E94:$H94*TRANSPOSE(O$63:O$66))","v":0}]
[null,null,null,null,null,null,null,null,null,null,null,null,null,null,null,null,null,null,null,{"$f":"SUM($E95:$H95*TRANSPOSE(M$63:M$66))","v":0},{"$f":"SUM($E95:$H95*TRANSPOSE(N$63:N$66))","v":0},{"$f":"SUM($E95:$H95*TRANSPOSE(O$63:O$66))","v":0}]
[null,null,null,null,null,null,null,null,null,null,null,null,null,null,null,null,null,null,null,{"$f":"SUM($E96:$H96*TRANSPOSE(M$63:M$66))","v":0},{"$f":"SUM($E96:$H96*TRANSPOSE(N$63:N$66))","v":0},{"$f":"SUM($E96:$H96*TRANSPOSE(O$63:O$66))","v":0}]
[null,null,null,null,null,null,null,null,null,null,null,null,null,null,null,null,null,null,null,{"$f":"SUM($E97:$H97*TRANSPOSE(M$63:M$66))","v":0},{"$f":"SUM($E97:$H97*TRANSPOSE(N$63:N$66))","v":0},{"$f":"SUM($E97:$H97*TRANSPOSE(O$63:O$66))","v":0}]
[null,null,null,null,null,null,null,null,null,null,null,null,null,null,null,null,null,null,null,{"$f":"SUM($E98:$H98*TRANSPOSE(M$63:M$66))","v":0},{"$f":"SUM($E98:$H98*TRANSPOSE(N$63:N$66))","v":0},{"$f":"SUM($E98:$H98*TRANSPOSE(O$63:O$66))","v":0}]
[null,null,null,null,null,null,null,null,null,null,null,null,null,null,null,null,null,null,null,{"$f":"SUM($E99:$H99*TRANSPOSE(M$63:M$66))","v":0},{"$f":"SUM($E99:$H99*TRANSPOSE(N$63:N$66))","v":0},{"$f":"SUM($E99:$H99*TRANSPOSE(O$63:O$66))","v":0}]
[null,null,null,null,null,null,null,null,null,null,null,null,null,null,null,null,null,null,null,{"$f":"SUM($E100:$H100*TRANSPOSE(M$63:M$66))","v":0},{"$f":"SUM($E100:$H100*TRANSPOSE(N$63:N$66))","v":0},{"$f":"SUM($E100:$H100*TRANSPOSE(O$63:O$66))","v":0}]
[null,null,null,null,null,null,null,null,null,null,null,null,null,null,null,null,null,null,null,{"$f":"SUM($E101:$H101*TRANSPOSE(M$63:M$66))","v":0},{"$f":"SUM($E101:$H101*TRANSPOSE(N$63:N$66))","v":0},{"$f":"SUM($E101:$H101*TRANSPOSE(O$63:O$66))","v":0}]
[null,null,null,null,null,null,null,null,null,null,null,null,null,null,null,null,null,null,null,{"$f":"SUM($E102:$H102*TRANSPOSE(M$63:M$66))","v":0},{"$f":"SUM($E102:$H102*TRANSPOSE(N$63:N$66))","v":0},{"$f":"SUM($E102:$H102*TRANSPOSE(O$63:O$66))","v":0}]
[null,null,null,null,null,null,null,null,null,null,null,null,null,null,null,null,null,null,null,{"$f":"SUM($E103:$H103*TRANSPOSE(M$63:M$66))","v":0},{"$f":"SUM($E103:$H103*TRANSPOSE(N$63:N$66))","v":0},{"$f":"SUM($E103:$H103*TRANSPOSE(O$63:O$66))","v":0}]
[null,null,null,null,null,null,null,null,null,null,null,null,null,null,null,null,null,null,null,{"$f":"SUM($E104:$H104*TRANSPOSE(M$63:M$66))","v":0},{"$f":"SUM($E104:$H104*TRANSPOSE(N$63:N$66))","v":0},{"$f":"SUM($E104:$H104*TRANSPOSE(O$63:O$66))","v":0}]
[null,null,null,null,null,null,null,null,null,null,null,null,null,null,null,null,null,null,null,{"$f":"SUM($E105:$H105*TRANSPOSE(M$63:M$66))","v":0},{"$f":"SUM($E105:$H105*TRANSPOSE(N$63:N$66))","v":0},{"$f":"SUM($E105:$H105*TRANSPOSE(O$63:O$66))","v":0}]
[null,null,null,null,null,null,null,null,null,null,null,null,null,null,null,null,null,null,null,{"$f":"SUM($E106:$H106*TRANSPOSE(M$63:M$66))","v":0},{"$f":"SUM($E106:$H106*TRANSPOSE(N$63:N$66))","v":0},{"$f":"SUM($E106:$H106*TRANSPOSE(O$63:O$66))","v":0}]
[null,null,null,null,null,null,null,null,null,null,null,null,null,null,null,null,null,null,null,{"$f":"SUM($E107:$H107*TRANSPOSE(M$63:M$66))","v":0},{"$f":"SUM($E107:$H107*TRANSPOSE(N$63:N$66))","v":0},{"$f":"SUM($E107:$H107*TRANSPOSE(O$63:O$66))","v":0}]
[null,null,null,null,null,null,null,null,null,null,null,null,null,null,null,null,null,null,null,{"$f":"SUM($E108:$H108*TRANSPOSE(M$63:M$66))","v":0},{"$f":"SUM($E108:$H108*TRANSPOSE(N$63:N$66))","v":0},{"$f":"SUM($E108:$H108*TRANSPOSE(O$63:O$66))","v":0}]
[null,null,null,null,null,null,null,null,null,null,null,null,null,null,null,null,null,null,null,{"$f":"SUM($E109:$H109*TRANSPOSE(M$63:M$66))","v":0},{"$f":"SUM($E109:$H109*TRANSPOSE(N$63:N$66))","v":0},{"$f":"SUM($E109:$H109*TRANSPOSE(O$63:O$66))","v":0}]
[null,null,null,null,null,null,null,null,null,null,null,null,null,null,null,null,null,null,null,{"$f":"SUM($E110:$H110*TRANSPOSE(M$63:M$66))","v":0},{"$f":"SUM($E110:$H110*TRANSPOSE(N$63:N$66))","v":0},{"$f":"SUM($E110:$H110*TRANSPOSE(O$63:O$66))","v":0}]
[null,null,null,null,null,null,null,null,null,null,null,null,null,null,null,null,null,null,null,{"$f":"SUM($E111:$H111*TRANSPOSE(M$63:M$66))","v":0},{"$f":"SUM($E111:$H111*TRANSPOSE(N$63:N$66))","v":0},{"$f":"SUM($E111:$H111*TRANSPOSE(O$63:O$66))","v":0}]
[null,null,null,null,null,null,null,null,null,null,null,null,null,null,null,null,null,null,null,{"$f":"SUM($E112:$H112*TRANSPOSE(M$63:M$66))","v":0},{"$f":"SUM($E112:$H112*TRANSPOSE(N$63:N$66))","v":0},{"$f":"SUM($E112:$H112*TRANSPOSE(O$63:O$66))","v":0}]
[null,null,null,null,null,null,null,null,null,null,null,null,null,null,null,null,null,null,null,{"$f":"SUM($E113:$H113*TRANSPOSE(M$63:M$66))","v":0},{"$f":"SUM($E113:$H113*TRANSPOSE(N$63:N$66))","v":0},{"$f":"SUM($E113:$H113*TRANSPOSE(O$63:O$66))","v":0}]
[null,null,null,null,null,null,null,null,null,null,null,null,null,null,null,null,null,null,null,{"$f":"SUM($E114:$H114*TRANSPOSE(M$63:M$66))","v":0},{"$f":"SUM($E114:$H114*TRANSPOSE(N$63:N$66))","v":0},{"$f":"SUM($E114:$H114*TRANSPOSE(O$63:O$66))","v":0}]
[null,null,null,null,null,null,null,null,null,null,null,null,null,null,null,null,null,null,null,{"$f":"SUM($E115:$H115*TRANSPOSE(M$63:M$66))","v":0},{"$f":"SUM($E115:$H115*TRANSPOSE(N$63:N$66))","v":0},{"$f":"SUM($E115:$H115*TRANSPOSE(O$63:O$66))","v":0}]
[null,null,null,null,null,null,null,null,null,null,null,null,null,null,null,null,null,null,null,{"$f":"SUM($E116:$H116*TRANSPOSE(M$63:M$66))","v":0},{"$f":"SUM($E116:$H116*TRANSPOSE(N$63:N$66))","v":0},{"$f":"SUM($E116:$H116*TRANSPOSE(O$63:O$66))","v":0}]
[null,null,null,null,null,null,null,null,null,null,null,null,null,null,null,null,null,null,null,{"$f":"SUM($E117:$H117*TRANSPOSE(M$63:M$66))","v":0},{"$f":"SUM($E117:$H117*TRANSPOSE(N$63:N$66))","v":0},{"$f":"SUM($E117:$H117*TRANSPOSE(O$63:O$66))","v":0}]
[null,null,null,null,null,null,null,null,null,null,null,null,null,null,null,null,null,null,null,{"$f":"SUM($E118:$H118*TRANSPOSE(M$63:M$66))","v":0},{"$f":"SUM($E118:$H118*TRANSPOSE(N$63:N$66))","v":0},{"$f":"SUM($E118:$H118*TRANSPOSE(O$63:O$66))","v":0}]
[null,null,null,null,null,null,null,null,null,null,null,null,null,null,null,null,null,null,null,{"$f":"SUM($E119:$H119*TRANSPOSE(M$63:M$66))","v":0},{"$f":"SUM($E119:$H119*TRANSPOSE(N$63:N$66))","v":0},{"$f":"SUM($E119:$H119*TRANSPOSE(O$63:O$66))","v":0}]
[null,null,null,null,null,null,null,null,null,null,null,null,null,null,null,null,null,null,null,{"$f":"SUM($E120:$H120*TRANSPOSE(M$63:M$66))","v":0},{"$f":"SUM($E120:$H120*TRANSPOSE(N$63:N$66))","v":0},{"$f":"SUM($E120:$H120*TRANSPOSE(O$63:O$66))","v":0}]
[null,null,null,null,null,null,null,null,null,null,null,null,null,null,null,null,null,null,null,{"$f":"SUM($E121:$H121*TRANSPOSE(M$63:M$66))","v":0},{"$f":"SUM($E121:$H121*TRANSPOSE(N$63:N$66))","v":0},{"$f":"SUM($E121:$H121*TRANSPOSE(O$63:O$66))","v":0}]
[null,null,null,null,null,null,null,null,null,null,null,null,null,null,null,null,null,null,null,{"$f":"SUM($E122:$H122*TRANSPOSE(M$63:M$66))","v":0},{"$f":"SUM($E122:$H122*TRANSPOSE(N$63:N$66))","v":0},{"$f":"SUM($E122:$H122*TRANSPOSE(O$63:O$66))","v":0}]
[null,null,null,null,null,null,null,null,null,null,null,null,null,null,null,null,null,null,null,{"$f":"SUM($E123:$H123*TRANSPOSE(M$63:M$66))","v":0},{"$f":"SUM($E123:$H123*TRANSPOSE(N$63:N$66))","v":0},{"$f":"SUM($E123:$H123*TRANSPOSE(O$63:O$66))","v":0}]
[null,null,null,null,null,null,null,null,null,null,null,null,null,null,null,null,null,null,null,{"$f":"SUM($E124:$H124*TRANSPOSE(M$63:M$66))","v":0},{"$f":"SUM($E124:$H124*TRANSPOSE(N$63:N$66))","v":0},{"$f":"SUM($E124:$H124*TRANSPOSE(O$63:O$66))","v":0}]
[null,null,null,null,null,null,null,null,null,null,null,null,null,null,null,null,null,null,null,{"$f":"SUM($E125:$H125*TRANSPOSE(M$63:M$66))","v":0},{"$f":"SUM($E125:$H125*TRANSPOSE(N$63:N$66))","v":0},{"$f":"SUM($E125:$H125*TRANSPOSE(O$63:O$66))","v":0}]
[null,null,null,null,null,null,null,null,null,null,null,null,null,null,null,null,null,null,null,{"$f":"SUM($E126:$H126*TRANSPOSE(M$63:M$66))","v":0},{"$f":"SUM($E126:$H126*TRANSPOSE(N$63:N$66))","v":0},{"$f":"SUM($E126:$H126*TRANSPOSE(O$63:O$66))","v":0}]
[null,null,null,null,null,null,null,null,null,null,null,null,null,null,null,null,null,null,null,{"$f":"SUM($E127:$H127*TRANSPOSE(M$63:M$66))","v":0},{"$f":"SUM($E127:$H127*TRANSPOSE(N$63:N$66))","v":0},{"$f":"SUM($E127:$H127*TRANSPOSE(O$63:O$66))","v":0}]
[null,null,null,null,null,null,null,null,null,null,null,null,null,null,null,null,null,null,null,{"$f":"SUM($E128:$H128*TRANSPOSE(M$63:M$66))","v":0},{"$f":"SUM($E128:$H128*TRANSPOSE(N$63:N$66))","v":0},{"$f":"SUM($E128:$H128*TRANSPOSE(O$63:O$66))","v":0}]
[null,null,null,null,null,null,null,null,null,null,null,null,null,null,null,null,null,null,null,{"$f":"SUM($E129:$H129*TRANSPOSE(M$63:M$66))","v":0},{"$f":"SUM($E129:$H129*TRANSPOSE(N$63:N$66))","v":0},{"$f":"SUM($E129:$H129*TRANSPOSE(O$63:O$66))","v":0}]
[null,null,null,null,null,null,null,null,null,null,null,null,null,null,null,null,null,null,null,{"$f":"SUM($E130:$H130*TRANSPOSE(M$63:M$66))","v":0},{"$f":"SUM($E130:$H130*TRANSPOSE(N$63:N$66))","v":0},{"$f":"SUM($E130:$H130*TRANSPOSE(O$63:O$66))","v":0}]
[null,null,null,null,null,null,null,null,null,null,null,null,null,null,null,null,null,null,null,{"$f":"SUM($E131:$H131*TRANSPOSE(M$63:M$66))","v":0},{"$f":"SUM($E131:$H131*TRANSPOSE(N$63:N$66))","v":0},{"$f":"SUM($E131:$H131*TRANSPOSE(O$63:O$66))","v":0}]
[null,null,null,null,null,null,null,null,null,null,null,null,null,null,null,null,null,null,null,{"$f":"SUM($E132:$H132*TRANSPOSE(M$63:M$66))","v":0},{"$f":"SUM($E132:$H132*TRANSPOSE(N$63:N$66))","v":0},{"$f":"SUM($E132:$H132*TRANSPOSE(O$63:O$66))","v":0}]
[null,null,null,null,null,null,null,null,null,null,null,null,null,null,null,null,null,null,null,{"$f":"SUM($E133:$H133*TRANSPOSE(M$63:M$66))","v":0},{"$f":"SUM($E133:$H133*TRANSPOSE(N$63:N$66))","v":0},{"$f":"SUM($E133:$H133*TRANSPOSE(O$63:O$66))","v":0}]
[null,null,null,null,null,null,null,null,null,null,null,null,null,null,null,null,null,null,null,{"$f":"SUM($E134:$H134*TRANSPOSE(M$63:M$66))","v":0},{"$f":"SUM($E134:$H134*TRANSPOSE(N$63:N$66))","v":0},{"$f":"SUM($E134:$H134*TRANSPOSE(O$63:O$66))","v":0}]
[null,null,null,null,null,null,null,null,null,null,null,null,null,null,null,null,null,null,null,{"$f":"SUM($E135:$H135*TRANSPOSE(M$63:M$66))","v":0},{"$f":"SUM($E135:$H135*TRANSPOSE(N$63:N$66))","v":0},{"$f":"SUM($E135:$H135*TRANSPOSE(O$63:O$66))","v":0}]
[null,null,null,null,null,null,null,null,null,null,null,null,null,null,null,null,null,null,null,{"$f":"SUM($E136:$H136*TRANSPOSE(M$63:M$66))","v":0},{"$f":"SUM($E136:$H136*TRANSPOSE(N$63:N$66))","v":0},{"$f":"SUM($E136:$H136*TRANSPOSE(O$63:O$66))","v":0}]
[null,null,null,null,null,null,null,null,null,null,null,null,null,null,null,null,null,null,null,{"$f":"SUM($E137:$H137*TRANSPOSE(M$63:M$66))","v":0},{"$f":"SUM($E137:$H137*TRANSPOSE(N$63:N$66))","v":0},{"$f":"SUM($E137:$H137*TRANSPOSE(O$63:O$66))","v":0}]
[null,null,null,null,null,null,null,null,null,null,null,null,null,null,null,null,null,null,null,{"$f":"SUM($E138:$H138*TRANSPOSE(M$63:M$66))","v":0},{"$f":"SUM($E138:$H138*TRANSPOSE(N$63:N$66))","v":0},{"$f":"SUM($E138:$H138*TRANSPOSE(O$63:O$66))","v":0}]
[null,null,null,null,null,null,null,null,null,null,null,null,null,null,null,null,null,null,null,{"$f":"SUM($E139:$H139*TRANSPOSE(M$63:M$66))","v":0},{"$f":"SUM($E139:$H139*TRANSPOSE(N$63:N$66))","v":0},{"$f":"SUM($E139:$H139*TRANSPOSE(O$63:O$66))","v":0}]
[null,null,null,null,null,null,null,null,null,null,null,null,null,null,null,null,null,null,null,{"$f":"SUM($E140:$H140*TRANSPOSE(M$63:M$66))","v":0},{"$f":"SUM($E140:$H140*TRANSPOSE(N$63:N$66))","v":0},{"$f":"SUM($E140:$H140*TRANSPOSE(O$63:O$66))","v":0}]
[null,null,null,null,null,null,null,null,null,null,null,null,null,null,null,null,null,null,null,{"$f":"SUM($E141:$H141*TRANSPOSE(M$63:M$66))","v":0},{"$f":"SUM($E141:$H141*TRANSPOSE(N$63:N$66))","v":0},{"$f":"SUM($E141:$H141*TRANSPOSE(O$63:O$66))","v":0}]
[null,null,null,null,null,null,null,null,null,null,null,null,null,null,null,null,null,null,null,{"$f":"SUM($E142:$H142*TRANSPOSE(M$63:M$66))","v":0},{"$f":"SUM($E142:$H142*TRANSPOSE(N$63:N$66))","v":0},{"$f":"SUM($E142:$H142*TRANSPOSE(O$63:O$66))","v":0}]
[null,null,null,null,null,null,null,null,null,null,null,null,null,null,null,null,null,null,null,{"$f":"SUM($E143:$H143*TRANSPOSE(M$63:M$66))","v":0},{"$f":"SUM($E143:$H143*TRANSPOSE(N$63:N$66))","v":0},{"$f":"SUM($E143:$H143*TRANSPOSE(O$63:O$66))","v":0}]
[null,null,null,null,null,null,null,null,null,null,null,null,null,null,null,null,null,null,null,{"$f":"SUM($E144:$H144*TRANSPOSE(M$63:M$66))","v":0},{"$f":"SUM($E144:$H144*TRANSPOSE(N$63:N$66))","v":0},{"$f":"SUM($E144:$H144*TRANSPOSE(O$63:O$66))","v":0}]
[null,null,null,null,null,null,null,null,null,null,null,null,null,null,null,null,null,null,null,{"$f":"SUM($E145:$H145*TRANSPOSE(M$63:M$66))","v":0},{"$f":"SUM($E145:$H145*TRANSPOSE(N$63:N$66))","v":0},{"$f":"SUM($E145:$H145*TRANSPOSE(O$63:O$66))","v":0}]
[null,null,null,null,null,null,null,null,null,null,null,null,null,null,null,null,null,null,null,{"$f":"SUM($E146:$H146*TRANSPOSE(M$63:M$66))","v":0},{"$f":"SUM($E146:$H146*TRANSPOSE(N$63:N$66))","v":0},{"$f":"SUM($E146:$H146*TRANSPOSE(O$63:O$66))","v":0}]
[null,null,null,null,null,null,null,null,null,null,null,null,null,null,null,null,null,null,null,{"$f":"SUM($E147:$H147*TRANSPOSE(M$63:M$66))","v":0},{"$f":"SUM($E147:$H147*TRANSPOSE(N$63:N$66))","v":0},{"$f":"SUM($E147:$H147*TRANSPOSE(O$63:O$66))","v":0}]
[null,null,null,null,null,null,null,null,null,null,null,null,null,null,null,null,null,null,null,{"$f":"SUM($E148:$H148*TRANSPOSE(M$63:M$66))","v":0},{"$f":"SUM($E148:$H148*TRANSPOSE(N$63:N$66))","v":0},{"$f":"SUM($E148:$H148*TRANSPOSE(O$63:O$66))","v":0}]
[null,null,null,null,null,null,null,null,null,null,null,null,null,null,null,null,null,null,null,{"$f":"SUM($E149:$H149*TRANSPOSE(M$63:M$66))","v":0},{"$f":"SUM($E149:$H149*TRANSPOSE(N$63:N$66))","v":0},{"$f":"SUM($E149:$H149*TRANSPOSE(O$63:O$66))","v":0}]
[null,null,null,null,null,null,null,null,null,null,null,null,null,null,null,null,null,null,null,{"$f":"SUM($E150:$H150*TRANSPOSE(M$63:M$66))","v":0},{"$f":"SUM($E150:$H150*TRANSPOSE(N$63:N$66))","v":0},{"$f":"SUM($E150:$H150*TRANSPOSE(O$63:O$66))","v":0}]
[null,null,null,null,null,null,null,null,null,null,null,null,null,null,null,null,null,null,null,{"$f":"SUM($E151:$H151*TRANSPOSE(M$63:M$66))","v":0},{"$f":"SUM($E151:$H151*TRANSPOSE(N$63:N$66))","v":0},{"$f":"SUM($E151:$H151*TRANSPOSE(O$63:O$66))","v":0}]
[null,null,null,null,null,null,null,null,null,null,null,null,null,null,null,null,null,null,null,{"$f":"SUM($E152:$H152*TRANSPOSE(M$63:M$66))","v":0},{"$f":"SUM($E152:$H152*TRANSPOSE(N$63:N$66))","v":0},{"$f":"SUM($E152:$H152*TRANSPOSE(O$63:O$66))","v":0}]
[null,null,null,null,null,null,null,null,null,null,null,null,null,null,null,null,null,null,null,{"$f":"SUM($E153:$H153*TRANSPOSE(M$63:M$66))","v":0},{"$f":"SUM($E153:$H153*TRANSPOSE(N$63:N$66))","v":0},{"$f":"SUM($E153:$H153*TRANSPOSE(O$63:O$66))","v":0}]
[null,null,null,null,null,null,null,null,null,null,null,null,null,null,null,null,null,null,null,{"$f":"SUM($E154:$H154*TRANSPOSE(M$63:M$66))","v":0},{"$f":"SUM($E154:$H154*TRANSPOSE(N$63:N$66))","v":0},{"$f":"SUM($E154:$H154*TRANSPOSE(O$63:O$66))","v":0}]
[null,null,null,null,null,null,null,null,null,null,null,null,null,null,null,null,null,null,null,{"$f":"SUM($E155:$H155*TRANSPOSE(M$63:M$66))","v":0},{"$f":"SUM($E155:$H155*TRANSPOSE(N$63:N$66))","v":0},{"$f":"SUM($E155:$H155*TRANSPOSE(O$63:O$66))","v":0}]
[null,null,null,null,null,null,null,null,null,null,null,null,null,null,null,null,null,null,null,{"$f":"SUM($E156:$H156*TRANSPOSE(M$63:M$66))","v":0},{"$f":"SUM($E156:$H156*TRANSPOSE(N$63:N$66))","v":0},{"$f":"SUM($E156:$H156*TRANSPOSE(O$63:O$66))","v":0}]
[null,null,null,null,null,null,null,null,null,null,null,null,null,null,null,null,null,null,null,{"$f":"SUM($E157:$H157*TRANSPOSE(M$63:M$66))","v":0},{"$f":"SUM($E157:$H157*TRANSPOSE(N$63:N$66))","v":0},{"$f":"SUM($E157:$H157*TRANSPOSE(O$63:O$66))","v":0}]
[null,null,null,null,null,null,null,null,null,null,null,null,null,null,null,null,null,null,null,{"$f":"SUM($E158:$H158*TRANSPOSE(M$63:M$66))","v":0},{"$f":"SUM($E158:$H158*TRANSPOSE(N$63:N$66))","v":0},{"$f":"SUM($E158:$H158*TRANSPOSE(O$63:O$66))","v":0}]
[null,null,null,null,null,null,null,null,null,null,null,null,null,null,null,null,null,null,null,{"$f":"SUM($E159:$H159*TRANSPOSE(M$63:M$66))","v":0},{"$f":"SUM($E159:$H159*TRANSPOSE(N$63:N$66))","v":0},{"$f":"SUM($E159:$H159*TRANSPOSE(O$63:O$66))","v":0}]
[null,null,null,null,null,null,null,null,null,null,null,null,null,null,null,null,null,null,null,{"$f":"SUM($E160:$H160*TRANSPOSE(M$63:M$66))","v":0},{"$f":"SUM($E160:$H160*TRANSPOSE(N$63:N$66))","v":0},{"$f":"SUM($E160:$H160*TRANSPOSE(O$63:O$66))","v":0}]
[null,null,null,null,null,null,null,null,null,null,null,null,null,null,null,null,null,null,null,{"$f":"SUM($E161:$H161*TRANSPOSE(M$63:M$66))","v":0},{"$f":"SUM($E161:$H161*TRANSPOSE(N$63:N$66))","v":0},{"$f":"SUM($E161:$H161*TRANSPOSE(O$63:O$66))","v":0}]
[null,null,null,null,null,null,null,null,null,null,null,null,null,null,null,null,null,null,null,{"$f":"SUM($E162:$H162*TRANSPOSE(M$63:M$66))","v":0},{"$f":"SUM($E162:$H162*TRANSPOSE(N$63:N$66))","v":0},{"$f":"SUM($E162:$H162*TRANSPOSE(O$63:O$66))","v":0}]
[null,null,null,null,null,null,null,null,null,null,null,null,null,null,null,null,null,null,null,{"$f":"SUM($E163:$H163*TRANSPOSE(M$63:M$66))","v":0},{"$f":"SUM($E163:$H163*TRANSPOSE(N$63:N$66))","v":0},{"$f":"SUM($E163:$H163*TRANSPOSE(O$63:O$66))","v":0}]
[null,null,null,null,null,null,null,null,null,null,null,null,null,null,null,null,null,null,null,{"$f":"SUM($E164:$H164*TRANSPOSE(M$63:M$66))","v":0},{"$f":"SUM($E164:$H164*TRANSPOSE(N$63:N$66))","v":0},{"$f":"SUM($E164:$H164*TRANSPOSE(O$63:O$66))","v":0}]
[null,null,null,null,null,null,null,null,null,null,null,null,null,null,null,null,null,null,null,{"$f":"SUM($E165:$H165*TRANSPOSE(M$63:M$66))","v":0},{"$f":"SUM($E165:$H165*TRANSPOSE(N$63:N$66))","v":0},{"$f":"SUM($E165:$H165*TRANSPOSE(O$63:O$66))","v":0}]
[null,null,null,null,null,null,null,null,null,null,null,null,null,null,null,null,null,null,null,{"$f":"SUM($E166:$H166*TRANSPOSE(M$63:M$66))","v":0},{"$f":"SUM($E166:$H166*TRANSPOSE(N$63:N$66))","v":0},{"$f":"SUM($E166:$H166*TRANSPOSE(O$63:O$66))","v":0}]
[null,null,null,null,null,null,null,null,null,null,null,null,null,null,null,null,null,null,null,{"$f":"SUM($E167:$H167*TRANSPOSE(M$63:M$66))","v":0},{"$f":"SUM($E167:$H167*TRANSPOSE(N$63:N$66))","v":0},{"$f":"SUM($E167:$H167*TRANSPOSE(O$63:O$66))","v":0}]
[null,null,null,null,null,null,null,null,null,null,null,null,null,null,null,null,null,null,null,{"$f":"SUM($E168:$H168*TRANSPOSE(M$63:M$66))","v":0},{"$f":"SUM($E168:$H168*TRANSPOSE(N$63:N$66))","v":0},{"$f":"SUM($E168:$H168*TRANSPOSE(O$63:O$66))","v":0}]
[null,null,null,null,null,null,null,null,null,null,null,null,null,null,null,null,null,null,null,{"$f":"SUM($E169:$H169*TRANSPOSE(M$63:M$66))","v":0},{"$f":"SUM($E169:$H169*TRANSPOSE(N$63:N$66))","v":0},{"$f":"SUM($E169:$H169*TRANSPOSE(O$63:O$66))","v":0}]
[null,null,null,null,null,null,null,null,null,null,null,null,null,null,null,null,null,null,null,{"$f":"SUM($E170:$H170*TRANSPOSE(M$63:M$66))","v":0},{"$f":"SUM($E170:$H170*TRANSPOSE(N$63:N$66))","v":0},{"$f":"SUM($E170:$H170*TRANSPOSE(O$63:O$66))","v":0}]
[null,null,null,null,null,null,null,null,null,null,null,null,null,null,null,null,null,null,null,{"$f":"SUM($E171:$H171*TRANSPOSE(M$63:M$66))","v":0},{"$f":"SUM($E171:$H171*TRANSPOSE(N$63:N$66))","v":0},{"$f":"SUM($E171:$H171*TRANSPOSE(O$63:O$66))","v":0}]
[null,null,null,null,null,null,null,null,null,null,null,null,null,null,null,null,null,null,null,{"$f":"SUM($E172:$H172*TRANSPOSE(M$63:M$66))","v":0},{"$f":"SUM($E172:$H172*TRANSPOSE(N$63:N$66))","v":0},{"$f":"SUM($E172:$H172*TRANSPOSE(O$63:O$66))","v":0}]
[null,null,null,null,null,null,null,null,null,null,null,null,null,null,null,null,null,null,null,{"$f":"SUM($E173:$H173*TRANSPOSE(M$63:M$66))","v":0},{"$f":"SUM($E173:$H173*TRANSPOSE(N$63:N$66))","v":0},{"$f":"SUM($E173:$H173*TRANSPOSE(O$63:O$66))","v":0}]
[null,null,null,null,null,null,null,null,null,null,null,null,null,null,null,null,null,null,null,{"$f":"SUM($E174:$H174*TRANSPOSE(M$63:M$66))","v":0},{"$f":"SUM($E174:$H174*TRANSPOSE(N$63:N$66))","v":0},{"$f":"SUM($E174:$H174*TRANSPOSE(O$63:O$66))","v":0}]
[null,null,null,null,null,null,null,null,null,null,null,null,null,null,null,null,null,null,null,{"$f":"SUM($E175:$H175*TRANSPOSE(M$63:M$66))","v":0},{"$f":"SUM($E175:$H175*TRANSPOSE(N$63:N$66))","v":0},{"$f":"SUM($E175:$H175*TRANSPOSE(O$63:O$66))","v":0}]
[null,null,null,null,null,null,null,null,null,null,null,null,null,null,null,null,null,null,null,{"$f":"SUM($E176:$H176*TRANSPOSE(M$63:M$66))","v":0},{"$f":"SUM($E176:$H176*TRANSPOSE(N$63:N$66))","v":0},{"$f":"SUM($E176:$H176*TRANSPOSE(O$63:O$66))","v":0}]
[null,null,null,null,null,null,null,null,null,null,null,null,null,null,null,null,null,null,null,{"$f":"SUM($E177:$H177*TRANSPOSE(M$63:M$66))","v":0},{"$f":"SUM($E177:$H177*TRANSPOSE(N$63:N$66))","v":0},{"$f":"SUM($E177:$H177*TRANSPOSE(O$63:O$66))","v":0}]
[null,null,null,null,null,null,null,null,null,null,null,null,null,null,null,null,null,null,null,{"$f":"SUM($E178:$H178*TRANSPOSE(M$63:M$66))","v":0},{"$f":"SUM($E178:$H178*TRANSPOSE(N$63:N$66))","v":0},{"$f":"SUM($E178:$H178*TRANSPOSE(O$63:O$66))","v":0}]
[null,null,null,null,null,null,null,null,null,null,null,null,null,null,null,null,null,null,null,{"$f":"SUM($E179:$H179*TRANSPOSE(M$63:M$66))","v":0},{"$f":"SUM($E179:$H179*TRANSPOSE(N$63:N$66))","v":0},{"$f":"SUM($E179:$H179*TRANSPOSE(O$63:O$66))","v":0}]
[null,null,null,null,null,null,null,null,null,null,null,null,null,null,null,null,null,null,null,{"$f":"SUM($E180:$H180*TRANSPOSE(M$63:M$66))","v":0},{"$f":"SUM($E180:$H180*TRANSPOSE(N$63:N$66))","v":0},{"$f":"SUM($E180:$H180*TRANSPOSE(O$63:O$66))","v":0}]
[null,null,null,null,null,null,null,null,null,null,null,null,null,null,null,null,null,null,null,{"$f":"SUM($E181:$H181*TRANSPOSE(M$63:M$66))","v":0},{"$f":"SUM($E181:$H181*TRANSPOSE(N$63:N$66))","v":0},{"$f":"SUM($E181:$H181*TRANSPOSE(O$63:O$66))","v":0}]
[null,null,null,null,null,null,null,null,null,null,null,null,null,null,null,null,null,null,null,{"$f":"SUM($E182:$H182*TRANSPOSE(M$63:M$66))","v":0},{"$f":"SUM($E182:$H182*TRANSPOSE(N$63:N$66))","v":0},{"$f":"SUM($E182:$H182*TRANSPOSE(O$63:O$66))","v":0}]
[null,null,null,null,null,null,null,null,null,null,null,null,null,null,null,null,null,null,null,{"$f":"SUM($E183:$H183*TRANSPOSE(M$63:M$66))","v":0},{"$f":"SUM($E183:$H183*TRANSPOSE(N$63:N$66))","v":0},{"$f":"SUM($E183:$H183*TRANSPOSE(O$63:O$66))","v":0}]
[null,null,null,null,null,null,null,null,null,null,null,null,null,null,null,null,null,null,null,{"$f":"SUM($E184:$H184*TRANSPOSE(M$63:M$66))","v":0},{"$f":"SUM($E184:$H184*TRANSPOSE(N$63:N$66))","v":0},{"$f":"SUM($E184:$H184*TRANSPOSE(O$63:O$66))","v":0}]
[null,null,null,null,null,null,null,null,null,null,null,null,null,null,null,null,null,null,null,{"$f":"SUM($E185:$H185*TRANSPOSE(M$63:M$66))","v":0},{"$f":"SUM($E185:$H185*TRANSPOSE(N$63:N$66))","v":0},{"$f":"SUM($E185:$H185*TRANSPOSE(O$63:O$66))","v":0}]
[null,null,null,null,null,null,null,null,null,null,null,null,null,null,null,null,null,null,null,{"$f":"SUM($E186:$H186*TRANSPOSE(M$63:M$66))","v":0},{"$f":"SUM($E186:$H186*TRANSPOSE(N$63:N$66))","v":0},{"$f":"SUM($E186:$H186*TRANSPOSE(O$63:O$66))","v":0}]
[null,null,null,null,null,null,null,null,null,null,null,null,null,null,null,null,null,null,null,{"$f":"SUM($E187:$H187*TRANSPOSE(M$63:M$66))","v":0},{"$f":"SUM($E187:$H187*TRANSPOSE(N$63:N$66))","v":0},{"$f":"SUM($E187:$H187*TRANSPOSE(O$63:O$66))","v":0}]
[null,null,null,null,null,null,null,null,null,null,null,null,null,null,null,null,null,null,null,{"$f":"SUM($E188:$H188*TRANSPOSE(M$63:M$66))","v":0},{"$f":"SUM($E188:$H188*TRANSPOSE(N$63:N$66))","v":0},{"$f":"SUM($E188:$H188*TRANSPOSE(O$63:O$66))","v":0}]
[null,null,null,null,null,null,null,null,null,null,null,null,null,null,null,null,null,null,null,{"$f":"SUM($E189:$H189*TRANSPOSE(M$63:M$66))","v":0},{"$f":"SUM($E189:$H189*TRANSPOSE(N$63:N$66))","v":0},{"$f":"SUM($E189:$H189*TRANSPOSE(O$63:O$66))","v":0}]
[null,null,null,null,null,null,null,null,null,null,null,null,null,null,null,null,null,null,null,{"$f":"SUM($E190:$H190*TRANSPOSE(M$63:M$66))","v":0},{"$f":"SUM($E190:$H190*TRANSPOSE(N$63:N$66))","v":0},{"$f":"SUM($E190:$H190*TRANSPOSE(O$63:O$66))","v":0}]
[null,null,null,null,null,null,null,null,null,null,null,null,null,null,null,null,null,null,null,{"$f":"SUM($E191:$H191*TRANSPOSE(M$63:M$66))","v":0},{"$f":"SUM($E191:$H191*TRANSPOSE(N$63:N$66))","v":0},{"$f":"SUM($E191:$H191*TRANSPOSE(O$63:O$66))","v":0}]
[null,null,null,null,null,null,null,null,null,null,null,null,null,null,null,null,null,null,null,{"$f":"SUM($E192:$H192*TRANSPOSE(M$63:M$66))","v":0},{"$f":"SUM($E192:$H192*TRANSPOSE(N$63:N$66))","v":0},{"$f":"SUM($E192:$H192*TRANSPOSE(O$63:O$66))","v":0}]
[null,null,null,null,null,null,null,null,null,null,null,null,null,null,null,null,null,null,null,{"$f":"SUM($E193:$H193*TRANSPOSE(M$63:M$66))","v":0},{"$f":"SUM($E193:$H193*TRANSPOSE(N$63:N$66))","v":0},{"$f":"SUM($E193:$H193*TRANSPOSE(O$63:O$66))","v":0}]
[null,null,null,null,null,null,null,null,null,null,null,null,null,null,null,null,null,null,null,{"$f":"SUM($E194:$H194*TRANSPOSE(M$63:M$66))","v":0},{"$f":"SUM($E194:$H194*TRANSPOSE(N$63:N$66))","v":0},{"$f":"SUM($E194:$H194*TRANSPOSE(O$63:O$66))","v":0}]
[null,null,null,null,null,null,null,null,null,null,null,null,null,null,null,null,null,null,null,{"$f":"SUM($E195:$H195*TRANSPOSE(M$63:M$66))","v":0},{"$f":"SUM($E195:$H195*TRANSPOSE(N$63:N$66))","v":0},{"$f":"SUM($E195:$H195*TRANSPOSE(O$63:O$66))","v":0}]
[null,null,null,null,null,null,null,null,null,null,null,null,null,null,null,null,null,null,null,{"$f":"SUM($E196:$H196*TRANSPOSE(M$63:M$66))","v":0},{"$f":"SUM($E196:$H196*TRANSPOSE(N$63:N$66))","v":0},{"$f":"SUM($E196:$H196*TRANSPOSE(O$63:O$66))","v":0}]
[null,null,null,null,null,null,null,null,null,null,null,null,null,null,null,null,null,null,null,{"$f":"SUM($E197:$H197*TRANSPOSE(M$63:M$66))","v":0},{"$f":"SUM($E197:$H197*TRANSPOSE(N$63:N$66))","v":0},{"$f":"SUM($E197:$H197*TRANSPOSE(O$63:O$66))","v":0}]
[null,null,null,null,null,null,null,null,null,null,null,null,null,null,null,null,null,null,null,{"$f":"SUM($E198:$H198*TRANSPOSE(M$63:M$66))","v":0},{"$f":"SUM($E198:$H198*TRANSPOSE(N$63:N$66))","v":0},{"$f":"SUM($E198:$H198*TRANSPOSE(O$63:O$66))","v":0}]
[null,null,null,null,null,null,null,null,null,null,null,null,null,null,null,null,null,null,null,{"$f":"SUM($E199:$H199*TRANSPOSE(M$63:M$66))","v":0},{"$f":"SUM($E199:$H199*TRANSPOSE(N$63:N$66))","v":0},{"$f":"SUM($E199:$H199*TRANSPOSE(O$63:O$66))","v":0}]
[null,null,null,null,null,null,null,null,null,null,null,null,null,null,null,null,null,null,null,{"$f":"SUM($E200:$H200*TRANSPOSE(M$63:M$66))","v":0},{"$f":"SUM($E200:$H200*TRANSPOSE(N$63:N$66))","v":0},{"$f":"SUM($E200:$H200*TRANSPOSE(O$63:O$66))","v":0}]
[null,null,null,null,null,null,null,null,null,null,null,null,null,null,null,null,null,null,null,{"$f":"SUM($E201:$H201*TRANSPOSE(M$63:M$66))","v":0},{"$f":"SUM($E201:$H201*TRANSPOSE(N$63:N$66))","v":0},{"$f":"SUM($E201:$H201*TRANSPOSE(O$63:O$66))","v":0}]
[null,null,null,null,null,null,null,null,null,null,null,null,null,null,null,null,null,null,null,{"$f":"SUM($E202:$H202*TRANSPOSE(M$63:M$66))","v":0},{"$f":"SUM($E202:$H202*TRANSPOSE(N$63:N$66))","v":0},{"$f":"SUM($E202:$H202*TRANSPOSE(O$63:O$66))","v":0}]
[null,null,null,null,null,null,null,null,null,null,null,null,null,null,null,null,null,null,null,{"$f":"SUM($E203:$H203*TRANSPOSE(M$63:M$66))","v":0},{"$f":"SUM($E203:$H203*TRANSPOSE(N$63:N$66))","v":0},{"$f":"SUM($E203:$H203*TRANSPOSE(O$63:O$66))","v":0}]
[null,null,null,null,null,null,null,null,null,null,null,null,null,null,null,null,null,null,null,{"$f":"SUM($E204:$H204*TRANSPOSE(M$63:M$66))","v":0},{"$f":"SUM($E204:$H204*TRANSPOSE(N$63:N$66))","v":0},{"$f":"SUM($E204:$H204*TRANSPOSE(O$63:O$66))","v":0}]
[null,null,null,null,null,null,null,null,null,null,null,null,null,null,null,null,null,null,null,{"$f":"SUM($E205:$H205*TRANSPOSE(M$63:M$66))","v":0},{"$f":"SUM($E205:$H205*TRANSPOSE(N$63:N$66))","v":0},{"$f":"SUM($E205:$H205*TRANSPOSE(O$63:O$66))","v":0}]
[null,null,null,null,null,null,null,null,null,null,null,null,null,null,null,null,null,null,null,{"$f":"SUM($E206:$H206*TRANSPOSE(M$63:M$66))","v":0},{"$f":"SUM($E206:$H206*TRANSPOSE(N$63:N$66))","v":0},{"$f":"SUM($E206:$H206*TRANSPOSE(O$63:O$66))","v":0}]
[null,null,null,null,null,null,null,null,null,null,null,null,null,null,null,null,null,null,null,{"$f":"SUM($E207:$H207*TRANSPOSE(M$63:M$66))","v":0},{"$f":"SUM($E207:$H207*TRANSPOSE(N$63:N$66))","v":0},{"$f":"SUM($E207:$H207*TRANSPOSE(O$63:O$66))","v":0}]
[null,null,null,null,null,null,null,null,null,null,null,null,null,null,null,null,null,null,null,{"$f":"SUM($E208:$H208*TRANSPOSE(M$63:M$66))","v":0},{"$f":"SUM($E208:$H208*TRANSPOSE(N$63:N$66))","v":0},{"$f":"SUM($E208:$H208*TRANSPOSE(O$63:O$66))","v":0}]
[null,null,null,null,null,null,null,null,null,null,null,null,null,null,null,null,null,null,null,{"$f":"SUM($E209:$H209*TRANSPOSE(M$63:M$66))","v":0},{"$f":"SUM($E209:$H209*TRANSPOSE(N$63:N$66))","v":0},{"$f":"SUM($E209:$H209*TRANSPOSE(O$63:O$66))","v":0}]
[null,null,null,null,null,null,null,null,null,null,null,null,null,null,null,null,null,null,null,{"$f":"SUM($E210:$H210*TRANSPOSE(M$63:M$66))","v":0},{"$f":"SUM($E210:$H210*TRANSPOSE(N$63:N$66))","v":0},{"$f":"SUM($E210:$H210*TRANSPOSE(O$63:O$66))","v":0}]
[null,null,null,null,null,null,null,null,null,null,null,null,null,null,null,null,null,null,null,{"$f":"SUM($E211:$H211*TRANSPOSE(M$63:M$66))","v":0},{"$f":"SUM($E211:$H211*TRANSPOSE(N$63:N$66))","v":0},{"$f":"SUM($E211:$H211*TRANSPOSE(O$63:O$66))","v":0}]
[null,null,null,null,null,null,null,null,null,null,null,null,null,null,null,null,null,null,null,{"$f":"SUM($E212:$H212*TRANSPOSE(M$63:M$66))","v":0},{"$f":"SUM($E212:$H212*TRANSPOSE(N$63:N$66))","v":0},{"$f":"SUM($E212:$H212*TRANSPOSE(O$63:O$66))","v":0}]
[null,null,null,null,null,null,null,null,null,null,null,null,null,null,null,null,null,null,null,{"$f":"SUM($E213:$H213*TRANSPOSE(M$63:M$66))","v":0},{"$f":"SUM($E213:$H213*TRANSPOSE(N$63:N$66))","v":0},{"$f":"SUM($E213:$H213*TRANSPOSE(O$63:O$66))","v":0}]
[null,null,null,null,null,null,null,null,null,null,null,null,null,null,null,null,null,null,null,{"$f":"SUM($E214:$H214*TRANSPOSE(M$63:M$66))","v":0},{"$f":"SUM($E214:$H214*TRANSPOSE(N$63:N$66))","v":0},{"$f":"SUM($E214:$H214*TRANSPOSE(O$63:O$66))","v":0}]
[null,null,null,null,null,null,null,null,null,null,null,null,null,null,null,null,null,null,null,{"$f":"SUM($E215:$H215*TRANSPOSE(M$63:M$66))","v":0},{"$f":"SUM($E215:$H215*TRANSPOSE(N$63:N$66))","v":0},{"$f":"SUM($E215:$H215*TRANSPOSE(O$63:O$66))","v":0}]
[null,null,null,null,null,null,null,null,null,null,null,null,null,null,null,null,null,null,null,{"$f":"SUM($E216:$H216*TRANSPOSE(M$63:M$66))","v":0},{"$f":"SUM($E216:$H216*TRANSPOSE(N$63:N$66))","v":0},{"$f":"SUM($E216:$H216*TRANSPOSE(O$63:O$66))","v":0}]
[null,null,null,null,null,null,null,null,null,null,null,null,null,null,null,null,null,null,null,{"$f":"SUM($E217:$H217*TRANSPOSE(M$63:M$66))","v":0},{"$f":"SUM($E217:$H217*TRANSPOSE(N$63:N$66))","v":0},{"$f":"SUM($E217:$H217*TRANSPOSE(O$63:O$66))","v":0}]
[null,null,null,null,null,null,null,null,null,null,null,null,null,null,null,null,null,null,null,{"$f":"SUM($E218:$H218*TRANSPOSE(M$63:M$66))","v":0},{"$f":"SUM($E218:$H218*TRANSPOSE(N$63:N$66))","v":0},{"$f":"SUM($E218:$H218*TRANSPOSE(O$63:O$66))","v":0}]
[null,null,null,null,null,null,null,null,null,null,null,null,null,null,null,null,null,null,null,{"$f":"SUM($E219:$H219*TRANSPOSE(M$63:M$66))","v":0},{"$f":"SUM($E219:$H219*TRANSPOSE(N$63:N$66))","v":0},{"$f":"SUM($E219:$H219*TRANSPOSE(O$63:O$66))","v":0}]
[null,null,null,null,null,null,null,null,null,null,null,null,null,null,null,null,null,null,null,{"$f":"SUM($E220:$H220*TRANSPOSE(M$63:M$66))","v":0},{"$f":"SUM($E220:$H220*TRANSPOSE(N$63:N$66))","v":0},{"$f":"SUM($E220:$H220*TRANSPOSE(O$63:O$66))","v":0}]
[null,null,null,null,null,null,null,null,null,null,null,null,null,null,null,null,null,null,null,{"$f":"SUM($E221:$H221*TRANSPOSE(M$63:M$66))","v":0},{"$f":"SUM($E221:$H221*TRANSPOSE(N$63:N$66))","v":0},{"$f":"SUM($E221:$H221*TRANSPOSE(O$63:O$66))","v":0}]
[null,null,null,null,null,null,null,null,null,null,null,null,null,null,null,null,null,null,null,{"$f":"SUM($E222:$H222*TRANSPOSE(M$63:M$66))","v":0},{"$f":"SUM($E222:$H222*TRANSPOSE(N$63:N$66))","v":0},{"$f":"SUM($E222:$H222*TRANSPOSE(O$63:O$66))","v":0}]
[null,null,null,null,null,null,null,null,null,null,null,null,null,null,null,null,null,null,null,{"$f":"SUM($E223:$H223*TRANSPOSE(M$63:M$66))","v":0},{"$f":"SUM($E223:$H223*TRANSPOSE(N$63:N$66))","v":0},{"$f":"SUM($E223:$H223*TRANSPOSE(O$63:O$66))","v":0}]
[null,null,null,null,null,null,null,null,null,null,null,null,null,null,null,null,null,null,null,{"$f":"SUM($E224:$H224*TRANSPOSE(M$63:M$66))","v":0},{"$f":"SUM($E224:$H224*TRANSPOSE(N$63:N$66))","v":0},{"$f":"SUM($E224:$H224*TRANSPOSE(O$63:O$66))","v":0}]
[null,null,null,null,null,null,null,null,null,null,null,null,null,null,null,null,null,null,null,{"$f":"SUM($E225:$H225*TRANSPOSE(M$63:M$66))","v":0},{"$f":"SUM($E225:$H225*TRANSPOSE(N$63:N$66))","v":0},{"$f":"SUM($E225:$H225*TRANSPOSE(O$63:O$66))","v":0}]
[null,null,null,null,null,null,null,null,null,null,null,null,null,null,null,null,null,null,null,{"$f":"SUM($E226:$H226*TRANSPOSE(M$63:M$66))","v":0},{"$f":"SUM($E226:$H226*TRANSPOSE(N$63:N$66))","v":0},{"$f":"SUM($E226:$H226*TRANSPOSE(O$63:O$66))","v":0}]
[null,null,null,null,null,null,null,null,null,null,null,null,null,null,null,null,null,null,null,{"$f":"SUM($E227:$H227*TRANSPOSE(M$63:M$66))","v":0},{"$f":"SUM($E227:$H227*TRANSPOSE(N$63:N$66))","v":0},{"$f":"SUM($E227:$H227*TRANSPOSE(O$63:O$66))","v":0}]
[null,null,null,null,null,null,null,null,null,null,null,null,null,null,null,null,null,null,null,{"$f":"SUM($E228:$H228*TRANSPOSE(M$63:M$66))","v":0},{"$f":"SUM($E228:$H228*TRANSPOSE(N$63:N$66))","v":0},{"$f":"SUM($E228:$H228*TRANSPOSE(O$63:O$66))","v":0}]
[null,null,null,null,null,null,null,null,null,null,null,null,null,null,null,null,null,null,null,{"$f":"SUM($E229:$H229*TRANSPOSE(M$63:M$66))","v":0},{"$f":"SUM($E229:$H229*TRANSPOSE(N$63:N$66))","v":0},{"$f":"SUM($E229:$H229*TRANSPOSE(O$63:O$66))","v":0}]
[null,null,null,null,null,null,null,null,null,null,null,null,null,null,null,null,null,null,null,{"$f":"SUM($E230:$H230*TRANSPOSE(M$63:M$66))","v":0},{"$f":"SUM($E230:$H230*TRANSPOSE(N$63:N$66))","v":0},{"$f":"SUM($E230:$H230*TRANSPOSE(O$63:O$66))","v":0}]
[null,null,null,null,null,null,null,null,null,null,null,null,null,null,null,null,null,null,null,{"$f":"SUM($E231:$H231*TRANSPOSE(M$63:M$66))","v":0},{"$f":"SUM($E231:$H231*TRANSPOSE(N$63:N$66))","v":0},{"$f":"SUM($E231:$H231*TRANSPOSE(O$63:O$66))","v":0}]
[null,null,null,null,null,null,null,null,null,null,null,null,null,null,null,null,null,null,null,{"$f":"SUM($E232:$H232*TRANSPOSE(M$63:M$66))","v":0},{"$f":"SUM($E232:$H232*TRANSPOSE(N$63:N$66))","v":0},{"$f":"SUM($E232:$H232*TRANSPOSE(O$63:O$66))","v":0}]
[null,null,null,null,null,null,null,null,null,null,null,null,null,null,null,null,null,null,null,{"$f":"SUM($E233:$H233*TRANSPOSE(M$63:M$66))","v":0},{"$f":"SUM($E233:$H233*TRANSPOSE(N$63:N$66))","v":0},{"$f":"SUM($E233:$H233*TRANSPOSE(O$63:O$66))","v":0}]
[null,null,null,null,null,null,null,null,null,null,null,null,null,null,null,null,null,null,null,{"$f":"SUM($E234:$H234*TRANSPOSE(M$63:M$66))","v":0},{"$f":"SUM($E234:$H234*TRANSPOSE(N$63:N$66))","v":0},{"$f":"SUM($E234:$H234*TRANSPOSE(O$63:O$66))","v":0}]
[null,null,null,null,null,null,null,null,null,null,null,null,null,null,null,null,null,null,null,{"$f":"SUM($E235:$H235*TRANSPOSE(M$63:M$66))","v":0},{"$f":"SUM($E235:$H235*TRANSPOSE(N$63:N$66))","v":0},{"$f":"SUM($E235:$H235*TRANSPOSE(O$63:O$66))","v":0}]
[null,null,null,null,null,null,null,null,null,null,null,null,null,null,null,null,null,null,null,{"$f":"SUM($E236:$H236*TRANSPOSE(M$63:M$66))","v":0},{"$f":"SUM($E236:$H236*TRANSPOSE(N$63:N$66))","v":0},{"$f":"SUM($E236:$H236*TRANSPOSE(O$63:O$66))","v":0}]
[null,null,null,null,null,null,null,null,null,null,null,null,null,null,null,null,null,null,null,{"$f":"SUM($E237:$H237*TRANSPOSE(M$63:M$66))","v":0},{"$f":"SUM($E237:$H237*TRANSPOSE(N$63:N$66))","v":0},{"$f":"SUM($E237:$H237*TRANSPOSE(O$63:O$66))","v":0}]
[null,null,null,null,null,null,null,null,null,null,null,null,null,null,null,null,null,null,null,{"$f":"SUM($E238:$H238*TRANSPOSE(M$63:M$66))","v":0},{"$f":"SUM($E238:$H238*TRANSPOSE(N$63:N$66))","v":0},{"$f":"SUM($E238:$H238*TRANSPOSE(O$63:O$66))","v":0}]
[null,null,null,null,null,null,null,null,null,null,null,null,null,null,null,null,null,null,null,{"$f":"SUM($E239:$H239*TRANSPOSE(M$63:M$66))","v":0},{"$f":"SUM($E239:$H239*TRANSPOSE(N$63:N$66))","v":0},{"$f":"SUM($E239:$H239*TRANSPOSE(O$63:O$66))","v":0}]
[null,null,null,null,null,null,null,null,null,null,null,null,null,null,null,null,null,null,null,{"$f":"SUM($E240:$H240*TRANSPOSE(M$63:M$66))","v":0},{"$f":"SUM($E240:$H240*TRANSPOSE(N$63:N$66))","v":0},{"$f":"SUM($E240:$H240*TRANSPOSE(O$63:O$66))","v":0}]
[null,null,null,null,null,null,null,null,null,null,null,null,null,null,null,null,null,null,null,{"$f":"SUM($E241:$H241*TRANSPOSE(M$63:M$66))","v":0},{"$f":"SUM($E241:$H241*TRANSPOSE(N$63:N$66))","v":0},{"$f":"SUM($E241:$H241*TRANSPOSE(O$63:O$66))","v":0}]
[null,null,null,null,null,null,null,null,null,null,null,null,null,null,null,null,null,null,null,{"$f":"SUM($E242:$H242*TRANSPOSE(M$63:M$66))","v":0},{"$f":"SUM($E242:$H242*TRANSPOSE(N$63:N$66))","v":0},{"$f":"SUM($E242:$H242*TRANSPOSE(O$63:O$66))","v":0}]
[null,null,null,null,null,null,null,null,null,null,null,null,null,null,null,null,null,null,null,{"$f":"SUM($E243:$H243*TRANSPOSE(M$63:M$66))","v":0},{"$f":"SUM($E243:$H243*TRANSPOSE(N$63:N$66))","v":0},{"$f":"SUM($E243:$H243*TRANSPOSE(O$63:O$66))","v":0}]
[null,null,null,null,null,null,null,null,null,null,null,null,null,null,null,null,null,null,null,{"$f":"SUM($E244:$H244*TRANSPOSE(M$63:M$66))","v":0},{"$f":"SUM($E244:$H244*TRANSPOSE(N$63:N$66))","v":0},{"$f":"SUM($E244:$H244*TRANSPOSE(O$63:O$66))","v":0}]
[null,null,null,null,null,null,null,null,null,null,null,null,null,null,null,null,null,null,null,{"$f":"SUM($E245:$H245*TRANSPOSE(M$63:M$66))","v":0},{"$f":"SUM($E245:$H245*TRANSPOSE(N$63:N$66))","v":0},{"$f":"SUM($E245:$H245*TRANSPOSE(O$63:O$66))","v":0}]
[null,null,null,null,null,null,null,null,null,null,null,null,null,null,null,null,null,null,null,{"$f":"SUM($E246:$H246*TRANSPOSE(M$63:M$66))","v":0},{"$f":"SUM($E246:$H246*TRANSPOSE(N$63:N$66))","v":0},{"$f":"SUM($E246:$H246*TRANSPOSE(O$63:O$66))","v":0}]
[null,null,null,null,null,null,null,null,null,null,null,null,null,null,null,null,null,null,null,{"$f":"SUM($E247:$H247*TRANSPOSE(M$63:M$66))","v":0},{"$f":"SUM($E247:$H247*TRANSPOSE(N$63:N$66))","v":0},{"$f":"SUM($E247:$H247*TRANSPOSE(O$63:O$66))","v":0}]
[null,null,null,null,null,null,null,null,null,null,null,null,null,null,null,null,null,null,null,{"$f":"SUM($E248:$H248*TRANSPOSE(M$63:M$66))","v":0},{"$f":"SUM($E248:$H248*TRANSPOSE(N$63:N$66))","v":0},{"$f":"SUM($E248:$H248*TRANSPOSE(O$63:O$66))","v":0}]
[null,null,null,null,null,null,null,null,null,null,null,null,null,null,null,null,null,null,null,{"$f":"SUM($E249:$H249*TRANSPOSE(M$63:M$66))","v":0},{"$f":"SUM($E249:$H249*TRANSPOSE(N$63:N$66))","v":0},{"$f":"SUM($E249:$H249*TRANSPOSE(O$63:O$66))","v":0}]
[null,null,null,null,null,null,null,null,null,null,null,null,null,null,null,null,null,null,null,{"$f":"SUM($E250:$H250*TRANSPOSE(M$63:M$66))","v":0},{"$f":"SUM($E250:$H250*TRANSPOSE(N$63:N$66))","v":0},{"$f":"SUM($E250:$H250*TRANSPOSE(O$63:O$66))","v":0}]
[null,null,null,null,null,null,null,null,null,null,null,null,null,null,null,null,null,null,null,{"$f":"SUM($E251:$H251*TRANSPOSE(M$63:M$66))","v":0},{"$f":"SUM($E251:$H251*TRANSPOSE(N$63:N$66))","v":0},{"$f":"SUM($E251:$H251*TRANSPOSE(O$63:O$66))","v":0}]
[null,null,null,null,null,null,null,null,null,null,null,null,null,null,null,null,null,null,null,{"$f":"SUM($E252:$H252*TRANSPOSE(M$63:M$66))","v":0},{"$f":"SUM($E252:$H252*TRANSPOSE(N$63:N$66))","v":0},{"$f":"SUM($E252:$H252*TRANSPOSE(O$63:O$66))","v":0}]
[null,null,null,null,null,null,null,null,null,null,null,null,null,null,null,null,null,null,null,{"$f":"SUM($E253:$H253*TRANSPOSE(M$63:M$66))","v":0},{"$f":"SUM($E253:$H253*TRANSPOSE(N$63:N$66))","v":0},{"$f":"SUM($E253:$H253*TRANSPOSE(O$63:O$66))","v":0}]
[null,null,null,null,null,null,null,null,null,null,null,null,null,null,null,null,null,null,null,{"$f":"SUM($E254:$H254*TRANSPOSE(M$63:M$66))","v":0},{"$f":"SUM($E254:$H254*TRANSPOSE(N$63:N$66))","v":0},{"$f":"SUM($E254:$H254*TRANSPOSE(O$63:O$66))","v":0}]
[null,null,null,null,null,null,null,null,null,null,null,null,null,null,null,null,null,null,null,{"$f":"SUM($E255:$H255*TRANSPOSE(M$63:M$66))","v":0},{"$f":"SUM($E255:$H255*TRANSPOSE(N$63:N$66))","v":0},{"$f":"SUM($E255:$H255*TRANSPOSE(O$63:O$66))","v":0}]
[null,null,null,null,null,null,null,null,null,null,null,null,null,null,null,null,null,null,null,{"$f":"SUM($E256:$H256*TRANSPOSE(M$63:M$66))","v":0},{"$f":"SUM($E256:$H256*TRANSPOSE(N$63:N$66))","v":0},{"$f":"SUM($E256:$H256*TRANSPOSE(O$63:O$66))","v":0}]
[null,null,null,null,null,null,null,null,null,null,null,null,null,null,null,null,null,null,null,{"$f":"SUM($E257:$H257*TRANSPOSE(M$63:M$66))","v":0},{"$f":"SUM($E257:$H257*TRANSPOSE(N$63:N$66))","v":0},{"$f":"SUM($E257:$H257*TRANSPOSE(O$63:O$66))","v":0}]
[null,null,null,null,null,null,null,null,null,null,null,null,null,null,null,null,null,null,null,{"$f":"SUM($E258:$H258*TRANSPOSE(M$63:M$66))","v":0},{"$f":"SUM($E258:$H258*TRANSPOSE(N$63:N$66))","v":0},{"$f":"SUM($E258:$H258*TRANSPOSE(O$63:O$66))","v":0}]
[null,null,null,null,null,null,null,null,null,null,null,null,null,null,null,null,null,null,null,{"$f":"SUM($E259:$H259*TRANSPOSE(M$63:M$66))","v":0},{"$f":"SUM($E259:$H259*TRANSPOSE(N$63:N$66))","v":0},{"$f":"SUM($E259:$H259*TRANSPOSE(O$63:O$66))","v":0}]
[null,null,null,null,null,null,null,null,null,null,null,null,null,null,null,null,null,null,null,{"$f":"SUM($E260:$H260*TRANSPOSE(M$63:M$66))","v":0},{"$f":"SUM($E260:$H260*TRANSPOSE(N$63:N$66))","v":0},{"$f":"SUM($E260:$H260*TRANSPOSE(O$63:O$66))","v":0}]
[null,null,null,null,null,null,null,null,null,null,null,null,null,null,null,null,null,null,null,{"$f":"SUM($E261:$H261*TRANSPOSE(M$63:M$66))","v":0},{"$f":"SUM($E261:$H261*TRANSPOSE(N$63:N$66))","v":0},{"$f":"SUM($E261:$H261*TRANSPOSE(O$63:O$66))","v":0}]
[null,null,null,null,null,null,null,null,null,null,null,null,null,null,null,null,null,null,null,{"$f":"SUM($E262:$H262*TRANSPOSE(M$63:M$66))","v":0},{"$f":"SUM($E262:$H262*TRANSPOSE(N$63:N$66))","v":0},{"$f":"SUM($E262:$H262*TRANSPOSE(O$63:O$66))","v":0}]
[null,null,null,null,null,null,null,null,null,null,null,null,null,null,null,null,null,null,null,{"$f":"SUM($E263:$H263*TRANSPOSE(M$63:M$66))","v":0},{"$f":"SUM($E263:$H263*TRANSPOSE(N$63:N$66))","v":0},{"$f":"SUM($E263:$H263*TRANSPOSE(O$63:O$66))","v":0}]
[null,null,null,null,null,null,null,null,null,null,null,null,null,null,null,null,null,null,null,{"$f":"SUM($E264:$H264*TRANSPOSE(M$63:M$66))","v":0},{"$f":"SUM($E264:$H264*TRANSPOSE(N$63:N$66))","v":0},{"$f":"SUM($E264:$H264*TRANSPOSE(O$63:O$66))","v":0}]
[null,null,null,null,null,null,null,null,null,null,null,null,null,null,null,null,null,null,null,{"$f":"SUM($E265:$H265*TRANSPOSE(M$63:M$66))","v":0},{"$f":"SUM($E265:$H265*TRANSPOSE(N$63:N$66))","v":0},{"$f":"SUM($E265:$H265*TRANSPOSE(O$63:O$66))","v":0}]
[null,null,null,null,null,null,null,null,null,null,null,null,null,null,null,null,null,null,null,{"$f":"SUM($E266:$H266*TRANSPOSE(M$63:M$66))","v":0},{"$f":"SUM($E266:$H266*TRANSPOSE(N$63:N$66))","v":0},{"$f":"SUM($E266:$H266*TRANSPOSE(O$63:O$66))","v":0}]
[null,null,null,null,null,null,null,null,null,null,null,null,null,null,null,null,null,null,null,{"$f":"SUM($E267:$H267*TRANSPOSE(M$63:M$66))","v":0},{"$f":"SUM($E267:$H267*TRANSPOSE(N$63:N$66))","v":0},{"$f":"SUM($E267:$H267*TRANSPOSE(O$63:O$66))","v":0}]
[null,null,null,null,null,null,null,null,null,null,null,null,null,null,null,null,null,null,null,{"$f":"SUM($E268:$H268*TRANSPOSE(M$63:M$66))","v":0},{"$f":"SUM($E268:$H268*TRANSPOSE(N$63:N$66))","v":0},{"$f":"SUM($E268:$H268*TRANSPOSE(O$63:O$66))","v":0}]
[null,null,null,null,null,null,null,null,null,null,null,null,null,null,null,null,null,null,null,{"$f":"SUM($E269:$H269*TRANSPOSE(M$63:M$66))","v":0},{"$f":"SUM($E269:$H269*TRANSPOSE(N$63:N$66))","v":0},{"$f":"SUM($E269:$H269*TRANSPOSE(O$63:O$66))","v":0}]
[null,null,null,null,null,null,null,null,null,null,null,null,null,null,null,null,null,null,null,{"$f":"SUM($E270:$H270*TRANSPOSE(M$63:M$66))","v":0},{"$f":"SUM($E270:$H270*TRANSPOSE(N$63:N$66))","v":0},{"$f":"SUM($E270:$H270*TRANSPOSE(O$63:O$66))","v":0}]
[null,null,null,null,null,null,null,null,null,null,null,null,null,null,null,null,null,null,null,{"$f":"SUM($E271:$H271*TRANSPOSE(M$63:M$66))","v":0},{"$f":"SUM($E271:$H271*TRANSPOSE(N$63:N$66))","v":0},{"$f":"SUM($E271:$H271*TRANSPOSE(O$63:O$66))","v":0}]
[null,null,null,null,null,null,null,null,null,null,null,null,null,null,null,null,null,null,null,{"$f":"SUM($E272:$H272*TRANSPOSE(M$63:M$66))","v":0},{"$f":"SUM($E272:$H272*TRANSPOSE(N$63:N$66))","v":0},{"$f":"SUM($E272:$H272*TRANSPOSE(O$63:O$66))","v":0}]
[null,null,null,null,null,null,null,null,null,null,null,null,null,null,null,null,null,null,null,{"$f":"SUM($E273:$H273*TRANSPOSE(M$63:M$66))","v":0},{"$f":"SUM($E273:$H273*TRANSPOSE(N$63:N$66))","v":0},{"$f":"SUM($E273:$H273*TRANSPOSE(O$63:O$66))","v":0}]
[null,null,null,null,null,null,null,null,null,null,null,null,null,null,null,null,null,null,null,{"$f":"SUM($E274:$H274*TRANSPOSE(M$63:M$66))","v":0},{"$f":"SUM($E274:$H274*TRANSPOSE(N$63:N$66))","v":0},{"$f":"SUM($E274:$H274*TRANSPOSE(O$63:O$66))","v":0}]
[null,null,null,null,null,null,null,null,null,null,null,null,null,null,null,null,null,null,null,{"$f":"SUM($E275:$H275*TRANSPOSE(M$63:M$66))","v":0},{"$f":"SUM($E275:$H275*TRANSPOSE(N$63:N$66))","v":0},{"$f":"SUM($E275:$H275*TRANSPOSE(O$63:O$66))","v":0}]
[null,null,null,null,null,null,null,null,null,null,null,null,null,null,null,null,null,null,null,{"$f":"SUM($E276:$H276*TRANSPOSE(M$63:M$66))","v":0},{"$f":"SUM($E276:$H276*TRANSPOSE(N$63:N$66))","v":0},{"$f":"SUM($E276:$H276*TRANSPOSE(O$63:O$66))","v":0}]
[null,null,null,null,null,null,null,null,null,null,null,null,null,null,null,null,null,null,null,{"$f":"SUM($E277:$H277*TRANSPOSE(M$63:M$66))","v":0},{"$f":"SUM($E277:$H277*TRANSPOSE(N$63:N$66))","v":0},{"$f":"SUM($E277:$H277*TRANSPOSE(O$63:O$66))","v":0}]
[null,null,null,null,null,null,null,null,null,null,null,null,null,null,null,null,null,null,null,{"$f":"SUM($E278:$H278*TRANSPOSE(M$63:M$66))","v":0},{"$f":"SUM($E278:$H278*TRANSPOSE(N$63:N$66))","v":0},{"$f":"SUM($E278:$H278*TRANSPOSE(O$63:O$66))","v":0}]
[null,null,null,null,null,null,null,null,null,null,null,null,null,null,null,null,null,null,null,{"$f":"SUM($E279:$H279*TRANSPOSE(M$63:M$66))","v":0},{"$f":"SUM($E279:$H279*TRANSPOSE(N$63:N$66))","v":0},{"$f":"SUM($E279:$H279*TRANSPOSE(O$63:O$66))","v":0}]
[null,null,null,null,null,null,null,null,null,null,null,null,null,null,null,null,null,null,null,{"$f":"SUM($E280:$H280*TRANSPOSE(M$63:M$66))","v":0},{"$f":"SUM($E280:$H280*TRANSPOSE(N$63:N$66))","v":0},{"$f":"SUM($E280:$H280*TRANSPOSE(O$63:O$66))","v":0}]
[null,null,null,null,null,null,null,null,null,null,null,null,null,null,null,null,null,null,null,{"$f":"SUM($E281:$H281*TRANSPOSE(M$63:M$66))","v":0},{"$f":"SUM($E281:$H281*TRANSPOSE(N$63:N$66))","v":0},{"$f":"SUM($E281:$H281*TRANSPOSE(O$63:O$66))","v":0}]
[null,null,null,null,null,null,null,null,null,null,null,null,null,null,null,null,null,null,null,{"$f":"SUM($E282:$H282*TRANSPOSE(M$63:M$66))","v":0},{"$f":"SUM($E282:$H282*TRANSPOSE(N$63:N$66))","v":0},{"$f":"SUM($E282:$H282*TRANSPOSE(O$63:O$66))","v":0}]
[null,null,null,null,null,null,null,null,null,null,null,null,null,null,null,null,null,null,null,{"$f":"SUM($E283:$H283*TRANSPOSE(M$63:M$66))","v":0},{"$f":"SUM($E283:$H283*TRANSPOSE(N$63:N$66))","v":0},{"$f":"SUM($E283:$H283*TRANSPOSE(O$63:O$66))","v":0}]
[null,null,null,null,null,null,null,null,null,null,null,null,null,null,null,null,null,null,null,{"$f":"SUM($E284:$H284*TRANSPOSE(M$63:M$66))","v":0},{"$f":"SUM($E284:$H284*TRANSPOSE(N$63:N$66))","v":0},{"$f":"SUM($E284:$H284*TRANSPOSE(O$63:O$66))","v":0}]
[null,null,null,null,null,null,null,null,null,null,null,null,null,null,null,null,null,null,null,{"$f":"SUM($E285:$H285*TRANSPOSE(M$63:M$66))","v":0},{"$f":"SUM($E285:$H285*TRANSPOSE(N$63:N$66))","v":0},{"$f":"SUM($E285:$H285*TRANSPOSE(O$63:O$66))","v":0}]
[null,null,null,null,null,null,null,null,null,null,null,null,null,null,null,null,null,null,null,{"$f":"SUM($E286:$H286*TRANSPOSE(M$63:M$66))","v":0},{"$f":"SUM($E286:$H286*TRANSPOSE(N$63:N$66))","v":0},{"$f":"SUM($E286:$H286*TRANSPOSE(O$63:O$66))","v":0}]
[null,null,null,null,null,null,null,null,null,null,null,null,null,null,null,null,null,null,null,{"$f":"SUM($E287:$H287*TRANSPOSE(M$63:M$66))","v":0},{"$f":"SUM($E287:$H287*TRANSPOSE(N$63:N$66))","v":0},{"$f":"SUM($E287:$H287*TRANSPOSE(O$63:O$66))","v":0}]
[null,null,null,null,null,null,null,null,null,null,null,null,null,null,null,null,null,null,null,{"$f":"SUM($E288:$H288*TRANSPOSE(M$63:M$66))","v":0},{"$f":"SUM($E288:$H288*TRANSPOSE(N$63:N$66))","v":0},{"$f":"SUM($E288:$H288*TRANSPOSE(O$63:O$66))","v":0}]
[null,null,null,null,null,null,null,null,null,null,null,null,null,null,null,null,null,null,null,{"$f":"SUM($E289:$H289*TRANSPOSE(M$63:M$66))","v":0},{"$f":"SUM($E289:$H289*TRANSPOSE(N$63:N$66))","v":0},{"$f":"SUM($E289:$H289*TRANSPOSE(O$63:O$66))","v":0}]
[null,null,null,null,null,null,null,null,null,null,null,null,null,null,null,null,null,null,null,{"$f":"SUM($E290:$H290*TRANSPOSE(M$63:M$66))","v":0},{"$f":"SUM($E290:$H290*TRANSPOSE(N$63:N$66))","v":0},{"$f":"SUM($E290:$H290*TRANSPOSE(O$63:O$66))","v":0}]
[null,null,null,null,null,null,null,null,null,null,null,null,null,null,null,null,null,null,null,{"$f":"SUM($E291:$H291*TRANSPOSE(M$63:M$66))","v":0},{"$f":"SUM($E291:$H291*TRANSPOSE(N$63:N$66))","v":0},{"$f":"SUM($E291:$H291*TRANSPOSE(O$63:O$66))","v":0}]
[null,null,null,null,null,null,null,null,null,null,null,null,null,null,null,null,null,null,null,{"$f":"SUM($E292:$H292*TRANSPOSE(M$63:M$66))","v":0},{"$f":"SUM($E292:$H292*TRANSPOSE(N$63:N$66))","v":0},{"$f":"SUM($E292:$H292*TRANSPOSE(O$63:O$66))","v":0}]
[null,null,null,null,null,null,null,null,null,null,null,null,null,null,null,null,null,null,null,{"$f":"SUM($E293:$H293*TRANSPOSE(M$63:M$66))","v":0},{"$f":"SUM($E293:$H293*TRANSPOSE(N$63:N$66))","v":0},{"$f":"SUM($E293:$H293*TRANSPOSE(O$63:O$66))","v":0}]
[null,null,null,null,null,null,null,null,null,null,null,null,null,null,null,null,null,null,null,{"$f":"SUM($E294:$H294*TRANSPOSE(M$63:M$66))","v":0},{"$f":"SUM($E294:$H294*TRANSPOSE(N$63:N$66))","v":0},{"$f":"SUM($E294:$H294*TRANSPOSE(O$63:O$66))","v":0}]
[null,null,null,null,null,null,null,null,null,null,null,null,null,null,null,null,null,null,null,{"$f":"SUM($E295:$H295*TRANSPOSE(M$63:M$66))","v":0},{"$f":"SUM($E295:$H295*TRANSPOSE(N$63:N$66))","v":0},{"$f":"SUM($E295:$H295*TRANSPOSE(O$63:O$66))","v":0}]
[null,null,null,null,null,null,null,null,null,null,null,null,null,null,null,null,null,null,null,{"$f":"SUM($E296:$H296*TRANSPOSE(M$63:M$66))","v":0},{"$f":"SUM($E296:$H296*TRANSPOSE(N$63:N$66))","v":0},{"$f":"SUM($E296:$H296*TRANSPOSE(O$63:O$66))","v":0}]
[null,null,null,null,null,null,null,null,null,null,null,null,null,null,null,null,null,null,null,{"$f":"SUM($E297:$H297*TRANSPOSE(M$63:M$66))","v":0},{"$f":"SUM($E297:$H297*TRANSPOSE(N$63:N$66))","v":0},{"$f":"SUM($E297:$H297*TRANSPOSE(O$63:O$66))","v":0}]
[null,null,null,null,null,null,null,null,null,null,null,null,null,null,null,null,null,null,null,{"$f":"SUM($E298:$H298*TRANSPOSE(M$63:M$66))","v":0},{"$f":"SUM($E298:$H298*TRANSPOSE(N$63:N$66))","v":0},{"$f":"SUM($E298:$H298*TRANSPOSE(O$63:O$66))","v":0}]
[null,null,null,null,null,null,null,null,null,null,null,null,null,null,null,null,null,null,null,{"$f":"SUM($E299:$H299*TRANSPOSE(M$63:M$66))","v":0},{"$f":"SUM($E299:$H299*TRANSPOSE(N$63:N$66))","v":0},{"$f":"SUM($E299:$H299*TRANSPOSE(O$63:O$66))","v":0}]
[null,null,null,null,null,null,null,null,null,null,null,null,null,null,null,null,null,null,null,{"$f":"SUM($E300:$H300*TRANSPOSE(M$63:M$66))","v":0},{"$f":"SUM($E300:$H300*TRANSPOSE(N$63:N$66))","v":0},{"$f":"SUM($E300:$H300*TRANSPOSE(O$63:O$66))","v":0}]
[null,null,null,null,null,null,null,null,null,null,null,null,null,null,null,null,null,null,null,{"$f":"SUM($E301:$H301*TRANSPOSE(M$63:M$66))","v":0},{"$f":"SUM($E301:$H301*TRANSPOSE(N$63:N$66))","v":0},{"$f":"SUM($E301:$H301*TRANSPOSE(O$63:O$66))","v":0}]
[null,null,null,null,null,null,null,null,null,null,null,null,null,null,null,null,null,null,null,{"$f":"SUM($E302:$H302*TRANSPOSE(M$63:M$66))","v":0},{"$f":"SUM($E302:$H302*TRANSPOSE(N$63:N$66))","v":0},{"$f":"SUM($E302:$H302*TRANSPOSE(O$63:O$66))","v":0}]
[null,null,null,null,null,null,null,null,null,null,null,null,null,null,null,null,null,null,null,{"$f":"SUM($E303:$H303*TRANSPOSE(M$63:M$66))","v":0},{"$f":"SUM($E303:$H303*TRANSPOSE(N$63:N$66))","v":0},{"$f":"SUM($E303:$H303*TRANSPOSE(O$63:O$66))","v":0}]
[null,null,null,null,null,null,null,null,null,null,null,null,null,null,null,null,null,null,null,{"$f":"SUM($E304:$H304*TRANSPOSE(M$63:M$66))","v":0},{"$f":"SUM($E304:$H304*TRANSPOSE(N$63:N$66))","v":0},{"$f":"SUM($E304:$H304*TRANSPOSE(O$63:O$66))","v":0}]
[null,null,null,null,null,null,null,null,null,null,null,null,null,null,null,null,null,null,null,{"$f":"SUM($E305:$H305*TRANSPOSE(M$63:M$66))","v":0},{"$f":"SUM($E305:$H305*TRANSPOSE(N$63:N$66))","v":0},{"$f":"SUM($E305:$H305*TRANSPOSE(O$63:O$66))","v":0}]
[null,null,null,null,null,null,null,null,null,null,null,null,null,null,null,null,null,null,null,{"$f":"SUM($E306:$H306*TRANSPOSE(M$63:M$66))","v":0},{"$f":"SUM($E306:$H306*TRANSPOSE(N$63:N$66))","v":0},{"$f":"SUM($E306:$H306*TRANSPOSE(O$63:O$66))","v":0}]
[null,null,null,null,null,null,null,null,null,null,null,null,null,null,null,null,null,null,null,{"$f":"SUM($E307:$H307*TRANSPOSE(M$63:M$66))","v":0},{"$f":"SUM($E307:$H307*TRANSPOSE(N$63:N$66))","v":0},{"$f":"SUM($E307:$H307*TRANSPOSE(O$63:O$66))","v":0}]
[null,null,null,null,null,null,null,null,null,null,null,null,null,null,null,null,null,null,null,{"$f":"SUM($E308:$H308*TRANSPOSE(M$63:M$66))","v":0},{"$f":"SUM($E308:$H308*TRANSPOSE(N$63:N$66))","v":0},{"$f":"SUM($E308:$H308*TRANSPOSE(O$63:O$66))","v":0}]
[null,null,null,null,null,null,null,null,null,null,null,null,null,null,null,null,null,null,null,{"$f":"SUM($E309:$H309*TRANSPOSE(M$63:M$66))","v":0},{"$f":"SUM($E309:$H309*TRANSPOSE(N$63:N$66))","v":0},{"$f":"SUM($E309:$H309*TRANSPOSE(O$63:O$66))","v":0}]
[null,null,null,null,null,null,null,null,null,null,null,null,null,null,null,null,null,null,null,{"$f":"SUM($E310:$H310*TRANSPOSE(M$63:M$66))","v":0},{"$f":"SUM($E310:$H310*TRANSPOSE(N$63:N$66))","v":0},{"$f":"SUM($E310:$H310*TRANSPOSE(O$63:O$66))","v":0}]
[null,null,null,null,null,null,null,null,null,null,null,null,null,null,null,null,null,null,null,{"$f":"SUM($E311:$H311*TRANSPOSE(M$63:M$66))","v":0},{"$f":"SUM($E311:$H311*TRANSPOSE(N$63:N$66))","v":0},{"$f":"SUM($E311:$H311*TRANSPOSE(O$63:O$66))","v":0}]
[null,null,null,null,null,null,null,null,null,null,null,null,null,null,null,null,null,null,null,{"$f":"SUM($E312:$H312*TRANSPOSE(M$63:M$66))","v":0},{"$f":"SUM($E312:$H312*TRANSPOSE(N$63:N$66))","v":0},{"$f":"SUM($E312:$H312*TRANSPOSE(O$63:O$66))","v":0}]
[null,null,null,null,null,null,null,null,null,null,null,null,null,null,null,null,null,null,null,{"$f":"SUM($E313:$H313*TRANSPOSE(M$63:M$66))","v":0},{"$f":"SUM($E313:$H313*TRANSPOSE(N$63:N$66))","v":0},{"$f":"SUM($E313:$H313*TRANSPOSE(O$63:O$66))","v":0}]
[null,null,null,null,null,null,null,null,null,null,null,null,null,null,null,null,null,null,null,{"$f":"SUM($E314:$H314*TRANSPOSE(M$63:M$66))","v":0},{"$f":"SUM($E314:$H314*TRANSPOSE(N$63:N$66))","v":0},{"$f":"SUM($E314:$H314*TRANSPOSE(O$63:O$66))","v":0}]
[null,null,null,null,null,null,null,null,null,null,null,null,null,null,null,null,null,null,null,{"$f":"SUM($E315:$H315*TRANSPOSE(M$63:M$66))","v":0},{"$f":"SUM($E315:$H315*TRANSPOSE(N$63:N$66))","v":0},{"$f":"SUM($E315:$H315*TRANSPOSE(O$63:O$66))","v":0}]
[null,null,null,null,null,null,null,null,null,null,null,null,null,null,null,null,null,null,null,{"$f":"SUM($E316:$H316*TRANSPOSE(M$63:M$66))","v":0},{"$f":"SUM($E316:$H316*TRANSPOSE(N$63:N$66))","v":0},{"$f":"SUM($E316:$H316*TRANSPOSE(O$63:O$66))","v":0}]
[null,null,null,null,null,null,null,null,null,null,null,null,null,null,null,null,null,null,null,{"$f":"SUM($E317:$H317*TRANSPOSE(M$63:M$66))","v":0},{"$f":"SUM($E317:$H317*TRANSPOSE(N$63:N$66))","v":0},{"$f":"SUM($E317:$H317*TRANSPOSE(O$63:O$66))","v":0}]
[null,null,null,null,null,null,null,null,null,null,null,null,null,null,null,null,null,null,null,{"$f":"SUM($E318:$H318*TRANSPOSE(M$63:M$66))","v":0},{"$f":"SUM($E318:$H318*TRANSPOSE(N$63:N$66))","v":0},{"$f":"SUM($E318:$H318*TRANSPOSE(O$63:O$66))","v":0}]
[null,null,null,null,null,null,null,null,null,null,null,null,null,null,null,null,null,null,null,{"$f":"SUM($E319:$H319*TRANSPOSE(M$63:M$66))","v":0},{"$f":"SUM($E319:$H319*TRANSPOSE(N$63:N$66))","v":0},{"$f":"SUM($E319:$H319*TRANSPOSE(O$63:O$66))","v":0}]
[null,null,null,null,null,null,null,null,null,null,null,null,null,null,null,null,null,null,null,{"$f":"SUM($E320:$H320*TRANSPOSE(M$63:M$66))","v":0},{"$f":"SUM($E320:$H320*TRANSPOSE(N$63:N$66))","v":0},{"$f":"SUM($E320:$H320*TRANSPOSE(O$63:O$66))","v":0}]
[null,null,null,null,null,null,null,null,null,null,null,null,null,null,null,null,null,null,null,{"$f":"SUM($E321:$H321*TRANSPOSE(M$63:M$66))","v":0},{"$f":"SUM($E321:$H321*TRANSPOSE(N$63:N$66))","v":0},{"$f":"SUM($E321:$H321*TRANSPOSE(O$63:O$66))","v":0}]
[null,null,null,null,null,null,null,null,null,null,null,null,null,null,null,null,null,null,null,{"$f":"SUM($E322:$H322*TRANSPOSE(M$63:M$66))","v":0},{"$f":"SUM($E322:$H322*TRANSPOSE(N$63:N$66))","v":0},{"$f":"SUM($E322:$H322*TRANSPOSE(O$63:O$66))","v":0}]
[null,null,null,null,null,null,null,null,null,null,null,null,null,null,null,null,null,null,null,{"$f":"SUM($E323:$H323*TRANSPOSE(M$63:M$66))","v":0},{"$f":"SUM($E323:$H323*TRANSPOSE(N$63:N$66))","v":0},{"$f":"SUM($E323:$H323*TRANSPOSE(O$63:O$66))","v":0}]
[null,null,null,null,null,null,null,null,null,null,null,null,null,null,null,null,null,null,null,{"$f":"SUM($E324:$H324*TRANSPOSE(M$63:M$66))","v":0},{"$f":"SUM($E324:$H324*TRANSPOSE(N$63:N$66))","v":0},{"$f":"SUM($E324:$H324*TRANSPOSE(O$63:O$66))","v":0}]
[null,null,null,null,null,null,null,null,null,null,null,null,null,null,null,null,null,null,null,{"$f":"SUM($E325:$H325*TRANSPOSE(M$63:M$66))","v":0},{"$f":"SUM($E325:$H325*TRANSPOSE(N$63:N$66))","v":0},{"$f":"SUM($E325:$H325*TRANSPOSE(O$63:O$66))","v":0}]
[null,null,null,null,null,null,null,null,null,null,null,null,null,null,null,null,null,null,null,{"$f":"SUM($E326:$H326*TRANSPOSE(M$63:M$66))","v":0},{"$f":"SUM($E326:$H326*TRANSPOSE(N$63:N$66))","v":0},{"$f":"SUM($E326:$H326*TRANSPOSE(O$63:O$66))","v":0}]
[null,null,null,null,null,null,null,null,null,null,null,null,null,null,null,null,null,null,null,{"$f":"SUM($E327:$H327*TRANSPOSE(M$63:M$66))","v":0},{"$f":"SUM($E327:$H327*TRANSPOSE(N$63:N$66))","v":0},{"$f":"SUM($E327:$H327*TRANSPOSE(O$63:O$66))","v":0}]
[null,null,null,null,null,null,null,null,null,null,null,null,null,null,null,null,null,null,null,{"$f":"SUM($E328:$H328*TRANSPOSE(M$63:M$66))","v":0},{"$f":"SUM($E328:$H328*TRANSPOSE(N$63:N$66))","v":0},{"$f":"SUM($E328:$H328*TRANSPOSE(O$63:O$66))","v":0}]
[null,null,null,null,null,null,null,null,null,null,null,null,null,null,null,null,null,null,null,{"$f":"SUM($E329:$H329*TRANSPOSE(M$63:M$66))","v":0},{"$f":"SUM($E329:$H329*TRANSPOSE(N$63:N$66))","v":0},{"$f":"SUM($E329:$H329*TRANSPOSE(O$63:O$66))","v":0}]
[null,null,null,null,null,null,null,null,null,null,null,null,null,null,null,null,null,null,null,{"$f":"SUM($E330:$H330*TRANSPOSE(M$63:M$66))","v":0},{"$f":"SUM($E330:$H330*TRANSPOSE(N$63:N$66))","v":0},{"$f":"SUM($E330:$H330*TRANSPOSE(O$63:O$66))","v":0}]
[null,null,null,null,null,null,null,null,null,null,null,null,null,null,null,null,null,null,null,{"$f":"SUM($E331:$H331*TRANSPOSE(M$63:M$66))","v":0},{"$f":"SUM($E331:$H331*TRANSPOSE(N$63:N$66))","v":0},{"$f":"SUM($E331:$H331*TRANSPOSE(O$63:O$66))","v":0}]
[null,null,null,null,null,null,null,null,null,null,null,null,null,null,null,null,null,null,null,{"$f":"SUM($E332:$H332*TRANSPOSE(M$63:M$66))","v":0},{"$f":"SUM($E332:$H332*TRANSPOSE(N$63:N$66))","v":0},{"$f":"SUM($E332:$H332*TRANSPOSE(O$63:O$66))","v":0}]
[null,null,null,null,null,null,null,null,null,null,null,null,null,null,null,null,null,null,null,{"$f":"SUM($E333:$H333*TRANSPOSE(M$63:M$66))","v":0},{"$f":"SUM($E333:$H333*TRANSPOSE(N$63:N$66))","v":0},{"$f":"SUM($E333:$H333*TRANSPOSE(O$63:O$66))","v":0}]
[null,null,null,null,null,null,null,null,null,null,null,null,null,null,null,null,null,null,null,{"$f":"SUM($E334:$H334*TRANSPOSE(M$63:M$66))","v":0},{"$f":"SUM($E334:$H334*TRANSPOSE(N$63:N$66))","v":0},{"$f":"SUM($E334:$H334*TRANSPOSE(O$63:O$66))","v":0}]
[null,null,null,null,null,null,null,null,null,null,null,null,null,null,null,null,null,null,null,{"$f":"SUM($E335:$H335*TRANSPOSE(M$63:M$66))","v":0},{"$f":"SUM($E335:$H335*TRANSPOSE(N$63:N$66))","v":0},{"$f":"SUM($E335:$H335*TRANSPOSE(O$63:O$66))","v":0}]
[null,null,null,null,null,null,null,null,null,null,null,null,null,null,null,null,null,null,null,{"$f":"SUM($E336:$H336*TRANSPOSE(M$63:M$66))","v":0},{"$f":"SUM($E336:$H336*TRANSPOSE(N$63:N$66))","v":0},{"$f":"SUM($E336:$H336*TRANSPOSE(O$63:O$66))","v":0}]
[null,null,null,null,null,null,null,null,null,null,null,null,null,null,null,null,null,null,null,{"$f":"SUM($E337:$H337*TRANSPOSE(M$63:M$66))","v":0},{"$f":"SUM($E337:$H337*TRANSPOSE(N$63:N$66))","v":0},{"$f":"SUM($E337:$H337*TRANSPOSE(O$63:O$66))","v":0}]
[null,null,null,null,null,null,null,null,null,null,null,null,null,null,null,null,null,null,null,{"$f":"SUM($E338:$H338*TRANSPOSE(M$63:M$66))","v":0},{"$f":"SUM($E338:$H338*TRANSPOSE(N$63:N$66))","v":0},{"$f":"SUM($E338:$H338*TRANSPOSE(O$63:O$66))","v":0}]
[null,null,null,null,null,null,null,null,null,null,null,null,null,null,null,null,null,null,null,{"$f":"SUM($E339:$H339*TRANSPOSE(M$63:M$66))","v":0},{"$f":"SUM($E339:$H339*TRANSPOSE(N$63:N$66))","v":0},{"$f":"SUM($E339:$H339*TRANSPOSE(O$63:O$66))","v":0}]
[null,null,null,null,null,null,null,null,null,null,null,null,null,null,null,null,null,null,null,{"$f":"SUM($E340:$H340*TRANSPOSE(M$63:M$66))","v":0},{"$f":"SUM($E340:$H340*TRANSPOSE(N$63:N$66))","v":0},{"$f":"SUM($E340:$H340*TRANSPOSE(O$63:O$66))","v":0}]
[null,null,null,null,null,null,null,null,null,null,null,null,null,null,null,null,null,null,null,{"$f":"SUM($E341:$H341*TRANSPOSE(M$63:M$66))","v":0},{"$f":"SUM($E341:$H341*TRANSPOSE(N$63:N$66))","v":0},{"$f":"SUM($E341:$H341*TRANSPOSE(O$63:O$66))","v":0}]
[null,null,null,null,null,null,null,null,null,null,null,null,null,null,null,null,null,null,null,{"$f":"SUM($E342:$H342*TRANSPOSE(M$63:M$66))","v":0},{"$f":"SUM($E342:$H342*TRANSPOSE(N$63:N$66))","v":0},{"$f":"SUM($E342:$H342*TRANSPOSE(O$63:O$66))","v":0}]
[null,null,null,null,null,null,null,null,null,null,null,null,null,null,null,null,null,null,null,{"$f":"SUM($E343:$H343*TRANSPOSE(M$63:M$66))","v":0},{"$f":"SUM($E343:$H343*TRANSPOSE(N$63:N$66))","v":0},{"$f":"SUM($E343:$H343*TRANSPOSE(O$63:O$66))","v":0}]
[null,null,null,null,null,null,null,null,null,null,null,null,null,null,null,null,null,null,null,{"$f":"SUM($E344:$H344*TRANSPOSE(M$63:M$66))","v":0},{"$f":"SUM($E344:$H344*TRANSPOSE(N$63:N$66))","v":0},{"$f":"SUM($E344:$H344*TRANSPOSE(O$63:O$66))","v":0}]
[null,null,null,null,null,null,null,null,null,null,null,null,null,null,null,null,null,null,null,{"$f":"SUM($E345:$H345*TRANSPOSE(M$63:M$66))","v":0},{"$f":"SUM($E345:$H345*TRANSPOSE(N$63:N$66))","v":0},{"$f":"SUM($E345:$H345*TRANSPOSE(O$63:O$66))","v":0}]
[null,null,null,null,null,null,null,null,null,null,null,null,null,null,null,null,null,null,null,{"$f":"SUM($E346:$H346*TRANSPOSE(M$63:M$66))","v":0},{"$f":"SUM($E346:$H346*TRANSPOSE(N$63:N$66))","v":0},{"$f":"SUM($E346:$H346*TRANSPOSE(O$63:O$66))","v":0}]
[null,null,null,null,null,null,null,null,null,null,null,null,null,null,null,null,null,null,null,{"$f":"SUM($E347:$H347*TRANSPOSE(M$63:M$66))","v":0},{"$f":"SUM($E347:$H347*TRANSPOSE(N$63:N$66))","v":0},{"$f":"SUM($E347:$H347*TRANSPOSE(O$63:O$66))","v":0}]
[null,null,null,null,null,null,null,null,null,null,null,null,null,null,null,null,null,null,null,{"$f":"SUM($E348:$H348*TRANSPOSE(M$63:M$66))","v":0},{"$f":"SUM($E348:$H348*TRANSPOSE(N$63:N$66))","v":0},{"$f":"SUM($E348:$H348*TRANSPOSE(O$63:O$66))","v":0}]
[null,null,null,null,null,null,null,null,null,null,null,null,null,null,null,null,null,null,null,{"$f":"SUM($E349:$H349*TRANSPOSE(M$63:M$66))","v":0},{"$f":"SUM($E349:$H349*TRANSPOSE(N$63:N$66))","v":0},{"$f":"SUM($E349:$H349*TRANSPOSE(O$63:O$66))","v":0}]
[null,null,null,null,null,null,null,null,null,null,null,null,null,null,null,null,null,null,null,{"$f":"SUM($E350:$H350*TRANSPOSE(M$63:M$66))","v":0},{"$f":"SUM($E350:$H350*TRANSPOSE(N$63:N$66))","v":0},{"$f":"SUM($E350:$H350*TRANSPOSE(O$63:O$66))","v":0}]
[null,null,null,null,null,null,null,null,null,null,null,null,null,null,null,null,null,null,null,{"$f":"SUM($E351:$H351*TRANSPOSE(M$63:M$66))","v":0},{"$f":"SUM($E351:$H351*TRANSPOSE(N$63:N$66))","v":0},{"$f":"SUM($E351:$H351*TRANSPOSE(O$63:O$66))","v":0}]
[null,null,null,null,null,null,null,null,null,null,null,null,null,null,null,null,null,null,null,{"$f":"SUM($E352:$H352*TRANSPOSE(M$63:M$66))","v":0},{"$f":"SUM($E352:$H352*TRANSPOSE(N$63:N$66))","v":0},{"$f":"SUM($E352:$H352*TRANSPOSE(O$63:O$66))","v":0}]
[null,null,null,null,null,null,null,null,null,null,null,null,null,null,null,null,null,null,null,{"$f":"SUM($E353:$H353*TRANSPOSE(M$63:M$66))","v":0},{"$f":"SUM($E353:$H353*TRANSPOSE(N$63:N$66))","v":0},{"$f":"SUM($E353:$H353*TRANSPOSE(O$63:O$66))","v":0}]
[null,null,null,null,null,null,null,null,null,null,null,null,null,null,null,null,null,null,null,{"$f":"SUM($E354:$H354*TRANSPOSE(M$63:M$66))","v":0},{"$f":"SUM($E354:$H354*TRANSPOSE(N$63:N$66))","v":0},{"$f":"SUM($E354:$H354*TRANSPOSE(O$63:O$66))","v":0}]
[null,null,null,null,null,null,null,null,null,null,null,null,null,null,null,null,null,null,null,{"$f":"SUM($E355:$H355*TRANSPOSE(M$63:M$66))","v":0},{"$f":"SUM($E355:$H355*TRANSPOSE(N$63:N$66))","v":0},{"$f":"SUM($E355:$H355*TRANSPOSE(O$63:O$66))","v":0}]
[null,null,null,null,null,null,null,null,null,null,null,null,null,null,null,null,null,null,null,{"$f":"SUM($E356:$H356*TRANSPOSE(M$63:M$66))","v":0},{"$f":"SUM($E356:$H356*TRANSPOSE(N$63:N$66))","v":0},{"$f":"SUM($E356:$H356*TRANSPOSE(O$63:O$66))","v":0}]
[null,null,null,null,null,null,null,null,null,null,null,null,null,null,null,null,null,null,null,{"$f":"SUM($E357:$H357*TRANSPOSE(M$63:M$66))","v":0},{"$f":"SUM($E357:$H357*TRANSPOSE(N$63:N$66))","v":0},{"$f":"SUM($E357:$H357*TRANSPOSE(O$63:O$66))","v":0}]
[null,null,null,null,null,null,null,null,null,null,null,null,null,null,null,null,null,null,null,{"$f":"SUM($E358:$H358*TRANSPOSE(M$63:M$66))","v":0},{"$f":"SUM($E358:$H358*TRANSPOSE(N$63:N$66))","v":0},{"$f":"SUM($E358:$H358*TRANSPOSE(O$63:O$66))","v":0}]
[null,null,null,null,null,null,null,null,null,null,null,null,null,null,null,null,null,null,null,{"$f":"SUM($E359:$H359*TRANSPOSE(M$63:M$66))","v":0},{"$f":"SUM($E359:$H359*TRANSPOSE(N$63:N$66))","v":0},{"$f":"SUM($E359:$H359*TRANSPOSE(O$63:O$66))","v":0}]
[null,null,null,null,null,null,null,null,null,null,null,null,null,null,null,null,null,null,null,{"$f":"SUM($E360:$H360*TRANSPOSE(M$63:M$66))","v":0},{"$f":"SUM($E360:$H360*TRANSPOSE(N$63:N$66))","v":0},{"$f":"SUM($E360:$H360*TRANSPOSE(O$63:O$66))","v":0}]
[null,null,null,null,null,null,null,null,null,null,null,null,null,null,null,null,null,null,null,{"$f":"SUM($E361:$H361*TRANSPOSE(M$63:M$66))","v":0},{"$f":"SUM($E361:$H361*TRANSPOSE(N$63:N$66))","v":0},{"$f":"SUM($E361:$H361*TRANSPOSE(O$63:O$66))","v":0}]
[null,null,null,null,null,null,null,null,null,null,null,null,null,null,null,null,null,null,null,{"$f":"SUM($E362:$H362*TRANSPOSE(M$63:M$66))","v":0},{"$f":"SUM($E362:$H362*TRANSPOSE(N$63:N$66))","v":0},{"$f":"SUM($E362:$H362*TRANSPOSE(O$63:O$66))","v":0}]
[null,null,null,null,null,null,null,null,null,null,null,null,null,null,null,null,null,null,null,{"$f":"SUM($E363:$H363*TRANSPOSE(M$63:M$66))","v":0},{"$f":"SUM($E363:$H363*TRANSPOSE(N$63:N$66))","v":0},{"$f":"SUM($E363:$H363*TRANSPOSE(O$63:O$66))","v":0}]
[null,null,null,null,null,null,null,null,null,null,null,null,null,null,null,null,null,null,null,{"$f":"SUM($E364:$H364*TRANSPOSE(M$63:M$66))","v":0},{"$f":"SUM($E364:$H364*TRANSPOSE(N$63:N$66))","v":0},{"$f":"SUM($E364:$H364*TRANSPOSE(O$63:O$66))","v":0}]
[null,null,null,null,null,null,null,null,null,null,null,null,null,null,null,null,null,null,null,{"$f":"SUM($E365:$H365*TRANSPOSE(M$63:M$66))","v":0},{"$f":"SUM($E365:$H365*TRANSPOSE(N$63:N$66))","v":0},{"$f":"SUM($E365:$H365*TRANSPOSE(O$63:O$66))","v":0}]
[null,null,null,null,null,null,null,null,null,null,null,null,null,null,null,null,null,null,null,{"$f":"SUM($E366:$H366*TRANSPOSE(M$63:M$66))","v":0},{"$f":"SUM($E366:$H366*TRANSPOSE(N$63:N$66))","v":0},{"$f":"SUM($E366:$H366*TRANSPOSE(O$63:O$66))","v":0}]
[null,null,null,null,null,null,null,null,null,null,null,null,null,null,null,null,null,null,null,{"$f":"SUM($E367:$H367*TRANSPOSE(M$63:M$66))","v":0},{"$f":"SUM($E367:$H367*TRANSPOSE(N$63:N$66))","v":0},{"$f":"SUM($E367:$H367*TRANSPOSE(O$63:O$66))","v":0}]
[null,null,null,null,null,null,null,null,null,null,null,null,null,null,null,null,null,null,null,{"$f":"SUM($E368:$H368*TRANSPOSE(M$63:M$66))","v":0},{"$f":"SUM($E368:$H368*TRANSPOSE(N$63:N$66))","v":0},{"$f":"SUM($E368:$H368*TRANSPOSE(O$63:O$66))","v":0}]
[null,null,null,null,null,null,null,null,null,null,null,null,null,null,null,null,null,null,null,{"$f":"SUM($E369:$H369*TRANSPOSE(M$63:M$66))","v":0},{"$f":"SUM($E369:$H369*TRANSPOSE(N$63:N$66))","v":0},{"$f":"SUM($E369:$H369*TRANSPOSE(O$63:O$66))","v":0}]
[null,null,null,null,null,null,null,null,null,null,null,null,null,null,null,null,null,null,null,{"$f":"SUM($E370:$H370*TRANSPOSE(M$63:M$66))","v":0},{"$f":"SUM($E370:$H370*TRANSPOSE(N$63:N$66))","v":0},{"$f":"SUM($E370:$H370*TRANSPOSE(O$63:O$66))","v":0}]
[null,null,null,null,null,null,null,null,null,null,null,null,null,null,null,null,null,null,null,{"$f":"SUM($E371:$H371*TRANSPOSE(M$63:M$66))","v":0},{"$f":"SUM($E371:$H371*TRANSPOSE(N$63:N$66))","v":0},{"$f":"SUM($E371:$H371*TRANSPOSE(O$63:O$66))","v":0}]
[null,null,null,null,null,null,null,null,null,null,null,null,null,null,null,null,null,null,null,{"$f":"SUM($E372:$H372*TRANSPOSE(M$63:M$66))","v":0},{"$f":"SUM($E372:$H372*TRANSPOSE(N$63:N$66))","v":0},{"$f":"SUM($E372:$H372*TRANSPOSE(O$63:O$66))","v":0}]
[null,null,null,null,null,null,null,null,null,null,null,null,null,null,null,null,null,null,null,{"$f":"SUM($E373:$H373*TRANSPOSE(M$63:M$66))","v":0},{"$f":"SUM($E373:$H373*TRANSPOSE(N$63:N$66))","v":0},{"$f":"SUM($E373:$H373*TRANSPOSE(O$63:O$66))","v":0}]
[null,null,null,null,null,null,null,null,null,null,null,null,null,null,null,null,null,null,null,{"$f":"SUM($E374:$H374*TRANSPOSE(M$63:M$66))","v":0},{"$f":"SUM($E374:$H374*TRANSPOSE(N$63:N$66))","v":0},{"$f":"SUM($E374:$H374*TRANSPOSE(O$63:O$66))","v":0}]
[null,null,null,null,null,null,null,null,null,null,null,null,null,null,null,null,null,null,null,{"$f":"SUM($E375:$H375*TRANSPOSE(M$63:M$66))","v":0},{"$f":"SUM($E375:$H375*TRANSPOSE(N$63:N$66))","v":0},{"$f":"SUM($E375:$H375*TRANSPOSE(O$63:O$66))","v":0}]
[null,null,null,null,null,null,null,null,null,null,null,null,null,null,null,null,null,null,null,{"$f":"SUM($E376:$H376*TRANSPOSE(M$63:M$66))","v":0},{"$f":"SUM($E376:$H376*TRANSPOSE(N$63:N$66))","v":0},{"$f":"SUM($E376:$H376*TRANSPOSE(O$63:O$66))","v":0}]
[null,null,null,null,null,null,null,null,null,null,null,null,null,null,null,null,null,null,null,{"$f":"SUM($E377:$H377*TRANSPOSE(M$63:M$66))","v":0},{"$f":"SUM($E377:$H377*TRANSPOSE(N$63:N$66))","v":0},{"$f":"SUM($E377:$H377*TRANSPOSE(O$63:O$66))","v":0}]
[null,null,null,null,null,null,null,null,null,null,null,null,null,null,null,null,null,null,null,{"$f":"SUM($E378:$H378*TRANSPOSE(M$63:M$66))","v":0},{"$f":"SUM($E378:$H378*TRANSPOSE(N$63:N$66))","v":0},{"$f":"SUM($E378:$H378*TRANSPOSE(O$63:O$66))","v":0}]
[null,null,null,null,null,null,null,null,null,null,null,null,null,null,null,null,null,null,null,{"$f":"SUM($E379:$H379*TRANSPOSE(M$63:M$66))","v":0},{"$f":"SUM($E379:$H379*TRANSPOSE(N$63:N$66))","v":0},{"$f":"SUM($E379:$H379*TRANSPOSE(O$63:O$66))","v":0}]
[null,null,null,null,null,null,null,null,null,null,null,null,null,null,null,null,null,null,null,{"$f":"SUM($E380:$H380*TRANSPOSE(M$63:M$66))","v":0},{"$f":"SUM($E380:$H380*TRANSPOSE(N$63:N$66))","v":0},{"$f":"SUM($E380:$H380*TRANSPOSE(O$63:O$66))","v":0}]
[null,null,null,null,null,null,null,null,null,null,null,null,null,null,null,null,null,null,null,{"$f":"SUM($E381:$H381*TRANSPOSE(M$63:M$66))","v":0},{"$f":"SUM($E381:$H381*TRANSPOSE(N$63:N$66))","v":0},{"$f":"SUM($E381:$H381*TRANSPOSE(O$63:O$66))","v":0}]
[null,null,null,null,null,null,null,null,null,null,null,null,null,null,null,null,null,null,null,{"$f":"SUM($E382:$H382*TRANSPOSE(M$63:M$66))","v":0},{"$f":"SUM($E382:$H382*TRANSPOSE(N$63:N$66))","v":0},{"$f":"SUM($E382:$H382*TRANSPOSE(O$63:O$66))","v":0}]
[null,null,null,null,null,null,null,null,null,null,null,null,null,null,null,null,null,null,null,{"$f":"SUM($E383:$H383*TRANSPOSE(M$63:M$66))","v":0},{"$f":"SUM($E383:$H383*TRANSPOSE(N$63:N$66))","v":0},{"$f":"SUM($E383:$H383*TRANSPOSE(O$63:O$66))","v":0}]
[null,null,null,null,null,null,null,null,null,null,null,null,null,null,null,null,null,null,null,{"$f":"SUM($E384:$H384*TRANSPOSE(M$63:M$66))","v":0},{"$f":"SUM($E384:$H384*TRANSPOSE(N$63:N$66))","v":0},{"$f":"SUM($E384:$H384*TRANSPOSE(O$63:O$66))","v":0}]
[null,null,null,null,null,null,null,null,null,null,null,null,null,null,null,null,null,null,null,{"$f":"SUM($E385:$H385*TRANSPOSE(M$63:M$66))","v":0},{"$f":"SUM($E385:$H385*TRANSPOSE(N$63:N$66))","v":0},{"$f":"SUM($E385:$H385*TRANSPOSE(O$63:O$66))","v":0}]
[null,null,null,null,null,null,null,null,null,null,null,null,null,null,null,null,null,null,null,{"$f":"SUM($E386:$H386*TRANSPOSE(M$63:M$66))","v":0},{"$f":"SUM($E386:$H386*TRANSPOSE(N$63:N$66))","v":0},{"$f":"SUM($E386:$H386*TRANSPOSE(O$63:O$66))","v":0}]
[null,null,null,null,null,null,null,null,null,null,null,null,null,null,null,null,null,null,null,{"$f":"SUM($E387:$H387*TRANSPOSE(M$63:M$66))","v":0},{"$f":"SUM($E387:$H387*TRANSPOSE(N$63:N$66))","v":0},{"$f":"SUM($E387:$H387*TRANSPOSE(O$63:O$66))","v":0}]
[null,null,null,null,null,null,null,null,null,null,null,null,null,null,null,null,null,null,null,{"$f":"SUM($E388:$H388*TRANSPOSE(M$63:M$66))","v":0},{"$f":"SUM($E388:$H388*TRANSPOSE(N$63:N$66))","v":0},{"$f":"SUM($E388:$H388*TRANSPOSE(O$63:O$66))","v":0}]
[null,null,null,null,null,null,null,null,null,null,null,null,null,null,null,null,null,null,null,{"$f":"SUM($E389:$H389*TRANSPOSE(M$63:M$66))","v":0},{"$f":"SUM($E389:$H389*TRANSPOSE(N$63:N$66))","v":0},{"$f":"SUM($E389:$H389*TRANSPOSE(O$63:O$66))","v":0}]
[null,null,null,null,null,null,null,null,null,null,null,null,null,null,null,null,null,null,null,{"$f":"SUM($E390:$H390*TRANSPOSE(M$63:M$66))","v":0},{"$f":"SUM($E390:$H390*TRANSPOSE(N$63:N$66))","v":0},{"$f":"SUM($E390:$H390*TRANSPOSE(O$63:O$66))","v":0}]
[null,null,null,null,null,null,null,null,null,null,null,null,null,null,null,null,null,null,null,{"$f":"SUM($E391:$H391*TRANSPOSE(M$63:M$66))","v":0},{"$f":"SUM($E391:$H391*TRANSPOSE(N$63:N$66))","v":0},{"$f":"SUM($E391:$H391*TRANSPOSE(O$63:O$66))","v":0}]
[null,null,null,null,null,null,null,null,null,null,null,null,null,null,null,null,null,null,null,{"$f":"SUM($E392:$H392*TRANSPOSE(M$63:M$66))","v":0},{"$f":"SUM($E392:$H392*TRANSPOSE(N$63:N$66))","v":0},{"$f":"SUM($E392:$H392*TRANSPOSE(O$63:O$66))","v":0}]
[null,null,null,null,null,null,null,null,null,null,null,null,null,null,null,null,null,null,null,{"$f":"SUM($E393:$H393*TRANSPOSE(M$63:M$66))","v":0},{"$f":"SUM($E393:$H393*TRANSPOSE(N$63:N$66))","v":0},{"$f":"SUM($E393:$H393*TRANSPOSE(O$63:O$66))","v":0}]
[null,null,null,null,null,null,null,null,null,null,null,null,null,null,null,null,null,null,null,{"$f":"SUM($E394:$H394*TRANSPOSE(M$63:M$66))","v":0},{"$f":"SUM($E394:$H394*TRANSPOSE(N$63:N$66))","v":0},{"$f":"SUM($E394:$H394*TRANSPOSE(O$63:O$66))","v":0}]
[null,null,null,null,null,null,null,null,null,null,null,null,null,null,null,null,null,null,null,{"$f":"SUM($E395:$H395*TRANSPOSE(M$63:M$66))","v":0},{"$f":"SUM($E395:$H395*TRANSPOSE(N$63:N$66))","v":0},{"$f":"SUM($E395:$H395*TRANSPOSE(O$63:O$66))","v":0}]
[null,null,null,null,null,null,null,null,null,null,null,null,null,null,null,null,null,null,null,{"$f":"SUM($E396:$H396*TRANSPOSE(M$63:M$66))","v":0},{"$f":"SUM($E396:$H396*TRANSPOSE(N$63:N$66))","v":0},{"$f":"SUM($E396:$H396*TRANSPOSE(O$63:O$66))","v":0}]
[null,null,null,null,null,null,null,null,null,null,null,null,null,null,null,null,null,null,null,{"$f":"SUM($E397:$H397*TRANSPOSE(M$63:M$66))","v":0},{"$f":"SUM($E397:$H397*TRANSPOSE(N$63:N$66))","v":0},{"$f":"SUM($E397:$H397*TRANSPOSE(O$63:O$66))","v":0}]
[null,null,null,null,null,null,null,null,null,null,null,null,null,null,null,null,null,null,null,{"$f":"SUM($E398:$H398*TRANSPOSE(M$63:M$66))","v":0},{"$f":"SUM($E398:$H398*TRANSPOSE(N$63:N$66))","v":0},{"$f":"SUM($E398:$H398*TRANSPOSE(O$63:O$66))","v":0}]
[null,null,null,null,null,null,null,null,null,null,null,null,null,null,null,null,null,null,null,{"$f":"SUM($E399:$H399*TRANSPOSE(M$63:M$66))","v":0},{"$f":"SUM($E399:$H399*TRANSPOSE(N$63:N$66))","v":0},{"$f":"SUM($E399:$H399*TRANSPOSE(O$63:O$66))","v":0}]
[null,null,null,null,null,null,null,null,null,null,null,null,null,null,null,null,null,null,null,{"$f":"SUM($E400:$H400*TRANSPOSE(M$63:M$66))","v":0},{"$f":"SUM($E400:$H400*TRANSPOSE(N$63:N$66))","v":0},{"$f":"SUM($E400:$H400*TRANSPOSE(O$63:O$66))","v":0}]
[null,null,null,null,null,null,null,null,null,null,null,null,null,null,null,null,null,null,null,{"$f":"SUM($E401:$H401*TRANSPOSE(M$63:M$66))","v":0},{"$f":"SUM($E401:$H401*TRANSPOSE(N$63:N$66))","v":0},{"$f":"SUM($E401:$H401*TRANSPOSE(O$63:O$66))","v":0}]
[null,null,null,null,null,null,null,null,null,null,null,null,null,null,null,null,null,null,null,{"$f":"SUM($E402:$H402*TRANSPOSE(M$63:M$66))","v":0},{"$f":"SUM($E402:$H402*TRANSPOSE(N$63:N$66))","v":0},{"$f":"SUM($E402:$H402*TRANSPOSE(O$63:O$66))","v":0}]
[null,null,null,null,null,null,null,null,null,null,null,null,null,null,null,null,null,null,null,{"$f":"SUM($E403:$H403*TRANSPOSE(M$63:M$66))","v":0},{"$f":"SUM($E403:$H403*TRANSPOSE(N$63:N$66))","v":0},{"$f":"SUM($E403:$H403*TRANSPOSE(O$63:O$66))","v":0}]
[null,null,null,null,null,null,null,null,null,null,null,null,null,null,null,null,null,null,null,{"$f":"SUM($E404:$H404*TRANSPOSE(M$63:M$66))","v":0},{"$f":"SUM($E404:$H404*TRANSPOSE(N$63:N$66))","v":0},{"$f":"SUM($E404:$H404*TRANSPOSE(O$63:O$66))","v":0}]
[null,null,null,null,null,null,null,null,null,null,null,null,null,null,null,null,null,null,null,{"$f":"SUM($E405:$H405*TRANSPOSE(M$63:M$66))","v":0},{"$f":"SUM($E405:$H405*TRANSPOSE(N$63:N$66))","v":0},{"$f":"SUM($E405:$H405*TRANSPOSE(O$63:O$66))","v":0}]
[null,null,null,null,null,null,null,null,null,null,null,null,null,null,null,null,null,null,null,{"$f":"SUM($E406:$H406*TRANSPOSE(M$63:M$66))","v":0},{"$f":"SUM($E406:$H406*TRANSPOSE(N$63:N$66))","v":0},{"$f":"SUM($E406:$H406*TRANSPOSE(O$63:O$66))","v":0}]
[null,null,null,null,null,null,null,null,null,null,null,null,null,null,null,null,null,null,null,{"$f":"SUM($E407:$H407*TRANSPOSE(M$63:M$66))","v":0},{"$f":"SUM($E407:$H407*TRANSPOSE(N$63:N$66))","v":0},{"$f":"SUM($E407:$H407*TRANSPOSE(O$63:O$66))","v":0}]
[null,null,null,null,null,null,null,null,null,null,null,null,null,null,null,null,null,null,null,{"$f":"SUM($E408:$H408*TRANSPOSE(M$63:M$66))","v":0},{"$f":"SUM($E408:$H408*TRANSPOSE(N$63:N$66))","v":0},{"$f":"SUM($E408:$H408*TRANSPOSE(O$63:O$66))","v":0}]
[null,null,null,null,null,null,null,null,null,null,null,null,null,null,null,null,null,null,null,{"$f":"SUM($E409:$H409*TRANSPOSE(M$63:M$66))","v":0},{"$f":"SUM($E409:$H409*TRANSPOSE(N$63:N$66))","v":0},{"$f":"SUM($E409:$H409*TRANSPOSE(O$63:O$66))","v":0}]
[null,null,null,null,null,null,null,null,null,null,null,null,null,null,null,null,null,null,null,{"$f":"SUM($E410:$H410*TRANSPOSE(M$63:M$66))","v":0},{"$f":"SUM($E410:$H410*TRANSPOSE(N$63:N$66))","v":0},{"$f":"SUM($E410:$H410*TRANSPOSE(O$63:O$66))","v":0}]
[null,null,null,null,null,null,null,null,null,null,null,null,null,null,null,null,null,null,null,{"$f":"SUM($E411:$H411*TRANSPOSE(M$63:M$66))","v":0},{"$f":"SUM($E411:$H411*TRANSPOSE(N$63:N$66))","v":0},{"$f":"SUM($E411:$H411*TRANSPOSE(O$63:O$66))","v":0}]
[null,null,null,null,null,null,null,null,null,null,null,null,null,null,null,null,null,null,null,{"$f":"SUM($E412:$H412*TRANSPOSE(M$63:M$66))","v":0},{"$f":"SUM($E412:$H412*TRANSPOSE(N$63:N$66))","v":0},{"$f":"SUM($E412:$H412*TRANSPOSE(O$63:O$66))","v":0}]
[null,null,null,null,null,null,null,null,null,null,null,null,null,null,null,null,null,null,null,{"$f":"SUM($E413:$H413*TRANSPOSE(M$63:M$66))","v":0},{"$f":"SUM($E413:$H413*TRANSPOSE(N$63:N$66))","v":0},{"$f":"SUM($E413:$H413*TRANSPOSE(O$63:O$66))","v":0}]
[null,null,null,null,null,null,null,null,null,null,null,null,null,null,null,null,null,null,null,{"$f":"SUM($E414:$H414*TRANSPOSE(M$63:M$66))","v":0},{"$f":"SUM($E414:$H414*TRANSPOSE(N$63:N$66))","v":0},{"$f":"SUM($E414:$H414*TRANSPOSE(O$63:O$66))","v":0}]
[null,null,null,null,null,null,null,null,null,null,null,null,null,null,null,null,null,null,null,{"$f":"SUM($E415:$H415*TRANSPOSE(M$63:M$66))","v":0},{"$f":"SUM($E415:$H415*TRANSPOSE(N$63:N$66))","v":0},{"$f":"SUM($E415:$H415*TRANSPOSE(O$63:O$66))","v":0}]
[null,null,null,null,null,null,null,null,null,null,null,null,null,null,null,null,null,null,null,{"$f":"SUM($E416:$H416*TRANSPOSE(M$63:M$66))","v":0},{"$f":"SUM($E416:$H416*TRANSPOSE(N$63:N$66))","v":0},{"$f":"SUM($E416:$H416*TRANSPOSE(O$63:O$66))","v":0}]
[null,null,null,null,null,null,null,null,null,null,null,null,null,null,null,null,null,null,null,{"$f":"SUM($E417:$H417*TRANSPOSE(M$63:M$66))","v":0},{"$f":"SUM($E417:$H417*TRANSPOSE(N$63:N$66))","v":0},{"$f":"SUM($E417:$H417*TRANSPOSE(O$63:O$66))","v":0}]
[null,null,null,null,null,null,null,null,null,null,null,null,null,null,null,null,null,null,null,{"$f":"SUM($E418:$H418*TRANSPOSE(M$63:M$66))","v":0},{"$f":"SUM($E418:$H418*TRANSPOSE(N$63:N$66))","v":0},{"$f":"SUM($E418:$H418*TRANSPOSE(O$63:O$66))","v":0}]
[null,null,null,null,null,null,null,null,null,null,null,null,null,null,null,null,null,null,null,{"$f":"SUM($E419:$H419*TRANSPOSE(M$63:M$66))","v":0},{"$f":"SUM($E419:$H419*TRANSPOSE(N$63:N$66))","v":0},{"$f":"SUM($E419:$H419*TRANSPOSE(O$63:O$66))","v":0}]
[null,null,null,null,null,null,null,null,null,null,null,null,null,null,null,null,null,null,null,{"$f":"SUM($E420:$H420*TRANSPOSE(M$63:M$66))","v":0},{"$f":"SUM($E420:$H420*TRANSPOSE(N$63:N$66))","v":0},{"$f":"SUM($E420:$H420*TRANSPOSE(O$63:O$66))","v":0}]
[null,null,null,null,null,null,null,null,null,null,null,null,null,null,null,null,null,null,null,{"$f":"SUM($E421:$H421*TRANSPOSE(M$63:M$66))","v":0},{"$f":"SUM($E421:$H421*TRANSPOSE(N$63:N$66))","v":0},{"$f":"SUM($E421:$H421*TRANSPOSE(O$63:O$66))","v":0}]
[null,null,null,null,null,null,null,null,null,null,null,null,null,null,null,null,null,null,null,{"$f":"SUM($E422:$H422*TRANSPOSE(M$63:M$66))","v":0},{"$f":"SUM($E422:$H422*TRANSPOSE(N$63:N$66))","v":0},{"$f":"SUM($E422:$H422*TRANSPOSE(O$63:O$66))","v":0}]
[null,null,null,null,null,null,null,null,null,null,null,null,null,null,null,null,null,null,null,{"$f":"SUM($E423:$H423*TRANSPOSE(M$63:M$66))","v":0},{"$f":"SUM($E423:$H423*TRANSPOSE(N$63:N$66))","v":0},{"$f":"SUM($E423:$H423*TRANSPOSE(O$63:O$66))","v":0}]
[null,null,null,null,null,null,null,null,null,null,null,null,null,null,null,null,null,null,null,{"$f":"SUM($E424:$H424*TRANSPOSE(M$63:M$66))","v":0},{"$f":"SUM($E424:$H424*TRANSPOSE(N$63:N$66))","v":0},{"$f":"SUM($E424:$H424*TRANSPOSE(O$63:O$66))","v":0}]
[null,null,null,null,null,null,null,null,null,null,null,null,null,null,null,null,null,null,null,{"$f":"SUM($E425:$H425*TRANSPOSE(M$63:M$66))","v":0},{"$f":"SUM($E425:$H425*TRANSPOSE(N$63:N$66))","v":0},{"$f":"SUM($E425:$H425*TRANSPOSE(O$63:O$66))","v":0}]
[null,null,null,null,null,null,null,null,null,null,null,null,null,null,null,null,null,null,null,{"$f":"SUM($E426:$H426*TRANSPOSE(M$63:M$66))","v":0},{"$f":"SUM($E426:$H426*TRANSPOSE(N$63:N$66))","v":0},{"$f":"SUM($E426:$H426*TRANSPOSE(O$63:O$66))","v":0}]
[null,null,null,null,null,null,null,null,null,null,null,null,null,null,null,null,null,null,null,{"$f":"SUM($E427:$H427*TRANSPOSE(M$63:M$66))","v":0},{"$f":"SUM($E427:$H427*TRANSPOSE(N$63:N$66))","v":0},{"$f":"SUM($E427:$H427*TRANSPOSE(O$63:O$66))","v":0}]
[null,null,null,null,null,null,null,null,null,null,null,null,null,null,null,null,null,null,null,{"$f":"SUM($E428:$H428*TRANSPOSE(M$63:M$66))","v":0},{"$f":"SUM($E428:$H428*TRANSPOSE(N$63:N$66))","v":0},{"$f":"SUM($E428:$H428*TRANSPOSE(O$63:O$66))","v":0}]
[null,null,null,null,null,null,null,null,null,null,null,null,null,null,null,null,null,null,null,{"$f":"SUM($E429:$H429*TRANSPOSE(M$63:M$66))","v":0},{"$f":"SUM($E429:$H429*TRANSPOSE(N$63:N$66))","v":0},{"$f":"SUM($E429:$H429*TRANSPOSE(O$63:O$66))","v":0}]
[null,null,null,null,null,null,null,null,null,null,null,null,null,null,null,null,null,null,null,{"$f":"SUM($E430:$H430*TRANSPOSE(M$63:M$66))","v":0},{"$f":"SUM($E430:$H430*TRANSPOSE(N$63:N$66))","v":0},{"$f":"SUM($E430:$H430*TRANSPOSE(O$63:O$66))","v":0}]
[null,null,null,null,null,null,null,null,null,null,null,null,null,null,null,null,null,null,null,{"$f":"SUM($E431:$H431*TRANSPOSE(M$63:M$66))","v":0},{"$f":"SUM($E431:$H431*TRANSPOSE(N$63:N$66))","v":0},{"$f":"SUM($E431:$H431*TRANSPOSE(O$63:O$66))","v":0}]
[null,null,null,null,null,null,null,null,null,null,null,null,null,null,null,null,null,null,null,{"$f":"SUM($E432:$H432*TRANSPOSE(M$63:M$66))","v":0},{"$f":"SUM($E432:$H432*TRANSPOSE(N$63:N$66))","v":0},{"$f":"SUM($E432:$H432*TRANSPOSE(O$63:O$66))","v":0}]
[null,null,null,null,null,null,null,null,null,null,null,null,null,null,null,null,null,null,null,{"$f":"SUM($E433:$H433*TRANSPOSE(M$63:M$66))","v":0},{"$f":"SUM($E433:$H433*TRANSPOSE(N$63:N$66))","v":0},{"$f":"SUM($E433:$H433*TRANSPOSE(O$63:O$66))","v":0}]
[null,null,null,null,null,null,null,null,null,null,null,null,null,null,null,null,null,null,null,{"$f":"SUM($E434:$H434*TRANSPOSE(M$63:M$66))","v":0},{"$f":"SUM($E434:$H434*TRANSPOSE(N$63:N$66))","v":0},{"$f":"SUM($E434:$H434*TRANSPOSE(O$63:O$66))","v":0}]
[null,null,null,null,null,null,null,null,null,null,null,null,null,null,null,null,null,null,null,{"$f":"SUM($E435:$H435*TRANSPOSE(M$63:M$66))","v":0},{"$f":"SUM($E435:$H435*TRANSPOSE(N$63:N$66))","v":0},{"$f":"SUM($E435:$H435*TRANSPOSE(O$63:O$66))","v":0}]
[null,null,null,null,null,null,null,null,null,null,null,null,null,null,null,null,null,null,null,{"$f":"SUM($E436:$H436*TRANSPOSE(M$63:M$66))","v":0},{"$f":"SUM($E436:$H436*TRANSPOSE(N$63:N$66))","v":0},{"$f":"SUM($E436:$H436*TRANSPOSE(O$63:O$66))","v":0}]
[null,null,null,null,null,null,null,null,null,null,null,null,null,null,null,null,null,null,null,{"$f":"SUM($E437:$H437*TRANSPOSE(M$63:M$66))","v":0},{"$f":"SUM($E437:$H437*TRANSPOSE(N$63:N$66))","v":0},{"$f":"SUM($E437:$H437*TRANSPOSE(O$63:O$66))","v":0}]
[null,null,null,null,null,null,null,null,null,null,null,null,null,null,null,null,null,null,null,{"$f":"SUM($E438:$H438*TRANSPOSE(M$63:M$66))","v":0},{"$f":"SUM($E438:$H438*TRANSPOSE(N$63:N$66))","v":0},{"$f":"SUM($E438:$H438*TRANSPOSE(O$63:O$66))","v":0}]
[null,null,null,null,null,null,null,null,null,null,null,null,null,null,null,null,null,null,null,{"$f":"SUM($E439:$H439*TRANSPOSE(M$63:M$66))","v":0},{"$f":"SUM($E439:$H439*TRANSPOSE(N$63:N$66))","v":0},{"$f":"SUM($E439:$H439*TRANSPOSE(O$63:O$66))","v":0}]
[null,null,null,null,null,null,null,null,null,null,null,null,null,null,null,null,null,null,null,{"$f":"SUM($E440:$H440*TRANSPOSE(M$63:M$66))","v":0},{"$f":"SUM($E440:$H440*TRANSPOSE(N$63:N$66))","v":0},{"$f":"SUM($E440:$H440*TRANSPOSE(O$63:O$66))","v":0}]
[null,null,null,null,null,null,null,null,null,null,null,null,null,null,null,null,null,null,null,{"$f":"SUM($E441:$H441*TRANSPOSE(M$63:M$66))","v":0},{"$f":"SUM($E441:$H441*TRANSPOSE(N$63:N$66))","v":0},{"$f":"SUM($E441:$H441*TRANSPOSE(O$63:O$66))","v":0}]
[null,null,null,null,null,null,null,null,null,null,null,null,null,null,null,null,null,null,null,{"$f":"SUM($E442:$H442*TRANSPOSE(M$63:M$66))","v":0},{"$f":"SUM($E442:$H442*TRANSPOSE(N$63:N$66))","v":0},{"$f":"SUM($E442:$H442*TRANSPOSE(O$63:O$66))","v":0}]
[null,null,null,null,null,null,null,null,null,null,null,null,null,null,null,null,null,null,null,{"$f":"SUM($E443:$H443*TRANSPOSE(M$63:M$66))","v":0},{"$f":"SUM($E443:$H443*TRANSPOSE(N$63:N$66))","v":0},{"$f":"SUM($E443:$H443*TRANSPOSE(O$63:O$66))","v":0}]
[null,null,null,null,null,null,null,null,null,null,null,null,null,null,null,null,null,null,null,{"$f":"SUM($E444:$H444*TRANSPOSE(M$63:M$66))","v":0},{"$f":"SUM($E444:$H444*TRANSPOSE(N$63:N$66))","v":0},{"$f":"SUM($E444:$H444*TRANSPOSE(O$63:O$66))","v":0}]
[null,null,null,null,null,null,null,null,null,null,null,null,null,null,null,null,null,null,null,{"$f":"SUM($E445:$H445*TRANSPOSE(M$63:M$66))","v":0},{"$f":"SUM($E445:$H445*TRANSPOSE(N$63:N$66))","v":0},{"$f":"SUM($E445:$H445*TRANSPOSE(O$63:O$66))","v":0}]
[null,null,null,null,null,null,null,null,null,null,null,null,null,null,null,null,null,null,null,{"$f":"SUM($E446:$H446*TRANSPOSE(M$63:M$66))","v":0},{"$f":"SUM($E446:$H446*TRANSPOSE(N$63:N$66))","v":0},{"$f":"SUM($E446:$H446*TRANSPOSE(O$63:O$66))","v":0}]
[null,null,null,null,null,null,null,null,null,null,null,null,null,null,null,null,null,null,null,{"$f":"SUM($E447:$H447*TRANSPOSE(M$63:M$66))","v":0},{"$f":"SUM($E447:$H447*TRANSPOSE(N$63:N$66))","v":0},{"$f":"SUM($E447:$H447*TRANSPOSE(O$63:O$66))","v":0}]
[null,null,null,null,null,null,null,null,null,null,null,null,null,null,null,null,null,null,null,{"$f":"SUM($E448:$H448*TRANSPOSE(M$63:M$66))","v":0},{"$f":"SUM($E448:$H448*TRANSPOSE(N$63:N$66))","v":0},{"$f":"SUM($E448:$H448*TRANSPOSE(O$63:O$66))","v":0}]
[null,null,null,null,null,null,null,null,null,null,null,null,null,null,null,null,null,null,null,{"$f":"SUM($E449:$H449*TRANSPOSE(M$63:M$66))","v":0},{"$f":"SUM($E449:$H449*TRANSPOSE(N$63:N$66))","v":0},{"$f":"SUM($E449:$H449*TRANSPOSE(O$63:O$66))","v":0}]
[null,null,null,null,null,null,null,null,null,null,null,null,null,null,null,null,null,null,null,{"$f":"SUM($E450:$H450*TRANSPOSE(M$63:M$66))","v":0},{"$f":"SUM($E450:$H450*TRANSPOSE(N$63:N$66))","v":0},{"$f":"SUM($E450:$H450*TRANSPOSE(O$63:O$66))","v":0}]
[null,null,null,null,null,null,null,null,null,null,null,null,null,null,null,null,null,null,null,{"$f":"SUM($E451:$H451*TRANSPOSE(M$63:M$66))","v":0},{"$f":"SUM($E451:$H451*TRANSPOSE(N$63:N$66))","v":0},{"$f":"SUM($E451:$H451*TRANSPOSE(O$63:O$66))","v":0}]
[null,null,null,null,null,null,null,null,null,null,null,null,null,null,null,null,null,null,null,{"$f":"SUM($E452:$H452*TRANSPOSE(M$63:M$66))","v":0},{"$f":"SUM($E452:$H452*TRANSPOSE(N$63:N$66))","v":0},{"$f":"SUM($E452:$H452*TRANSPOSE(O$63:O$66))","v":0}]
[null,null,null,null,null,null,null,null,null,null,null,null,null,null,null,null,null,null,null,{"$f":"SUM($E453:$H453*TRANSPOSE(M$63:M$66))","v":0},{"$f":"SUM($E453:$H453*TRANSPOSE(N$63:N$66))","v":0},{"$f":"SUM($E453:$H453*TRANSPOSE(O$63:O$66))","v":0}]
[null,null,null,null,null,null,null,null,null,null,null,null,null,null,null,null,null,null,null,{"$f":"SUM($E454:$H454*TRANSPOSE(M$63:M$66))","v":0},{"$f":"SUM($E454:$H454*TRANSPOSE(N$63:N$66))","v":0},{"$f":"SUM($E454:$H454*TRANSPOSE(O$63:O$66))","v":0}]
[null,null,null,null,null,null,null,null,null,null,null,null,null,null,null,null,null,null,null,{"$f":"SUM($E455:$H455*TRANSPOSE(M$63:M$66))","v":0},{"$f":"SUM($E455:$H455*TRANSPOSE(N$63:N$66))","v":0},{"$f":"SUM($E455:$H455*TRANSPOSE(O$63:O$66))","v":0}]
[null,null,null,null,null,null,null,null,null,null,null,null,null,null,null,null,null,null,null,{"$f":"SUM($E456:$H456*TRANSPOSE(M$63:M$66))","v":0},{"$f":"SUM($E456:$H456*TRANSPOSE(N$63:N$66))","v":0},{"$f":"SUM($E456:$H456*TRANSPOSE(O$63:O$66))","v":0}]
[null,null,null,null,null,null,null,null,null,null,null,null,null,null,null,null,null,null,null,{"$f":"SUM($E457:$H457*TRANSPOSE(M$63:M$66))","v":0},{"$f":"SUM($E457:$H457*TRANSPOSE(N$63:N$66))","v":0},{"$f":"SUM($E457:$H457*TRANSPOSE(O$63:O$66))","v":0}]
[null,null,null,null,null,null,null,null,null,null,null,null,null,null,null,null,null,null,null,{"$f":"SUM($E458:$H458*TRANSPOSE(M$63:M$66))","v":0},{"$f":"SUM($E458:$H458*TRANSPOSE(N$63:N$66))","v":0},{"$f":"SUM($E458:$H458*TRANSPOSE(O$63:O$66))","v":0}]
[null,null,null,null,null,null,null,null,null,null,null,null,null,null,null,null,null,null,null,{"$f":"SUM($E459:$H459*TRANSPOSE(M$63:M$66))","v":0},{"$f":"SUM($E459:$H459*TRANSPOSE(N$63:N$66))","v":0},{"$f":"SUM($E459:$H459*TRANSPOSE(O$63:O$66))","v":0}]
[null,null,null,null,null,null,null,null,null,null,null,null,null,null,null,null,null,null,null,{"$f":"SUM($E460:$H460*TRANSPOSE(M$63:M$66))","v":0},{"$f":"SUM($E460:$H460*TRANSPOSE(N$63:N$66))","v":0},{"$f":"SUM($E460:$H460*TRANSPOSE(O$63:O$66))","v":0}]
[null,null,null,null,null,null,null,null,null,null,null,null,null,null,null,null,null,null,null,{"$f":"SUM($E461:$H461*TRANSPOSE(M$63:M$66))","v":0},{"$f":"SUM($E461:$H461*TRANSPOSE(N$63:N$66))","v":0},{"$f":"SUM($E461:$H461*TRANSPOSE(O$63:O$66))","v":0}]
[null,null,null,null,null,null,null,null,null,null,null,null,null,null,null,null,null,null,null,{"$f":"SUM($E462:$H462*TRANSPOSE(M$63:M$66))","v":0},{"$f":"SUM($E462:$H462*TRANSPOSE(N$63:N$66))","v":0},{"$f":"SUM($E462:$H462*TRANSPOSE(O$63:O$66))","v":0}]
[null,null,null,null,null,null,null,null,null,null,null,null,null,null,null,null,null,null,null,{"$f":"SUM($E463:$H463*TRANSPOSE(M$63:M$66))","v":0},{"$f":"SUM($E463:$H463*TRANSPOSE(N$63:N$66))","v":0},{"$f":"SUM($E463:$H463*TRANSPOSE(O$63:O$66))","v":0}]
[null,null,null,null,null,null,null,null,null,null,null,null,null,null,null,null,null,null,null,{"$f":"SUM($E464:$H464*TRANSPOSE(M$63:M$66))","v":0},{"$f":"SUM($E464:$H464*TRANSPOSE(N$63:N$66))","v":0},{"$f":"SUM($E464:$H464*TRANSPOSE(O$63:O$66))","v":0}]
[null,null,null,null,null,null,null,null,null,null,null,null,null,null,null,null,null,null,null,{"$f":"SUM($E465:$H465*TRANSPOSE(M$63:M$66))","v":0},{"$f":"SUM($E465:$H465*TRANSPOSE(N$63:N$66))","v":0},{"$f":"SUM($E465:$H465*TRANSPOSE(O$63:O$66))","v":0}]
[null,null,null,null,null,null,null,null,null,null,null,null,null,null,null,null,null,null,null,{"$f":"SUM($E466:$H466*TRANSPOSE(M$63:M$66))","v":0},{"$f":"SUM($E466:$H466*TRANSPOSE(N$63:N$66))","v":0},{"$f":"SUM($E466:$H466*TRANSPOSE(O$63:O$66))","v":0}]
[null,null,null,null,null,null,null,null,null,null,null,null,null,null,null,null,null,null,null,{"$f":"SUM($E467:$H467*TRANSPOSE(M$63:M$66))","v":0},{"$f":"SUM($E467:$H467*TRANSPOSE(N$63:N$66))","v":0},{"$f":"SUM($E467:$H467*TRANSPOSE(O$63:O$66))","v":0}]
[null,null,null,null,null,null,null,null,null,null,null,null,null,null,null,null,null,null,null,{"$f":"SUM($E468:$H468*TRANSPOSE(M$63:M$66))","v":0},{"$f":"SUM($E468:$H468*TRANSPOSE(N$63:N$66))","v":0},{"$f":"SUM($E468:$H468*TRANSPOSE(O$63:O$66))","v":0}]
[null,null,null,null,null,null,null,null,null,null,null,null,null,null,null,null,null,null,null,{"$f":"SUM($E469:$H469*TRANSPOSE(M$63:M$66))","v":0},{"$f":"SUM($E469:$H469*TRANSPOSE(N$63:N$66))","v":0},{"$f":"SUM($E469:$H469*TRANSPOSE(O$63:O$66))","v":0}]
[null,null,null,null,null,null,null,null,null,null,null,null,null,null,null,null,null,null,null,{"$f":"SUM($E470:$H470*TRANSPOSE(M$63:M$66))","v":0},{"$f":"SUM($E470:$H470*TRANSPOSE(N$63:N$66))","v":0},{"$f":"SUM($E470:$H470*TRANSPOSE(O$63:O$66))","v":0}]
[null,null,null,null,null,null,null,null,null,null,null,null,null,null,null,null,null,null,null,{"$f":"SUM($E471:$H471*TRANSPOSE(M$63:M$66))","v":0},{"$f":"SUM($E471:$H471*TRANSPOSE(N$63:N$66))","v":0},{"$f":"SUM($E471:$H471*TRANSPOSE(O$63:O$66))","v":0}]
[null,null,null,null,null,null,null,null,null,null,null,null,null,null,null,null,null,null,null,{"$f":"SUM($E472:$H472*TRANSPOSE(M$63:M$66))","v":0},{"$f":"SUM($E472:$H472*TRANSPOSE(N$63:N$66))","v":0},{"$f":"SUM($E472:$H472*TRANSPOSE(O$63:O$66))","v":0}]
[null,null,null,null,null,null,null,null,null,null,null,null,null,null,null,null,null,null,null,{"$f":"SUM($E473:$H473*TRANSPOSE(M$63:M$66))","v":0},{"$f":"SUM($E473:$H473*TRANSPOSE(N$63:N$66))","v":0},{"$f":"SUM($E473:$H473*TRANSPOSE(O$63:O$66))","v":0}]
[null,null,null,null,null,null,null,null,null,null,null,null,null,null,null,null,null,null,null,{"$f":"SUM($E474:$H474*TRANSPOSE(M$63:M$66))","v":0},{"$f":"SUM($E474:$H474*TRANSPOSE(N$63:N$66))","v":0},{"$f":"SUM($E474:$H474*TRANSPOSE(O$63:O$66))","v":0}]
[null,null,null,null,null,null,null,null,null,null,null,null,null,null,null,null,null,null,null,{"$f":"SUM($E475:$H475*TRANSPOSE(M$63:M$66))","v":0},{"$f":"SUM($E475:$H475*TRANSPOSE(N$63:N$66))","v":0},{"$f":"SUM($E475:$H475*TRANSPOSE(O$63:O$66))","v":0}]
[null,null,null,null,null,null,null,null,null,null,null,null,null,null,null,null,null,null,null,{"$f":"SUM($E476:$H476*TRANSPOSE(M$63:M$66))","v":0},{"$f":"SUM($E476:$H476*TRANSPOSE(N$63:N$66))","v":0},{"$f":"SUM($E476:$H476*TRANSPOSE(O$63:O$66))","v":0}]
[null,null,null,null,null,null,null,null,null,null,null,null,null,null,null,null,null,null,null,{"$f":"SUM($E477:$H477*TRANSPOSE(M$63:M$66))","v":0},{"$f":"SUM($E477:$H477*TRANSPOSE(N$63:N$66))","v":0},{"$f":"SUM($E477:$H477*TRANSPOSE(O$63:O$66))","v":0}]
[null,null,null,null,null,null,null,null,null,null,null,null,null,null,null,null,null,null,null,{"$f":"SUM($E478:$H478*TRANSPOSE(M$63:M$66))","v":0},{"$f":"SUM($E478:$H478*TRANSPOSE(N$63:N$66))","v":0},{"$f":"SUM($E478:$H478*TRANSPOSE(O$63:O$66))","v":0}]
[null,null,null,null,null,null,null,null,null,null,null,null,null,null,null,null,null,null,null,{"$f":"SUM($E479:$H479*TRANSPOSE(M$63:M$66))","v":0},{"$f":"SUM($E479:$H479*TRANSPOSE(N$63:N$66))","v":0},{"$f":"SUM($E479:$H479*TRANSPOSE(O$63:O$66))","v":0}]
[null,null,null,null,null,null,null,null,null,null,null,null,null,null,null,null,null,null,null,{"$f":"SUM($E480:$H480*TRANSPOSE(M$63:M$66))","v":0},{"$f":"SUM($E480:$H480*TRANSPOSE(N$63:N$66))","v":0},{"$f":"SUM($E480:$H480*TRANSPOSE(O$63:O$66))","v":0}]
[null,null,null,null,null,null,null,null,null,null,null,null,null,null,null,null,null,null,null,{"$f":"SUM($E481:$H481*TRANSPOSE(M$63:M$66))","v":0},{"$f":"SUM($E481:$H481*TRANSPOSE(N$63:N$66))","v":0},{"$f":"SUM($E481:$H481*TRANSPOSE(O$63:O$66))","v":0}]
[null,null,null,null,null,null,null,null,null,null,null,null,null,null,null,null,null,null,null,{"$f":"SUM($E482:$H482*TRANSPOSE(M$63:M$66))","v":0},{"$f":"SUM($E482:$H482*TRANSPOSE(N$63:N$66))","v":0},{"$f":"SUM($E482:$H482*TRANSPOSE(O$63:O$66))","v":0}]
[null,null,null,null,null,null,null,null,null,null,null,null,null,null,null,null,null,null,null,{"$f":"SUM($E483:$H483*TRANSPOSE(M$63:M$66))","v":0},{"$f":"SUM($E483:$H483*TRANSPOSE(N$63:N$66))","v":0},{"$f":"SUM($E483:$H483*TRANSPOSE(O$63:O$66))","v":0}]
[null,null,null,null,null,null,null,null,null,null,null,null,null,null,null,null,null,null,null,{"$f":"SUM($E484:$H484*TRANSPOSE(M$63:M$66))","v":0},{"$f":"SUM($E484:$H484*TRANSPOSE(N$63:N$66))","v":0},{"$f":"SUM($E484:$H484*TRANSPOSE(O$63:O$66))","v":0}]
[null,null,null,null,null,null,null,null,null,null,null,null,null,null,null,null,null,null,null,{"$f":"SUM($E485:$H485*TRANSPOSE(M$63:M$66))","v":0},{"$f":"SUM($E485:$H485*TRANSPOSE(N$63:N$66))","v":0},{"$f":"SUM($E485:$H485*TRANSPOSE(O$63:O$66))","v":0}]
[null,null,null,null,null,null,null,null,null,null,null,null,null,null,null,null,null,null,null,{"$f":"SUM($E486:$H486*TRANSPOSE(M$63:M$66))","v":0},{"$f":"SUM($E486:$H486*TRANSPOSE(N$63:N$66))","v":0},{"$f":"SUM($E486:$H486*TRANSPOSE(O$63:O$66))","v":0}]
[null,null,null,null,null,null,null,null,null,null,null,null,null,null,null,null,null,null,null,{"$f":"SUM($E487:$H487*TRANSPOSE(M$63:M$66))","v":0},{"$f":"SUM($E487:$H487*TRANSPOSE(N$63:N$66))","v":0},{"$f":"SUM($E487:$H487*TRANSPOSE(O$63:O$66))","v":0}]
[null,null,null,null,null,null,null,null,null,null,null,null,null,null,null,null,null,null,null,{"$f":"SUM($E488:$H488*TRANSPOSE(M$63:M$66))","v":0},{"$f":"SUM($E488:$H488*TRANSPOSE(N$63:N$66))","v":0},{"$f":"SUM($E488:$H488*TRANSPOSE(O$63:O$66))","v":0}]
[null,null,null,null,null,null,null,null,null,null,null,null,null,null,null,null,null,null,null,{"$f":"SUM($E489:$H489*TRANSPOSE(M$63:M$66))","v":0},{"$f":"SUM($E489:$H489*TRANSPOSE(N$63:N$66))","v":0},{"$f":"SUM($E489:$H489*TRANSPOSE(O$63:O$66))","v":0}]
[null,null,null,null,null,null,null,null,null,null,null,null,null,null,null,null,null,null,null,{"$f":"SUM($E490:$H490*TRANSPOSE(M$63:M$66))","v":0},{"$f":"SUM($E490:$H490*TRANSPOSE(N$63:N$66))","v":0},{"$f":"SUM($E490:$H490*TRANSPOSE(O$63:O$66))","v":0}]
[null,null,null,null,null,null,null,null,null,null,null,null,null,null,null,null,null,null,null,{"$f":"SUM($E491:$H491*TRANSPOSE(M$63:M$66))","v":0},{"$f":"SUM($E491:$H491*TRANSPOSE(N$63:N$66))","v":0},{"$f":"SUM($E491:$H491*TRANSPOSE(O$63:O$66))","v":0}]
[null,null,null,null,null,null,null,null,null,null,null,null,null,null,null,null,null,null,null,{"$f":"SUM($E492:$H492*TRANSPOSE(M$63:M$66))","v":0},{"$f":"SUM($E492:$H492*TRANSPOSE(N$63:N$66))","v":0},{"$f":"SUM($E492:$H492*TRANSPOSE(O$63:O$66))","v":0}]
[null,null,null,null,null,null,null,null,null,null,null,null,null,null,null,null,null,null,null,{"$f":"SUM($E493:$H493*TRANSPOSE(M$63:M$66))","v":0},{"$f":"SUM($E493:$H493*TRANSPOSE(N$63:N$66))","v":0},{"$f":"SUM($E493:$H493*TRANSPOSE(O$63:O$66))","v":0}]
[null,null,null,null,null,null,null,null,null,null,null,null,null,null,null,null,null,null,null,{"$f":"SUM($E494:$H494*TRANSPOSE(M$63:M$66))","v":0},{"$f":"SUM($E494:$H494*TRANSPOSE(N$63:N$66))","v":0},{"$f":"SUM($E494:$H494*TRANSPOSE(O$63:O$66))","v":0}]
[null,null,null,null,null,null,null,null,null,null,null,null,null,null,null,null,null,null,null,{"$f":"SUM($E495:$H495*TRANSPOSE(M$63:M$66))","v":0},{"$f":"SUM($E495:$H495*TRANSPOSE(N$63:N$66))","v":0},{"$f":"SUM($E495:$H495*TRANSPOSE(O$63:O$66))","v":0}]
[null,null,null,null,null,null,null,null,null,null,null,null,null,null,null,null,null,null,null,{"$f":"SUM($E496:$H496*TRANSPOSE(M$63:M$66))","v":0},{"$f":"SUM($E496:$H496*TRANSPOSE(N$63:N$66))","v":0},{"$f":"SUM($E496:$H496*TRANSPOSE(O$63:O$66))","v":0}]
[null,null,null,null,null,null,null,null,null,null,null,null,null,null,null,null,null,null,null,{"$f":"SUM($E497:$H497*TRANSPOSE(M$63:M$66))","v":0},{"$f":"SUM($E497:$H497*TRANSPOSE(N$63:N$66))","v":0},{"$f":"SUM($E497:$H497*TRANSPOSE(O$63:O$66))","v":0}]
[null,null,null,null,null,null,null,null,null,null,null,null,null,null,null,null,null,null,null,{"$f":"SUM($E498:$H498*TRANSPOSE(M$63:M$66))","v":0},{"$f":"SUM($E498:$H498*TRANSPOSE(N$63:N$66))","v":0},{"$f":"SUM($E498:$H498*TRANSPOSE(O$63:O$66))","v":0}]
[null,null,null,null,null,null,null,null,null,null,null,null,null,null,null,null,null,null,null,{"$f":"SUM($E499:$H499*TRANSPOSE(M$63:M$66))","v":0},{"$f":"SUM($E499:$H499*TRANSPOSE(N$63:N$66))","v":0},{"$f":"SUM($E499:$H499*TRANSPOSE(O$63:O$66))","v":0}]
[null,null,null,null,null,null,null,null,null,null,null,null,null,null,null,null,null,null,null,{"$f":"SUM($E500:$H500*TRANSPOSE(M$63:M$66))","v":0},{"$f":"SUM($E500:$H500*TRANSPOSE(N$63:N$66))","v":0},{"$f":"SUM($E500:$H500*TRANSPOSE(O$63:O$66))","v":0}]
[null,null,null,null,null,null,null,null,null,null,null,null,null,null,null,null,null,null,null,{"$f":"SUM($E501:$H501*TRANSPOSE(M$63:M$66))","v":0},{"$f":"SUM($E501:$H501*TRANSPOSE(N$63:N$66))","v":0},{"$f":"SUM($E501:$H501*TRANSPOSE(O$63:O$66))","v":0}]
[null,null,null,null,null,null,null,null,null,null,null,null,null,null,null,null,null,null,null,{"$f":"SUM($E502:$H502*TRANSPOSE(M$63:M$66))","v":0},{"$f":"SUM($E502:$H502*TRANSPOSE(N$63:N$66))","v":0},{"$f":"SUM($E502:$H502*TRANSPOSE(O$63:O$66))","v":0}]
[null,null,null,null,null,null,null,null,null,null,null,null,null,null,null,null,null,null,null,{"$f":"SUM($E503:$H503*TRANSPOSE(M$63:M$66))","v":0},{"$f":"SUM($E503:$H503*TRANSPOSE(N$63:N$66))","v":0},{"$f":"SUM($E503:$H503*TRANSPOSE(O$63:O$66))","v":0}]
[null,null,null,null,null,null,null,null,null,null,null,null,null,null,null,null,null,null,null,{"$f":"SUM($E504:$H504*TRANSPOSE(M$63:M$66))","v":0},{"$f":"SUM($E504:$H504*TRANSPOSE(N$63:N$66))","v":0},{"$f":"SUM($E504:$H504*TRANSPOSE(O$63:O$66))","v":0}]
[null,null,null,null,null,null,null,null,null,null,null,null,null,null,null,null,null,null,null,{"$f":"SUM($E505:$H505*TRANSPOSE(M$63:M$66))","v":0},{"$f":"SUM($E505:$H505*TRANSPOSE(N$63:N$66))","v":0},{"$f":"SUM($E505:$H505*TRANSPOSE(O$63:O$66))","v":0}]
[null,null,null,null,null,null,null,null,null,null,null,null,null,null,null,null,null,null,null,{"$f":"SUM($E506:$H506*TRANSPOSE(M$63:M$66))","v":0},{"$f":"SUM($E506:$H506*TRANSPOSE(N$63:N$66))","v":0},{"$f":"SUM($E506:$H506*TRANSPOSE(O$63:O$66))","v":0}]
[null,null,null,null,null,null,null,null,null,null,null,null,null,null,null,null,null,null,null,{"$f":"SUM($E507:$H507*TRANSPOSE(M$63:M$66))","v":0},{"$f":"SUM($E507:$H507*TRANSPOSE(N$63:N$66))","v":0},{"$f":"SUM($E507:$H507*TRANSPOSE(O$63:O$66))","v":0}]
[null,null,null,null,null,null,null,null,null,null,null,null,null,null,null,null,null,null,null,{"$f":"SUM($E508:$H508*TRANSPOSE(M$63:M$66))","v":0},{"$f":"SUM($E508:$H508*TRANSPOSE(N$63:N$66))","v":0},{"$f":"SUM($E508:$H508*TRANSPOSE(O$63:O$66))","v":0}]
[null,null,null,null,null,null,null,null,null,null,null,null,null,null,null,null,null,null,null,{"$f":"SUM($E509:$H509*TRANSPOSE(M$63:M$66))","v":0},{"$f":"SUM($E509:$H509*TRANSPOSE(N$63:N$66))","v":0},{"$f":"SUM($E509:$H509*TRANSPOSE(O$63:O$66))","v":0}]
[null,null,null,null,null,null,null,null,null,null,null,null,null,null,null,null,null,null,null,{"$f":"SUM($E510:$H510*TRANSPOSE(M$63:M$66))","v":0},{"$f":"SUM($E510:$H510*TRANSPOSE(N$63:N$66))","v":0},{"$f":"SUM($E510:$H510*TRANSPOSE(O$63:O$66))","v":0}]
[null,null,null,null,null,null,null,null,null,null,null,null,null,null,null,null,null,null,null,{"$f":"SUM($E511:$H511*TRANSPOSE(M$63:M$66))","v":0},{"$f":"SUM($E511:$H511*TRANSPOSE(N$63:N$66))","v":0},{"$f":"SUM($E511:$H511*TRANSPOSE(O$63:O$66))","v":0}]
[null,null,null,null,null,null,null,null,null,null,null,null,null,null,null,null,null,null,null,{"$f":"SUM($E512:$H512*TRANSPOSE(M$63:M$66))","v":0},{"$f":"SUM($E512:$H512*TRANSPOSE(N$63:N$66))","v":0},{"$f":"SUM($E512:$H512*TRANSPOSE(O$63:O$66))","v":0}]
[null,null,null,null,null,null,null,null,null,null,null,null,null,null,null,null,null,null,null,{"$f":"SUM($E513:$H513*TRANSPOSE(M$63:M$66))","v":0},{"$f":"SUM($E513:$H513*TRANSPOSE(N$63:N$66))","v":0},{"$f":"SUM($E513:$H513*TRANSPOSE(O$63:O$66))","v":0}]
[null,null,null,null,null,null,null,null,null,null,null,null,null,null,null,null,null,null,null,{"$f":"SUM($E514:$H514*TRANSPOSE(M$63:M$66))","v":0},{"$f":"SUM($E514:$H514*TRANSPOSE(N$63:N$66))","v":0},{"$f":"SUM($E514:$H514*TRANSPOSE(O$63:O$66))","v":0}]
[null,null,null,null,null,null,null,null,null,null,null,null,null,null,null,null,null,null,null,{"$f":"SUM($E515:$H515*TRANSPOSE(M$63:M$66))","v":0},{"$f":"SUM($E515:$H515*TRANSPOSE(N$63:N$66))","v":0},{"$f":"SUM($E515:$H515*TRANSPOSE(O$63:O$66))","v":0}]
[null,null,null,null,null,null,null,null,null,null,null,null,null,null,null,null,null,null,null,{"$f":"SUM($E516:$H516*TRANSPOSE(M$63:M$66))","v":0},{"$f":"SUM($E516:$H516*TRANSPOSE(N$63:N$66))","v":0},{"$f":"SUM($E516:$H516*TRANSPOSE(O$63:O$66))","v":0}]
[null,null,null,null,null,null,null,null,null,null,null,null,null,null,null,null,null,null,null,{"$f":"SUM($E517:$H517*TRANSPOSE(M$63:M$66))","v":0},{"$f":"SUM($E517:$H517*TRANSPOSE(N$63:N$66))","v":0},{"$f":"SUM($E517:$H517*TRANSPOSE(O$63:O$66))","v":0}]
[null,null,null,null,null,null,null,null,null,null,null,null,null,null,null,null,null,null,null,{"$f":"SUM($E518:$H518*TRANSPOSE(M$63:M$66))","v":0},{"$f":"SUM($E518:$H518*TRANSPOSE(N$63:N$66))","v":0},{"$f":"SUM($E518:$H518*TRANSPOSE(O$63:O$66))","v":0}]
[null,null,null,null,null,null,null,null,null,null,null,null,null,null,null,null,null,null,null,{"$f":"SUM($E519:$H519*TRANSPOSE(M$63:M$66))","v":0},{"$f":"SUM($E519:$H519*TRANSPOSE(N$63:N$66))","v":0},{"$f":"SUM($E519:$H519*TRANSPOSE(O$63:O$66))","v":0}]
[null,null,null,null,null,null,null,null,null,null,null,null,null,null,null,null,null,null,null,{"$f":"SUM($E520:$H520*TRANSPOSE(M$63:M$66))","v":0},{"$f":"SUM($E520:$H520*TRANSPOSE(N$63:N$66))","v":0},{"$f":"SUM($E520:$H520*TRANSPOSE(O$63:O$66))","v":0}]
[null,null,null,null,null,null,null,null,null,null,null,null,null,null,null,null,null,null,null,{"$f":"SUM($E521:$H521*TRANSPOSE(M$63:M$66))","v":0},{"$f":"SUM($E521:$H521*TRANSPOSE(N$63:N$66))","v":0},{"$f":"SUM($E521:$H521*TRANSPOSE(O$63:O$66))","v":0}]
[null,null,null,null,null,null,null,null,null,null,null,null,null,null,null,null,null,null,null,{"$f":"SUM($E522:$H522*TRANSPOSE(M$63:M$66))","v":0},{"$f":"SUM($E522:$H522*TRANSPOSE(N$63:N$66))","v":0},{"$f":"SUM($E522:$H522*TRANSPOSE(O$63:O$66))","v":0}]
[null,null,null,null,null,null,null,null,null,null,null,null,null,null,null,null,null,null,null,{"$f":"SUM($E523:$H523*TRANSPOSE(M$63:M$66))","v":0},{"$f":"SUM($E523:$H523*TRANSPOSE(N$63:N$66))","v":0},{"$f":"SUM($E523:$H523*TRANSPOSE(O$63:O$66))","v":0}]
[null,null,null,null,null,null,null,null,null,null,null,null,null,null,null,null,null,null,null,{"$f":"SUM($E524:$H524*TRANSPOSE(M$63:M$66))","v":0},{"$f":"SUM($E524:$H524*TRANSPOSE(N$63:N$66))","v":0},{"$f":"SUM($E524:$H524*TRANSPOSE(O$63:O$66))","v":0}]
[null,null,null,null,null,null,null,null,null,null,null,null,null,null,null,null,null,null,null,{"$f":"SUM($E525:$H525*TRANSPOSE(M$63:M$66))","v":0},{"$f":"SUM($E525:$H525*TRANSPOSE(N$63:N$66))","v":0},{"$f":"SUM($E525:$H525*TRANSPOSE(O$63:O$66))","v":0}]
[null,null,null,null,null,null,null,null,null,null,null,null,null,null,null,null,null,null,null,{"$f":"SUM($E526:$H526*TRANSPOSE(M$63:M$66))","v":0},{"$f":"SUM($E526:$H526*TRANSPOSE(N$63:N$66))","v":0},{"$f":"SUM($E526:$H526*TRANSPOSE(O$63:O$66))","v":0}]
[null,null,null,null,null,null,null,null,null,null,null,null,null,null,null,null,null,null,null,{"$f":"SUM($E527:$H527*TRANSPOSE(M$63:M$66))","v":0},{"$f":"SUM($E527:$H527*TRANSPOSE(N$63:N$66))","v":0},{"$f":"SUM($E527:$H527*TRANSPOSE(O$63:O$66))","v":0}]
[null,null,null,null,null,null,null,null,null,null,null,null,null,null,null,null,null,null,null,{"$f":"SUM($E528:$H528*TRANSPOSE(M$63:M$66))","v":0},{"$f":"SUM($E528:$H528*TRANSPOSE(N$63:N$66))","v":0},{"$f":"SUM($E528:$H528*TRANSPOSE(O$63:O$66))","v":0}]
[null,null,null,null,null,null,null,null,null,null,null,null,null,null,null,null,null,null,null,{"$f":"SUM($E529:$H529*TRANSPOSE(M$63:M$66))","v":0},{"$f":"SUM($E529:$H529*TRANSPOSE(N$63:N$66))","v":0},{"$f":"SUM($E529:$H529*TRANSPOSE(O$63:O$66))","v":0}]
[null,null,null,null,null,null,null,null,null,null,null,null,null,null,null,null,null,null,null,{"$f":"SUM($E530:$H530*TRANSPOSE(M$63:M$66))","v":0},{"$f":"SUM($E530:$H530*TRANSPOSE(N$63:N$66))","v":0},{"$f":"SUM($E530:$H530*TRANSPOSE(O$63:O$66))","v":0}]
[null,null,null,null,null,null,null,null,null,null,null,null,null,null,null,null,null,null,null,{"$f":"SUM($E531:$H531*TRANSPOSE(M$63:M$66))","v":0},{"$f":"SUM($E531:$H531*TRANSPOSE(N$63:N$66))","v":0},{"$f":"SUM($E531:$H531*TRANSPOSE(O$63:O$66))","v":0}]
[null,null,null,null,null,null,null,null,null,null,null,null,null,null,null,null,null,null,null,{"$f":"SUM($E532:$H532*TRANSPOSE(M$63:M$66))","v":0},{"$f":"SUM($E532:$H532*TRANSPOSE(N$63:N$66))","v":0},{"$f":"SUM($E532:$H532*TRANSPOSE(O$63:O$66))","v":0}]
[null,null,null,null,null,null,null,null,null,null,null,null,null,null,null,null,null,null,null,{"$f":"SUM($E533:$H533*TRANSPOSE(M$63:M$66))","v":0},{"$f":"SUM($E533:$H533*TRANSPOSE(N$63:N$66))","v":0},{"$f":"SUM($E533:$H533*TRANSPOSE(O$63:O$66))","v":0}]
[null,null,null,null,null,null,null,null,null,null,null,null,null,null,null,null,null,null,null,{"$f":"SUM($E534:$H534*TRANSPOSE(M$63:M$66))","v":0},{"$f":"SUM($E534:$H534*TRANSPOSE(N$63:N$66))","v":0},{"$f":"SUM($E534:$H534*TRANSPOSE(O$63:O$66))","v":0}]
[null,null,null,null,null,null,null,null,null,null,null,null,null,null,null,null,null,null,null,{"$f":"SUM($E535:$H535*TRANSPOSE(M$63:M$66))","v":0},{"$f":"SUM($E535:$H535*TRANSPOSE(N$63:N$66))","v":0},{"$f":"SUM($E535:$H535*TRANSPOSE(O$63:O$66))","v":0}]
[null,null,null,null,null,null,null,null,null,null,null,null,null,null,null,null,null,null,null,{"$f":"SUM($E536:$H536*TRANSPOSE(M$63:M$66))","v":0},{"$f":"SUM($E536:$H536*TRANSPOSE(N$63:N$66))","v":0},{"$f":"SUM($E536:$H536*TRANSPOSE(O$63:O$66))","v":0}]
[null,null,null,null,null,null,null,null,null,null,null,null,null,null,null,null,null,null,null,{"$f":"SUM($E537:$H537*TRANSPOSE(M$63:M$66))","v":0},{"$f":"SUM($E537:$H537*TRANSPOSE(N$63:N$66))","v":0},{"$f":"SUM($E537:$H537*TRANSPOSE(O$63:O$66))","v":0}]
[null,null,null,null,null,null,null,null,null,null,null,null,null,null,null,null,null,null,null,{"$f":"SUM($E538:$H538*TRANSPOSE(M$63:M$66))","v":0},{"$f":"SUM($E538:$H538*TRANSPOSE(N$63:N$66))","v":0},{"$f":"SUM($E538:$H538*TRANSPOSE(O$63:O$66))","v":0}]
[null,null,null,null,null,null,null,null,null,null,null,null,null,null,null,null,null,null,null,{"$f":"SUM($E539:$H539*TRANSPOSE(M$63:M$66))","v":0},{"$f":"SUM($E539:$H539*TRANSPOSE(N$63:N$66))","v":0},{"$f":"SUM($E539:$H539*TRANSPOSE(O$63:O$66))","v":0}]
[null,null,null,null,null,null,null,null,null,null,null,null,null,null,null,null,null,null,null,{"$f":"SUM($E540:$H540*TRANSPOSE(M$63:M$66))","v":0},{"$f":"SUM($E540:$H540*TRANSPOSE(N$63:N$66))","v":0},{"$f":"SUM($E540:$H540*TRANSPOSE(O$63:O$66))","v":0}]
[null,null,null,null,null,null,null,null,null,null,null,null,null,null,null,null,null,null,null,{"$f":"SUM($E541:$H541*TRANSPOSE(M$63:M$66))","v":0},{"$f":"SUM($E541:$H541*TRANSPOSE(N$63:N$66))","v":0},{"$f":"SUM($E541:$H541*TRANSPOSE(O$63:O$66))","v":0}]
[null,null,null,null,null,null,null,null,null,null,null,null,null,null,null,null,null,null,null,{"$f":"SUM($E542:$H542*TRANSPOSE(M$63:M$66))","v":0},{"$f":"SUM($E542:$H542*TRANSPOSE(N$63:N$66))","v":0},{"$f":"SUM($E542:$H542*TRANSPOSE(O$63:O$66))","v":0}]
[null,null,null,null,null,null,null,null,null,null,null,null,null,null,null,null,null,null,null,{"$f":"SUM($E543:$H543*TRANSPOSE(M$63:M$66))","v":0},{"$f":"SUM($E543:$H543*TRANSPOSE(N$63:N$66))","v":0},{"$f":"SUM($E543:$H543*TRANSPOSE(O$63:O$66))","v":0}]
[null,null,null,null,null,null,null,null,null,null,null,null,null,null,null,null,null,null,null,{"$f":"SUM($E544:$H544*TRANSPOSE(M$63:M$66))","v":0},{"$f":"SUM($E544:$H544*TRANSPOSE(N$63:N$66))","v":0},{"$f":"SUM($E544:$H544*TRANSPOSE(O$63:O$66))","v":0}]
[null,null,null,null,null,null,null,null,null,null,null,null,null,null,null,null,null,null,null,{"$f":"SUM($E545:$H545*TRANSPOSE(M$63:M$66))","v":0},{"$f":"SUM($E545:$H545*TRANSPOSE(N$63:N$66))","v":0},{"$f":"SUM($E545:$H545*TRANSPOSE(O$63:O$66))","v":0}]
[null,null,null,null,null,null,null,null,null,null,null,null,null,null,null,null,null,null,null,{"$f":"SUM($E546:$H546*TRANSPOSE(M$63:M$66))","v":0},{"$f":"SUM($E546:$H546*TRANSPOSE(N$63:N$66))","v":0},{"$f":"SUM($E546:$H546*TRANSPOSE(O$63:O$66))","v":0}]
[null,null,null,null,null,null,null,null,null,null,null,null,null,null,null,null,null,null,null,{"$f":"SUM($E547:$H547*TRANSPOSE(M$63:M$66))","v":0},{"$f":"SUM($E547:$H547*TRANSPOSE(N$63:N$66))","v":0},{"$f":"SUM($E547:$H547*TRANSPOSE(O$63:O$66))","v":0}]
[null,null,null,null,null,null,null,null,null,null,null,null,null,null,null,null,null,null,null,{"$f":"SUM($E548:$H548*TRANSPOSE(M$63:M$66))","v":0},{"$f":"SUM($E548:$H548*TRANSPOSE(N$63:N$66))","v":0},{"$f":"SUM($E548:$H548*TRANSPOSE(O$63:O$66))","v":0}]
[null,null,null,null,null,null,null,null,null,null,null,null,null,null,null,null,null,null,null,{"$f":"SUM($E549:$H549*TRANSPOSE(M$63:M$66))","v":0},{"$f":"SUM($E549:$H549*TRANSPOSE(N$63:N$66))","v":0},{"$f":"SUM($E549:$H549*TRANSPOSE(O$63:O$66))","v":0}]
[null,null,null,null,null,null,null,null,null,null,null,null,null,null,null,null,null,null,null,{"$f":"SUM($E550:$H550*TRANSPOSE(M$63:M$66))","v":0},{"$f":"SUM($E550:$H550*TRANSPOSE(N$63:N$66))","v":0},{"$f":"SUM($E550:$H550*TRANSPOSE(O$63:O$66))","v":0}]
[null,null,null,null,null,null,null,null,null,null,null,null,null,null,null,null,null,null,null,{"$f":"SUM($E551:$H551*TRANSPOSE(M$63:M$66))","v":0},{"$f":"SUM($E551:$H551*TRANSPOSE(N$63:N$66))","v":0},{"$f":"SUM($E551:$H551*TRANSPOSE(O$63:O$66))","v":0}]
[null,null,null,null,null,null,null,null,null,null,null,null,null,null,null,null,null,null,null,{"$f":"SUM($E552:$H552*TRANSPOSE(M$63:M$66))","v":0},{"$f":"SUM($E552:$H552*TRANSPOSE(N$63:N$66))","v":0},{"$f":"SUM($E552:$H552*TRANSPOSE(O$63:O$66))","v":0}]
[null,null,null,null,null,null,null,null,null,null,null,null,null,null,null,null,null,null,null,{"$f":"SUM($E553:$H553*TRANSPOSE(M$63:M$66))","v":0},{"$f":"SUM($E553:$H553*TRANSPOSE(N$63:N$66))","v":0},{"$f":"SUM($E553:$H553*TRANSPOSE(O$63:O$66))","v":0}]
[null,null,null,null,null,null,null,null,null,null,null,null,null,null,null,null,null,null,null,{"$f":"SUM($E554:$H554*TRANSPOSE(M$63:M$66))","v":0},{"$f":"SUM($E554:$H554*TRANSPOSE(N$63:N$66))","v":0},{"$f":"SUM($E554:$H554*TRANSPOSE(O$63:O$66))","v":0}]
[null,null,null,null,null,null,null,null,null,null,null,null,null,null,null,null,null,null,null,{"$f":"SUM($E555:$H555*TRANSPOSE(M$63:M$66))","v":0},{"$f":"SUM($E555:$H555*TRANSPOSE(N$63:N$66))","v":0},{"$f":"SUM($E555:$H555*TRANSPOSE(O$63:O$66))","v":0}]
[null,null,null,null,null,null,null,null,null,null,null,null,null,null,null,null,null,null,null,{"$f":"SUM($E556:$H556*TRANSPOSE(M$63:M$66))","v":0},{"$f":"SUM($E556:$H556*TRANSPOSE(N$63:N$66))","v":0},{"$f":"SUM($E556:$H556*TRANSPOSE(O$63:O$66))","v":0}]
[null,null,null,null,null,null,null,null,null,null,null,null,null,null,null,null,null,null,null,{"$f":"SUM($E557:$H557*TRANSPOSE(M$63:M$66))","v":0},{"$f":"SUM($E557:$H557*TRANSPOSE(N$63:N$66))","v":0},{"$f":"SUM($E557:$H557*TRANSPOSE(O$63:O$66))","v":0}]
[null,null,null,null,null,null,null,null,null,null,null,null,null,null,null,null,null,null,null,{"$f":"SUM($E558:$H558*TRANSPOSE(M$63:M$66))","v":0},{"$f":"SUM($E558:$H558*TRANSPOSE(N$63:N$66))","v":0},{"$f":"SUM($E558:$H558*TRANSPOSE(O$63:O$66))","v":0}]
[null,null,null,null,null,null,null,null,null,null,null,null,null,null,null,null,null,null,null,{"$f":"SUM($E559:$H559*TRANSPOSE(M$63:M$66))","v":0},{"$f":"SUM($E559:$H559*TRANSPOSE(N$63:N$66))","v":0},{"$f":"SUM($E559:$H559*TRANSPOSE(O$63:O$66))","v":0}]
[null,null,null,null,null,null,null,null,null,null,null,null,null,null,null,null,null,null,null,{"$f":"SUM($E560:$H560*TRANSPOSE(M$63:M$66))","v":0},{"$f":"SUM($E560:$H560*TRANSPOSE(N$63:N$66))","v":0},{"$f":"SUM($E560:$H560*TRANSPOSE(O$63:O$66))","v":0}]
[null,null,null,null,null,null,null,null,null,null,null,null,null,null,null,null,null,null,null,{"$f":"SUM($E561:$H561*TRANSPOSE(M$63:M$66))","v":0},{"$f":"SUM($E561:$H561*TRANSPOSE(N$63:N$66))","v":0},{"$f":"SUM($E561:$H561*TRANSPOSE(O$63:O$66))","v":0}]
[null,null,null,null,null,null,null,null,null,null,null,null,null,null,null,null,null,null,null,{"$f":"SUM($E562:$H562*TRANSPOSE(M$63:M$66))","v":0},{"$f":"SUM($E562:$H562*TRANSPOSE(N$63:N$66))","v":0},{"$f":"SUM($E562:$H562*TRANSPOSE(O$63:O$66))","v":0}]
[null,null,null,null,null,null,null,null,null,null,null,null,null,null,null,null,null,null,null,{"$f":"SUM($E563:$H563*TRANSPOSE(M$63:M$66))","v":0},{"$f":"SUM($E563:$H563*TRANSPOSE(N$63:N$66))","v":0},{"$f":"SUM($E563:$H563*TRANSPOSE(O$63:O$66))","v":0}]
[null,null,null,null,null,null,null,null,null,null,null,null,null,null,null,null,null,null,null,{"$f":"SUM($E564:$H564*TRANSPOSE(M$63:M$66))","v":0},{"$f":"SUM($E564:$H564*TRANSPOSE(N$63:N$66))","v":0},{"$f":"SUM($E564:$H564*TRANSPOSE(O$63:O$66))","v":0}]
[null,null,null,null,null,null,null,null,null,null,null,null,null,null,null,null,null,null,null,{"$f":"SUM($E565:$H565*TRANSPOSE(M$63:M$66))","v":0},{"$f":"SUM($E565:$H565*TRANSPOSE(N$63:N$66))","v":0},{"$f":"SUM($E565:$H565*TRANSPOSE(O$63:O$66))","v":0}]
[null,null,null,null,null,null,null,null,null,null,null,null,null,null,null,null,null,null,null,{"$f":"SUM($E566:$H566*TRANSPOSE(M$63:M$66))","v":0},{"$f":"SUM($E566:$H566*TRANSPOSE(N$63:N$66))","v":0},{"$f":"SUM($E566:$H566*TRANSPOSE(O$63:O$66))","v":0}]
[null,null,null,null,null,null,null,null,null,null,null,null,null,null,null,null,null,null,null,{"$f":"SUM($E567:$H567*TRANSPOSE(M$63:M$66))","v":0},{"$f":"SUM($E567:$H567*TRANSPOSE(N$63:N$66))","v":0},{"$f":"SUM($E567:$H567*TRANSPOSE(O$63:O$66))","v":0}]
[null,null,null,null,null,null,null,null,null,null,null,null,null,null,null,null,null,null,null,{"$f":"SUM($E568:$H568*TRANSPOSE(M$63:M$66))","v":0},{"$f":"SUM($E568:$H568*TRANSPOSE(N$63:N$66))","v":0},{"$f":"SUM($E568:$H568*TRANSPOSE(O$63:O$66))","v":0}]
[null,null,null,null,null,null,null,null,null,null,null,null,null,null,null,null,null,null,null,{"$f":"SUM($E569:$H569*TRANSPOSE(M$63:M$66))","v":0},{"$f":"SUM($E569:$H569*TRANSPOSE(N$63:N$66))","v":0},{"$f":"SUM($E569:$H569*TRANSPOSE(O$63:O$66))","v":0}]
[null,null,null,null,null,null,null,null,null,null,null,null,null,null,null,null,null,null,null,{"$f":"SUM($E570:$H570*TRANSPOSE(M$63:M$66))","v":0},{"$f":"SUM($E570:$H570*TRANSPOSE(N$63:N$66))","v":0},{"$f":"SUM($E570:$H570*TRANSPOSE(O$63:O$66))","v":0}]
[null,null,null,null,null,null,null,null,null,null,null,null,null,null,null,null,null,null,null,{"$f":"SUM($E571:$H571*TRANSPOSE(M$63:M$66))","v":0},{"$f":"SUM($E571:$H571*TRANSPOSE(N$63:N$66))","v":0},{"$f":"SUM($E571:$H571*TRANSPOSE(O$63:O$66))","v":0}]
[null,null,null,null,null,null,null,null,null,null,null,null,null,null,null,null,null,null,null,{"$f":"SUM($E572:$H572*TRANSPOSE(M$63:M$66))","v":0},{"$f":"SUM($E572:$H572*TRANSPOSE(N$63:N$66))","v":0},{"$f":"SUM($E572:$H572*TRANSPOSE(O$63:O$66))","v":0}]
[null,null,null,null,null,null,null,null,null,null,null,null,null,null,null,null,null,null,null,{"$f":"SUM($E573:$H573*TRANSPOSE(M$63:M$66))","v":0},{"$f":"SUM($E573:$H573*TRANSPOSE(N$63:N$66))","v":0},{"$f":"SUM($E573:$H573*TRANSPOSE(O$63:O$66))","v":0}]
[null,null,null,null,null,null,null,null,null,null,null,null,null,null,null,null,null,null,null,{"$f":"SUM($E574:$H574*TRANSPOSE(M$63:M$66))","v":0},{"$f":"SUM($E574:$H574*TRANSPOSE(N$63:N$66))","v":0},{"$f":"SUM($E574:$H574*TRANSPOSE(O$63:O$66))","v":0}]
[null,null,null,null,null,null,null,null,null,null,null,null,null,null,null,null,null,null,null,{"$f":"SUM($E575:$H575*TRANSPOSE(M$63:M$66))","v":0},{"$f":"SUM($E575:$H575*TRANSPOSE(N$63:N$66))","v":0},{"$f":"SUM($E575:$H575*TRANSPOSE(O$63:O$66))","v":0}]
[null,null,null,null,null,null,null,null,null,null,null,null,null,null,null,null,null,null,null,{"$f":"SUM($E576:$H576*TRANSPOSE(M$63:M$66))","v":0},{"$f":"SUM($E576:$H576*TRANSPOSE(N$63:N$66))","v":0},{"$f":"SUM($E576:$H576*TRANSPOSE(O$63:O$66))","v":0}]
[null,null,null,null,null,null,null,null,null,null,null,null,null,null,null,null,null,null,null,{"$f":"SUM($E577:$H577*TRANSPOSE(M$63:M$66))","v":0},{"$f":"SUM($E577:$H577*TRANSPOSE(N$63:N$66))","v":0},{"$f":"SUM($E577:$H577*TRANSPOSE(O$63:O$66))","v":0}]
[null,null,null,null,null,null,null,null,null,null,null,null,null,null,null,null,null,null,null,{"$f":"SUM($E578:$H578*TRANSPOSE(M$63:M$66))","v":0},{"$f":"SUM($E578:$H578*TRANSPOSE(N$63:N$66))","v":0},{"$f":"SUM($E578:$H578*TRANSPOSE(O$63:O$66))","v":0}]
[null,null,null,null,null,null,null,null,null,null,null,null,null,null,null,null,null,null,null,{"$f":"SUM($E579:$H579*TRANSPOSE(M$63:M$66))","v":0},{"$f":"SUM($E579:$H579*TRANSPOSE(N$63:N$66))","v":0},{"$f":"SUM($E579:$H579*TRANSPOSE(O$63:O$66))","v":0}]
[null,null,null,null,null,null,null,null,null,null,null,null,null,null,null,null,null,null,null,{"$f":"SUM($E580:$H580*TRANSPOSE(M$63:M$66))","v":0},{"$f":"SUM($E580:$H580*TRANSPOSE(N$63:N$66))","v":0},{"$f":"SUM($E580:$H580*TRANSPOSE(O$63:O$66))","v":0}]
[null,null,null,null,null,null,null,null,null,null,null,null,null,null,null,null,null,null,null,{"$f":"SUM($E581:$H581*TRANSPOSE(M$63:M$66))","v":0},{"$f":"SUM($E581:$H581*TRANSPOSE(N$63:N$66))","v":0},{"$f":"SUM($E581:$H581*TRANSPOSE(O$63:O$66))","v":0}]
[null,null,null,null,null,null,null,null,null,null,null,null,null,null,null,null,null,null,null,{"$f":"SUM($E582:$H582*TRANSPOSE(M$63:M$66))","v":0},{"$f":"SUM($E582:$H582*TRANSPOSE(N$63:N$66))","v":0},{"$f":"SUM($E582:$H582*TRANSPOSE(O$63:O$66))","v":0}]
[null,null,null,null,null,null,null,null,null,null,null,null,null,null,null,null,null,null,null,{"$f":"SUM($E583:$H583*TRANSPOSE(M$63:M$66))","v":0},{"$f":"SUM($E583:$H583*TRANSPOSE(N$63:N$66))","v":0},{"$f":"SUM($E583:$H583*TRANSPOSE(O$63:O$66))","v":0}]
[null,null,null,null,null,null,null,null,null,null,null,null,null,null,null,null,null,null,null,{"$f":"SUM($E584:$H584*TRANSPOSE(M$63:M$66))","v":0},{"$f":"SUM($E584:$H584*TRANSPOSE(N$63:N$66))","v":0},{"$f":"SUM($E584:$H584*TRANSPOSE(O$63:O$66))","v":0}]
[null,null,null,null,null,null,null,null,null,null,null,null,null,null,null,null,null,null,null,{"$f":"SUM($E585:$H585*TRANSPOSE(M$63:M$66))","v":0},{"$f":"SUM($E585:$H585*TRANSPOSE(N$63:N$66))","v":0},{"$f":"SUM($E585:$H585*TRANSPOSE(O$63:O$66))","v":0}]
[null,null,null,null,null,null,null,null,null,null,null,null,null,null,null,null,null,null,null,{"$f":"SUM($E586:$H586*TRANSPOSE(M$63:M$66))","v":0},{"$f":"SUM($E586:$H586*TRANSPOSE(N$63:N$66))","v":0},{"$f":"SUM($E586:$H586*TRANSPOSE(O$63:O$66))","v":0}]
[null,null,null,null,null,null,null,null,null,null,null,null,null,null,null,null,null,null,null,{"$f":"SUM($E587:$H587*TRANSPOSE(M$63:M$66))","v":0},{"$f":"SUM($E587:$H587*TRANSPOSE(N$63:N$66))","v":0},{"$f":"SUM($E587:$H587*TRANSPOSE(O$63:O$66))","v":0}]
[null,null,null,null,null,null,null,null,null,null,null,null,null,null,null,null,null,null,null,{"$f":"SUM($E588:$H588*TRANSPOSE(M$63:M$66))","v":0},{"$f":"SUM($E588:$H588*TRANSPOSE(N$63:N$66))","v":0},{"$f":"SUM($E588:$H588*TRANSPOSE(O$63:O$66))","v":0}]
[null,null,null,null,null,null,null,null,null,null,null,null,null,null,null,null,null,null,null,{"$f":"SUM($E589:$H589*TRANSPOSE(M$63:M$66))","v":0},{"$f":"SUM($E589:$H589*TRANSPOSE(N$63:N$66))","v":0},{"$f":"SUM($E589:$H589*TRANSPOSE(O$63:O$66))","v":0}]
[null,null,null,null,null,null,null,null,null,null,null,null,null,null,null,null,null,null,null,{"$f":"SUM($E590:$H590*TRANSPOSE(M$63:M$66))","v":0},{"$f":"SUM($E590:$H590*TRANSPOSE(N$63:N$66))","v":0},{"$f":"SUM($E590:$H590*TRANSPOSE(O$63:O$66))","v":0}]
[null,null,null,null,null,null,null,null,null,null,null,null,null,null,null,null,null,null,null,{"$f":"SUM($E591:$H591*TRANSPOSE(M$63:M$66))","v":0},{"$f":"SUM($E591:$H591*TRANSPOSE(N$63:N$66))","v":0},{"$f":"SUM($E591:$H591*TRANSPOSE(O$63:O$66))","v":0}]
[null,null,null,null,null,null,null,null,null,null,null,null,null,null,null,null,null,null,null,{"$f":"SUM($E592:$H592*TRANSPOSE(M$63:M$66))","v":0},{"$f":"SUM($E592:$H592*TRANSPOSE(N$63:N$66))","v":0},{"$f":"SUM($E592:$H592*TRANSPOSE(O$63:O$66))","v":0}]
[null,null,null,null,null,null,null,null,null,null,null,null,null,null,null,null,null,null,null,{"$f":"SUM($E593:$H593*TRANSPOSE(M$63:M$66))","v":0},{"$f":"SUM($E593:$H593*TRANSPOSE(N$63:N$66))","v":0},{"$f":"SUM($E593:$H593*TRANSPOSE(O$63:O$66))","v":0}]
[null,null,null,null,null,null,null,null,null,null,null,null,null,null,null,null,null,null,null,{"$f":"SUM($E594:$H594*TRANSPOSE(M$63:M$66))","v":0},{"$f":"SUM($E594:$H594*TRANSPOSE(N$63:N$66))","v":0},{"$f":"SUM($E594:$H594*TRANSPOSE(O$63:O$66))","v":0}]
[null,null,null,null,null,null,null,null,null,null,null,null,null,null,null,null,null,null,null,{"$f":"SUM($E595:$H595*TRANSPOSE(M$63:M$66))","v":0},{"$f":"SUM($E595:$H595*TRANSPOSE(N$63:N$66))","v":0},{"$f":"SUM($E595:$H595*TRANSPOSE(O$63:O$66))","v":0}]
[null,null,null,null,null,null,null,null,null,null,null,null,null,null,null,null,null,null,null,{"$f":"SUM($E596:$H596*TRANSPOSE(M$63:M$66))","v":0},{"$f":"SUM($E596:$H596*TRANSPOSE(N$63:N$66))","v":0},{"$f":"SUM($E596:$H596*TRANSPOSE(O$63:O$66))","v":0}]
[null,null,null,null,null,null,null,null,null,null,null,null,null,null,null,null,null,null,null,{"$f":"SUM($E597:$H597*TRANSPOSE(M$63:M$66))","v":0},{"$f":"SUM($E597:$H597*TRANSPOSE(N$63:N$66))","v":0},{"$f":"SUM($E597:$H597*TRANSPOSE(O$63:O$66))","v":0}]
[null,null,null,null,null,null,null,null,null,null,null,null,null,null,null,null,null,null,null,{"$f":"SUM($E598:$H598*TRANSPOSE(M$63:M$66))","v":0},{"$f":"SUM($E598:$H598*TRANSPOSE(N$63:N$66))","v":0},{"$f":"SUM($E598:$H598*TRANSPOSE(O$63:O$66))","v":0}]
[null,null,null,null,null,null,null,null,null,null,null,null,null,null,null,null,null,null,null,{"$f":"SUM($E599:$H599*TRANSPOSE(M$63:M$66))","v":0},{"$f":"SUM($E599:$H599*TRANSPOSE(N$63:N$66))","v":0},{"$f":"SUM($E599:$H599*TRANSPOSE(O$63:O$66))","v":0}]
[null,null,null,null,null,null,null,null,null,null,null,null,null,null,null,null,null,null,null,{"$f":"SUM($E600:$H600*TRANSPOSE(M$63:M$66))","v":0},{"$f":"SUM($E600:$H600*TRANSPOSE(N$63:N$66))","v":0},{"$f":"SUM($E600:$H600*TRANSPOSE(O$63:O$66))","v":0}]
[null,null,null,null,null,null,null,null,null,null,null,null,null,null,null,null,null,null,null,{"$f":"SUM($E601:$H601*TRANSPOSE(M$63:M$66))","v":0},{"$f":"SUM($E601:$H601*TRANSPOSE(N$63:N$66))","v":0},{"$f":"SUM($E601:$H601*TRANSPOSE(O$63:O$66))","v":0}]
[null,null,null,null,null,null,null,null,null,null,null,null,null,null,null,null,null,null,null,{"$f":"SUM($E602:$H602*TRANSPOSE(M$63:M$66))","v":0},{"$f":"SUM($E602:$H602*TRANSPOSE(N$63:N$66))","v":0},{"$f":"SUM($E602:$H602*TRANSPOSE(O$63:O$66))","v":0}]
[null,null,null,null,null,null,null,null,null,null,null,null,null,null,null,null,null,null,null,{"$f":"SUM($E603:$H603*TRANSPOSE(M$63:M$66))","v":0},{"$f":"SUM($E603:$H603*TRANSPOSE(N$63:N$66))","v":0},{"$f":"SUM($E603:$H603*TRANSPOSE(O$63:O$66))","v":0}]
[null,null,null,null,null,null,null,null,null,null,null,null,null,null,null,null,null,null,null,{"$f":"SUM($E604:$H604*TRANSPOSE(M$63:M$66))","v":0},{"$f":"SUM($E604:$H604*TRANSPOSE(N$63:N$66))","v":0},{"$f":"SUM($E604:$H604*TRANSPOSE(O$63:O$66))","v":0}]
[null,null,null,null,null,null,null,null,null,null,null,null,null,null,null,null,null,null,null,{"$f":"SUM($E605:$H605*TRANSPOSE(M$63:M$66))","v":0},{"$f":"SUM($E605:$H605*TRANSPOSE(N$63:N$66))","v":0},{"$f":"SUM($E605:$H605*TRANSPOSE(O$63:O$66))","v":0}]
[null,null,null,null,null,null,null,null,null,null,null,null,null,null,null,null,null,null,null,{"$f":"SUM($E606:$H606*TRANSPOSE(M$63:M$66))","v":0},{"$f":"SUM($E606:$H606*TRANSPOSE(N$63:N$66))","v":0},{"$f":"SUM($E606:$H606*TRANSPOSE(O$63:O$66))","v":0}]
[null,null,null,null,null,null,null,null,null,null,null,null,null,null,null,null,null,null,null,{"$f":"SUM($E607:$H607*TRANSPOSE(M$63:M$66))","v":0},{"$f":"SUM($E607:$H607*TRANSPOSE(N$63:N$66))","v":0},{"$f":"SUM($E607:$H607*TRANSPOSE(O$63:O$66))","v":0}]
[null,null,null,null,null,null,null,null,null,null,null,null,null,null,null,null,null,null,null,{"$f":"SUM($E608:$H608*TRANSPOSE(M$63:M$66))","v":0},{"$f":"SUM($E608:$H608*TRANSPOSE(N$63:N$66))","v":0},{"$f":"SUM($E608:$H608*TRANSPOSE(O$63:O$66))","v":0}]
[null,null,null,null,null,null,null,null,null,null,null,null,null,null,null,null,null,null,null,{"$f":"SUM($E609:$H609*TRANSPOSE(M$63:M$66))","v":0},{"$f":"SUM($E609:$H609*TRANSPOSE(N$63:N$66))","v":0},{"$f":"SUM($E609:$H609*TRANSPOSE(O$63:O$66))","v":0}]
[null,null,null,null,null,null,null,null,null,null,null,null,null,null,null,null,null,null,null,{"$f":"SUM($E610:$H610*TRANSPOSE(M$63:M$66))","v":0},{"$f":"SUM($E610:$H610*TRANSPOSE(N$63:N$66))","v":0},{"$f":"SUM($E610:$H610*TRANSPOSE(O$63:O$66))","v":0}]
[null,null,null,null,null,null,null,null,null,null,null,null,null,null,null,null,null,null,null,{"$f":"SUM($E611:$H611*TRANSPOSE(M$63:M$66))","v":0},{"$f":"SUM($E611:$H611*TRANSPOSE(N$63:N$66))","v":0},{"$f":"SUM($E611:$H611*TRANSPOSE(O$63:O$66))","v":0}]
[null,null,null,null,null,null,null,null,null,null,null,null,null,null,null,null,null,null,null,{"$f":"SUM($E612:$H612*TRANSPOSE(M$63:M$66))","v":0},{"$f":"SUM($E612:$H612*TRANSPOSE(N$63:N$66))","v":0},{"$f":"SUM($E612:$H612*TRANSPOSE(O$63:O$66))","v":0}]
[null,null,null,null,null,null,null,null,null,null,null,null,null,null,null,null,null,null,null,{"$f":"SUM($E613:$H613*TRANSPOSE(M$63:M$66))","v":0},{"$f":"SUM($E613:$H613*TRANSPOSE(N$63:N$66))","v":0},{"$f":"SUM($E613:$H613*TRANSPOSE(O$63:O$66))","v":0}]
[null,null,null,null,null,null,null,null,null,null,null,null,null,null,null,null,null,null,null,{"$f":"SUM($E614:$H614*TRANSPOSE(M$63:M$66))","v":0},{"$f":"SUM($E614:$H614*TRANSPOSE(N$63:N$66))","v":0},{"$f":"SUM($E614:$H614*TRANSPOSE(O$63:O$66))","v":0}]
[null,null,null,null,null,null,null,null,null,null,null,null,null,null,null,null,null,null,null,{"$f":"SUM($E615:$H615*TRANSPOSE(M$63:M$66))","v":0},{"$f":"SUM($E615:$H615*TRANSPOSE(N$63:N$66))","v":0},{"$f":"SUM($E615:$H615*TRANSPOSE(O$63:O$66))","v":0}]
[null,null,null,null,null,null,null,null,null,null,null,null,null,null,null,null,null,null,null,{"$f":"SUM($E616:$H616*TRANSPOSE(M$63:M$66))","v":0},{"$f":"SUM($E616:$H616*TRANSPOSE(N$63:N$66))","v":0},{"$f":"SUM($E616:$H616*TRANSPOSE(O$63:O$66))","v":0}]
[null,null,null,null,null,null,null,null,null,null,null,null,null,null,null,null,null,null,null,{"$f":"SUM($E617:$H617*TRANSPOSE(M$63:M$66))","v":0},{"$f":"SUM($E617:$H617*TRANSPOSE(N$63:N$66))","v":0},{"$f":"SUM($E617:$H617*TRANSPOSE(O$63:O$66))","v":0}]
[null,null,null,null,null,null,null,null,null,null,null,null,null,null,null,null,null,null,null,{"$f":"SUM($E618:$H618*TRANSPOSE(M$63:M$66))","v":0},{"$f":"SUM($E618:$H618*TRANSPOSE(N$63:N$66))","v":0},{"$f":"SUM($E618:$H618*TRANSPOSE(O$63:O$66))","v":0}]
[null,null,null,null,null,null,null,null,null,null,null,null,null,null,null,null,null,null,null,{"$f":"SUM($E619:$H619*TRANSPOSE(M$63:M$66))","v":0},{"$f":"SUM($E619:$H619*TRANSPOSE(N$63:N$66))","v":0},{"$f":"SUM($E619:$H619*TRANSPOSE(O$63:O$66))","v":0}]
[null,null,null,null,null,null,null,null,null,null,null,null,null,null,null,null,null,null,null,{"$f":"SUM($E620:$H620*TRANSPOSE(M$63:M$66))","v":0},{"$f":"SUM($E620:$H620*TRANSPOSE(N$63:N$66))","v":0},{"$f":"SUM($E620:$H620*TRANSPOSE(O$63:O$66))","v":0}]
[null,null,null,null,null,null,null,null,null,null,null,null,null,null,null,null,null,null,null,{"$f":"SUM($E621:$H621*TRANSPOSE(M$63:M$66))","v":0},{"$f":"SUM($E621:$H621*TRANSPOSE(N$63:N$66))","v":0},{"$f":"SUM($E621:$H621*TRANSPOSE(O$63:O$66))","v":0}]
[null,null,null,null,null,null,null,null,null,null,null,null,null,null,null,null,null,null,null,{"$f":"SUM($E622:$H622*TRANSPOSE(M$63:M$66))","v":0},{"$f":"SUM($E622:$H622*TRANSPOSE(N$63:N$66))","v":0},{"$f":"SUM($E622:$H622*TRANSPOSE(O$63:O$66))","v":0}]
[null,null,null,null,null,null,null,null,null,null,null,null,null,null,null,null,null,null,null,{"$f":"SUM($E623:$H623*TRANSPOSE(M$63:M$66))","v":0},{"$f":"SUM($E623:$H623*TRANSPOSE(N$63:N$66))","v":0},{"$f":"SUM($E623:$H623*TRANSPOSE(O$63:O$66))","v":0}]
[null,null,null,null,null,null,null,null,null,null,null,null,null,null,null,null,null,null,null,{"$f":"SUM($E624:$H624*TRANSPOSE(M$63:M$66))","v":0},{"$f":"SUM($E624:$H624*TRANSPOSE(N$63:N$66))","v":0},{"$f":"SUM($E624:$H624*TRANSPOSE(O$63:O$66))","v":0}]
[null,null,null,null,null,null,null,null,null,null,null,null,null,null,null,null,null,null,null,{"$f":"SUM($E625:$H625*TRANSPOSE(M$63:M$66))","v":0},{"$f":"SUM($E625:$H625*TRANSPOSE(N$63:N$66))","v":0},{"$f":"SUM($E625:$H625*TRANSPOSE(O$63:O$66))","v":0}]
[null,null,null,null,null,null,null,null,null,null,null,null,null,null,null,null,null,null,null,{"$f":"SUM($E626:$H626*TRANSPOSE(M$63:M$66))","v":0},{"$f":"SUM($E626:$H626*TRANSPOSE(N$63:N$66))","v":0},{"$f":"SUM($E626:$H626*TRANSPOSE(O$63:O$66))","v":0}]
[null,null,null,null,null,null,null,null,null,null,null,null,null,null,null,null,null,null,null,{"$f":"SUM($E627:$H627*TRANSPOSE(M$63:M$66))","v":0},{"$f":"SUM($E627:$H627*TRANSPOSE(N$63:N$66))","v":0},{"$f":"SUM($E627:$H627*TRANSPOSE(O$63:O$66))","v":0}]
[null,null,null,null,null,null,null,null,null,null,null,null,null,null,null,null,null,null,null,{"$f":"SUM($E628:$H628*TRANSPOSE(M$63:M$66))","v":0},{"$f":"SUM($E628:$H628*TRANSPOSE(N$63:N$66))","v":0},{"$f":"SUM($E628:$H628*TRANSPOSE(O$63:O$66))","v":0}]
[null,null,null,null,null,null,null,null,null,null,null,null,null,null,null,null,null,null,null,{"$f":"SUM($E629:$H629*TRANSPOSE(M$63:M$66))","v":0},{"$f":"SUM($E629:$H629*TRANSPOSE(N$63:N$66))","v":0},{"$f":"SUM($E629:$H629*TRANSPOSE(O$63:O$66))","v":0}]
[null,null,null,null,null,null,null,null,null,null,null,null,null,null,null,null,null,null,null,{"$f":"SUM($E630:$H630*TRANSPOSE(M$63:M$66))","v":0},{"$f":"SUM($E630:$H630*TRANSPOSE(N$63:N$66))","v":0},{"$f":"SUM($E630:$H630*TRANSPOSE(O$63:O$66))","v":0}]
[null,null,null,null,null,null,null,null,null,null,null,null,null,null,null,null,null,null,null,{"$f":"SUM($E631:$H631*TRANSPOSE(M$63:M$66))","v":0},{"$f":"SUM($E631:$H631*TRANSPOSE(N$63:N$66))","v":0},{"$f":"SUM($E631:$H631*TRANSPOSE(O$63:O$66))","v":0}]
[null,null,null,null,null,null,null,null,null,null,null,null,null,null,null,null,null,null,null,{"$f":"SUM($E632:$H632*TRANSPOSE(M$63:M$66))","v":0},{"$f":"SUM($E632:$H632*TRANSPOSE(N$63:N$66))","v":0},{"$f":"SUM($E632:$H632*TRANSPOSE(O$63:O$66))","v":0}]
[null,null,null,null,null,null,null,null,null,null,null,null,null,null,null,null,null,null,null,{"$f":"SUM($E633:$H633*TRANSPOSE(M$63:M$66))","v":0},{"$f":"SUM($E633:$H633*TRANSPOSE(N$63:N$66))","v":0},{"$f":"SUM($E633:$H633*TRANSPOSE(O$63:O$66))","v":0}]
[null,null,null,null,null,null,null,null,null,null,null,null,null,null,null,null,null,null,null,{"$f":"SUM($E634:$H634*TRANSPOSE(M$63:M$66))","v":0},{"$f":"SUM($E634:$H634*TRANSPOSE(N$63:N$66))","v":0},{"$f":"SUM($E634:$H634*TRANSPOSE(O$63:O$66))","v":0}]
[null,null,null,null,null,null,null,null,null,null,null,null,null,null,null,null,null,null,null,{"$f":"SUM($E635:$H635*TRANSPOSE(M$63:M$66))","v":0},{"$f":"SUM($E635:$H635*TRANSPOSE(N$63:N$66))","v":0},{"$f":"SUM($E635:$H635*TRANSPOSE(O$63:O$66))","v":0}]
[null,null,null,null,null,null,null,null,null,null,null,null,null,null,null,null,null,null,null,{"$f":"SUM($E636:$H636*TRANSPOSE(M$63:M$66))","v":0},{"$f":"SUM($E636:$H636*TRANSPOSE(N$63:N$66))","v":0},{"$f":"SUM($E636:$H636*TRANSPOSE(O$63:O$66))","v":0}]
[null,null,null,null,null,null,null,null,null,null,null,null,null,null,null,null,null,null,null,{"$f":"SUM($E637:$H637*TRANSPOSE(M$63:M$66))","v":0},{"$f":"SUM($E637:$H637*TRANSPOSE(N$63:N$66))","v":0},{"$f":"SUM($E637:$H637*TRANSPOSE(O$63:O$66))","v":0}]
[null,null,null,null,null,null,null,null,null,null,null,null,null,null,null,null,null,null,null,{"$f":"SUM($E638:$H638*TRANSPOSE(M$63:M$66))","v":0},{"$f":"SUM($E638:$H638*TRANSPOSE(N$63:N$66))","v":0},{"$f":"SUM($E638:$H638*TRANSPOSE(O$63:O$66))","v":0}]
[null,null,null,null,null,null,null,null,null,null,null,null,null,null,null,null,null,null,null,{"$f":"SUM($E639:$H639*TRANSPOSE(M$63:M$66))","v":0},{"$f":"SUM($E639:$H639*TRANSPOSE(N$63:N$66))","v":0},{"$f":"SUM($E639:$H639*TRANSPOSE(O$63:O$66))","v":0}]
[null,null,null,null,null,null,null,null,null,null,null,null,null,null,null,null,null,null,null,{"$f":"SUM($E640:$H640*TRANSPOSE(M$63:M$66))","v":0},{"$f":"SUM($E640:$H640*TRANSPOSE(N$63:N$66))","v":0},{"$f":"SUM($E640:$H640*TRANSPOSE(O$63:O$66))","v":0}]
[null,null,null,null,null,null,null,null,null,null,null,null,null,null,null,null,null,null,null,{"$f":"SUM($E641:$H641*TRANSPOSE(M$63:M$66))","v":0},{"$f":"SUM($E641:$H641*TRANSPOSE(N$63:N$66))","v":0},{"$f":"SUM($E641:$H641*TRANSPOSE(O$63:O$66))","v":0}]
[null,null,null,null,null,null,null,null,null,null,null,null,null,null,null,null,null,null,null,{"$f":"SUM($E642:$H642*TRANSPOSE(M$63:M$66))","v":0},{"$f":"SUM($E642:$H642*TRANSPOSE(N$63:N$66))","v":0},{"$f":"SUM($E642:$H642*TRANSPOSE(O$63:O$66))","v":0}]
[null,null,null,null,null,null,null,null,null,null,null,null,null,null,null,null,null,null,null,{"$f":"SUM($E643:$H643*TRANSPOSE(M$63:M$66))","v":0},{"$f":"SUM($E643:$H643*TRANSPOSE(N$63:N$66))","v":0},{"$f":"SUM($E643:$H643*TRANSPOSE(O$63:O$66))","v":0}]
[null,null,null,null,null,null,null,null,null,null,null,null,null,null,null,null,null,null,null,{"$f":"SUM($E644:$H644*TRANSPOSE(M$63:M$66))","v":0},{"$f":"SUM($E644:$H644*TRANSPOSE(N$63:N$66))","v":0},{"$f":"SUM($E644:$H644*TRANSPOSE(O$63:O$66))","v":0}]
[null,null,null,null,null,null,null,null,null,null,null,null,null,null,null,null,null,null,null,{"$f":"SUM($E645:$H645*TRANSPOSE(M$63:M$66))","v":0},{"$f":"SUM($E645:$H645*TRANSPOSE(N$63:N$66))","v":0},{"$f":"SUM($E645:$H645*TRANSPOSE(O$63:O$66))","v":0}]
[null,null,null,null,null,null,null,null,null,null,null,null,null,null,null,null,null,null,null,{"$f":"SUM($E646:$H646*TRANSPOSE(M$63:M$66))","v":0},{"$f":"SUM($E646:$H646*TRANSPOSE(N$63:N$66))","v":0},{"$f":"SUM($E646:$H646*TRANSPOSE(O$63:O$66))","v":0}]
[null,null,null,null,null,null,null,null,null,null,null,null,null,null,null,null,null,null,null,{"$f":"SUM($E647:$H647*TRANSPOSE(M$63:M$66))","v":0},{"$f":"SUM($E647:$H647*TRANSPOSE(N$63:N$66))","v":0},{"$f":"SUM($E647:$H647*TRANSPOSE(O$63:O$66))","v":0}]
[null,null,null,null,null,null,null,null,null,null,null,null,null,null,null,null,null,null,null,{"$f":"SUM($E648:$H648*TRANSPOSE(M$63:M$66))","v":0},{"$f":"SUM($E648:$H648*TRANSPOSE(N$63:N$66))","v":0},{"$f":"SUM($E648:$H648*TRANSPOSE(O$63:O$66))","v":0}]
[null,null,null,null,null,null,null,null,null,null,null,null,null,null,null,null,null,null,null,{"$f":"SUM($E649:$H649*TRANSPOSE(M$63:M$66))","v":0},{"$f":"SUM($E649:$H649*TRANSPOSE(N$63:N$66))","v":0},{"$f":"SUM($E649:$H649*TRANSPOSE(O$63:O$66))","v":0}]
[null,null,null,null,null,null,null,null,null,null,null,null,null,null,null,null,null,null,null,{"$f":"SUM($E650:$H650*TRANSPOSE(M$63:M$66))","v":0},{"$f":"SUM($E650:$H650*TRANSPOSE(N$63:N$66))","v":0},{"$f":"SUM($E650:$H650*TRANSPOSE(O$63:O$66))","v":0}]
[null,null,null,null,null,null,null,null,null,null,null,null,null,null,null,null,null,null,null,{"$f":"SUM($E651:$H651*TRANSPOSE(M$63:M$66))","v":0},{"$f":"SUM($E651:$H651*TRANSPOSE(N$63:N$66))","v":0},{"$f":"SUM($E651:$H651*TRANSPOSE(O$63:O$66))","v":0}]
[null,null,null,null,null,null,null,null,null,null,null,null,null,null,null,null,null,null,null,{"$f":"SUM($E652:$H652*TRANSPOSE(M$63:M$66))","v":0},{"$f":"SUM($E652:$H652*TRANSPOSE(N$63:N$66))","v":0},{"$f":"SUM($E652:$H652*TRANSPOSE(O$63:O$66))","v":0}]
[null,null,null,null,null,null,null,null,null,null,null,null,null,null,null,null,null,null,null,{"$f":"SUM($E653:$H653*TRANSPOSE(M$63:M$66))","v":0},{"$f":"SUM($E653:$H653*TRANSPOSE(N$63:N$66))","v":0},{"$f":"SUM($E653:$H653*TRANSPOSE(O$63:O$66))","v":0}]
[null,null,null,null,null,null,null,null,null,null,null,null,null,null,null,null,null,null,null,{"$f":"SUM($E654:$H654*TRANSPOSE(M$63:M$66))","v":0},{"$f":"SUM($E654:$H654*TRANSPOSE(N$63:N$66))","v":0},{"$f":"SUM($E654:$H654*TRANSPOSE(O$63:O$66))","v":0}]
[null,null,null,null,null,null,null,null,null,null,null,null,null,null,null,null,null,null,null,{"$f":"SUM($E655:$H655*TRANSPOSE(M$63:M$66))","v":0},{"$f":"SUM($E655:$H655*TRANSPOSE(N$63:N$66))","v":0},{"$f":"SUM($E655:$H655*TRANSPOSE(O$63:O$66))","v":0}]
[null,null,null,null,null,null,null,null,null,null,null,null,null,null,null,null,null,null,null,{"$f":"SUM($E656:$H656*TRANSPOSE(M$63:M$66))","v":0},{"$f":"SUM($E656:$H656*TRANSPOSE(N$63:N$66))","v":0},{"$f":"SUM($E656:$H656*TRANSPOSE(O$63:O$66))","v":0}]
[null,null,null,null,null,null,null,null,null,null,null,null,null,null,null,null,null,null,null,{"$f":"SUM($E657:$H657*TRANSPOSE(M$63:M$66))","v":0},{"$f":"SUM($E657:$H657*TRANSPOSE(N$63:N$66))","v":0},{"$f":"SUM($E657:$H657*TRANSPOSE(O$63:O$66))","v":0}]
[null,null,null,null,null,null,null,null,null,null,null,null,null,null,null,null,null,null,null,{"$f":"SUM($E658:$H658*TRANSPOSE(M$63:M$66))","v":0},{"$f":"SUM($E658:$H658*TRANSPOSE(N$63:N$66))","v":0},{"$f":"SUM($E658:$H658*TRANSPOSE(O$63:O$66))","v":0}]
[null,null,null,null,null,null,null,null,null,null,null,null,null,null,null,null,null,null,null,{"$f":"SUM($E659:$H659*TRANSPOSE(M$63:M$66))","v":0},{"$f":"SUM($E659:$H659*TRANSPOSE(N$63:N$66))","v":0},{"$f":"SUM($E659:$H659*TRANSPOSE(O$63:O$66))","v":0}]
[null,null,null,null,null,null,null,null,null,null,null,null,null,null,null,null,null,null,null,{"$f":"SUM($E660:$H660*TRANSPOSE(M$63:M$66))","v":0},{"$f":"SUM($E660:$H660*TRANSPOSE(N$63:N$66))","v":0},{"$f":"SUM($E660:$H660*TRANSPOSE(O$63:O$66))","v":0}]
[null,null,null,null,null,null,null,null,null,null,null,null,null,null,null,null,null,null,null,{"$f":"SUM($E661:$H661*TRANSPOSE(M$63:M$66))","v":0},{"$f":"SUM($E661:$H661*TRANSPOSE(N$63:N$66))","v":0},{"$f":"SUM($E661:$H661*TRANSPOSE(O$63:O$66))","v":0}]
[null,null,null,null,null,null,null,null,null,null,null,null,null,null,null,null,null,null,null,{"$f":"SUM($E662:$H662*TRANSPOSE(M$63:M$66))","v":0},{"$f":"SUM($E662:$H662*TRANSPOSE(N$63:N$66))","v":0},{"$f":"SUM($E662:$H662*TRANSPOSE(O$63:O$66))","v":0}]
[null,null,null,null,null,null,null,null,null,null,null,null,null,null,null,null,null,null,null,{"$f":"SUM($E663:$H663*TRANSPOSE(M$63:M$66))","v":0},{"$f":"SUM($E663:$H663*TRANSPOSE(N$63:N$66))","v":0},{"$f":"SUM($E663:$H663*TRANSPOSE(O$63:O$66))","v":0}]
[null,null,null,null,null,null,null,null,null,null,null,null,null,null,null,null,null,null,null,{"$f":"SUM($E664:$H664*TRANSPOSE(M$63:M$66))","v":0},{"$f":"SUM($E664:$H664*TRANSPOSE(N$63:N$66))","v":0},{"$f":"SUM($E664:$H664*TRANSPOSE(O$63:O$66))","v":0}]
[null,null,null,null,null,null,null,null,null,null,null,null,null,null,null,null,null,null,null,{"$f":"SUM($E665:$H665*TRANSPOSE(M$63:M$66))","v":0},{"$f":"SUM($E665:$H665*TRANSPOSE(N$63:N$66))","v":0},{"$f":"SUM($E665:$H665*TRANSPOSE(O$63:O$66))","v":0}]
[null,null,null,null,null,null,null,null,null,null,null,null,null,null,null,null,null,null,null,{"$f":"SUM($E666:$H666*TRANSPOSE(M$63:M$66))","v":0},{"$f":"SUM($E666:$H666*TRANSPOSE(N$63:N$66))","v":0},{"$f":"SUM($E666:$H666*TRANSPOSE(O$63:O$66))","v":0}]
[null,null,null,null,null,null,null,null,null,null,null,null,null,null,null,null,null,null,null,{"$f":"SUM($E667:$H667*TRANSPOSE(M$63:M$66))","v":0},{"$f":"SUM($E667:$H667*TRANSPOSE(N$63:N$66))","v":0},{"$f":"SUM($E667:$H667*TRANSPOSE(O$63:O$66))","v":0}]
[null,null,null,null,null,null,null,null,null,null,null,null,null,null,null,null,null,null,null,{"$f":"SUM($E668:$H668*TRANSPOSE(M$63:M$66))","v":0},{"$f":"SUM($E668:$H668*TRANSPOSE(N$63:N$66))","v":0},{"$f":"SUM($E668:$H668*TRANSPOSE(O$63:O$66))","v":0}]
[null,null,null,null,null,null,null,null,null,null,null,null,null,null,null,null,null,null,null,{"$f":"SUM($E669:$H669*TRANSPOSE(M$63:M$66))","v":0},{"$f":"SUM($E669:$H669*TRANSPOSE(N$63:N$66))","v":0},{"$f":"SUM($E669:$H669*TRANSPOSE(O$63:O$66))","v":0}]
[null,null,null,null,null,null,null,null,null,null,null,null,null,null,null,null,null,null,null,{"$f":"SUM($E670:$H670*TRANSPOSE(M$63:M$66))","v":0},{"$f":"SUM($E670:$H670*TRANSPOSE(N$63:N$66))","v":0},{"$f":"SUM($E670:$H670*TRANSPOSE(O$63:O$66))","v":0}]
[null,null,null,null,null,null,null,null,null,null,null,null,null,null,null,null,null,null,null,{"$f":"SUM($E671:$H671*TRANSPOSE(M$63:M$66))","v":0},{"$f":"SUM($E671:$H671*TRANSPOSE(N$63:N$66))","v":0},{"$f":"SUM($E671:$H671*TRANSPOSE(O$63:O$66))","v":0}]
[null,null,null,null,null,null,null,null,null,null,null,null,null,null,null,null,null,null,null,{"$f":"SUM($E672:$H672*TRANSPOSE(M$63:M$66))","v":0},{"$f":"SUM($E672:$H672*TRANSPOSE(N$63:N$66))","v":0},{"$f":"SUM($E672:$H672*TRANSPOSE(O$63:O$66))","v":0}]
[null,null,null,null,null,null,null,null,null,null,null,null,null,null,null,null,null,null,null,{"$f":"SUM($E673:$H673*TRANSPOSE(M$63:M$66))","v":0},{"$f":"SUM($E673:$H673*TRANSPOSE(N$63:N$66))","v":0},{"$f":"SUM($E673:$H673*TRANSPOSE(O$63:O$66))","v":0}]
[null,null,null,null,null,null,null,null,null,null,null,null,null,null,null,null,null,null,null,{"$f":"SUM($E674:$H674*TRANSPOSE(M$63:M$66))","v":0},{"$f":"SUM($E674:$H674*TRANSPOSE(N$63:N$66))","v":0},{"$f":"SUM($E674:$H674*TRANSPOSE(O$63:O$66))","v":0}]
[null,null,null,null,null,null,null,null,null,null,null,null,null,null,null,null,null,null,null,{"$f":"SUM($E675:$H675*TRANSPOSE(M$63:M$66))","v":0},{"$f":"SUM($E675:$H675*TRANSPOSE(N$63:N$66))","v":0},{"$f":"SUM($E675:$H675*TRANSPOSE(O$63:O$66))","v":0}]
[null,null,null,null,null,null,null,null,null,null,null,null,null,null,null,null,null,null,null,{"$f":"SUM($E676:$H676*TRANSPOSE(M$63:M$66))","v":0},{"$f":"SUM($E676:$H676*TRANSPOSE(N$63:N$66))","v":0},{"$f":"SUM($E676:$H676*TRANSPOSE(O$63:O$66))","v":0}]
[null,null,null,null,null,null,null,null,null,null,null,null,null,null,null,null,null,null,null,{"$f":"SUM($E677:$H677*TRANSPOSE(M$63:M$66))","v":0},{"$f":"SUM($E677:$H677*TRANSPOSE(N$63:N$66))","v":0},{"$f":"SUM($E677:$H677*TRANSPOSE(O$63:O$66))","v":0}]
[null,null,null,null,null,null,null,null,null,null,null,null,null,null,null,null,null,null,null,{"$f":"SUM($E678:$H678*TRANSPOSE(M$63:M$66))","v":0},{"$f":"SUM($E678:$H678*TRANSPOSE(N$63:N$66))","v":0},{"$f":"SUM($E678:$H678*TRANSPOSE(O$63:O$66))","v":0}]
[null,null,null,null,null,null,null,null,null,null,null,null,null,null,null,null,null,null,null,{"$f":"SUM($E679:$H679*TRANSPOSE(M$63:M$66))","v":0},{"$f":"SUM($E679:$H679*TRANSPOSE(N$63:N$66))","v":0},{"$f":"SUM($E679:$H679*TRANSPOSE(O$63:O$66))","v":0}]
[null,null,null,null,null,null,null,null,null,null,null,null,null,null,null,null,null,null,null,{"$f":"SUM($E680:$H680*TRANSPOSE(M$63:M$66))","v":0},{"$f":"SUM($E680:$H680*TRANSPOSE(N$63:N$66))","v":0},{"$f":"SUM($E680:$H680*TRANSPOSE(O$63:O$66))","v":0}]
[null,null,null,null,null,null,null,null,null,null,null,null,null,null,null,null,null,null,null,{"$f":"SUM($E681:$H681*TRANSPOSE(M$63:M$66))","v":0},{"$f":"SUM($E681:$H681*TRANSPOSE(N$63:N$66))","v":0},{"$f":"SUM($E681:$H681*TRANSPOSE(O$63:O$66))","v":0}]
[null,null,null,null,null,null,null,null,null,null,null,null,null,null,null,null,null,null,null,{"$f":"SUM($E682:$H682*TRANSPOSE(M$63:M$66))","v":0},{"$f":"SUM($E682:$H682*TRANSPOSE(N$63:N$66))","v":0},{"$f":"SUM($E682:$H682*TRANSPOSE(O$63:O$66))","v":0}]
[null,null,null,null,null,null,null,null,null,null,null,null,null,null,null,null,null,null,null,{"$f":"SUM($E683:$H683*TRANSPOSE(M$63:M$66))","v":0},{"$f":"SUM($E683:$H683*TRANSPOSE(N$63:N$66))","v":0},{"$f":"SUM($E683:$H683*TRANSPOSE(O$63:O$66))","v":0}]
[null,null,null,null,null,null,null,null,null,null,null,null,null,null,null,null,null,null,null,{"$f":"SUM($E684:$H684*TRANSPOSE(M$63:M$66))","v":0},{"$f":"SUM($E684:$H684*TRANSPOSE(N$63:N$66))","v":0},{"$f":"SUM($E684:$H684*TRANSPOSE(O$63:O$66))","v":0}]
[null,null,null,null,null,null,null,null,null,null,null,null,null,null,null,null,null,null,null,{"$f":"SUM($E685:$H685*TRANSPOSE(M$63:M$66))","v":0},{"$f":"SUM($E685:$H685*TRANSPOSE(N$63:N$66))","v":0},{"$f":"SUM($E685:$H685*TRANSPOSE(O$63:O$66))","v":0}]
[null,null,null,null,null,null,null,null,null,null,null,null,null,null,null,null,null,null,null,{"$f":"SUM($E686:$H686*TRANSPOSE(M$63:M$66))","v":0},{"$f":"SUM($E686:$H686*TRANSPOSE(N$63:N$66))","v":0},{"$f":"SUM($E686:$H686*TRANSPOSE(O$63:O$66))","v":0}]
[null,null,null,null,null,null,null,null,null,null,null,null,null,null,null,null,null,null,null,{"$f":"SUM($E687:$H687*TRANSPOSE(M$63:M$66))","v":0},{"$f":"SUM($E687:$H687*TRANSPOSE(N$63:N$66))","v":0},{"$f":"SUM($E687:$H687*TRANSPOSE(O$63:O$66))","v":0}]
[null,null,null,null,null,null,null,null,null,null,null,null,null,null,null,null,null,null,null,{"$f":"SUM($E688:$H688*TRANSPOSE(M$63:M$66))","v":0},{"$f":"SUM($E688:$H688*TRANSPOSE(N$63:N$66))","v":0},{"$f":"SUM($E688:$H688*TRANSPOSE(O$63:O$66))","v":0}]
[null,null,null,null,null,null,null,null,null,null,null,null,null,null,null,null,null,null,null,{"$f":"SUM($E689:$H689*TRANSPOSE(M$63:M$66))","v":0},{"$f":"SUM($E689:$H689*TRANSPOSE(N$63:N$66))","v":0},{"$f":"SUM($E689:$H689*TRANSPOSE(O$63:O$66))","v":0}]
[null,null,null,null,null,null,null,null,null,null,null,null,null,null,null,null,null,null,null,{"$f":"SUM($E690:$H690*TRANSPOSE(M$63:M$66))","v":0},{"$f":"SUM($E690:$H690*TRANSPOSE(N$63:N$66))","v":0},{"$f":"SUM($E690:$H690*TRANSPOSE(O$63:O$66))","v":0}]
[null,null,null,null,null,null,null,null,null,null,null,null,null,null,null,null,null,null,null,{"$f":"SUM($E691:$H691*TRANSPOSE(M$63:M$66))","v":0},{"$f":"SUM($E691:$H691*TRANSPOSE(N$63:N$66))","v":0},{"$f":"SUM($E691:$H691*TRANSPOSE(O$63:O$66))","v":0}]
[null,null,null,null,null,null,null,null,null,null,null,null,null,null,null,null,null,null,null,{"$f":"SUM($E692:$H692*TRANSPOSE(M$63:M$66))","v":0},{"$f":"SUM($E692:$H692*TRANSPOSE(N$63:N$66))","v":0},{"$f":"SUM($E692:$H692*TRANSPOSE(O$63:O$66))","v":0}]
[null,null,null,null,null,null,null,null,null,null,null,null,null,null,null,null,null,null,null,{"$f":"SUM($E693:$H693*TRANSPOSE(M$63:M$66))","v":0},{"$f":"SUM($E693:$H693*TRANSPOSE(N$63:N$66))","v":0},{"$f":"SUM($E693:$H693*TRANSPOSE(O$63:O$66))","v":0}]
[null,null,null,null,null,null,null,null,null,null,null,null,null,null,null,null,null,null,null,{"$f":"SUM($E694:$H694*TRANSPOSE(M$63:M$66))","v":0},{"$f":"SUM($E694:$H694*TRANSPOSE(N$63:N$66))","v":0},{"$f":"SUM($E694:$H694*TRANSPOSE(O$63:O$66))","v":0}]
[null,null,null,null,null,null,null,null,null,null,null,null,null,null,null,null,null,null,null,{"$f":"SUM($E695:$H695*TRANSPOSE(M$63:M$66))","v":0},{"$f":"SUM($E695:$H695*TRANSPOSE(N$63:N$66))","v":0},{"$f":"SUM($E695:$H695*TRANSPOSE(O$63:O$66))","v":0}]
[null,null,null,null,null,null,null,null,null,null,null,null,null,null,null,null,null,null,null,{"$f":"SUM($E696:$H696*TRANSPOSE(M$63:M$66))","v":0},{"$f":"SUM($E696:$H696*TRANSPOSE(N$63:N$66))","v":0},{"$f":"SUM($E696:$H696*TRANSPOSE(O$63:O$66))","v":0}]
[null,null,null,null,null,null,null,null,null,null,null,null,null,null,null,null,null,null,null,{"$f":"SUM($E697:$H697*TRANSPOSE(M$63:M$66))","v":0},{"$f":"SUM($E697:$H697*TRANSPOSE(N$63:N$66))","v":0},{"$f":"SUM($E697:$H697*TRANSPOSE(O$63:O$66))","v":0}]
[null,null,null,null,null,null,null,null,null,null,null,null,null,null,null,null,null,null,null,{"$f":"SUM($E698:$H698*TRANSPOSE(M$63:M$66))","v":0},{"$f":"SUM($E698:$H698*TRANSPOSE(N$63:N$66))","v":0},{"$f":"SUM($E698:$H698*TRANSPOSE(O$63:O$66))","v":0}]
[null,null,null,null,null,null,null,null,null,null,null,null,null,null,null,null,null,null,null,{"$f":"SUM($E699:$H699*TRANSPOSE(M$63:M$66))","v":0},{"$f":"SUM($E699:$H699*TRANSPOSE(N$63:N$66))","v":0},{"$f":"SUM($E699:$H699*TRANSPOSE(O$63:O$66))","v":0}]
[null,null,null,null,null,null,null,null,null,null,null,null,null,null,null,null,null,null,null,{"$f":"SUM($E700:$H700*TRANSPOSE(M$63:M$66))","v":0},{"$f":"SUM($E700:$H700*TRANSPOSE(N$63:N$66))","v":0},{"$f":"SUM($E700:$H700*TRANSPOSE(O$63:O$66))","v":0}]
[null,null,null,null,null,null,null,null,null,null,null,null,null,null,null,null,null,null,null,{"$f":"SUM($E701:$H701*TRANSPOSE(M$63:M$66))","v":0},{"$f":"SUM($E701:$H701*TRANSPOSE(N$63:N$66))","v":0},{"$f":"SUM($E701:$H701*TRANSPOSE(O$63:O$66))","v":0}]
[null,null,null,null,null,null,null,null,null,null,null,null,null,null,null,null,null,null,null,{"$f":"SUM($E702:$H702*TRANSPOSE(M$63:M$66))","v":0},{"$f":"SUM($E702:$H702*TRANSPOSE(N$63:N$66))","v":0},{"$f":"SUM($E702:$H702*TRANSPOSE(O$63:O$66))","v":0}]
[null,null,null,null,null,null,null,null,null,null,null,null,null,null,null,null,null,null,null,{"$f":"SUM($E703:$H703*TRANSPOSE(M$63:M$66))","v":0},{"$f":"SUM($E703:$H703*TRANSPOSE(N$63:N$66))","v":0},{"$f":"SUM($E703:$H703*TRANSPOSE(O$63:O$66))","v":0}]
[null,null,null,null,null,null,null,null,null,null,null,null,null,null,null,null,null,null,null,{"$f":"SUM($E704:$H704*TRANSPOSE(M$63:M$66))","v":0},{"$f":"SUM($E704:$H704*TRANSPOSE(N$63:N$66))","v":0},{"$f":"SUM($E704:$H704*TRANSPOSE(O$63:O$66))","v":0}]
[null,null,null,null,null,null,null,null,null,null,null,null,null,null,null,null,null,null,null,{"$f":"SUM($E705:$H705*TRANSPOSE(M$63:M$66))","v":0},{"$f":"SUM($E705:$H705*TRANSPOSE(N$63:N$66))","v":0},{"$f":"SUM($E705:$H705*TRANSPOSE(O$63:O$66))","v":0}]
[null,null,null,null,null,null,null,null,null,null,null,null,null,null,null,null,null,null,null,{"$f":"SUM($E706:$H706*TRANSPOSE(M$63:M$66))","v":0},{"$f":"SUM($E706:$H706*TRANSPOSE(N$63:N$66))","v":0},{"$f":"SUM($E706:$H706*TRANSPOSE(O$63:O$66))","v":0}]
[null,null,null,null,null,null,null,null,null,null,null,null,null,null,null,null,null,null,null,{"$f":"SUM($E707:$H707*TRANSPOSE(M$63:M$66))","v":0},{"$f":"SUM($E707:$H707*TRANSPOSE(N$63:N$66))","v":0},{"$f":"SUM($E707:$H707*TRANSPOSE(O$63:O$66))","v":0}]
[null,null,null,null,null,null,null,null,null,null,null,null,null,null,null,null,null,null,null,{"$f":"SUM($E708:$H708*TRANSPOSE(M$63:M$66))","v":0},{"$f":"SUM($E708:$H708*TRANSPOSE(N$63:N$66))","v":0},{"$f":"SUM($E708:$H708*TRANSPOSE(O$63:O$66))","v":0}]
[null,null,null,null,null,null,null,null,null,null,null,null,null,null,null,null,null,null,null,{"$f":"SUM($E709:$H709*TRANSPOSE(M$63:M$66))","v":0},{"$f":"SUM($E709:$H709*TRANSPOSE(N$63:N$66))","v":0},{"$f":"SUM($E709:$H709*TRANSPOSE(O$63:O$66))","v":0}]
[null,null,null,null,null,null,null,null,null,null,null,null,null,null,null,null,null,null,null,{"$f":"SUM($E710:$H710*TRANSPOSE(M$63:M$66))","v":0},{"$f":"SUM($E710:$H710*TRANSPOSE(N$63:N$66))","v":0},{"$f":"SUM($E710:$H710*TRANSPOSE(O$63:O$66))","v":0}]
[null,null,null,null,null,null,null,null,null,null,null,null,null,null,null,null,null,null,null,{"$f":"SUM($E711:$H711*TRANSPOSE(M$63:M$66))","v":0},{"$f":"SUM($E711:$H711*TRANSPOSE(N$63:N$66))","v":0},{"$f":"SUM($E711:$H711*TRANSPOSE(O$63:O$66))","v":0}]
[null,null,null,null,null,null,null,null,null,null,null,null,null,null,null,null,null,null,null,{"$f":"SUM($E712:$H712*TRANSPOSE(M$63:M$66))","v":0},{"$f":"SUM($E712:$H712*TRANSPOSE(N$63:N$66))","v":0},{"$f":"SUM($E712:$H712*TRANSPOSE(O$63:O$66))","v":0}]
[null,null,null,null,null,null,null,null,null,null,null,null,null,null,null,null,null,null,null,{"$f":"SUM($E713:$H713*TRANSPOSE(M$63:M$66))","v":0},{"$f":"SUM($E713:$H713*TRANSPOSE(N$63:N$66))","v":0},{"$f":"SUM($E713:$H713*TRANSPOSE(O$63:O$66))","v":0}]
[null,null,null,null,null,null,null,null,null,null,null,null,null,null,null,null,null,null,null,{"$f":"SUM($E714:$H714*TRANSPOSE(M$63:M$66))","v":0},{"$f":"SUM($E714:$H714*TRANSPOSE(N$63:N$66))","v":0},{"$f":"SUM($E714:$H714*TRANSPOSE(O$63:O$66))","v":0}]
[null,null,null,null,null,null,null,null,null,null,null,null,null,null,null,null,null,null,null,{"$f":"SUM($E715:$H715*TRANSPOSE(M$63:M$66))","v":0},{"$f":"SUM($E715:$H715*TRANSPOSE(N$63:N$66))","v":0},{"$f":"SUM($E715:$H715*TRANSPOSE(O$63:O$66))","v":0}]
[null,null,null,null,null,null,null,null,null,null,null,null,null,null,null,null,null,null,null,{"$f":"SUM($E716:$H716*TRANSPOSE(M$63:M$66))","v":0},{"$f":"SUM($E716:$H716*TRANSPOSE(N$63:N$66))","v":0},{"$f":"SUM($E716:$H716*TRANSPOSE(O$63:O$66))","v":0}]
[null,null,null,null,null,null,null,null,null,null,null,null,null,null,null,null,null,null,null,{"$f":"SUM($E717:$H717*TRANSPOSE(M$63:M$66))","v":0},{"$f":"SUM($E717:$H717*TRANSPOSE(N$63:N$66))","v":0},{"$f":"SUM($E717:$H717*TRANSPOSE(O$63:O$66))","v":0}]
[null,null,null,null,null,null,null,null,null,null,null,null,null,null,null,null,null,null,null,{"$f":"SUM($E718:$H718*TRANSPOSE(M$63:M$66))","v":0},{"$f":"SUM($E718:$H718*TRANSPOSE(N$63:N$66))","v":0},{"$f":"SUM($E718:$H718*TRANSPOSE(O$63:O$66))","v":0}]
[null,null,null,null,null,null,null,null,null,null,null,null,null,null,null,null,null,null,null,{"$f":"SUM($E719:$H719*TRANSPOSE(M$63:M$66))","v":0},{"$f":"SUM($E719:$H719*TRANSPOSE(N$63:N$66))","v":0},{"$f":"SUM($E719:$H719*TRANSPOSE(O$63:O$66))","v":0}]
[null,null,null,null,null,null,null,null,null,null,null,null,null,null,null,null,null,null,null,{"$f":"SUM($E720:$H720*TRANSPOSE(M$63:M$66))","v":0},{"$f":"SUM($E720:$H720*TRANSPOSE(N$63:N$66))","v":0},{"$f":"SUM($E720:$H720*TRANSPOSE(O$63:O$66))","v":0}]
[null,null,null,null,null,null,null,null,null,null,null,null,null,null,null,null,null,null,null,{"$f":"SUM($E721:$H721*TRANSPOSE(M$63:M$66))","v":0},{"$f":"SUM($E721:$H721*TRANSPOSE(N$63:N$66))","v":0},{"$f":"SUM($E721:$H721*TRANSPOSE(O$63:O$66))","v":0}]
[null,null,null,null,null,null,null,null,null,null,null,null,null,null,null,null,null,null,null,{"$f":"SUM($E722:$H722*TRANSPOSE(M$63:M$66))","v":0},{"$f":"SUM($E722:$H722*TRANSPOSE(N$63:N$66))","v":0},{"$f":"SUM($E722:$H722*TRANSPOSE(O$63:O$66))","v":0}]
[null,null,null,null,null,null,null,null,null,null,null,null,null,null,null,null,null,null,null,{"$f":"SUM($E723:$H723*TRANSPOSE(M$63:M$66))","v":0},{"$f":"SUM($E723:$H723*TRANSPOSE(N$63:N$66))","v":0},{"$f":"SUM($E723:$H723*TRANSPOSE(O$63:O$66))","v":0}]
[null,null,null,null,null,null,null,null,null,null,null,null,null,null,null,null,null,null,null,{"$f":"SUM($E724:$H724*TRANSPOSE(M$63:M$66))","v":0},{"$f":"SUM($E724:$H724*TRANSPOSE(N$63:N$66))","v":0},{"$f":"SUM($E724:$H724*TRANSPOSE(O$63:O$66))","v":0}]
[null,null,null,null,null,null,null,null,null,null,null,null,null,null,null,null,null,null,null,{"$f":"SUM($E725:$H725*TRANSPOSE(M$63:M$66))","v":0},{"$f":"SUM($E725:$H725*TRANSPOSE(N$63:N$66))","v":0},{"$f":"SUM($E725:$H725*TRANSPOSE(O$63:O$66))","v":0}]
[null,null,null,null,null,null,null,null,null,null,null,null,null,null,null,null,null,null,null,{"$f":"SUM($E726:$H726*TRANSPOSE(M$63:M$66))","v":0},{"$f":"SUM($E726:$H726*TRANSPOSE(N$63:N$66))","v":0},{"$f":"SUM($E726:$H726*TRANSPOSE(O$63:O$66))","v":0}]
[null,null,null,null,null,null,null,null,null,null,null,null,null,null,null,null,null,null,null,{"$f":"SUM($E727:$H727*TRANSPOSE(M$63:M$66))","v":0},{"$f":"SUM($E727:$H727*TRANSPOSE(N$63:N$66))","v":0},{"$f":"SUM($E727:$H727*TRANSPOSE(O$63:O$66))","v":0}]
[null,null,null,null,null,null,null,null,null,null,null,null,null,null,null,null,null,null,null,{"$f":"SUM($E728:$H728*TRANSPOSE(M$63:M$66))","v":0},{"$f":"SUM($E728:$H728*TRANSPOSE(N$63:N$66))","v":0},{"$f":"SUM($E728:$H728*TRANSPOSE(O$63:O$66))","v":0}]
[null,null,null,null,null,null,null,null,null,null,null,null,null,null,null,null,null,null,null,{"$f":"SUM($E729:$H729*TRANSPOSE(M$63:M$66))","v":0},{"$f":"SUM($E729:$H729*TRANSPOSE(N$63:N$66))","v":0},{"$f":"SUM($E729:$H729*TRANSPOSE(O$63:O$66))","v":0}]
[null,null,null,null,null,null,null,null,null,null,null,null,null,null,null,null,null,null,null,{"$f":"SUM($E730:$H730*TRANSPOSE(M$63:M$66))","v":0},{"$f":"SUM($E730:$H730*TRANSPOSE(N$63:N$66))","v":0},{"$f":"SUM($E730:$H730*TRANSPOSE(O$63:O$66))","v":0}]
[null,null,null,null,null,null,null,null,null,null,null,null,null,null,null,null,null,null,null,{"$f":"SUM($E731:$H731*TRANSPOSE(M$63:M$66))","v":0},{"$f":"SUM($E731:$H731*TRANSPOSE(N$63:N$66))","v":0},{"$f":"SUM($E731:$H731*TRANSPOSE(O$63:O$66))","v":0}]
[null,null,null,null,null,null,null,null,null,null,null,null,null,null,null,null,null,null,null,{"$f":"SUM($E732:$H732*TRANSPOSE(M$63:M$66))","v":0},{"$f":"SUM($E732:$H732*TRANSPOSE(N$63:N$66))","v":0},{"$f":"SUM($E732:$H732*TRANSPOSE(O$63:O$66))","v":0}]
[null,null,null,null,null,null,null,null,null,null,null,null,null,null,null,null,null,null,null,{"$f":"SUM($E733:$H733*TRANSPOSE(M$63:M$66))","v":0},{"$f":"SUM($E733:$H733*TRANSPOSE(N$63:N$66))","v":0},{"$f":"SUM($E733:$H733*TRANSPOSE(O$63:O$66))","v":0}]
[null,null,null,null,null,null,null,null,null,null,null,null,null,null,null,null,null,null,null,{"$f":"SUM($E734:$H734*TRANSPOSE(M$63:M$66))","v":0},{"$f":"SUM($E734:$H734*TRANSPOSE(N$63:N$66))","v":0},{"$f":"SUM($E734:$H734*TRANSPOSE(O$63:O$66))","v":0}]
[null,null,null,null,null,null,null,null,null,null,null,null,null,null,null,null,null,null,null,{"$f":"SUM($E735:$H735*TRANSPOSE(M$63:M$66))","v":0},{"$f":"SUM($E735:$H735*TRANSPOSE(N$63:N$66))","v":0},{"$f":"SUM($E735:$H735*TRANSPOSE(O$63:O$66))","v":0}]
[null,null,null,null,null,null,null,null,null,null,null,null,null,null,null,null,null,null,null,{"$f":"SUM($E736:$H736*TRANSPOSE(M$63:M$66))","v":0},{"$f":"SUM($E736:$H736*TRANSPOSE(N$63:N$66))","v":0},{"$f":"SUM($E736:$H736*TRANSPOSE(O$63:O$66))","v":0}]
[null,null,null,null,null,null,null,null,null,null,null,null,null,null,null,null,null,null,null,{"$f":"SUM($E737:$H737*TRANSPOSE(M$63:M$66))","v":0},{"$f":"SUM($E737:$H737*TRANSPOSE(N$63:N$66))","v":0},{"$f":"SUM($E737:$H737*TRANSPOSE(O$63:O$66))","v":0}]
[null,null,null,null,null,null,null,null,null,null,null,null,null,null,null,null,null,null,null,{"$f":"SUM($E738:$H738*TRANSPOSE(M$63:M$66))","v":0},{"$f":"SUM($E738:$H738*TRANSPOSE(N$63:N$66))","v":0},{"$f":"SUM($E738:$H738*TRANSPOSE(O$63:O$66))","v":0}]
[null,null,null,null,null,null,null,null,null,null,null,null,null,null,null,null,null,null,null,{"$f":"SUM($E739:$H739*TRANSPOSE(M$63:M$66))","v":0},{"$f":"SUM($E739:$H739*TRANSPOSE(N$63:N$66))","v":0},{"$f":"SUM($E739:$H739*TRANSPOSE(O$63:O$66))","v":0}]
[null,null,null,null,null,null,null,null,null,null,null,null,null,null,null,null,null,null,null,{"$f":"SUM($E740:$H740*TRANSPOSE(M$63:M$66))","v":0},{"$f":"SUM($E740:$H740*TRANSPOSE(N$63:N$66))","v":0},{"$f":"SUM($E740:$H740*TRANSPOSE(O$63:O$66))","v":0}]
[null,null,null,null,null,null,null,null,null,null,null,null,null,null,null,null,null,null,null,{"$f":"SUM($E741:$H741*TRANSPOSE(M$63:M$66))","v":0},{"$f":"SUM($E741:$H741*TRANSPOSE(N$63:N$66))","v":0},{"$f":"SUM($E741:$H741*TRANSPOSE(O$63:O$66))","v":0}]
[null,null,null,null,null,null,null,null,null,null,null,null,null,null,null,null,null,null,null,{"$f":"SUM($E742:$H742*TRANSPOSE(M$63:M$66))","v":0},{"$f":"SUM($E742:$H742*TRANSPOSE(N$63:N$66))","v":0},{"$f":"SUM($E742:$H742*TRANSPOSE(O$63:O$66))","v":0}]
[null,null,null,null,null,null,null,null,null,null,null,null,null,null,null,null,null,null,null,{"$f":"SUM($E743:$H743*TRANSPOSE(M$63:M$66))","v":0},{"$f":"SUM($E743:$H743*TRANSPOSE(N$63:N$66))","v":0},{"$f":"SUM($E743:$H743*TRANSPOSE(O$63:O$66))","v":0}]
[null,null,null,null,null,null,null,null,null,null,null,null,null,null,null,null,null,null,null,{"$f":"SUM($E744:$H744*TRANSPOSE(M$63:M$66))","v":0},{"$f":"SUM($E744:$H744*TRANSPOSE(N$63:N$66))","v":0},{"$f":"SUM($E744:$H744*TRANSPOSE(O$63:O$66))","v":0}]
[null,null,null,null,null,null,null,null,null,null,null,null,null,null,null,null,null,null,null,{"$f":"SUM($E745:$H745*TRANSPOSE(M$63:M$66))","v":0},{"$f":"SUM($E745:$H745*TRANSPOSE(N$63:N$66))","v":0},{"$f":"SUM($E745:$H745*TRANSPOSE(O$63:O$66))","v":0}]
[null,null,null,null,null,null,null,null,null,null,null,null,null,null,null,null,null,null,null,{"$f":"SUM($E746:$H746*TRANSPOSE(M$63:M$66))","v":0},{"$f":"SUM($E746:$H746*TRANSPOSE(N$63:N$66))","v":0},{"$f":"SUM($E746:$H746*TRANSPOSE(O$63:O$66))","v":0}]
[null,null,null,null,null,null,null,null,null,null,null,null,null,null,null,null,null,null,null,{"$f":"SUM($E747:$H747*TRANSPOSE(M$63:M$66))","v":0},{"$f":"SUM($E747:$H747*TRANSPOSE(N$63:N$66))","v":0},{"$f":"SUM($E747:$H747*TRANSPOSE(O$63:O$66))","v":0}]
[null,null,null,null,null,null,null,null,null,null,null,null,null,null,null,null,null,null,null,{"$f":"SUM($E748:$H748*TRANSPOSE(M$63:M$66))","v":0},{"$f":"SUM($E748:$H748*TRANSPOSE(N$63:N$66))","v":0},{"$f":"SUM($E748:$H748*TRANSPOSE(O$63:O$66))","v":0}]
[null,null,null,null,null,null,null,null,null,null,null,null,null,null,null,null,null,null,null,{"$f":"SUM($E749:$H749*TRANSPOSE(M$63:M$66))","v":0},{"$f":"SUM($E749:$H749*TRANSPOSE(N$63:N$66))","v":0},{"$f":"SUM($E749:$H749*TRANSPOSE(O$63:O$66))","v":0}]
[null,null,null,null,null,null,null,null,null,null,null,null,null,null,null,null,null,null,null,{"$f":"SUM($E750:$H750*TRANSPOSE(M$63:M$66))","v":0},{"$f":"SUM($E750:$H750*TRANSPOSE(N$63:N$66))","v":0},{"$f":"SUM($E750:$H750*TRANSPOSE(O$63:O$66))","v":0}]
[null,null,null,null,null,null,null,null,null,null,null,null,null,null,null,null,null,null,null,{"$f":"SUM($E751:$H751*TRANSPOSE(M$63:M$66))","v":0},{"$f":"SUM($E751:$H751*TRANSPOSE(N$63:N$66))","v":0},{"$f":"SUM($E751:$H751*TRANSPOSE(O$63:O$66))","v":0}]
[null,null,null,null,null,null,null,null,null,null,null,null,null,null,null,null,null,null,null,{"$f":"SUM($E752:$H752*TRANSPOSE(M$63:M$66))","v":0},{"$f":"SUM($E752:$H752*TRANSPOSE(N$63:N$66))","v":0},{"$f":"SUM($E752:$H752*TRANSPOSE(O$63:O$66))","v":0}]
[null,null,null,null,null,null,null,null,null,null,null,null,null,null,null,null,null,null,null,{"$f":"SUM($E753:$H753*TRANSPOSE(M$63:M$66))","v":0},{"$f":"SUM($E753:$H753*TRANSPOSE(N$63:N$66))","v":0},{"$f":"SUM($E753:$H753*TRANSPOSE(O$63:O$66))","v":0}]
[null,null,null,null,null,null,null,null,null,null,null,null,null,null,null,null,null,null,null,{"$f":"SUM($E754:$H754*TRANSPOSE(M$63:M$66))","v":0},{"$f":"SUM($E754:$H754*TRANSPOSE(N$63:N$66))","v":0},{"$f":"SUM($E754:$H754*TRANSPOSE(O$63:O$66))","v":0}]
[null,null,null,null,null,null,null,null,null,null,null,null,null,null,null,null,null,null,null,{"$f":"SUM($E755:$H755*TRANSPOSE(M$63:M$66))","v":0},{"$f":"SUM($E755:$H755*TRANSPOSE(N$63:N$66))","v":0},{"$f":"SUM($E755:$H755*TRANSPOSE(O$63:O$66))","v":0}]
[null,null,null,null,null,null,null,null,null,null,null,null,null,null,null,null,null,null,null,{"$f":"SUM($E756:$H756*TRANSPOSE(M$63:M$66))","v":0},{"$f":"SUM($E756:$H756*TRANSPOSE(N$63:N$66))","v":0},{"$f":"SUM($E756:$H756*TRANSPOSE(O$63:O$66))","v":0}]
[null,null,null,null,null,null,null,null,null,null,null,null,null,null,null,null,null,null,null,{"$f":"SUM($E757:$H757*TRANSPOSE(M$63:M$66))","v":0},{"$f":"SUM($E757:$H757*TRANSPOSE(N$63:N$66))","v":0},{"$f":"SUM($E757:$H757*TRANSPOSE(O$63:O$66))","v":0}]
[null,null,null,null,null,null,null,null,null,null,null,null,null,null,null,null,null,null,null,{"$f":"SUM($E758:$H758*TRANSPOSE(M$63:M$66))","v":0},{"$f":"SUM($E758:$H758*TRANSPOSE(N$63:N$66))","v":0},{"$f":"SUM($E758:$H758*TRANSPOSE(O$63:O$66))","v":0}]
[null,null,null,null,null,null,null,null,null,null,null,null,null,null,null,null,null,null,null,{"$f":"SUM($E759:$H759*TRANSPOSE(M$63:M$66))","v":0},{"$f":"SUM($E759:$H759*TRANSPOSE(N$63:N$66))","v":0},{"$f":"SUM($E759:$H759*TRANSPOSE(O$63:O$66))","v":0}]
[null,null,null,null,null,null,null,null,null,null,null,null,null,null,null,null,null,null,null,{"$f":"SUM($E760:$H760*TRANSPOSE(M$63:M$66))","v":0},{"$f":"SUM($E760:$H760*TRANSPOSE(N$63:N$66))","v":0},{"$f":"SUM($E760:$H760*TRANSPOSE(O$63:O$66))","v":0}]
[null,null,null,null,null,null,null,null,null,null,null,null,null,null,null,null,null,null,null,{"$f":"SUM($E761:$H761*TRANSPOSE(M$63:M$66))","v":0},{"$f":"SUM($E761:$H761*TRANSPOSE(N$63:N$66))","v":0},{"$f":"SUM($E761:$H761*TRANSPOSE(O$63:O$66))","v":0}]
[null,null,null,null,null,null,null,null,null,null,null,null,null,null,null,null,null,null,null,{"$f":"SUM($E762:$H762*TRANSPOSE(M$63:M$66))","v":0},{"$f":"SUM($E762:$H762*TRANSPOSE(N$63:N$66))","v":0},{"$f":"SUM($E762:$H762*TRANSPOSE(O$63:O$66))","v":0}]
[null,null,null,null,null,null,null,null,null,null,null,null,null,null,null,null,null,null,null,{"$f":"SUM($E763:$H763*TRANSPOSE(M$63:M$66))","v":0},{"$f":"SUM($E763:$H763*TRANSPOSE(N$63:N$66))","v":0},{"$f":"SUM($E763:$H763*TRANSPOSE(O$63:O$66))","v":0}]
[null,null,null,null,null,null,null,null,null,null,null,null,null,null,null,null,null,null,null,{"$f":"SUM($E764:$H764*TRANSPOSE(M$63:M$66))","v":0},{"$f":"SUM($E764:$H764*TRANSPOSE(N$63:N$66))","v":0},{"$f":"SUM($E764:$H764*TRANSPOSE(O$63:O$66))","v":0}]
[null,null,null,null,null,null,null,null,null,null,null,null,null,null,null,null,null,null,null,{"$f":"SUM($E765:$H765*TRANSPOSE(M$63:M$66))","v":0},{"$f":"SUM($E765:$H765*TRANSPOSE(N$63:N$66))","v":0},{"$f":"SUM($E765:$H765*TRANSPOSE(O$63:O$66))","v":0}]
[null,null,null,null,null,null,null,null,null,null,null,null,null,null,null,null,null,null,null,{"$f":"SUM($E766:$H766*TRANSPOSE(M$63:M$66))","v":0},{"$f":"SUM($E766:$H766*TRANSPOSE(N$63:N$66))","v":0},{"$f":"SUM($E766:$H766*TRANSPOSE(O$63:O$66))","v":0}]
[null,null,null,null,null,null,null,null,null,null,null,null,null,null,null,null,null,null,null,{"$f":"SUM($E767:$H767*TRANSPOSE(M$63:M$66))","v":0},{"$f":"SUM($E767:$H767*TRANSPOSE(N$63:N$66))","v":0},{"$f":"SUM($E767:$H767*TRANSPOSE(O$63:O$66))","v":0}]
[null,null,null,null,null,null,null,null,null,null,null,null,null,null,null,null,null,null,null,{"$f":"SUM($E768:$H768*TRANSPOSE(M$63:M$66))","v":0},{"$f":"SUM($E768:$H768*TRANSPOSE(N$63:N$66))","v":0},{"$f":"SUM($E768:$H768*TRANSPOSE(O$63:O$66))","v":0}]
[null,null,null,null,null,null,null,null,null,null,null,null,null,null,null,null,null,null,null,{"$f":"SUM($E769:$H769*TRANSPOSE(M$63:M$66))","v":0},{"$f":"SUM($E769:$H769*TRANSPOSE(N$63:N$66))","v":0},{"$f":"SUM($E769:$H769*TRANSPOSE(O$63:O$66))","v":0}]
[null,null,null,null,null,null,null,null,null,null,null,null,null,null,null,null,null,null,null,{"$f":"SUM($E770:$H770*TRANSPOSE(M$63:M$66))","v":0},{"$f":"SUM($E770:$H770*TRANSPOSE(N$63:N$66))","v":0},{"$f":"SUM($E770:$H770*TRANSPOSE(O$63:O$66))","v":0}]
[null,null,null,null,null,null,null,null,null,null,null,null,null,null,null,null,null,null,null,{"$f":"SUM($E771:$H771*TRANSPOSE(M$63:M$66))","v":0},{"$f":"SUM($E771:$H771*TRANSPOSE(N$63:N$66))","v":0},{"$f":"SUM($E771:$H771*TRANSPOSE(O$63:O$66))","v":0}]
[null,null,null,null,null,null,null,null,null,null,null,null,null,null,null,null,null,null,null,{"$f":"SUM($E772:$H772*TRANSPOSE(M$63:M$66))","v":0},{"$f":"SUM($E772:$H772*TRANSPOSE(N$63:N$66))","v":0},{"$f":"SUM($E772:$H772*TRANSPOSE(O$63:O$66))","v":0}]
[null,null,null,null,null,null,null,null,null,null,null,null,null,null,null,null,null,null,null,{"$f":"SUM($E773:$H773*TRANSPOSE(M$63:M$66))","v":0},{"$f":"SUM($E773:$H773*TRANSPOSE(N$63:N$66))","v":0},{"$f":"SUM($E773:$H773*TRANSPOSE(O$63:O$66))","v":0}]
[null,null,null,null,null,null,null,null,null,null,null,null,null,null,null,null,null,null,null,{"$f":"SUM($E774:$H774*TRANSPOSE(M$63:M$66))","v":0},{"$f":"SUM($E774:$H774*TRANSPOSE(N$63:N$66))","v":0},{"$f":"SUM($E774:$H774*TRANSPOSE(O$63:O$66))","v":0}]
[null,null,null,null,null,null,null,null,null,null,null,null,null,null,null,null,null,null,null,{"$f":"SUM($E775:$H775*TRANSPOSE(M$63:M$66))","v":0},{"$f":"SUM($E775:$H775*TRANSPOSE(N$63:N$66))","v":0},{"$f":"SUM($E775:$H775*TRANSPOSE(O$63:O$66))","v":0}]
[null,null,null,null,null,null,null,null,null,null,null,null,null,null,null,null,null,null,null,{"$f":"SUM($E776:$H776*TRANSPOSE(M$63:M$66))","v":0},{"$f":"SUM($E776:$H776*TRANSPOSE(N$63:N$66))","v":0},{"$f":"SUM($E776:$H776*TRANSPOSE(O$63:O$66))","v":0}]
[null,null,null,null,null,null,null,null,null,null,null,null,null,null,null,null,null,null,null,{"$f":"SUM($E777:$H777*TRANSPOSE(M$63:M$66))","v":0},{"$f":"SUM($E777:$H777*TRANSPOSE(N$63:N$66))","v":0},{"$f":"SUM($E777:$H777*TRANSPOSE(O$63:O$66))","v":0}]
[null,null,null,null,null,null,null,null,null,null,null,null,null,null,null,null,null,null,null,{"$f":"SUM($E778:$H778*TRANSPOSE(M$63:M$66))","v":0},{"$f":"SUM($E778:$H778*TRANSPOSE(N$63:N$66))","v":0},{"$f":"SUM($E778:$H778*TRANSPOSE(O$63:O$66))","v":0}]
[null,null,null,null,null,null,null,null,null,null,null,null,null,null,null,null,null,null,null,{"$f":"SUM($E779:$H779*TRANSPOSE(M$63:M$66))","v":0},{"$f":"SUM($E779:$H779*TRANSPOSE(N$63:N$66))","v":0},{"$f":"SUM($E779:$H779*TRANSPOSE(O$63:O$66))","v":0}]
[null,null,null,null,null,null,null,null,null,null,null,null,null,null,null,null,null,null,null,{"$f":"SUM($E780:$H780*TRANSPOSE(M$63:M$66))","v":0},{"$f":"SUM($E780:$H780*TRANSPOSE(N$63:N$66))","v":0},{"$f":"SUM($E780:$H780*TRANSPOSE(O$63:O$66))","v":0}]
[null,null,null,null,null,null,null,null,null,null,null,null,null,null,null,null,null,null,null,{"$f":"SUM($E781:$H781*TRANSPOSE(M$63:M$66))","v":0},{"$f":"SUM($E781:$H781*TRANSPOSE(N$63:N$66))","v":0},{"$f":"SUM($E781:$H781*TRANSPOSE(O$63:O$66))","v":0}]
[null,null,null,null,null,null,null,null,null,null,null,null,null,null,null,null,null,null,null,{"$f":"SUM($E782:$H782*TRANSPOSE(M$63:M$66))","v":0},{"$f":"SUM($E782:$H782*TRANSPOSE(N$63:N$66))","v":0},{"$f":"SUM($E782:$H782*TRANSPOSE(O$63:O$66))","v":0}]
[null,null,null,null,null,null,null,null,null,null,null,null,null,null,null,null,null,null,null,{"$f":"SUM($E783:$H783*TRANSPOSE(M$63:M$66))","v":0},{"$f":"SUM($E783:$H783*TRANSPOSE(N$63:N$66))","v":0},{"$f":"SUM($E783:$H783*TRANSPOSE(O$63:O$66))","v":0}]
[null,null,null,null,null,null,null,null,null,null,null,null,null,null,null,null,null,null,null,{"$f":"SUM($E784:$H784*TRANSPOSE(M$63:M$66))","v":0},{"$f":"SUM($E784:$H784*TRANSPOSE(N$63:N$66))","v":0},{"$f":"SUM($E784:$H784*TRANSPOSE(O$63:O$66))","v":0}]
[null,null,null,null,null,null,null,null,null,null,null,null,null,null,null,null,null,null,null,{"$f":"SUM($E785:$H785*TRANSPOSE(M$63:M$66))","v":0},{"$f":"SUM($E785:$H785*TRANSPOSE(N$63:N$66))","v":0},{"$f":"SUM($E785:$H785*TRANSPOSE(O$63:O$66))","v":0}]
[null,null,null,null,null,null,null,null,null,null,null,null,null,null,null,null,null,null,null,{"$f":"SUM($E786:$H786*TRANSPOSE(M$63:M$66))","v":0},{"$f":"SUM($E786:$H786*TRANSPOSE(N$63:N$66))","v":0},{"$f":"SUM($E786:$H786*TRANSPOSE(O$63:O$66))","v":0}]
[null,null,null,null,null,null,null,null,null,null,null,null,null,null,null,null,null,null,null,{"$f":"SUM($E787:$H787*TRANSPOSE(M$63:M$66))","v":0},{"$f":"SUM($E787:$H787*TRANSPOSE(N$63:N$66))","v":0},{"$f":"SUM($E787:$H787*TRANSPOSE(O$63:O$66))","v":0}]
[null,null,null,null,null,null,null,null,null,null,null,null,null,null,null,null,null,null,null,{"$f":"SUM($E788:$H788*TRANSPOSE(M$63:M$66))","v":0},{"$f":"SUM($E788:$H788*TRANSPOSE(N$63:N$66))","v":0},{"$f":"SUM($E788:$H788*TRANSPOSE(O$63:O$66))","v":0}]
[null,null,null,null,null,null,null,null,null,null,null,null,null,null,null,null,null,null,null,{"$f":"SUM($E789:$H789*TRANSPOSE(M$63:M$66))","v":0},{"$f":"SUM($E789:$H789*TRANSPOSE(N$63:N$66))","v":0},{"$f":"SUM($E789:$H789*TRANSPOSE(O$63:O$66))","v":0}]
[null,null,null,null,null,null,null,null,null,null,null,null,null,null,null,null,null,null,null,{"$f":"SUM($E790:$H790*TRANSPOSE(M$63:M$66))","v":0},{"$f":"SUM($E790:$H790*TRANSPOSE(N$63:N$66))","v":0},{"$f":"SUM($E790:$H790*TRANSPOSE(O$63:O$66))","v":0}]
[null,null,null,null,null,null,null,null,null,null,null,null,null,null,null,null,null,null,null,{"$f":"SUM($E791:$H791*TRANSPOSE(M$63:M$66))","v":0},{"$f":"SUM($E791:$H791*TRANSPOSE(N$63:N$66))","v":0},{"$f":"SUM($E791:$H791*TRANSPOSE(O$63:O$66))","v":0}]
[null,null,null,null,null,null,null,null,null,null,null,null,null,null,null,null,null,null,null,{"$f":"SUM($E792:$H792*TRANSPOSE(M$63:M$66))","v":0},{"$f":"SUM($E792:$H792*TRANSPOSE(N$63:N$66))","v":0},{"$f":"SUM($E792:$H792*TRANSPOSE(O$63:O$66))","v":0}]
[null,null,null,null,null,null,null,null,null,null,null,null,null,null,null,null,null,null,null,{"$f":"SUM($E793:$H793*TRANSPOSE(M$63:M$66))","v":0},{"$f":"SUM($E793:$H793*TRANSPOSE(N$63:N$66))","v":0},{"$f":"SUM($E793:$H793*TRANSPOSE(O$63:O$66))","v":0}]
[null,null,null,null,null,null,null,null,null,null,null,null,null,null,null,null,null,null,null,{"$f":"SUM($E794:$H794*TRANSPOSE(M$63:M$66))","v":0},{"$f":"SUM($E794:$H794*TRANSPOSE(N$63:N$66))","v":0},{"$f":"SUM($E794:$H794*TRANSPOSE(O$63:O$66))","v":0}]
[null,null,null,null,null,null,null,null,null,null,null,null,null,null,null,null,null,null,null,{"$f":"SUM($E795:$H795*TRANSPOSE(M$63:M$66))","v":0},{"$f":"SUM($E795:$H795*TRANSPOSE(N$63:N$66))","v":0},{"$f":"SUM($E795:$H795*TRANSPOSE(O$63:O$66))","v":0}]
[null,null,null,null,null,null,null,null,null,null,null,null,null,null,null,null,null,null,null,{"$f":"SUM($E796:$H796*TRANSPOSE(M$63:M$66))","v":0},{"$f":"SUM($E796:$H796*TRANSPOSE(N$63:N$66))","v":0},{"$f":"SUM($E796:$H796*TRANSPOSE(O$63:O$66))","v":0}]
[null,null,null,null,null,null,null,null,null,null,null,null,null,null,null,null,null,null,null,{"$f":"SUM($E797:$H797*TRANSPOSE(M$63:M$66))","v":0},{"$f":"SUM($E797:$H797*TRANSPOSE(N$63:N$66))","v":0},{"$f":"SUM($E797:$H797*TRANSPOSE(O$63:O$66))","v":0}]
[null,null,null,null,null,null,null,null,null,null,null,null,null,null,null,null,null,null,null,{"$f":"SUM($E798:$H798*TRANSPOSE(M$63:M$66))","v":0},{"$f":"SUM($E798:$H798*TRANSPOSE(N$63:N$66))","v":0},{"$f":"SUM($E798:$H798*TRANSPOSE(O$63:O$66))","v":0}]
[null,null,null,null,null,null,null,null,null,null,null,null,null,null,null,null,null,null,null,{"$f":"SUM($E799:$H799*TRANSPOSE(M$63:M$66))","v":0},{"$f":"SUM($E799:$H799*TRANSPOSE(N$63:N$66))","v":0},{"$f":"SUM($E799:$H799*TRANSPOSE(O$63:O$66))","v":0}]
[null,null,null,null,null,null,null,null,null,null,null,null,null,null,null,null,null,null,null,{"$f":"SUM($E800:$H800*TRANSPOSE(M$63:M$66))","v":0},{"$f":"SUM($E800:$H800*TRANSPOSE(N$63:N$66))","v":0},{"$f":"SUM($E800:$H800*TRANSPOSE(O$63:O$66))","v":0}]
[null,null,null,null,null,null,null,null,null,null,null,null,null,null,null,null,null,null,null,{"$f":"SUM($E801:$H801*TRANSPOSE(M$63:M$66))","v":0},{"$f":"SUM($E801:$H801*TRANSPOSE(N$63:N$66))","v":0},{"$f":"SUM($E801:$H801*TRANSPOSE(O$63:O$66))","v":0}]
[null,null,null,null,null,null,null,null,null,null,null,null,null,null,null,null,null,null,null,{"$f":"SUM($E802:$H802*TRANSPOSE(M$63:M$66))","v":0},{"$f":"SUM($E802:$H802*TRANSPOSE(N$63:N$66))","v":0},{"$f":"SUM($E802:$H802*TRANSPOSE(O$63:O$66))","v":0}]
[null,null,null,null,null,null,null,null,null,null,null,null,null,null,null,null,null,null,null,{"$f":"SUM($E803:$H803*TRANSPOSE(M$63:M$66))","v":0},{"$f":"SUM($E803:$H803*TRANSPOSE(N$63:N$66))","v":0},{"$f":"SUM($E803:$H803*TRANSPOSE(O$63:O$66))","v":0}]
[null,null,null,null,null,null,null,null,null,null,null,null,null,null,null,null,null,null,null,{"$f":"SUM($E804:$H804*TRANSPOSE(M$63:M$66))","v":0},{"$f":"SUM($E804:$H804*TRANSPOSE(N$63:N$66))","v":0},{"$f":"SUM($E804:$H804*TRANSPOSE(O$63:O$66))","v":0}]
[null,null,null,null,null,null,null,null,null,null,null,null,null,null,null,null,null,null,null,{"$f":"SUM($E805:$H805*TRANSPOSE(M$63:M$66))","v":0},{"$f":"SUM($E805:$H805*TRANSPOSE(N$63:N$66))","v":0},{"$f":"SUM($E805:$H805*TRANSPOSE(O$63:O$66))","v":0}]
[null,null,null,null,null,null,null,null,null,null,null,null,null,null,null,null,null,null,null,{"$f":"SUM($E806:$H806*TRANSPOSE(M$63:M$66))","v":0},{"$f":"SUM($E806:$H806*TRANSPOSE(N$63:N$66))","v":0},{"$f":"SUM($E806:$H806*TRANSPOSE(O$63:O$66))","v":0}]
[null,null,null,null,null,null,null,null,null,null,null,null,null,null,null,null,null,null,null,{"$f":"SUM($E807:$H807*TRANSPOSE(M$63:M$66))","v":0},{"$f":"SUM($E807:$H807*TRANSPOSE(N$63:N$66))","v":0},{"$f":"SUM($E807:$H807*TRANSPOSE(O$63:O$66))","v":0}]
[null,null,null,null,null,null,null,null,null,null,null,null,null,null,null,null,null,null,null,{"$f":"SUM($E808:$H808*TRANSPOSE(M$63:M$66))","v":0},{"$f":"SUM($E808:$H808*TRANSPOSE(N$63:N$66))","v":0},{"$f":"SUM($E808:$H808*TRANSPOSE(O$63:O$66))","v":0}]
[null,null,null,null,null,null,null,null,null,null,null,null,null,null,null,null,null,null,null,{"$f":"SUM($E809:$H809*TRANSPOSE(M$63:M$66))","v":0},{"$f":"SUM($E809:$H809*TRANSPOSE(N$63:N$66))","v":0},{"$f":"SUM($E809:$H809*TRANSPOSE(O$63:O$66))","v":0}]
[null,null,null,null,null,null,null,null,null,null,null,null,null,null,null,null,null,null,null,{"$f":"SUM($E810:$H810*TRANSPOSE(M$63:M$66))","v":0},{"$f":"SUM($E810:$H810*TRANSPOSE(N$63:N$66))","v":0},{"$f":"SUM($E810:$H810*TRANSPOSE(O$63:O$66))","v":0}]
[null,null,null,null,null,null,null,null,null,null,null,null,null,null,null,null,null,null,null,{"$f":"SUM($E811:$H811*TRANSPOSE(M$63:M$66))","v":0},{"$f":"SUM($E811:$H811*TRANSPOSE(N$63:N$66))","v":0},{"$f":"SUM($E811:$H811*TRANSPOSE(O$63:O$66))","v":0}]
[null,null,null,null,null,null,null,null,null,null,null,null,null,null,null,null,null,null,null,{"$f":"SUM($E812:$H812*TRANSPOSE(M$63:M$66))","v":0},{"$f":"SUM($E812:$H812*TRANSPOSE(N$63:N$66))","v":0},{"$f":"SUM($E812:$H812*TRANSPOSE(O$63:O$66))","v":0}]
[null,null,null,null,null,null,null,null,null,null,null,null,null,null,null,null,null,null,null,{"$f":"SUM($E813:$H813*TRANSPOSE(M$63:M$66))","v":0},{"$f":"SUM($E813:$H813*TRANSPOSE(N$63:N$66))","v":0},{"$f":"SUM($E813:$H813*TRANSPOSE(O$63:O$66))","v":0}]
[null,null,null,null,null,null,null,null,null,null,null,null,null,null,null,null,null,null,null,{"$f":"SUM($E814:$H814*TRANSPOSE(M$63:M$66))","v":0},{"$f":"SUM($E814:$H814*TRANSPOSE(N$63:N$66))","v":0},{"$f":"SUM($E814:$H814*TRANSPOSE(O$63:O$66))","v":0}]
[null,null,null,null,null,null,null,null,null,null,null,null,null,null,null,null,null,null,null,{"$f":"SUM($E815:$H815*TRANSPOSE(M$63:M$66))","v":0},{"$f":"SUM($E815:$H815*TRANSPOSE(N$63:N$66))","v":0},{"$f":"SUM($E815:$H815*TRANSPOSE(O$63:O$66))","v":0}]
[null,null,null,null,null,null,null,null,null,null,null,null,null,null,null,null,null,null,null,{"$f":"SUM($E816:$H816*TRANSPOSE(M$63:M$66))","v":0},{"$f":"SUM($E816:$H816*TRANSPOSE(N$63:N$66))","v":0},{"$f":"SUM($E816:$H816*TRANSPOSE(O$63:O$66))","v":0}]
[null,null,null,null,null,null,null,null,null,null,null,null,null,null,null,null,null,null,null,{"$f":"SUM($E817:$H817*TRANSPOSE(M$63:M$66))","v":0},{"$f":"SUM($E817:$H817*TRANSPOSE(N$63:N$66))","v":0},{"$f":"SUM($E817:$H817*TRANSPOSE(O$63:O$66))","v":0}]
[null,null,null,null,null,null,null,null,null,null,null,null,null,null,null,null,null,null,null,{"$f":"SUM($E818:$H818*TRANSPOSE(M$63:M$66))","v":0},{"$f":"SUM($E818:$H818*TRANSPOSE(N$63:N$66))","v":0},{"$f":"SUM($E818:$H818*TRANSPOSE(O$63:O$66))","v":0}]
[null,null,null,null,null,null,null,null,null,null,null,null,null,null,null,null,null,null,null,{"$f":"SUM($E819:$H819*TRANSPOSE(M$63:M$66))","v":0},{"$f":"SUM($E819:$H819*TRANSPOSE(N$63:N$66))","v":0},{"$f":"SUM($E819:$H819*TRANSPOSE(O$63:O$66))","v":0}]
[null,null,null,null,null,null,null,null,null,null,null,null,null,null,null,null,null,null,null,{"$f":"SUM($E820:$H820*TRANSPOSE(M$63:M$66))","v":0},{"$f":"SUM($E820:$H820*TRANSPOSE(N$63:N$66))","v":0},{"$f":"SUM($E820:$H820*TRANSPOSE(O$63:O$66))","v":0}]
[null,null,null,null,null,null,null,null,null,null,null,null,null,null,null,null,null,null,null,{"$f":"SUM($E821:$H821*TRANSPOSE(M$63:M$66))","v":0},{"$f":"SUM($E821:$H821*TRANSPOSE(N$63:N$66))","v":0},{"$f":"SUM($E821:$H821*TRANSPOSE(O$63:O$66))","v":0}]
[null,null,null,null,null,null,null,null,null,null,null,null,null,null,null,null,null,null,null,{"$f":"SUM($E822:$H822*TRANSPOSE(M$63:M$66))","v":0},{"$f":"SUM($E822:$H822*TRANSPOSE(N$63:N$66))","v":0},{"$f":"SUM($E822:$H822*TRANSPOSE(O$63:O$66))","v":0}]
[null,null,null,null,null,null,null,null,null,null,null,null,null,null,null,null,null,null,null,{"$f":"SUM($E823:$H823*TRANSPOSE(M$63:M$66))","v":0},{"$f":"SUM($E823:$H823*TRANSPOSE(N$63:N$66))","v":0},{"$f":"SUM($E823:$H823*TRANSPOSE(O$63:O$66))","v":0}]
[null,null,null,null,null,null,null,null,null,null,null,null,null,null,null,null,null,null,null,{"$f":"SUM($E824:$H824*TRANSPOSE(M$63:M$66))","v":0},{"$f":"SUM($E824:$H824*TRANSPOSE(N$63:N$66))","v":0},{"$f":"SUM($E824:$H824*TRANSPOSE(O$63:O$66))","v":0}]
[null,null,null,null,null,null,null,null,null,null,null,null,null,null,null,null,null,null,null,{"$f":"SUM($E825:$H825*TRANSPOSE(M$63:M$66))","v":0},{"$f":"SUM($E825:$H825*TRANSPOSE(N$63:N$66))","v":0},{"$f":"SUM($E825:$H825*TRANSPOSE(O$63:O$66))","v":0}]
[null,null,null,null,null,null,null,null,null,null,null,null,null,null,null,null,null,null,null,{"$f":"SUM($E826:$H826*TRANSPOSE(M$63:M$66))","v":0},{"$f":"SUM($E826:$H826*TRANSPOSE(N$63:N$66))","v":0},{"$f":"SUM($E826:$H826*TRANSPOSE(O$63:O$66))","v":0}]
[null,null,null,null,null,null,null,null,null,null,null,null,null,null,null,null,null,null,null,{"$f":"SUM($E827:$H827*TRANSPOSE(M$63:M$66))","v":0},{"$f":"SUM($E827:$H827*TRANSPOSE(N$63:N$66))","v":0},{"$f":"SUM($E827:$H827*TRANSPOSE(O$63:O$66))","v":0}]
[null,null,null,null,null,null,null,null,null,null,null,null,null,null,null,null,null,null,null,{"$f":"SUM($E828:$H828*TRANSPOSE(M$63:M$66))","v":0},{"$f":"SUM($E828:$H828*TRANSPOSE(N$63:N$66))","v":0},{"$f":"SUM($E828:$H828*TRANSPOSE(O$63:O$66))","v":0}]
[null,null,null,null,null,null,null,null,null,null,null,null,null,null,null,null,null,null,null,{"$f":"SUM($E829:$H829*TRANSPOSE(M$63:M$66))","v":0},{"$f":"SUM($E829:$H829*TRANSPOSE(N$63:N$66))","v":0},{"$f":"SUM($E829:$H829*TRANSPOSE(O$63:O$66))","v":0}]
[null,null,null,null,null,null,null,null,null,null,null,null,null,null,null,null,null,null,null,{"$f":"SUM($E830:$H830*TRANSPOSE(M$63:M$66))","v":0},{"$f":"SUM($E830:$H830*TRANSPOSE(N$63:N$66))","v":0},{"$f":"SUM($E830:$H830*TRANSPOSE(O$63:O$66))","v":0}]
[null,null,null,null,null,null,null,null,null,null,null,null,null,null,null,null,null,null,null,{"$f":"SUM($E831:$H831*TRANSPOSE(M$63:M$66))","v":0},{"$f":"SUM($E831:$H831*TRANSPOSE(N$63:N$66))","v":0},{"$f":"SUM($E831:$H831*TRANSPOSE(O$63:O$66))","v":0}]
[null,null,null,null,null,null,null,null,null,null,null,null,null,null,null,null,null,null,null,{"$f":"SUM($E832:$H832*TRANSPOSE(M$63:M$66))","v":0},{"$f":"SUM($E832:$H832*TRANSPOSE(N$63:N$66))","v":0},{"$f":"SUM($E832:$H832*TRANSPOSE(O$63:O$66))","v":0}]
[null,null,null,null,null,null,null,null,null,null,null,null,null,null,null,null,null,null,null,{"$f":"SUM($E833:$H833*TRANSPOSE(M$63:M$66))","v":0},{"$f":"SUM($E833:$H833*TRANSPOSE(N$63:N$66))","v":0},{"$f":"SUM($E833:$H833*TRANSPOSE(O$63:O$66))","v":0}]
[null,null,null,null,null,null,null,null,null,null,null,null,null,null,null,null,null,null,null,{"$f":"SUM($E834:$H834*TRANSPOSE(M$63:M$66))","v":0},{"$f":"SUM($E834:$H834*TRANSPOSE(N$63:N$66))","v":0},{"$f":"SUM($E834:$H834*TRANSPOSE(O$63:O$66))","v":0}]
[null,null,null,null,null,null,null,null,null,null,null,null,null,null,null,null,null,null,null,{"$f":"SUM($E835:$H835*TRANSPOSE(M$63:M$66))","v":0},{"$f":"SUM($E835:$H835*TRANSPOSE(N$63:N$66))","v":0},{"$f":"SUM($E835:$H835*TRANSPOSE(O$63:O$66))","v":0}]
[null,null,null,null,null,null,null,null,null,null,null,null,null,null,null,null,null,null,null,{"$f":"SUM($E836:$H836*TRANSPOSE(M$63:M$66))","v":0},{"$f":"SUM($E836:$H836*TRANSPOSE(N$63:N$66))","v":0},{"$f":"SUM($E836:$H836*TRANSPOSE(O$63:O$66))","v":0}]
[null,null,null,null,null,null,null,null,null,null,null,null,null,null,null,null,null,null,null,{"$f":"SUM($E837:$H837*TRANSPOSE(M$63:M$66))","v":0},{"$f":"SUM($E837:$H837*TRANSPOSE(N$63:N$66))","v":0},{"$f":"SUM($E837:$H837*TRANSPOSE(O$63:O$66))","v":0}]
[null,null,null,null,null,null,null,null,null,null,null,null,null,null,null,null,null,null,null,{"$f":"SUM($E838:$H838*TRANSPOSE(M$63:M$66))","v":0},{"$f":"SUM($E838:$H838*TRANSPOSE(N$63:N$66))","v":0},{"$f":"SUM($E838:$H838*TRANSPOSE(O$63:O$66))","v":0}]
[null,null,null,null,null,null,null,null,null,null,null,null,null,null,null,null,null,null,null,{"$f":"SUM($E839:$H839*TRANSPOSE(M$63:M$66))","v":0},{"$f":"SUM($E839:$H839*TRANSPOSE(N$63:N$66))","v":0},{"$f":"SUM($E839:$H839*TRANSPOSE(O$63:O$66))","v":0}]
[null,null,null,null,null,null,null,null,null,null,null,null,null,null,null,null,null,null,null,{"$f":"SUM($E840:$H840*TRANSPOSE(M$63:M$66))","v":0},{"$f":"SUM($E840:$H840*TRANSPOSE(N$63:N$66))","v":0},{"$f":"SUM($E840:$H840*TRANSPOSE(O$63:O$66))","v":0}]
[null,null,null,null,null,null,null,null,null,null,null,null,null,null,null,null,null,null,null,{"$f":"SUM($E841:$H841*TRANSPOSE(M$63:M$66))","v":0},{"$f":"SUM($E841:$H841*TRANSPOSE(N$63:N$66))","v":0},{"$f":"SUM($E841:$H841*TRANSPOSE(O$63:O$66))","v":0}]
[null,null,null,null,null,null,null,null,null,null,null,null,null,null,null,null,null,null,null,{"$f":"SUM($E842:$H842*TRANSPOSE(M$63:M$66))","v":0},{"$f":"SUM($E842:$H842*TRANSPOSE(N$63:N$66))","v":0},{"$f":"SUM($E842:$H842*TRANSPOSE(O$63:O$66))","v":0}]
[null,null,null,null,null,null,null,null,null,null,null,null,null,null,null,null,null,null,null,{"$f":"SUM($E843:$H843*TRANSPOSE(M$63:M$66))","v":0},{"$f":"SUM($E843:$H843*TRANSPOSE(N$63:N$66))","v":0},{"$f":"SUM($E843:$H843*TRANSPOSE(O$63:O$66))","v":0}]
[null,null,null,null,null,null,null,null,null,null,null,null,null,null,null,null,null,null,null,{"$f":"SUM($E844:$H844*TRANSPOSE(M$63:M$66))","v":0},{"$f":"SUM($E844:$H844*TRANSPOSE(N$63:N$66))","v":0},{"$f":"SUM($E844:$H844*TRANSPOSE(O$63:O$66))","v":0}]
[null,null,null,null,null,null,null,null,null,null,null,null,null,null,null,null,null,null,null,{"$f":"SUM($E845:$H845*TRANSPOSE(M$63:M$66))","v":0},{"$f":"SUM($E845:$H845*TRANSPOSE(N$63:N$66))","v":0},{"$f":"SUM($E845:$H845*TRANSPOSE(O$63:O$66))","v":0}]
[null,null,null,null,null,null,null,null,null,null,null,null,null,null,null,null,null,null,null,{"$f":"SUM($E846:$H846*TRANSPOSE(M$63:M$66))","v":0},{"$f":"SUM($E846:$H846*TRANSPOSE(N$63:N$66))","v":0},{"$f":"SUM($E846:$H846*TRANSPOSE(O$63:O$66))","v":0}]
[null,null,null,null,null,null,null,null,null,null,null,null,null,null,null,null,null,null,null,{"$f":"SUM($E847:$H847*TRANSPOSE(M$63:M$66))","v":0},{"$f":"SUM($E847:$H847*TRANSPOSE(N$63:N$66))","v":0},{"$f":"SUM($E847:$H847*TRANSPOSE(O$63:O$66))","v":0}]
[null,null,null,null,null,null,null,null,null,null,null,null,null,null,null,null,null,null,null,{"$f":"SUM($E848:$H848*TRANSPOSE(M$63:M$66))","v":0},{"$f":"SUM($E848:$H848*TRANSPOSE(N$63:N$66))","v":0},{"$f":"SUM($E848:$H848*TRANSPOSE(O$63:O$66))","v":0}]
[null,null,null,null,null,null,null,null,null,null,null,null,null,null,null,null,null,null,null,{"$f":"SUM($E849:$H849*TRANSPOSE(M$63:M$66))","v":0},{"$f":"SUM($E849:$H849*TRANSPOSE(N$63:N$66))","v":0},{"$f":"SUM($E849:$H849*TRANSPOSE(O$63:O$66))","v":0}]
[null,null,null,null,null,null,null,null,null,null,null,null,null,null,null,null,null,null,null,{"$f":"SUM($E850:$H850*TRANSPOSE(M$63:M$66))","v":0},{"$f":"SUM($E850:$H850*TRANSPOSE(N$63:N$66))","v":0},{"$f":"SUM($E850:$H850*TRANSPOSE(O$63:O$66))","v":0}]
[null,null,null,null,null,null,null,null,null,null,null,null,null,null,null,null,null,null,null,{"$f":"SUM($E851:$H851*TRANSPOSE(M$63:M$66))","v":0},{"$f":"SUM($E851:$H851*TRANSPOSE(N$63:N$66))","v":0},{"$f":"SUM($E851:$H851*TRANSPOSE(O$63:O$66))","v":0}]
[null,null,null,null,null,null,null,null,null,null,null,null,null,null,null,null,null,null,null,{"$f":"SUM($E852:$H852*TRANSPOSE(M$63:M$66))","v":0},{"$f":"SUM($E852:$H852*TRANSPOSE(N$63:N$66))","v":0},{"$f":"SUM($E852:$H852*TRANSPOSE(O$63:O$66))","v":0}]
[null,null,null,null,null,null,null,null,null,null,null,null,null,null,null,null,null,null,null,{"$f":"SUM($E853:$H853*TRANSPOSE(M$63:M$66))","v":0},{"$f":"SUM($E853:$H853*TRANSPOSE(N$63:N$66))","v":0},{"$f":"SUM($E853:$H853*TRANSPOSE(O$63:O$66))","v":0}]
[null,null,null,null,null,null,null,null,null,null,null,null,null,null,null,null,null,null,null,{"$f":"SUM($E854:$H854*TRANSPOSE(M$63:M$66))","v":0},{"$f":"SUM($E854:$H854*TRANSPOSE(N$63:N$66))","v":0},{"$f":"SUM($E854:$H854*TRANSPOSE(O$63:O$66))","v":0}]
[null,null,null,null,null,null,null,null,null,null,null,null,null,null,null,null,null,null,null,{"$f":"SUM($E855:$H855*TRANSPOSE(M$63:M$66))","v":0},{"$f":"SUM($E855:$H855*TRANSPOSE(N$63:N$66))","v":0},{"$f":"SUM($E855:$H855*TRANSPOSE(O$63:O$66))","v":0}]
[null,null,null,null,null,null,null,null,null,null,null,null,null,null,null,null,null,null,null,{"$f":"SUM($E856:$H856*TRANSPOSE(M$63:M$66))","v":0},{"$f":"SUM($E856:$H856*TRANSPOSE(N$63:N$66))","v":0},{"$f":"SUM($E856:$H856*TRANSPOSE(O$63:O$66))","v":0}]
[null,null,null,null,null,null,null,null,null,null,null,null,null,null,null,null,null,null,null,{"$f":"SUM($E857:$H857*TRANSPOSE(M$63:M$66))","v":0},{"$f":"SUM($E857:$H857*TRANSPOSE(N$63:N$66))","v":0},{"$f":"SUM($E857:$H857*TRANSPOSE(O$63:O$66))","v":0}]
[null,null,null,null,null,null,null,null,null,null,null,null,null,null,null,null,null,null,null,{"$f":"SUM($E858:$H858*TRANSPOSE(M$63:M$66))","v":0},{"$f":"SUM($E858:$H858*TRANSPOSE(N$63:N$66))","v":0},{"$f":"SUM($E858:$H858*TRANSPOSE(O$63:O$66))","v":0}]
[null,null,null,null,null,null,null,null,null,null,null,null,null,null,null,null,null,null,null,{"$f":"SUM($E859:$H859*TRANSPOSE(M$63:M$66))","v":0},{"$f":"SUM($E859:$H859*TRANSPOSE(N$63:N$66))","v":0},{"$f":"SUM($E859:$H859*TRANSPOSE(O$63:O$66))","v":0}]
[null,null,null,null,null,null,null,null,null,null,null,null,null,null,null,null,null,null,null,{"$f":"SUM($E860:$H860*TRANSPOSE(M$63:M$66))","v":0},{"$f":"SUM($E860:$H860*TRANSPOSE(N$63:N$66))","v":0},{"$f":"SUM($E860:$H860*TRANSPOSE(O$63:O$66))","v":0}]
[null,null,null,null,null,null,null,null,null,null,null,null,null,null,null,null,null,null,null,{"$f":"SUM($E861:$H861*TRANSPOSE(M$63:M$66))","v":0},{"$f":"SUM($E861:$H861*TRANSPOSE(N$63:N$66))","v":0},{"$f":"SUM($E861:$H861*TRANSPOSE(O$63:O$66))","v":0}]
[null,null,null,null,null,null,null,null,null,null,null,null,null,null,null,null,null,null,null,{"$f":"SUM($E862:$H862*TRANSPOSE(M$63:M$66))","v":0},{"$f":"SUM($E862:$H862*TRANSPOSE(N$63:N$66))","v":0},{"$f":"SUM($E862:$H862*TRANSPOSE(O$63:O$66))","v":0}]
[null,null,null,null,null,null,null,null,null,null,null,null,null,null,null,null,null,null,null,{"$f":"SUM($E863:$H863*TRANSPOSE(M$63:M$66))","v":0},{"$f":"SUM($E863:$H863*TRANSPOSE(N$63:N$66))","v":0},{"$f":"SUM($E863:$H863*TRANSPOSE(O$63:O$66))","v":0}]
[null,null,null,null,null,null,null,null,null,null,null,null,null,null,null,null,null,null,null,{"$f":"SUM($E864:$H864*TRANSPOSE(M$63:M$66))","v":0},{"$f":"SUM($E864:$H864*TRANSPOSE(N$63:N$66))","v":0},{"$f":"SUM($E864:$H864*TRANSPOSE(O$63:O$66))","v":0}]
[null,null,null,null,null,null,null,null,null,null,null,null,null,null,null,null,null,null,null,{"$f":"SUM($E865:$H865*TRANSPOSE(M$63:M$66))","v":0},{"$f":"SUM($E865:$H865*TRANSPOSE(N$63:N$66))","v":0},{"$f":"SUM($E865:$H865*TRANSPOSE(O$63:O$66))","v":0}]
[null,null,null,null,null,null,null,null,null,null,null,null,null,null,null,null,null,null,null,{"$f":"SUM($E866:$H866*TRANSPOSE(M$63:M$66))","v":0},{"$f":"SUM($E866:$H866*TRANSPOSE(N$63:N$66))","v":0},{"$f":"SUM($E866:$H866*TRANSPOSE(O$63:O$66))","v":0}]
[null,null,null,null,null,null,null,null,null,null,null,null,null,null,null,null,null,null,null,{"$f":"SUM($E867:$H867*TRANSPOSE(M$63:M$66))","v":0},{"$f":"SUM($E867:$H867*TRANSPOSE(N$63:N$66))","v":0},{"$f":"SUM($E867:$H867*TRANSPOSE(O$63:O$66))","v":0}]
[null,null,null,null,null,null,null,null,null,null,null,null,null,null,null,null,null,null,null,{"$f":"SUM($E868:$H868*TRANSPOSE(M$63:M$66))","v":0},{"$f":"SUM($E868:$H868*TRANSPOSE(N$63:N$66))","v":0},{"$f":"SUM($E868:$H868*TRANSPOSE(O$63:O$66))","v":0}]
[null,null,null,null,null,null,null,null,null,null,null,null,null,null,null,null,null,null,null,{"$f":"SUM($E869:$H869*TRANSPOSE(M$63:M$66))","v":0},{"$f":"SUM($E869:$H869*TRANSPOSE(N$63:N$66))","v":0},{"$f":"SUM($E869:$H869*TRANSPOSE(O$63:O$66))","v":0}]
[null,null,null,null,null,null,null,null,null,null,null,null,null,null,null,null,null,null,null,{"$f":"SUM($E870:$H870*TRANSPOSE(M$63:M$66))","v":0},{"$f":"SUM($E870:$H870*TRANSPOSE(N$63:N$66))","v":0},{"$f":"SUM($E870:$H870*TRANSPOSE(O$63:O$66))","v":0}]
[null,null,null,null,null,null,null,null,null,null,null,null,null,null,null,null,null,null,null,{"$f":"SUM($E871:$H871*TRANSPOSE(M$63:M$66))","v":0},{"$f":"SUM($E871:$H871*TRANSPOSE(N$63:N$66))","v":0},{"$f":"SUM($E871:$H871*TRANSPOSE(O$63:O$66))","v":0}]
[null,null,null,null,null,null,null,null,null,null,null,null,null,null,null,null,null,null,null,{"$f":"SUM($E872:$H872*TRANSPOSE(M$63:M$66))","v":0},{"$f":"SUM($E872:$H872*TRANSPOSE(N$63:N$66))","v":0},{"$f":"SUM($E872:$H872*TRANSPOSE(O$63:O$66))","v":0}]
[null,null,null,null,null,null,null,null,null,null,null,null,null,null,null,null,null,null,null,{"$f":"SUM($E873:$H873*TRANSPOSE(M$63:M$66))","v":0},{"$f":"SUM($E873:$H873*TRANSPOSE(N$63:N$66))","v":0},{"$f":"SUM($E873:$H873*TRANSPOSE(O$63:O$66))","v":0}]
[null,null,null,null,null,null,null,null,null,null,null,null,null,null,null,null,null,null,null,{"$f":"SUM($E874:$H874*TRANSPOSE(M$63:M$66))","v":0},{"$f":"SUM($E874:$H874*TRANSPOSE(N$63:N$66))","v":0},{"$f":"SUM($E874:$H874*TRANSPOSE(O$63:O$66))","v":0}]
[null,null,null,null,null,null,null,null,null,null,null,null,null,null,null,null,null,null,null,{"$f":"SUM($E875:$H875*TRANSPOSE(M$63:M$66))","v":0},{"$f":"SUM($E875:$H875*TRANSPOSE(N$63:N$66))","v":0},{"$f":"SUM($E875:$H875*TRANSPOSE(O$63:O$66))","v":0}]
[null,null,null,null,null,null,null,null,null,null,null,null,null,null,null,null,null,null,null,{"$f":"SUM($E876:$H876*TRANSPOSE(M$63:M$66))","v":0},{"$f":"SUM($E876:$H876*TRANSPOSE(N$63:N$66))","v":0},{"$f":"SUM($E876:$H876*TRANSPOSE(O$63:O$66))","v":0}]
[null,null,null,null,null,null,null,null,null,null,null,null,null,null,null,null,null,null,null,{"$f":"SUM($E877:$H877*TRANSPOSE(M$63:M$66))","v":0},{"$f":"SUM($E877:$H877*TRANSPOSE(N$63:N$66))","v":0},{"$f":"SUM($E877:$H877*TRANSPOSE(O$63:O$66))","v":0}]
[null,null,null,null,null,null,null,null,null,null,null,null,null,null,null,null,null,null,null,{"$f":"SUM($E878:$H878*TRANSPOSE(M$63:M$66))","v":0},{"$f":"SUM($E878:$H878*TRANSPOSE(N$63:N$66))","v":0},{"$f":"SUM($E878:$H878*TRANSPOSE(O$63:O$66))","v":0}]
[null,null,null,null,null,null,null,null,null,null,null,null,null,null,null,null,null,null,null,{"$f":"SUM($E879:$H879*TRANSPOSE(M$63:M$66))","v":0},{"$f":"SUM($E879:$H879*TRANSPOSE(N$63:N$66))","v":0},{"$f":"SUM($E879:$H879*TRANSPOSE(O$63:O$66))","v":0}]
[null,null,null,null,null,null,null,null,null,null,null,null,null,null,null,null,null,null,null,{"$f":"SUM($E880:$H880*TRANSPOSE(M$63:M$66))","v":0},{"$f":"SUM($E880:$H880*TRANSPOSE(N$63:N$66))","v":0},{"$f":"SUM($E880:$H880*TRANSPOSE(O$63:O$66))","v":0}]
[null,null,null,null,null,null,null,null,null,null,null,null,null,null,null,null,null,null,null,{"$f":"SUM($E881:$H881*TRANSPOSE(M$63:M$66))","v":0},{"$f":"SUM($E881:$H881*TRANSPOSE(N$63:N$66))","v":0},{"$f":"SUM($E881:$H881*TRANSPOSE(O$63:O$66))","v":0}]
[null,null,null,null,null,null,null,null,null,null,null,null,null,null,null,null,null,null,null,{"$f":"SUM($E882:$H882*TRANSPOSE(M$63:M$66))","v":0},{"$f":"SUM($E882:$H882*TRANSPOSE(N$63:N$66))","v":0},{"$f":"SUM($E882:$H882*TRANSPOSE(O$63:O$66))","v":0}]
[null,null,null,null,null,null,null,null,null,null,null,null,null,null,null,null,null,null,null,{"$f":"SUM($E883:$H883*TRANSPOSE(M$63:M$66))","v":0},{"$f":"SUM($E883:$H883*TRANSPOSE(N$63:N$66))","v":0},{"$f":"SUM($E883:$H883*TRANSPOSE(O$63:O$66))","v":0}]
[null,null,null,null,null,null,null,null,null,null,null,null,null,null,null,null,null,null,null,{"$f":"SUM($E884:$H884*TRANSPOSE(M$63:M$66))","v":0},{"$f":"SUM($E884:$H884*TRANSPOSE(N$63:N$66))","v":0},{"$f":"SUM($E884:$H884*TRANSPOSE(O$63:O$66))","v":0}]
[null,null,null,null,null,null,null,null,null,null,null,null,null,null,null,null,null,null,null,{"$f":"SUM($E885:$H885*TRANSPOSE(M$63:M$66))","v":0},{"$f":"SUM($E885:$H885*TRANSPOSE(N$63:N$66))","v":0},{"$f":"SUM($E885:$H885*TRANSPOSE(O$63:O$66))","v":0}]
[null,null,null,null,null,null,null,null,null,null,null,null,null,null,null,null,null,null,null,{"$f":"SUM($E886:$H886*TRANSPOSE(M$63:M$66))","v":0},{"$f":"SUM($E886:$H886*TRANSPOSE(N$63:N$66))","v":0},{"$f":"SUM($E886:$H886*TRANSPOSE(O$63:O$66))","v":0}]
[null,null,null,null,null,null,null,null,null,null,null,null,null,null,null,null,null,null,null,{"$f":"SUM($E887:$H887*TRANSPOSE(M$63:M$66))","v":0},{"$f":"SUM($E887:$H887*TRANSPOSE(N$63:N$66))","v":0},{"$f":"SUM($E887:$H887*TRANSPOSE(O$63:O$66))","v":0}]
[null,null,null,null,null,null,null,null,null,null,null,null,null,null,null,null,null,null,null,{"$f":"SUM($E888:$H888*TRANSPOSE(M$63:M$66))","v":0},{"$f":"SUM($E888:$H888*TRANSPOSE(N$63:N$66))","v":0},{"$f":"SUM($E888:$H888*TRANSPOSE(O$63:O$66))","v":0}]
[null,null,null,null,null,null,null,null,null,null,null,null,null,null,null,null,null,null,null,{"$f":"SUM($E889:$H889*TRANSPOSE(M$63:M$66))","v":0},{"$f":"SUM($E889:$H889*TRANSPOSE(N$63:N$66))","v":0},{"$f":"SUM($E889:$H889*TRANSPOSE(O$63:O$66))","v":0}]
[null,null,null,null,null,null,null,null,null,null,null,null,null,null,null,null,null,null,null,{"$f":"SUM($E890:$H890*TRANSPOSE(M$63:M$66))","v":0},{"$f":"SUM($E890:$H890*TRANSPOSE(N$63:N$66))","v":0},{"$f":"SUM($E890:$H890*TRANSPOSE(O$63:O$66))","v":0}]
[null,null,null,null,null,null,null,null,null,null,null,null,null,null,null,null,null,null,null,{"$f":"SUM($E891:$H891*TRANSPOSE(M$63:M$66))","v":0},{"$f":"SUM($E891:$H891*TRANSPOSE(N$63:N$66))","v":0},{"$f":"SUM($E891:$H891*TRANSPOSE(O$63:O$66))","v":0}]
[null,null,null,null,null,null,null,null,null,null,null,null,null,null,null,null,null,null,null,{"$f":"SUM($E892:$H892*TRANSPOSE(M$63:M$66))","v":0},{"$f":"SUM($E892:$H892*TRANSPOSE(N$63:N$66))","v":0},{"$f":"SUM($E892:$H892*TRANSPOSE(O$63:O$66))","v":0}]
[null,null,null,null,null,null,null,null,null,null,null,null,null,null,null,null,null,null,null,{"$f":"SUM($E893:$H893*TRANSPOSE(M$63:M$66))","v":0},{"$f":"SUM($E893:$H893*TRANSPOSE(N$63:N$66))","v":0},{"$f":"SUM($E893:$H893*TRANSPOSE(O$63:O$66))","v":0}]
[null,null,null,null,null,null,null,null,null,null,null,null,null,null,null,null,null,null,null,{"$f":"SUM($E894:$H894*TRANSPOSE(M$63:M$66))","v":0},{"$f":"SUM($E894:$H894*TRANSPOSE(N$63:N$66))","v":0},{"$f":"SUM($E894:$H894*TRANSPOSE(O$63:O$66))","v":0}]
[null,null,null,null,null,null,null,null,null,null,null,null,null,null,null,null,null,null,null,{"$f":"SUM($E895:$H895*TRANSPOSE(M$63:M$66))","v":0},{"$f":"SUM($E895:$H895*TRANSPOSE(N$63:N$66))","v":0},{"$f":"SUM($E895:$H895*TRANSPOSE(O$63:O$66))","v":0}]
[null,null,null,null,null,null,null,null,null,null,null,null,null,null,null,null,null,null,null,{"$f":"SUM($E896:$H896*TRANSPOSE(M$63:M$66))","v":0},{"$f":"SUM($E896:$H896*TRANSPOSE(N$63:N$66))","v":0},{"$f":"SUM($E896:$H896*TRANSPOSE(O$63:O$66))","v":0}]
[null,null,null,null,null,null,null,null,null,null,null,null,null,null,null,null,null,null,null,{"$f":"SUM($E897:$H897*TRANSPOSE(M$63:M$66))","v":0},{"$f":"SUM($E897:$H897*TRANSPOSE(N$63:N$66))","v":0},{"$f":"SUM($E897:$H897*TRANSPOSE(O$63:O$66))","v":0}]
[null,null,null,null,null,null,null,null,null,null,null,null,null,null,null,null,null,null,null,{"$f":"SUM($E898:$H898*TRANSPOSE(M$63:M$66))","v":0},{"$f":"SUM($E898:$H898*TRANSPOSE(N$63:N$66))","v":0},{"$f":"SUM($E898:$H898*TRANSPOSE(O$63:O$66))","v":0}]
[null,null,null,null,null,null,null,null,null,null,null,null,null,null,null,null,null,null,null,{"$f":"SUM($E899:$H899*TRANSPOSE(M$63:M$66))","v":0},{"$f":"SUM($E899:$H899*TRANSPOSE(N$63:N$66))","v":0},{"$f":"SUM($E899:$H899*TRANSPOSE(O$63:O$66))","v":0}]
[null,null,null,null,null,null,null,null,null,null,null,null,null,null,null,null,null,null,null,{"$f":"SUM($E900:$H900*TRANSPOSE(M$63:M$66))","v":0},{"$f":"SUM($E900:$H900*TRANSPOSE(N$63:N$66))","v":0},{"$f":"SUM($E900:$H900*TRANSPOSE(O$63:O$66))","v":0}]
[null,null,null,null,null,null,null,null,null,null,null,null,null,null,null,null,null,null,null,{"$f":"SUM($E901:$H901*TRANSPOSE(M$63:M$66))","v":0},{"$f":"SUM($E901:$H901*TRANSPOSE(N$63:N$66))","v":0},{"$f":"SUM($E901:$H901*TRANSPOSE(O$63:O$66))","v":0}]
[null,null,null,null,null,null,null,null,null,null,null,null,null,null,null,null,null,null,null,{"$f":"SUM($E902:$H902*TRANSPOSE(M$63:M$66))","v":0},{"$f":"SUM($E902:$H902*TRANSPOSE(N$63:N$66))","v":0},{"$f":"SUM($E902:$H902*TRANSPOSE(O$63:O$66))","v":0}]
[null,null,null,null,null,null,null,null,null,null,null,null,null,null,null,null,null,null,null,{"$f":"SUM($E903:$H903*TRANSPOSE(M$63:M$66))","v":0},{"$f":"SUM($E903:$H903*TRANSPOSE(N$63:N$66))","v":0},{"$f":"SUM($E903:$H903*TRANSPOSE(O$63:O$66))","v":0}]
[null,null,null,null,null,null,null,null,null,null,null,null,null,null,null,null,null,null,null,{"$f":"SUM($E904:$H904*TRANSPOSE(M$63:M$66))","v":0},{"$f":"SUM($E904:$H904*TRANSPOSE(N$63:N$66))","v":0},{"$f":"SUM($E904:$H904*TRANSPOSE(O$63:O$66))","v":0}]
[null,null,null,null,null,null,null,null,null,null,null,null,null,null,null,null,null,null,null,{"$f":"SUM($E905:$H905*TRANSPOSE(M$63:M$66))","v":0},{"$f":"SUM($E905:$H905*TRANSPOSE(N$63:N$66))","v":0},{"$f":"SUM($E905:$H905*TRANSPOSE(O$63:O$66))","v":0}]
[null,null,null,null,null,null,null,null,null,null,null,null,null,null,null,null,null,null,null,{"$f":"SUM($E906:$H906*TRANSPOSE(M$63:M$66))","v":0},{"$f":"SUM($E906:$H906*TRANSPOSE(N$63:N$66))","v":0},{"$f":"SUM($E906:$H906*TRANSPOSE(O$63:O$66))","v":0}]
[null,null,null,null,null,null,null,null,null,null,null,null,null,null,null,null,null,null,null,{"$f":"SUM($E907:$H907*TRANSPOSE(M$63:M$66))","v":0},{"$f":"SUM($E907:$H907*TRANSPOSE(N$63:N$66))","v":0},{"$f":"SUM($E907:$H907*TRANSPOSE(O$63:O$66))","v":0}]
[null,null,null,null,null,null,null,null,null,null,null,null,null,null,null,null,null,null,null,{"$f":"SUM($E908:$H908*TRANSPOSE(M$63:M$66))","v":0},{"$f":"SUM($E908:$H908*TRANSPOSE(N$63:N$66))","v":0},{"$f":"SUM($E908:$H908*TRANSPOSE(O$63:O$66))","v":0}]
[null,null,null,null,null,null,null,null,null,null,null,null,null,null,null,null,null,null,null,{"$f":"SUM($E909:$H909*TRANSPOSE(M$63:M$66))","v":0},{"$f":"SUM($E909:$H909*TRANSPOSE(N$63:N$66))","v":0},{"$f":"SUM($E909:$H909*TRANSPOSE(O$63:O$66))","v":0}]
[null,null,null,null,null,null,null,null,null,null,null,null,null,null,null,null,null,null,null,{"$f":"SUM($E910:$H910*TRANSPOSE(M$63:M$66))","v":0},{"$f":"SUM($E910:$H910*TRANSPOSE(N$63:N$66))","v":0},{"$f":"SUM($E910:$H910*TRANSPOSE(O$63:O$66))","v":0}]
[null,null,null,null,null,null,null,null,null,null,null,null,null,null,null,null,null,null,null,{"$f":"SUM($E911:$H911*TRANSPOSE(M$63:M$66))","v":0},{"$f":"SUM($E911:$H911*TRANSPOSE(N$63:N$66))","v":0},{"$f":"SUM($E911:$H911*TRANSPOSE(O$63:O$66))","v":0}]
[null,null,null,null,null,null,null,null,null,null,null,null,null,null,null,null,null,null,null,{"$f":"SUM($E912:$H912*TRANSPOSE(M$63:M$66))","v":0},{"$f":"SUM($E912:$H912*TRANSPOSE(N$63:N$66))","v":0},{"$f":"SUM($E912:$H912*TRANSPOSE(O$63:O$66))","v":0}]
[null,null,null,null,null,null,null,null,null,null,null,null,null,null,null,null,null,null,null,{"$f":"SUM($E913:$H913*TRANSPOSE(M$63:M$66))","v":0},{"$f":"SUM($E913:$H913*TRANSPOSE(N$63:N$66))","v":0},{"$f":"SUM($E913:$H913*TRANSPOSE(O$63:O$66))","v":0}]
[null,null,null,null,null,null,null,null,null,null,null,null,null,null,null,null,null,null,null,{"$f":"SUM($E914:$H914*TRANSPOSE(M$63:M$66))","v":0},{"$f":"SUM($E914:$H914*TRANSPOSE(N$63:N$66))","v":0},{"$f":"SUM($E914:$H914*TRANSPOSE(O$63:O$66))","v":0}]
[null,null,null,null,null,null,null,null,null,null,null,null,null,null,null,null,null,null,null,{"$f":"SUM($E915:$H915*TRANSPOSE(M$63:M$66))","v":0},{"$f":"SUM($E915:$H915*TRANSPOSE(N$63:N$66))","v":0},{"$f":"SUM($E915:$H915*TRANSPOSE(O$63:O$66))","v":0}]
[null,null,null,null,null,null,null,null,null,null,null,null,null,null,null,null,null,null,null,{"$f":"SUM($E916:$H916*TRANSPOSE(M$63:M$66))","v":0},{"$f":"SUM($E916:$H916*TRANSPOSE(N$63:N$66))","v":0},{"$f":"SUM($E916:$H916*TRANSPOSE(O$63:O$66))","v":0}]
[null,null,null,null,null,null,null,null,null,null,null,null,null,null,null,null,null,null,null,{"$f":"SUM($E917:$H917*TRANSPOSE(M$63:M$66))","v":0},{"$f":"SUM($E917:$H917*TRANSPOSE(N$63:N$66))","v":0},{"$f":"SUM($E917:$H917*TRANSPOSE(O$63:O$66))","v":0}]
[null,null,null,null,null,null,null,null,null,null,null,null,null,null,null,null,null,null,null,{"$f":"SUM($E918:$H918*TRANSPOSE(M$63:M$66))","v":0},{"$f":"SUM($E918:$H918*TRANSPOSE(N$63:N$66))","v":0},{"$f":"SUM($E918:$H918*TRANSPOSE(O$63:O$66))","v":0}]
[null,null,null,null,null,null,null,null,null,null,null,null,null,null,null,null,null,null,null,{"$f":"SUM($E919:$H919*TRANSPOSE(M$63:M$66))","v":0},{"$f":"SUM($E919:$H919*TRANSPOSE(N$63:N$66))","v":0},{"$f":"SUM($E919:$H919*TRANSPOSE(O$63:O$66))","v":0}]
[null,null,null,null,null,null,null,null,null,null,null,null,null,null,null,null,null,null,null,{"$f":"SUM($E920:$H920*TRANSPOSE(M$63:M$66))","v":0},{"$f":"SUM($E920:$H920*TRANSPOSE(N$63:N$66))","v":0},{"$f":"SUM($E920:$H920*TRANSPOSE(O$63:O$66))","v":0}]
[null,null,null,null,null,null,null,null,null,null,null,null,null,null,null,null,null,null,null,{"$f":"SUM($E921:$H921*TRANSPOSE(M$63:M$66))","v":0},{"$f":"SUM($E921:$H921*TRANSPOSE(N$63:N$66))","v":0},{"$f":"SUM($E921:$H921*TRANSPOSE(O$63:O$66))","v":0}]
[null,null,null,null,null,null,null,null,null,null,null,null,null,null,null,null,null,null,null,{"$f":"SUM($E922:$H922*TRANSPOSE(M$63:M$66))","v":0},{"$f":"SUM($E922:$H922*TRANSPOSE(N$63:N$66))","v":0},{"$f":"SUM($E922:$H922*TRANSPOSE(O$63:O$66))","v":0}]
[null,null,null,null,null,null,null,null,null,null,null,null,null,null,null,null,null,null,null,{"$f":"SUM($E923:$H923*TRANSPOSE(M$63:M$66))","v":0},{"$f":"SUM($E923:$H923*TRANSPOSE(N$63:N$66))","v":0},{"$f":"SUM($E923:$H923*TRANSPOSE(O$63:O$66))","v":0}]
[null,null,null,null,null,null,null,null,null,null,null,null,null,null,null,null,null,null,null,{"$f":"SUM($E924:$H924*TRANSPOSE(M$63:M$66))","v":0},{"$f":"SUM($E924:$H924*TRANSPOSE(N$63:N$66))","v":0},{"$f":"SUM($E924:$H924*TRANSPOSE(O$63:O$66))","v":0}]
[null,null,null,null,null,null,null,null,null,null,null,null,null,null,null,null,null,null,null,{"$f":"SUM($E925:$H925*TRANSPOSE(M$63:M$66))","v":0},{"$f":"SUM($E925:$H925*TRANSPOSE(N$63:N$66))","v":0},{"$f":"SUM($E925:$H925*TRANSPOSE(O$63:O$66))","v":0}]
[null,null,null,null,null,null,null,null,null,null,null,null,null,null,null,null,null,null,null,{"$f":"SUM($E926:$H926*TRANSPOSE(M$63:M$66))","v":0},{"$f":"SUM($E926:$H926*TRANSPOSE(N$63:N$66))","v":0},{"$f":"SUM($E926:$H926*TRANSPOSE(O$63:O$66))","v":0}]
[null,null,null,null,null,null,null,null,null,null,null,null,null,null,null,null,null,null,null,{"$f":"SUM($E927:$H927*TRANSPOSE(M$63:M$66))","v":0},{"$f":"SUM($E927:$H927*TRANSPOSE(N$63:N$66))","v":0},{"$f":"SUM($E927:$H927*TRANSPOSE(O$63:O$66))","v":0}]
[null,null,null,null,null,null,null,null,null,null,null,null,null,null,null,null,null,null,null,{"$f":"SUM($E928:$H928*TRANSPOSE(M$63:M$66))","v":0},{"$f":"SUM($E928:$H928*TRANSPOSE(N$63:N$66))","v":0},{"$f":"SUM($E928:$H928*TRANSPOSE(O$63:O$66))","v":0}]
[null,null,null,null,null,null,null,null,null,null,null,null,null,null,null,null,null,null,null,{"$f":"SUM($E929:$H929*TRANSPOSE(M$63:M$66))","v":0},{"$f":"SUM($E929:$H929*TRANSPOSE(N$63:N$66))","v":0},{"$f":"SUM($E929:$H929*TRANSPOSE(O$63:O$66))","v":0}]
[null,null,null,null,null,null,null,null,null,null,null,null,null,null,null,null,null,null,null,{"$f":"SUM($E930:$H930*TRANSPOSE(M$63:M$66))","v":0},{"$f":"SUM($E930:$H930*TRANSPOSE(N$63:N$66))","v":0},{"$f":"SUM($E930:$H930*TRANSPOSE(O$63:O$66))","v":0}]
[null,null,null,null,null,null,null,null,null,null,null,null,null,null,null,null,null,null,null,{"$f":"SUM($E931:$H931*TRANSPOSE(M$63:M$66))","v":0},{"$f":"SUM($E931:$H931*TRANSPOSE(N$63:N$66))","v":0},{"$f":"SUM($E931:$H931*TRANSPOSE(O$63:O$66))","v":0}]
[null,null,null,null,null,null,null,null,null,null,null,null,null,null,null,null,null,null,null,{"$f":"SUM($E932:$H932*TRANSPOSE(M$63:M$66))","v":0},{"$f":"SUM($E932:$H932*TRANSPOSE(N$63:N$66))","v":0},{"$f":"SUM($E932:$H932*TRANSPOSE(O$63:O$66))","v":0}]
[null,null,null,null,null,null,null,null,null,null,null,null,null,null,null,null,null,null,null,{"$f":"SUM($E933:$H933*TRANSPOSE(M$63:M$66))","v":0},{"$f":"SUM($E933:$H933*TRANSPOSE(N$63:N$66))","v":0},{"$f":"SUM($E933:$H933*TRANSPOSE(O$63:O$66))","v":0}]
[null,null,null,null,null,null,null,null,null,null,null,null,null,null,null,null,null,null,null,{"$f":"SUM($E934:$H934*TRANSPOSE(M$63:M$66))","v":0},{"$f":"SUM($E934:$H934*TRANSPOSE(N$63:N$66))","v":0},{"$f":"SUM($E934:$H934*TRANSPOSE(O$63:O$66))","v":0}]
[null,null,null,null,null,null,null,null,null,null,null,null,null,null,null,null,null,null,null,{"$f":"SUM($E935:$H935*TRANSPOSE(M$63:M$66))","v":0},{"$f":"SUM($E935:$H935*TRANSPOSE(N$63:N$66))","v":0},{"$f":"SUM($E935:$H935*TRANSPOSE(O$63:O$66))","v":0}]
[null,null,null,null,null,null,null,null,null,null,null,null,null,null,null,null,null,null,null,{"$f":"SUM($E936:$H936*TRANSPOSE(M$63:M$66))","v":0},{"$f":"SUM($E936:$H936*TRANSPOSE(N$63:N$66))","v":0},{"$f":"SUM($E936:$H936*TRANSPOSE(O$63:O$66))","v":0}]
[null,null,null,null,null,null,null,null,null,null,null,null,null,null,null,null,null,null,null,{"$f":"SUM($E937:$H937*TRANSPOSE(M$63:M$66))","v":0},{"$f":"SUM($E937:$H937*TRANSPOSE(N$63:N$66))","v":0},{"$f":"SUM($E937:$H937*TRANSPOSE(O$63:O$66))","v":0}]
[null,null,null,null,null,null,null,null,null,null,null,null,null,null,null,null,null,null,null,{"$f":"SUM($E938:$H938*TRANSPOSE(M$63:M$66))","v":0},{"$f":"SUM($E938:$H938*TRANSPOSE(N$63:N$66))","v":0},{"$f":"SUM($E938:$H938*TRANSPOSE(O$63:O$66))","v":0}]
[null,null,null,null,null,null,null,null,null,null,null,null,null,null,null,null,null,null,null,{"$f":"SUM($E939:$H939*TRANSPOSE(M$63:M$66))","v":0},{"$f":"SUM($E939:$H939*TRANSPOSE(N$63:N$66))","v":0},{"$f":"SUM($E939:$H939*TRANSPOSE(O$63:O$66))","v":0}]
[null,null,null,null,null,null,null,null,null,null,null,null,null,null,null,null,null,null,null,{"$f":"SUM($E940:$H940*TRANSPOSE(M$63:M$66))","v":0},{"$f":"SUM($E940:$H940*TRANSPOSE(N$63:N$66))","v":0},{"$f":"SUM($E940:$H940*TRANSPOSE(O$63:O$66))","v":0}]
[null,null,null,null,null,null,null,null,null,null,null,null,null,null,null,null,null,null,null,{"$f":"SUM($E941:$H941*TRANSPOSE(M$63:M$66))","v":0},{"$f":"SUM($E941:$H941*TRANSPOSE(N$63:N$66))","v":0},{"$f":"SUM($E941:$H941*TRANSPOSE(O$63:O$66))","v":0}]
[null,null,null,null,null,null,null,null,null,null,null,null,null,null,null,null,null,null,null,{"$f":"SUM($E942:$H942*TRANSPOSE(M$63:M$66))","v":0},{"$f":"SUM($E942:$H942*TRANSPOSE(N$63:N$66))","v":0},{"$f":"SUM($E942:$H942*TRANSPOSE(O$63:O$66))","v":0}]
[null,null,null,null,null,null,null,null,null,null,null,null,null,null,null,null,null,null,null,{"$f":"SUM($E943:$H943*TRANSPOSE(M$63:M$66))","v":0},{"$f":"SUM($E943:$H943*TRANSPOSE(N$63:N$66))","v":0},{"$f":"SUM($E943:$H943*TRANSPOSE(O$63:O$66))","v":0}]
[null,null,null,null,null,null,null,null,null,null,null,null,null,null,null,null,null,null,null,{"$f":"SUM($E944:$H944*TRANSPOSE(M$63:M$66))","v":0},{"$f":"SUM($E944:$H944*TRANSPOSE(N$63:N$66))","v":0},{"$f":"SUM($E944:$H944*TRANSPOSE(O$63:O$66))","v":0}]
[null,null,null,null,null,null,null,null,null,null,null,null,null,null,null,null,null,null,null,{"$f":"SUM($E945:$H945*TRANSPOSE(M$63:M$66))","v":0},{"$f":"SUM($E945:$H945*TRANSPOSE(N$63:N$66))","v":0},{"$f":"SUM($E945:$H945*TRANSPOSE(O$63:O$66))","v":0}]
[null,null,null,null,null,null,null,null,null,null,null,null,null,null,null,null,null,null,null,{"$f":"SUM($E946:$H946*TRANSPOSE(M$63:M$66))","v":0},{"$f":"SUM($E946:$H946*TRANSPOSE(N$63:N$66))","v":0},{"$f":"SUM($E946:$H946*TRANSPOSE(O$63:O$66))","v":0}]
[null,null,null,null,null,null,null,null,null,null,null,null,null,null,null,null,null,null,null,{"$f":"SUM($E947:$H947*TRANSPOSE(M$63:M$66))","v":0},{"$f":"SUM($E947:$H947*TRANSPOSE(N$63:N$66))","v":0},{"$f":"SUM($E947:$H947*TRANSPOSE(O$63:O$66))","v":0}]
[null,null,null,null,null,null,null,null,null,null,null,null,null,null,null,null,null,null,null,{"$f":"SUM($E948:$H948*TRANSPOSE(M$63:M$66))","v":0},{"$f":"SUM($E948:$H948*TRANSPOSE(N$63:N$66))","v":0},{"$f":"SUM($E948:$H948*TRANSPOSE(O$63:O$66))","v":0}]
[null,null,null,null,null,null,null,null,null,null,null,null,null,null,null,null,null,null,null,{"$f":"SUM($E949:$H949*TRANSPOSE(M$63:M$66))","v":0},{"$f":"SUM($E949:$H949*TRANSPOSE(N$63:N$66))","v":0},{"$f":"SUM($E949:$H949*TRANSPOSE(O$63:O$66))","v":0}]
[null,null,null,null,null,null,null,null,null,null,null,null,null,null,null,null,null,null,null,{"$f":"SUM($E950:$H950*TRANSPOSE(M$63:M$66))","v":0},{"$f":"SUM($E950:$H950*TRANSPOSE(N$63:N$66))","v":0},{"$f":"SUM($E950:$H950*TRANSPOSE(O$63:O$66))","v":0}]
[null,null,null,null,null,null,null,null,null,null,null,null,null,null,null,null,null,null,null,{"$f":"SUM($E951:$H951*TRANSPOSE(M$63:M$66))","v":0},{"$f":"SUM($E951:$H951*TRANSPOSE(N$63:N$66))","v":0},{"$f":"SUM($E951:$H951*TRANSPOSE(O$63:O$66))","v":0}]
[null,null,null,null,null,null,null,null,null,null,null,null,null,null,null,null,null,null,null,{"$f":"SUM($E952:$H952*TRANSPOSE(M$63:M$66))","v":0},{"$f":"SUM($E952:$H952*TRANSPOSE(N$63:N$66))","v":0},{"$f":"SUM($E952:$H952*TRANSPOSE(O$63:O$66))","v":0}]
[null,null,null,null,null,null,null,null,null,null,null,null,null,null,null,null,null,null,null,{"$f":"SUM($E953:$H953*TRANSPOSE(M$63:M$66))","v":0},{"$f":"SUM($E953:$H953*TRANSPOSE(N$63:N$66))","v":0},{"$f":"SUM($E953:$H953*TRANSPOSE(O$63:O$66))","v":0}]
[null,null,null,null,null,null,null,null,null,null,null,null,null,null,null,null,null,null,null,{"$f":"SUM($E954:$H954*TRANSPOSE(M$63:M$66))","v":0},{"$f":"SUM($E954:$H954*TRANSPOSE(N$63:N$66))","v":0},{"$f":"SUM($E954:$H954*TRANSPOSE(O$63:O$66))","v":0}]
[null,null,null,null,null,null,null,null,null,null,null,null,null,null,null,null,null,null,null,{"$f":"SUM($E955:$H955*TRANSPOSE(M$63:M$66))","v":0},{"$f":"SUM($E955:$H955*TRANSPOSE(N$63:N$66))","v":0},{"$f":"SUM($E955:$H955*TRANSPOSE(O$63:O$66))","v":0}]
[null,null,null,null,null,null,null,null,null,null,null,null,null,null,null,null,null,null,null,{"$f":"SUM($E956:$H956*TRANSPOSE(M$63:M$66))","v":0},{"$f":"SUM($E956:$H956*TRANSPOSE(N$63:N$66))","v":0},{"$f":"SUM($E956:$H956*TRANSPOSE(O$63:O$66))","v":0}]
[null,null,null,null,null,null,null,null,null,null,null,null,null,null,null,null,null,null,null,{"$f":"SUM($E957:$H957*TRANSPOSE(M$63:M$66))","v":0},{"$f":"SUM($E957:$H957*TRANSPOSE(N$63:N$66))","v":0},{"$f":"SUM($E957:$H957*TRANSPOSE(O$63:O$66))","v":0}]
[null,null,null,null,null,null,null,null,null,null,null,null,null,null,null,null,null,null,null,{"$f":"SUM($E958:$H958*TRANSPOSE(M$63:M$66))","v":0},{"$f":"SUM($E958:$H958*TRANSPOSE(N$63:N$66))","v":0},{"$f":"SUM($E958:$H958*TRANSPOSE(O$63:O$66))","v":0}]
[null,null,null,null,null,null,null,null,null,null,null,null,null,null,null,null,null,null,null,{"$f":"SUM($E959:$H959*TRANSPOSE(M$63:M$66))","v":0},{"$f":"SUM($E959:$H959*TRANSPOSE(N$63:N$66))","v":0},{"$f":"SUM($E959:$H959*TRANSPOSE(O$63:O$66))","v":0}]
[null,null,null,null,null,null,null,null,null,null,null,null,null,null,null,null,null,null,null,{"$f":"SUM($E960:$H960*TRANSPOSE(M$63:M$66))","v":0},{"$f":"SUM($E960:$H960*TRANSPOSE(N$63:N$66))","v":0},{"$f":"SUM($E960:$H960*TRANSPOSE(O$63:O$66))","v":0}]
[null,null,null,null,null,null,null,null,null,null,null,null,null,null,null,null,null,null,null,{"$f":"SUM($E961:$H961*TRANSPOSE(M$63:M$66))","v":0},{"$f":"SUM($E961:$H961*TRANSPOSE(N$63:N$66))","v":0},{"$f":"SUM($E961:$H961*TRANSPOSE(O$63:O$66))","v":0}]
[null,null,null,null,null,null,null,null,null,null,null,null,null,null,null,null,null,null,null,{"$f":"SUM($E962:$H962*TRANSPOSE(M$63:M$66))","v":0},{"$f":"SUM($E962:$H962*TRANSPOSE(N$63:N$66))","v":0},{"$f":"SUM($E962:$H962*TRANSPOSE(O$63:O$66))","v":0}]
[null,null,null,null,null,null,null,null,null,null,null,null,null,null,null,null,null,null,null,{"$f":"SUM($E963:$H963*TRANSPOSE(M$63:M$66))","v":0},{"$f":"SUM($E963:$H963*TRANSPOSE(N$63:N$66))","v":0},{"$f":"SUM($E963:$H963*TRANSPOSE(O$63:O$66))","v":0}]
[null,null,null,null,null,null,null,null,null,null,null,null,null,null,null,null,null,null,null,{"$f":"SUM($E964:$H964*TRANSPOSE(M$63:M$66))","v":0},{"$f":"SUM($E964:$H964*TRANSPOSE(N$63:N$66))","v":0},{"$f":"SUM($E964:$H964*TRANSPOSE(O$63:O$66))","v":0}]
[null,null,null,null,null,null,null,null,null,null,null,null,null,null,null,null,null,null,null,{"$f":"SUM($E965:$H965*TRANSPOSE(M$63:M$66))","v":0},{"$f":"SUM($E965:$H965*TRANSPOSE(N$63:N$66))","v":0},{"$f":"SUM($E965:$H965*TRANSPOSE(O$63:O$66))","v":0}]
[null,null,null,null,null,null,null,null,null,null,null,null,null,null,null,null,null,null,null,{"$f":"SUM($E966:$H966*TRANSPOSE(M$63:M$66))","v":0},{"$f":"SUM($E966:$H966*TRANSPOSE(N$63:N$66))","v":0},{"$f":"SUM($E966:$H966*TRANSPOSE(O$63:O$66))","v":0}]
[null,null,null,null,null,null,null,null,null,null,null,null,null,null,null,null,null,null,null,{"$f":"SUM($E967:$H967*TRANSPOSE(M$63:M$66))","v":0},{"$f":"SUM($E967:$H967*TRANSPOSE(N$63:N$66))","v":0},{"$f":"SUM($E967:$H967*TRANSPOSE(O$63:O$66))","v":0}]
[null,null,null,null,null,null,null,null,null,null,null,null,null,null,null,null,null,null,null,{"$f":"SUM($E968:$H968*TRANSPOSE(M$63:M$66))","v":0},{"$f":"SUM($E968:$H968*TRANSPOSE(N$63:N$66))","v":0},{"$f":"SUM($E968:$H968*TRANSPOSE(O$63:O$66))","v":0}]
[null,null,null,null,null,null,null,null,null,null,null,null,null,null,null,null,null,null,null,{"$f":"SUM($E969:$H969*TRANSPOSE(M$63:M$66))","v":0},{"$f":"SUM($E969:$H969*TRANSPOSE(N$63:N$66))","v":0},{"$f":"SUM($E969:$H969*TRANSPOSE(O$63:O$66))","v":0}]
[null,null,null,null,null,null,null,null,null,null,null,null,null,null,null,null,null,null,null,{"$f":"SUM($E970:$H970*TRANSPOSE(M$63:M$66))","v":0},{"$f":"SUM($E970:$H970*TRANSPOSE(N$63:N$66))","v":0},{"$f":"SUM($E970:$H970*TRANSPOSE(O$63:O$66))","v":0}]
[null,null,null,null,null,null,null,null,null,null,null,null,null,null,null,null,null,null,null,{"$f":"SUM($E971:$H971*TRANSPOSE(M$63:M$66))","v":0},{"$f":"SUM($E971:$H971*TRANSPOSE(N$63:N$66))","v":0},{"$f":"SUM($E971:$H971*TRANSPOSE(O$63:O$66))","v":0}]
[null,null,null,null,null,null,null,null,null,null,null,null,null,null,null,null,null,null,null,{"$f":"SUM($E972:$H972*TRANSPOSE(M$63:M$66))","v":0},{"$f":"SUM($E972:$H972*TRANSPOSE(N$63:N$66))","v":0},{"$f":"SUM($E972:$H972*TRANSPOSE(O$63:O$66))","v":0}]
[null,null,null,null,null,null,null,null,null,null,null,null,null,null,null,null,null,null,null,{"$f":"SUM($E973:$H973*TRANSPOSE(M$63:M$66))","v":0},{"$f":"SUM($E973:$H973*TRANSPOSE(N$63:N$66))","v":0},{"$f":"SUM($E973:$H973*TRANSPOSE(O$63:O$66))","v":0}]
[null,null,null,null,null,null,null,null,null,null,null,null,null,null,null,null,null,null,null,{"$f":"SUM($E974:$H974*TRANSPOSE(M$63:M$66))","v":0},{"$f":"SUM($E974:$H974*TRANSPOSE(N$63:N$66))","v":0},{"$f":"SUM($E974:$H974*TRANSPOSE(O$63:O$66))","v":0}]
[null,null,null,null,null,null,null,null,null,null,null,null,null,null,null,null,null,null,null,{"$f":"SUM($E975:$H975*TRANSPOSE(M$63:M$66))","v":0},{"$f":"SUM($E975:$H975*TRANSPOSE(N$63:N$66))","v":0},{"$f":"SUM($E975:$H975*TRANSPOSE(O$63:O$66))","v":0}]
[null,null,null,null,null,null,null,null,null,null,null,null,null,null,null,null,null,null,null,{"$f":"SUM($E976:$H976*TRANSPOSE(M$63:M$66))","v":0},{"$f":"SUM($E976:$H976*TRANSPOSE(N$63:N$66))","v":0},{"$f":"SUM($E976:$H976*TRANSPOSE(O$63:O$66))","v":0}]
[null,null,null,null,null,null,null,null,null,null,null,null,null,null,null,null,null,null,null,{"$f":"SUM($E977:$H977*TRANSPOSE(M$63:M$66))","v":0},{"$f":"SUM($E977:$H977*TRANSPOSE(N$63:N$66))","v":0},{"$f":"SUM($E977:$H977*TRANSPOSE(O$63:O$66))","v":0}]
[null,null,null,null,null,null,null,null,null,null,null,null,null,null,null,null,null,null,null,{"$f":"SUM($E978:$H978*TRANSPOSE(M$63:M$66))","v":0},{"$f":"SUM($E978:$H978*TRANSPOSE(N$63:N$66))","v":0},{"$f":"SUM($E978:$H978*TRANSPOSE(O$63:O$66))","v":0}]
[null,null,null,null,null,null,null,null,null,null,null,null,null,null,null,null,null,null,null,{"$f":"SUM($E979:$H979*TRANSPOSE(M$63:M$66))","v":0},{"$f":"SUM($E979:$H979*TRANSPOSE(N$63:N$66))","v":0},{"$f":"SUM($E979:$H979*TRANSPOSE(O$63:O$66))","v":0}]
[null,null,null,null,null,null,null,null,null,null,null,null,null,null,null,null,null,null,null,{"$f":"SUM($E980:$H980*TRANSPOSE(M$63:M$66))","v":0},{"$f":"SUM($E980:$H980*TRANSPOSE(N$63:N$66))","v":0},{"$f":"SUM($E980:$H980*TRANSPOSE(O$63:O$66))","v":0}]
[null,null,null,null,null,null,null,null,null,null,null,null,null,null,null,null,null,null,null,{"$f":"SUM($E981:$H981*TRANSPOSE(M$63:M$66))","v":0},{"$f":"SUM($E981:$H981*TRANSPOSE(N$63:N$66))","v":0},{"$f":"SUM($E981:$H981*TRANSPOSE(O$63:O$66))","v":0}]
[null,null,null,null,null,null,null,null,null,null,null,null,null,null,null,null,null,null,null,{"$f":"SUM($E982:$H982*TRANSPOSE(M$63:M$66))","v":0},{"$f":"SUM($E982:$H982*TRANSPOSE(N$63:N$66))","v":0},{"$f":"SUM($E982:$H982*TRANSPOSE(O$63:O$66))","v":0}]
[null,null,null,null,null,null,null,null,null,null,null,null,null,null,null,null,null,null,null,{"$f":"SUM($E983:$H983*TRANSPOSE(M$63:M$66))","v":0},{"$f":"SUM($E983:$H983*TRANSPOSE(N$63:N$66))","v":0},{"$f":"SUM($E983:$H983*TRANSPOSE(O$63:O$66))","v":0}]
[null,null,null,null,null,null,null,null,null,null,null,null,null,null,null,null,null,null,null,{"$f":"SUM($E984:$H984*TRANSPOSE(M$63:M$66))","v":0},{"$f":"SUM($E984:$H984*TRANSPOSE(N$63:N$66))","v":0},{"$f":"SUM($E984:$H984*TRANSPOSE(O$63:O$66))","v":0}]
[null,null,null,null,null,null,null,null,null,null,null,null,null,null,null,null,null,null,null,{"$f":"SUM($E985:$H985*TRANSPOSE(M$63:M$66))","v":0},{"$f":"SUM($E985:$H985*TRANSPOSE(N$63:N$66))","v":0},{"$f":"SUM($E985:$H985*TRANSPOSE(O$63:O$66))","v":0}]
[null,null,null,null,null,null,null,null,null,null,null,null,null,null,null,null,null,null,null,{"$f":"SUM($E986:$H986*TRANSPOSE(M$63:M$66))","v":0},{"$f":"SUM($E986:$H986*TRANSPOSE(N$63:N$66))","v":0},{"$f":"SUM($E986:$H986*TRANSPOSE(O$63:O$66))","v":0}]
[null,null,null,null,null,null,null,null,null,null,null,null,null,null,null,null,null,null,null,{"$f":"SUM($E987:$H987*TRANSPOSE(M$63:M$66))","v":0},{"$f":"SUM($E987:$H987*TRANSPOSE(N$63:N$66))","v":0},{"$f":"SUM($E987:$H987*TRANSPOSE(O$63:O$66))","v":0}]
[null,null,null,null,null,null,null,null,null,null,null,null,null,null,null,null,null,null,null,{"$f":"SUM($E988:$H988*TRANSPOSE(M$63:M$66))","v":0},{"$f":"SUM($E988:$H988*TRANSPOSE(N$63:N$66))","v":0},{"$f":"SUM($E988:$H988*TRANSPOSE(O$63:O$66))","v":0}]
[null,null,null,null,null,null,null,null,null,null,null,null,null,null,null,null,null,null,null,{"$f":"SUM($E989:$H989*TRANSPOSE(M$63:M$66))","v":0},{"$f":"SUM($E989:$H989*TRANSPOSE(N$63:N$66))","v":0},{"$f":"SUM($E989:$H989*TRANSPOSE(O$63:O$66))","v":0}]
[null,null,null,null,null,null,null,null,null,null,null,null,null,null,null,null,null,null,null,{"$f":"SUM($E990:$H990*TRANSPOSE(M$63:M$66))","v":0},{"$f":"SUM($E990:$H990*TRANSPOSE(N$63:N$66))","v":0},{"$f":"SUM($E990:$H990*TRANSPOSE(O$63:O$66))","v":0}]
[null,null,null,null,null,null,null,null,null,null,null,null,null,null,null,null,null,null,null,{"$f":"SUM($E991:$H991*TRANSPOSE(M$63:M$66))","v":0},{"$f":"SUM($E991:$H991*TRANSPOSE(N$63:N$66))","v":0},{"$f":"SUM($E991:$H991*TRANSPOSE(O$63:O$66))","v":0}]
[null,null,null,null,null,null,null,null,null,null,null,null,null,null,null,null,null,null,null,{"$f":"SUM($E992:$H992*TRANSPOSE(M$63:M$66))","v":0},{"$f":"SUM($E992:$H992*TRANSPOSE(N$63:N$66))","v":0},{"$f":"SUM($E992:$H992*TRANSPOSE(O$63:O$66))","v":0}]
[null,null,null,null,null,null,null,null,null,null,null,null,null,null,null,null,null,null,null,{"$f":"SUM($E993:$H993*TRANSPOSE(M$63:M$66))","v":0},{"$f":"SUM($E993:$H993*TRANSPOSE(N$63:N$66))","v":0},{"$f":"SUM($E993:$H993*TRANSPOSE(O$63:O$66))","v":0}]
[null,null,null,null,null,null,null,null,null,null,null,null,null,null,null,null,null,null,null,{"$f":"SUM($E994:$H994*TRANSPOSE(M$63:M$66))","v":0},{"$f":"SUM($E994:$H994*TRANSPOSE(N$63:N$66))","v":0},{"$f":"SUM($E994:$H994*TRANSPOSE(O$63:O$66))","v":0}]
[null,null,null,null,null,null,null,null,null,null,null,null,null,null,null,null,null,null,null,{"$f":"SUM($E995:$H995*TRANSPOSE(M$63:M$66))","v":0},{"$f":"SUM($E995:$H995*TRANSPOSE(N$63:N$66))","v":0},{"$f":"SUM($E995:$H995*TRANSPOSE(O$63:O$66))","v":0}]
[null,null,null,null,null,null,null,null,null,null,null,null,null,null,null,null,null,null,null,{"$f":"SUM($E996:$H996*TRANSPOSE(M$63:M$66))","v":0},{"$f":"SUM($E996:$H996*TRANSPOSE(N$63:N$66))","v":0},{"$f":"SUM($E996:$H996*TRANSPOSE(O$63:O$66))","v":0}]
[null,null,null,null,null,null,null,null,null,null,null,null,null,null,null,null,null,null,null,{"$f":"SUM($E997:$H997*TRANSPOSE(M$63:M$66))","v":0},{"$f":"SUM($E997:$H997*TRANSPOSE(N$63:N$66))","v":0},{"$f":"SUM($E997:$H997*TRANSPOSE(O$63:O$66))","v":0}]
[null,null,null,null,null,null,null,null,null,null,null,null,null,null,null,null,null,null,null,{"$f":"SUM($E998:$H998*TRANSPOSE(M$63:M$66))","v":0},{"$f":"SUM($E998:$H998*TRANSPOSE(N$63:N$66))","v":0},{"$f":"SUM($E998:$H998*TRANSPOSE(O$63:O$66))","v":0}]
[null,null,null,null,null,null,null,null,null,null,null,null,null,null,null,null,null,null,null,{"$f":"SUM($E999:$H999*TRANSPOSE(M$63:M$66))","v":0},{"$f":"SUM($E999:$H999*TRANSPOSE(N$63:N$66))","v":0},{"$f":"SUM($E999:$H999*TRANSPOSE(O$63:O$66))","v":0}]
[null,null,null,null,null,null,null,null,null,null,null,null,null,null,null,null,null,null,null,{"$f":"SUM($E1000:$H1000*TRANSPOSE(M$63:M$66))","v":0},{"$f":"SUM($E1000:$H1000*TRANSPOSE(N$63:N$66))","v":0},{"$f":"SUM($E1000:$H1000*TRANSPOSE(O$63:O$66))","v":0}]
[null,null,null,null,null,null,null,null,null,null,null,null,null,null,null,null,null,null,null,{"$f":"SUM($E1001:$H1001*TRANSPOSE(M$63:M$66))","v":0},{"$f":"SUM($E1001:$H1001*TRANSPOSE(N$63:N$66))","v":0},{"$f":"SUM($E1001:$H1001*TRANSPOSE(O$63:O$66))","v":0}]
[null,null,null,null,null,null,null,null,null,null,null,null,null,null,null,null,null,null,null,{"$f":"SUM($E1002:$H1002*TRANSPOSE(M$63:M$66))","v":0},{"$f":"SUM($E1002:$H1002*TRANSPOSE(N$63:N$66))","v":0},{"$f":"SUM($E1002:$H1002*TRANSPOSE(O$63:O$66))","v":0}]
[null,null,null,null,null,null,null,null,null,null,null,null,null,null,null,null,null,null,null,{"$f":"SUM($E1003:$H1003*TRANSPOSE(M$63:M$66))","v":0},{"$f":"SUM($E1003:$H1003*TRANSPOSE(N$63:N$66))","v":0},{"$f":"SUM($E1003:$H1003*TRANSPOSE(O$63:O$66))","v":0}]
[null,null,null,null,null,null,null,null,null,null,null,null,null,null,null,null,null,null,null,{"$f":"SUM($E1004:$H1004*TRANSPOSE(M$63:M$66))","v":0},{"$f":"SUM($E1004:$H1004*TRANSPOSE(N$63:N$66))","v":0},{"$f":"SUM($E1004:$H1004*TRANSPOSE(O$63:O$66))","v":0}]
[null,null,null,null,null,null,null,null,null,null,null,null,null,null,null,null,null,null,null,{"$f":"SUM($E1005:$H1005*TRANSPOSE(M$63:M$66))","v":0},{"$f":"SUM($E1005:$H1005*TRANSPOSE(N$63:N$66))","v":0},{"$f":"SUM($E1005:$H1005*TRANSPOSE(O$63:O$66))","v":0}]
[null,null,null,null,null,null,null,null,null,null,null,null,null,null,null,null,null,null,null,{"$f":"SUM($E1006:$H1006*TRANSPOSE(M$63:M$66))","v":0},{"$f":"SUM($E1006:$H1006*TRANSPOSE(N$63:N$66))","v":0},{"$f":"SUM($E1006:$H1006*TRANSPOSE(O$63:O$66))","v":0}]

{"sheet":"Tabela_dinamica","index":2,"n_rows":44,"n_cols":16,"rows_kept":44,"cut":false,"hidden":true,"merged":[]}
["Tabela 1 - Idade da frota"]
["Soma de Quantidade","Rótulos de Coluna",null,null,null,null,null,null,null,null,null,null,null,null,"Média de Fator_Emissao","Rótulos de Coluna"]
[null,"Motocicletas",null,null,null,null,null,null,null,null,null,null,null,null,"Rótulos de Linha","Automóveis"]
["Rótulos de Linha","Moto-Gasolina","Moto-Flex",null,null,null,null,null,null,null,null,null,null,null,"NOx",0.78954972273126267]
[1983,2907,null,null,null,null,null,null,null,null,null,null,null,null,1983,1.6195243831704798]
[1984,1899,null,null,null,null,null,null,null,null,null,null,null,null,1984,1.6861910498371468]
[1985,1419,null,null,null,null,null,null,null,null,null,null,null,null,1985,1.7528577165038133]
[1986,2295,null,null,null,null,null,null,null,null,null,null,null,null,1986,1.8528577165038136]
[1987,2649,null,null,null,null,null,null,null,null,null,null,null,null,1987,2.0528577165038135]
[1988,2766,null,null,null,null,null,null,null,null,null,null,null,null,1988,2.0195243831704799]
[1989,2106,null,null,null,null,null,null,null,null,null,null,null,null,1989,1.8195243831704799]
[1990,2643,null,null,null,null,null,null,null,null,null,null,null,null,1990,1.6528577165038134]
[1991,1893,null,null,null,null,null,null,null,null,null,null,null,null,1991,1.6528577165038134]
[1992,1572,null,null,null,null,null,null,null,null,null,null,null,null,1992,1.3528577165038131]
[1993,948,null,null,null,null,null,null,null,null,null,null,null,null,1993,1.2528577165038133]
[1994,1677,null,null,null,null,null,null,null,null,null,null,null,null,1994,1.2528577165038133]
[1995,3402,null,null,null,null,null,null,null,null,null,null,null,null,1995,1.3387193607209549]
[1996,4095,null,null,null,null,null,null,null,null,null,null,null,null,1996,1.3032401101566253]
[1997,7806,null,null,null,null,null,null,null,null,null,null,null,null,1997,1.1008918051555729]
[1998,8514,null,null,null,null,null,null,null,null,null,null,null,null,1998,1.0550542998279233]
[1999,6801,null,null,null,null,null,null,null,null,null,null,null,null,1999,1.0457452583005848]
[2000,9408,null,null,null,null,null,null,null,null,null,null,null,null,2000,1.0435924383681834]
[2001,10623,null,null,null,null,null,null,null,null,null,null,null,null,2001,0.97439781028339656]
[2002,12669,null,null,null,null,null,null,null,null,null,null,null,null,2002,0.97280424468690996]
[2003,15141,null,null,null,null,null,null,null,null,null,null,null,null,2003,0.64384617985645465]
[2004,13857,null,null,null,null,null,null,null,null,null,null,null,null,2004,0.55362356880066799]
[2005,20484,null,null,null,null,null,null,null,null,null,null,null,null,2005,0.54012333665593493]
[2006,22557,null,null,null,null,null,null,null,null,null,null,null,null,2006,0.56352747441247675]
[2007,37347,null,null,null,null,null,null,null,null,null,null,null,null,2007,0.47495053922462782]
[2008,68643,null,null,null,null,null,null,null,null,null,null,null,null,2008,0.446490125995198]
[2009,23394,2688,null,null,null,null,null,null,null,null,null,null,null,2009,0.4168991179588093]
[2010,37578,7995,null,null,null,null,null,null,null,null,null,null,null,2010,0.47596336454146393]
[2011,30606,13566,null,null,null,null,null,null,null,null,null,null,null,2011,0.37207579344329816]
[2012,27954,14343,null,null,null,null,null,null,null,null,null,null,null,2012,0.36729166448042017]
[2013,17718,13701,null,null,null,null,null,null,null,null,null,null,null,2013,0.36210339663951219]
[2014,16797,21417,null,null,null,null,null,null,null,null,null,null,null,2014,0.35531603138572343]
[2015,13209,23316,null,null,null,null,null,null,null,null,null,null,null,2015,0.35268025302982348]
[2016,8520,15045,null,null,null,null,null,null,null,null,null,null,null,2016,0.34744690510494858]
[2017,11016,14085,null,null,null,null,null,null,null,null,null,null,null,2017,0.34184620295579221]
[2018,12228,18444,null,null,null,null,null,null,null,null,null,null,null,2018,0.33808773373860496]
[2019,13458,24993,null,null,null,null,null,null,null,null,null,null,null,2019,0.33496045642119432]
[2020,11769,24093,null,null,null,null,null,null,null,null,null,null,null,2020,0.33223270178292491]
[2021,12744,21540,null,null,null,null,null,null,null,null,null,null,null,2021,0.32885217241471848]
[2022,20814,33060,null,null,null,null,null,null,null,null,null,null,null,2022,3.6031353230263602E-2]

{"sheet":"Dados_v2","index":3,"n_rows":1049,"n_cols":17,"rows_kept":1049,"cut":false,"hidden":false,"merged":[]}
["Ano_de_fabricacao","Tipologia_veicular","Combustível","Veiculo_ID","Tipologia_ID","Quantidade","Poluente","Correcao_Flex","Fator_Emissao"]
[1983,"Onibus","Diesel",{"$f":"SUM(IF(B2=$L$10:$L$23,$M$10:$M$23,0))","v":1},3,{"$f":"IFERROR(ROUND(VLOOKUP(A2,'Dados de entrada'!$P$7:$Z$50,Dados_v2!D2+1,0)*H2,0),0)","v":26},"CO",{"$f":"IF(OR(D2=$M$15,D2=$M$20),SUM(IF((A2=$O$10:$O$29),IF(C2=$P$9,$P$10:$P$29,$Q$10:$Q$29),0))/100,1)","v":1},3.0191304347825998,null,null,"Fatores de emissão (g/km)"]
[1984,"Onibus","Diesel",{"$f":"SUM(IF(B3=$L$10:$L$23,$M$10:$M$23,0))","v":1},3,{"$f":"IFERROR(ROUND(VLOOKUP(A3,'Dados de entrada'!$P$7:$Z$50,Dados_v2!D3+1,0)*H3,0),0)","v":27},"CO",{"$f":"IF(OR(D3=$M$15,D3=$M$20),SUM(IF((A3=$O$10:$O$29),IF(C3=$P$9,$P$10:$P$29,$Q$10:$Q$29),0))/100,1)","v":1},3.0191304347825998,null,null,"Tipologia agrupada","ID","CO","NOx","MP"]
[1985,"Onibus","Diesel",{"$f":"SUM(IF(B4=$L$10:$L$23,$M$10:$M$23,0))","v":1},3,{"$f":"IFERROR(ROUND(VLOOKUP(A4,'Dados de entrada'!$P$7:$Z$50,Dados_v2!D4+1,0)*H4,0),0)","v":30},"CO",{"$f":"IF(OR(D4=$M$15,D4=$M$20),SUM(IF((A4=$O$10:$O$29),IF(C4=$P$9,$P$10:$P$29,$Q$10:$Q$29),0))/100,1)","v":1},3.0191304347825998,null,null,"Automóveis",1,{"$f":"SUM(IF($G$2:$G$1049=N$3,IF($E$2:$E$1049=$M4,$I$2:$I$1049*$F$2:$F$1049)))/SUM(IF($G$2:$G$1049=N$3,IF($E$2:$E$1049=$M4,$F$2:$F$1049)))","v":1.6162845596266386},{"$f":"SUM(IF($G$2:$G$1049=O$3,IF($E$2:$E$1049=$M4,$I$2:$I$1049*$F$2:$F$1049)))/SUM(IF($G$2:$G$1049=O$3,IF($E$2:$E$1049=$M4,$F$2:$F$1049)))","v":0.22220287763801855},{"$f":"SUM(IF($G$2:$G$1049=P$3,IF($E$2:$E$1049=$M4,$I$2:$I$1049*$F$2:$F$1049)))/SUM(IF($G$2:$G$1049=P$3,IF($E$2:$E$1049=$M4,$F$2:$F$1049)))","v":2.5091890430374636E-3}]
[1986,"Onibus","Diesel",{"$f":"SUM(IF(B5=$L$10:$L$23,$M$10:$M$23,0))","v":1},3,{"$f":"IFERROR(ROUND(VLOOKUP(A5,'Dados de entrada'!$P$7:$Z$50,Dados_v2!D5+1,0)*H5,0),0)","v":58},"CO",{"$f":"IF(OR(D5=$M$15,D5=$M$20),SUM(IF((A5=$O$10:$O$29),IF(C5=$P$9,$P$10:$P$29,$Q$10:$Q$29),0))/100,1)","v":1},3.0191304347825998,null,null,"Motos",2,{"$f":"SUM(IF($G$2:$G$1049=N$3,IF($E$2:$E$1049=$M5,$I$2:$I$1049*$F$2:$F$1049)))/SUM(IF($G$2:$G$1049=N$3,IF($E$2:$E$1049=$M5,$F$2:$F$1049)))","v":1.8960719581386585},{"$f":"SUM(IF($G$2:$G$1049=O$3,IF($E$2:$E$1049=$M5,$I$2:$I$1049*$F$2:$F$1049)))/SUM(IF($G$2:$G$1049=O$3,IF($E$2:$E$1049=$M5,$F$2:$F$1049)))","v":9.3007042387364375E-2},{"$f":"SUM(IF($G$2:$G$1049=P$3,IF($E$2:$E$1049=$M5,$I$2:$I$1049*$F$2:$F$1049)))/SUM(IF($G$2:$G$1049=P$3,IF($E$2:$E$1049=$M5,$F$2:$F$1049)))","v":0}]
[1987,"Onibus","Diesel",{"$f":"SUM(IF(B6=$L$10:$L$23,$M$10:$M$23,0))","v":1},3,{"$f":"IFERROR(ROUND(VLOOKUP(A6,'Dados de entrada'!$P$7:$Z$50,Dados_v2!D6+1,0)*H6,0),0)","v":57},"CO",{"$f":"IF(OR(D6=$M$15,D6=$M$20),SUM(IF((A6=$O$10:$O$29),IF(C6=$P$9,$P$10:$P$29,$Q$10:$Q$29),0))/100,1)","v":1},3.0191304347825998,null,null,"Ônibus",3,{"$f":"SUM(IF($G$2:$G$1049=N$3,IF($E$2:$E$1049=$M6,$I$2:$I$1049*$F$2:$F$1049)))/SUM(IF($G$2:$G$1049=N$3,IF($E$2:$E$1049=$M6,$F$2:$F$1049)))","v":1.1483093955122869},{"$f":"SUM(IF($G$2:$G$1049=O$3,IF($E$2:$E$1049=$M6,$I$2:$I$1049*$F$2:$F$1049)))/SUM(IF($G$2:$G$1049=O$3,IF($E$2:$E$1049=$M6,$F$2:$F$1049)))","v":6.0530989192465361},{"$f":"SUM(IF($G$2:$G$1049=P$3,IF($E$2:$E$1049=$M6,$I$2:$I$1049*$F$2:$F$1049)))/SUM(IF($G$2:$G$1049=P$3,IF($E$2:$E$1049=$M6,$F$2:$F$1049)))","v":0.22142900036908983}]
[1988,"Onibus","Diesel",{"$f":"SUM(IF(B7=$L$10:$L$23,$M$10:$M$23,0))","v":1},3,{"$f":"IFERROR(ROUND(VLOOKUP(A7,'Dados de entrada'!$P$7:$Z$50,Dados_v2!D7+1,0)*H7,0),0)","v":67},"CO",{"$f":"IF(OR(D7=$M$15,D7=$M$20),SUM(IF((A7=$O$10:$O$29),IF(C7=$P$9,$P$10:$P$29,$Q$10:$Q$29),0))/100,1)","v":1},3.0191304347825998,null,null,"Caminhões",4,{"$f":"SUM(IF($G$2:$G$1049=N$3,IF($E$2:$E$1049=$M7,$I$2:$I$1049*$F$2:$F$1049)))/SUM(IF($G$2:$G$1049=N$3,IF($E$2:$E$1049=$M7,$F$2:$F$1049)))","v":0.48857062905064436},{"$f":"SUM(IF($G$2:$G$1049=O$3,IF($E$2:$E$1049=$M7,$I$2:$I$1049*$F$2:$F$1049)))/SUM(IF($G$2:$G$1049=O$3,IF($E$2:$E$1049=$M7,$F$2:$F$1049)))","v":2.8628419508101572},{"$f":"SUM(IF($G$2:$G$1049=P$3,IF($E$2:$E$1049=$M7,$I$2:$I$1049*$F$2:$F$1049)))/SUM(IF($G$2:$G$1049=P$3,IF($E$2:$E$1049=$M7,$F$2:$F$1049)))","v":0.10638496030185689}]
[1989,"Onibus","Diesel",{"$f":"SUM(IF(B8=$L$10:$L$23,$M$10:$M$23,0))","v":1},3,{"$f":"IFERROR(ROUND(VLOOKUP(A8,'Dados de entrada'!$P$7:$Z$50,Dados_v2!D8+1,0)*H8,0),0)","v":81},"CO",{"$f":"IF(OR(D8=$M$15,D8=$M$20),SUM(IF((A8=$O$10:$O$29),IF(C8=$P$9,$P$10:$P$29,$Q$10:$Q$29),0))/100,1)","v":1},3.0191304347825998]
[1990,"Onibus","Diesel",{"$f":"SUM(IF(B9=$L$10:$L$23,$M$10:$M$23,0))","v":1},3,{"$f":"IFERROR(ROUND(VLOOKUP(A9,'Dados de entrada'!$P$7:$Z$50,Dados_v2!D9+1,0)*H9,0),0)","v":54},"CO",{"$f":"IF(OR(D9=$M$15,D9=$M$20),SUM(IF((A9=$O$10:$O$29),IF(C9=$P$9,$P$10:$P$29,$Q$10:$Q$29),0))/100,1)","v":1},3.0191304347825998,null,null,"Veículo","ID",null,"Ano","Gasolina","Etanol"]
[1991,"Onibus","Diesel",{"$f":"SUM(IF(B10=$L$10:$L$23,$M$10:$M$23,0))","v":1},3,{"$f":"IFERROR(ROUND(VLOOKUP(A10,'Dados de entrada'!$P$7:$Z$50,Dados_v2!D10+1,0)*H10,0),0)","v":50},"CO",{"$f":"IF(OR(D10=$M$15,D10=$M$20),SUM(IF((A10=$O$10:$O$29),IF(C10=$P$9,$P$10:$P$29,$Q$10:$Q$29),0))/100,1)","v":1},3.0191304347825998,null,null,"Onibus",1,null,2003,50,50]
[1992,"Onibus","Diesel",{"$f":"SUM(IF(B11=$L$10:$L$23,$M$10:$M$23,0))","v":1},3,{"$f":"IFERROR(ROUND(VLOOKUP(A11,'Dados de entrada'!$P$7:$Z$50,Dados_v2!D11+1,0)*H11,0),0)","v":97},"CO",{"$f":"IF(OR(D11=$M$15,D11=$M$20),SUM(IF((A11=$O$10:$O$29),IF(C11=$P$9,$P$10:$P$29,$Q$10:$Q$29),0))/100,1)","v":1},3.0191304347825998,null,null,"Onibus-E",2,null,2004,0,100]
[1993,"Onibus","Diesel",{"$f":"SUM(IF(B12=$L$10:$L$23,$M$10:$M$23,0))","v":1},3,{"$f":"IFERROR(ROUND(VLOOKUP(A12,'Dados de entrada'!$P$7:$Z$50,Dados_v2!D12+1,0)*H12,0),0)","v":71},"CO",{"$f":"IF(OR(D12=$M$15,D12=$M$20),SUM(IF((A12=$O$10:$O$29),IF(C12=$P$9,$P$10:$P$29,$Q$10:$Q$29),0))/100,1)","v":1},3.0191304347825998,null,null,"Microonibus",3,null,2005,0,100]
[1994,"Onibus","Diesel",{"$f":"SUM(IF(B13=$L$10:$L$23,$M$10:$M$23,0))","v":1},3,{"$f":"IFERROR(ROUND(VLOOKUP(A13,'Dados de entrada'!$P$7:$Z$50,Dados_v2!D13+1,0)*H13,0),0)","v":49},"CO",{"$f":"IF(OR(D13=$M$15,D13=$M$20),SUM(IF((A13=$O$10:$O$29),IF(C13=$P$9,$P$10:$P$29,$Q$10:$Q$29),0))/100,1)","v":1},3.0191304347825998,null,null,"Caminhao",4,null,2006,8.5,91.5]
[1995,"Onibus","Diesel",{"$f":"SUM(IF(B14=$L$10:$L$23,$M$10:$M$23,0))","v":1},3,{"$f":"IFERROR(ROUND(VLOOKUP(A14,'Dados de entrada'!$P$7:$Z$50,Dados_v2!D14+1,0)*H14,0),0)","v":86},"CO",{"$f":"IF(OR(D14=$M$15,D14=$M$20),SUM(IF((A14=$O$10:$O$29),IF(C14=$P$9,$P$10:$P$29,$Q$10:$Q$29),0))/100,1)","v":1},3.0191304347825998,null,null,"Moto-Gasolina",5,null,2007,16,84]
[1996,"Onibus","Diesel",{"$f":"SUM(IF(B15=$L$10:$L$23,$M$10:$M$23,0))","v":1},3,{"$f":"IFERROR(ROUND(VLOOKUP(A15,'Dados de entrada'!$P$7:$Z$50,Dados_v2!D15+1,0)*H15,0),0)","v":101},"CO",{"$f":"IF(OR(D15=$M$15,D15=$M$20),SUM(IF((A15=$O$10:$O$29),IF(C15=$P$9,$P$10:$P$29,$Q$10:$Q$29),0))/100,1)","v":1},3.0191304347825998,null,null,"Moto-Flex",6,null,2008,20,80]
[1997,"Onibus","Diesel",{"$f":"SUM(IF(B16=$L$10:$L$23,$M$10:$M$23,0))","v":1},3,{"$f":"IFERROR(ROUND(VLOOKUP(A16,'Dados de entrada'!$P$7:$Z$50,Dados_v2!D16+1,0)*H16,0),0)","v":89},"CO",{"$f":"IF(OR(D16=$M$15,D16=$M$20),SUM(IF((A16=$O$10:$O$29),IF(C16=$P$9,$P$10:$P$29,$Q$10:$Q$29),0))/100,1)","v":1},3.0191304347825998,null,null,"Moto-Flex-G","-",null,2009,30,70]
[1998,"Onibus","Diesel",{"$f":"SUM(IF(B17=$L$10:$L$23,$M$10:$M$23,0))","v":1},3,{"$f":"IFERROR(ROUND(VLOOKUP(A17,'Dados de entrada'!$P$7:$Z$50,Dados_v2!D17+1,0)*H17,0),0)","v":97},"CO",{"$f":"IF(OR(D17=$M$15,D17=$M$20),SUM(IF((A17=$O$10:$O$29),IF(C17=$P$9,$P$10:$P$29,$Q$10:$Q$29),0))/100,1)","v":1},3.0191304347825998,null,null,"Moto-Flex-A","-",null,2010,48,52]
[1999,"Onibus","Diesel",{"$f":"SUM(IF(B18=$L$10:$L$23,$M$10:$M$23,0))","v":1},3,{"$f":"IFERROR(ROUND(VLOOKUP(A18,'Dados de entrada'!$P$7:$Z$50,Dados_v2!D18+1,0)*H18,0),0)","v":139},"CO",{"$f":"IF(OR(D18=$M$15,D18=$M$20),SUM(IF((A18=$O$10:$O$29),IF(C18=$P$9,$P$10:$P$29,$Q$10:$Q$29),0))/100,1)","v":1},3.0191304347825998,null,null,"Automovel-Gasolina",7,null,2011,68,32]
[2000,"Onibus","Diesel",{"$f":"SUM(IF(B19=$L$10:$L$23,$M$10:$M$23,0))","v":1},3,{"$f":"IFERROR(ROUND(VLOOKUP(A19,'Dados de entrada'!$P$7:$Z$50,Dados_v2!D19+1,0)*H19,0),0)","v":77},"CO",{"$f":"IF(OR(D19=$M$15,D19=$M$20),SUM(IF((A19=$O$10:$O$29),IF(C19=$P$9,$P$10:$P$29,$Q$10:$Q$29),0))/100,1)","v":1},2.7140007977662499,null,null,"Automovel-Alcool",8,null,2012,75,25]
[2001,"Onibus","Diesel",{"$f":"SUM(IF(B20=$L$10:$L$23,$M$10:$M$23,0))","v":1},3,{"$f":"IFERROR(ROUND(VLOOKUP(A20,'Dados de entrada'!$P$7:$Z$50,Dados_v2!D20+1,0)*H20,0),0)","v":156},"CO",{"$f":"IF(OR(D20=$M$15,D20=$M$20),SUM(IF((A20=$O$10:$O$29),IF(C20=$P$9,$P$10:$P$29,$Q$10:$Q$29),0))/100,1)","v":1},2.7140007977662499,null,null,"Automovel-Flex",9,null,2013,75,25]
[2002,"Onibus","Diesel",{"$f":"SUM(IF(B21=$L$10:$L$23,$M$10:$M$23,0))","v":1},3,{"$f":"IFERROR(ROUND(VLOOKUP(A21,'Dados de entrada'!$P$7:$Z$50,Dados_v2!D21+1,0)*H21,0),0)","v":91},"CO",{"$f":"IF(OR(D21=$M$15,D21=$M$20),SUM(IF((A21=$O$10:$O$29),IF(C21=$P$9,$P$10:$P$29,$Q$10:$Q$29),0))/100,1)","v":1},1.47826086956521,null,null,"Automovel-Flex-G","-",null,2014,75,25]
[2003,"Onibus","Diesel",{"$f":"SUM(IF(B22=$L$10:$L$23,$M$10:$M$23,0))","v":1},3,{"$f":"IFERROR(ROUND(VLOOKUP(A22,'Dados de entrada'!$P$7:$Z$50,Dados_v2!D22+1,0)*H22,0),0)","v":103},"CO",{"$f":"IF(OR(D22=$M$15,D22=$M$20),SUM(IF((A22=$O$10:$O$29),IF(C22=$P$9,$P$10:$P$29,$Q$10:$Q$29),0))/100,1)","v":1},1.47826086956521,null,null,"Automovel-Flex-A","-",null,2015,75,25]
[2004,"Onibus","Diesel",{"$f":"SUM(IF(B23=$L$10:$L$23,$M$10:$M$23,0))","v":1},3,{"$f":"IFERROR(ROUND(VLOOKUP(A23,'Dados de entrada'!$P$7:$Z$50,Dados_v2!D23+1,0)*H23,0),0)","v":131},"CO",{"$f":"IF(OR(D23=$M$15,D23=$M$20),SUM(IF((A23=$O$10:$O$29),IF(C23=$P$9,$P$10:$P$29,$Q$10:$Q$29),0))/100,1)","v":1},1.41,null,null,"Automovel-Diesel",10,null,2016,75,25]
[2005,"Onibus","Diesel",{"$f":"SUM(IF(B24=$L$10:$L$23,$M$10:$M$23,0))","v":1},3,{"$f":"IFERROR(ROUND(VLOOKUP(A24,'Dados de entrada'!$P$7:$Z$50,Dados_v2!D24+1,0)*H24,0),0)","v":96},"CO",{"$f":"IF(OR(D24=$M$15,D24=$M$20),SUM(IF((A24=$O$10:$O$29),IF(C24=$P$9,$P$10:$P$29,$Q$10:$Q$29),0))/100,1)","v":1},1.41,null,null,null,null,null,2017,75,25]
[2006,"Onibus","Diesel",{"$f":"SUM(IF(B25=$L$10:$L$23,$M$10:$M$23,0))","v":1},3,{"$f":"IFERROR(ROUND(VLOOKUP(A25,'Dados de entrada'!$P$7:$Z$50,Dados_v2!D25+1,0)*H25,0),0)","v":156},"CO",{"$f":"IF(OR(D25=$M$15,D25=$M$20),SUM(IF((A25=$O$10:$O$29),IF(C25=$P$9,$P$10:$P$29,$Q$10:$Q$29),0))/100,1)","v":1},1.81064493026762,null,null,null,null,null,2018,75,25]
[2007,"Onibus","Diesel",{"$f":"SUM(IF(B26=$L$10:$L$23,$M$10:$M$23,0))","v":1},3,{"$f":"IFERROR(ROUND(VLOOKUP(A26,'Dados de entrada'!$P$7:$Z$50,Dados_v2!D26+1,0)*H26,0),0)","v":212},"CO",{"$f":"IF(OR(D26=$M$15,D26=$M$20),SUM(IF((A26=$O$10:$O$29),IF(C26=$P$9,$P$10:$P$29,$Q$10:$Q$29),0))/100,1)","v":1},1.81064493026762,null,null,null,null,null,2019,75,25]
[2008,"Onibus","Diesel",{"$f":"SUM(IF(B27=$L$10:$L$23,$M$10:$M$23,0))","v":1},3,{"$f":"IFERROR(ROUND(VLOOKUP(A27,'Dados de entrada'!$P$7:$Z$50,Dados_v2!D27+1,0)*H27,0),0)","v":332},"CO",{"$f":"IF(OR(D27=$M$15,D27=$M$20),SUM(IF((A27=$O$10:$O$29),IF(C27=$P$9,$P$10:$P$29,$Q$10:$Q$29),0))/100,1)","v":1},2.2890324117918399,null,null,null,null,null,2020,75,25]
[2009,"Onibus","Diesel",{"$f":"SUM(IF(B28=$L$10:$L$23,$M$10:$M$23,0))","v":1},3,{"$f":"IFERROR(ROUND(VLOOKUP(A28,'Dados de entrada'!$P$7:$Z$50,Dados_v2!D28+1,0)*H28,0),0)","v":187},"CO",{"$f":"IF(OR(D28=$M$15,D28=$M$20),SUM(IF((A28=$O$10:$O$29),IF(C28=$P$9,$P$10:$P$29,$Q$10:$Q$29),0))/100,1)","v":1},1.8949554093262,null,null,null,null,null,2021,75,25]
[2010,"Onibus","Diesel",{"$f":"SUM(IF(B29=$L$10:$L$23,$M$10:$M$23,0))","v":1},3,{"$f":"IFERROR(ROUND(VLOOKUP(A29,'Dados de entrada'!$P$7:$Z$50,Dados_v2!D29+1,0)*H29,0),0)","v":303},"CO",{"$f":"IF(OR(D29=$M$15,D29=$M$20),SUM(IF((A29=$O$10:$O$29),IF(C29=$P$9,$P$10:$P$29,$Q$10:$Q$29),0))/100,1)","v":1},1.83927204365977,null,null,null,null,null,2022,75,25]
[2011,"Onibus","Diesel",{"$f":"SUM(IF(B30=$L$10:$L$23,$M$10:$M$23,0))","v":1},3,{"$f":"IFERROR(ROUND(VLOOKUP(A30,'Dados de entrada'!$P$7:$Z$50,Dados_v2!D30+1,0)*H30,0),0)","v":420},"CO",{"$f":"IF(OR(D30=$M$15,D30=$M$20),SUM(IF((A30=$O$10:$O$29),IF(C30=$P$9,$P$10:$P$29,$Q$10:$Q$29),0))/100,1)","v":1},1.6769686192372699]
[2012,"Onibus","Diesel",{"$f":"SUM(IF(B31=$L$10:$L$23,$M$10:$M$23,0))","v":1},3,{"$f":"IFERROR(ROUND(VLOOKUP(A31,'Dados de entrada'!$P$7:$Z$50,Dados_v2!D31+1,0)*H31,0),0)","v":472},"CO",{"$f":"IF(OR(D31=$M$15,D31=$M$20),SUM(IF((A31=$O$10:$O$29),IF(C31=$P$9,$P$10:$P$29,$Q$10:$Q$29),0))/100,1)","v":1},0.53742707712389404]
[2013,"Onibus","Diesel",{"$f":"SUM(IF(B32=$L$10:$L$23,$M$10:$M$23,0))","v":1},3,{"$f":"IFERROR(ROUND(VLOOKUP(A32,'Dados de entrada'!$P$7:$Z$50,Dados_v2!D32+1,0)*H32,0),0)","v":394},"CO",{"$f":"IF(OR(D32=$M$15,D32=$M$20),SUM(IF((A32=$O$10:$O$29),IF(C32=$P$9,$P$10:$P$29,$Q$10:$Q$29),0))/100,1)","v":1},0.538719005787334]
[2014,"Onibus","Diesel",{"$f":"SUM(IF(B33=$L$10:$L$23,$M$10:$M$23,0))","v":1},3,{"$f":"IFERROR(ROUND(VLOOKUP(A33,'Dados de entrada'!$P$7:$Z$50,Dados_v2!D33+1,0)*H33,0),0)","v":799},"CO",{"$f":"IF(OR(D33=$M$15,D33=$M$20),SUM(IF((A33=$O$10:$O$29),IF(C33=$P$9,$P$10:$P$29,$Q$10:$Q$29),0))/100,1)","v":1},0.538719005787334]
[2015,"Onibus","Diesel",{"$f":"SUM(IF(B34=$L$10:$L$23,$M$10:$M$23,0))","v":1},3,{"$f":"IFERROR(ROUND(VLOOKUP(A34,'Dados de entrada'!$P$7:$Z$50,Dados_v2!D34+1,0)*H34,0),0)","v":209},"CO",{"$f":"IF(OR(D34=$M$15,D34=$M$20),SUM(IF((A34=$O$10:$O$29),IF(C34=$P$9,$P$10:$P$29,$Q$10:$Q$29),0))/100,1)","v":1},0.53900000000000003]
[2016,"Onibus","Diesel",{"$f":"SUM(IF(B35=$L$10:$L$23,$M$10:$M$23,0))","v":1},3,{"$f":"IFERROR(ROUND(VLOOKUP(A35,'Dados de entrada'!$P$7:$Z$50,Dados_v2!D35+1,0)*H35,0),0)","v":272},"CO",{"$f":"IF(OR(D35=$M$15,D35=$M$20),SUM(IF((A35=$O$10:$O$29),IF(C35=$P$9,$P$10:$P$29,$Q$10:$Q$29),0))/100,1)","v":1},0.56601901800101495]
[2017,"Onibus","Diesel",{"$f":"SUM(IF(B36=$L$10:$L$23,$M$10:$M$23,0))","v":1},3,{"$f":"IFERROR(ROUND(VLOOKUP(A36,'Dados de entrada'!$P$7:$Z$50,Dados_v2!D36+1,0)*H36,0),0)","v":281},"CO",{"$f":"IF(OR(D36=$M$15,D36=$M$20),SUM(IF((A36=$O$10:$O$29),IF(C36=$P$9,$P$10:$P$29,$Q$10:$Q$29),0))/100,1)","v":1},0.46176867419393702]
[2018,"Onibus","Diesel",{"$f":"SUM(IF(B37=$L$10:$L$23,$M$10:$M$23,0))","v":1},3,{"$f":"IFERROR(ROUND(VLOOKUP(A37,'Dados de entrada'!$P$7:$Z$50,Dados_v2!D37+1,0)*H37,0),0)","v":188},"CO",{"$f":"IF(OR(D37=$M$15,D37=$M$20),SUM(IF((A37=$O$10:$O$29),IF(C37=$P$9,$P$10:$P$29,$Q$10:$Q$29),0))/100,1)","v":1},0.53811077490837]
[2019,"Onibus","Diesel",{"$f":"SUM(IF(B38=$L$10:$L$23,$M$10:$M$23,0))","v":1},3,{"$f":"IFERROR(ROUND(VLOOKUP(A38,'Dados de entrada'!$P$7:$Z$50,Dados_v2!D38+1,0)*H38,0),0)","v":363},"CO",{"$f":"IF(OR(D38=$M$15,D38=$M$20),SUM(IF((A38=$O$10:$O$29),IF(C38=$P$9,$P$10:$P$29,$Q$10:$Q$29),0))/100,1)","v":1},0.43425597230827401]
[2020,"Onibus","Diesel",{"$f":"SUM(IF(B39=$L$10:$L$23,$M$10:$M$23,0))","v":1},3,{"$f":"IFERROR(ROUND(VLOOKUP(A39,'Dados de entrada'!$P$7:$Z$50,Dados_v2!D39+1,0)*H39,0),0)","v":561},"CO",{"$f":"IF(OR(D39=$M$15,D39=$M$20),SUM(IF((A39=$O$10:$O$29),IF(C39=$P$9,$P$10:$P$29,$Q$10:$Q$29),0))/100,1)","v":1},0.39334954645112502]
[2021,"Onibus","Diesel",{"$f":"SUM(IF(B40=$L$10:$L$23,$M$10:$M$23,0))","v":1},3,{"$f":"IFERROR(ROUND(VLOOKUP(A40,'Dados de entrada'!$P$7:$Z$50,Dados_v2!D40+1,0)*H40,0),0)","v":175},"CO",{"$f":"IF(OR(D40=$M$15,D40=$M$20),SUM(IF((A40=$O$10:$O$29),IF(C40=$P$9,$P$10:$P$29,$Q$10:$Q$29),0))/100,1)","v":1},0.47196063187563297]
[2022,"Onibus","Diesel",{"$f":"SUM(IF(B41=$L$10:$L$23,$M$10:$M$23,0))","v":1},3,{"$f":"IFERROR(ROUND(VLOOKUP(A41,'Dados de entrada'!$P$7:$Z$50,Dados_v2!D41+1,0)*H41,0),0)","v":239},"CO",{"$f":"IF(OR(D41=$M$15,D41=$M$20),SUM(IF((A41=$O$10:$O$29),IF(C41=$P$9,$P$10:$P$29,$Q$10:$Q$29),0))/100,1)","v":1},0.43452239401147302]
[2022,"Onibus-E","Elétrico",{"$f":"SUM(IF(B42=$L$10:$L$23,$M$10:$M$23,0))","v":2},3,{"$f":"IFERROR(ROUND(VLOOKUP(A42,'Dados de entrada'!$P$7:$Z$50,Dados_v2!D42+1,0)*H42,0),0)","v":0},"CO",{"$f":"IF(OR(D42=$M$15,D42=$M$20),SUM(IF((A42=$O$10:$O$29),IF(C42=$P$9,$P$10:$P$29,$Q$10:$Q$29),0))/100,1)","v":1},0]
[2023,"Onibus","Diesel",{"$f":"SUM(IF(B43=$L$10:$L$23,$M$10:$M$23,0))","v":1},3,{"$f":"IFERROR(ROUND(VLOOKUP(A43,'Dados de entrada'!$P$7:$Z$50,Dados_v2!D43+1,0)*H43,0),0)","v":0},"CO",{"$f":"IF(OR(D43=$M$15,D43=$M$20),SUM(IF((A43=$O$10:$O$29),IF(C43=$P$9,$P$10:$P$29,$Q$10:$Q$29),0))/100,1)","v":1},0.4]
[1983,"Microonibus","Diesel",{"$f":"SUM(IF(B44=$L$10:$L$23,$M$10:$M$23,0))","v":3},3,{"$f":"IFERROR(ROUND(VLOOKUP(A44,'Dados de entrada'!$P$7:$Z$50,Dados_v2!D44+1,0)*H44,0),0)","v":0},"CO",{"$f":"IF(OR(D44=$M$15,D44=$M$20),SUM(IF((A44=$O$10:$O$29),IF(C44=$P$9,$P$10:$P$29,$Q$10:$Q$29),0))/100,1)","v":1},3.0191304347825998]
[1984,"Microonibus","Diesel",{"$f":"SUM(IF(B45=$L$10:$L$23,$M$10:$M$23,0))","v":3},3,{"$f":"IFERROR(ROUND(VLOOKUP(A45,'Dados de entrada'!$P$7:$Z$50,Dados_v2!D45+1,0)*H45,0),0)","v":1},"CO",{"$f":"IF(OR(D45=$M$15,D45=$M$20),SUM(IF((A45=$O$10:$O$29),IF(C45=$P$9,$P$10:$P$29,$Q$10:$Q$29),0))/100,1)","v":1},3.0191304347825998]
[1985,"Microonibus","Diesel",{"$f":"SUM(IF(B46=$L$10:$L$23,$M$10:$M$23,0))","v":3},3,{"$f":"IFERROR(ROUND(VLOOKUP(A46,'Dados de entrada'!$P$7:$Z$50,Dados_v2!D46+1,0)*H46,0),0)","v":1},"CO",{"$f":"IF(OR(D46=$M$15,D46=$M$20),SUM(IF((A46=$O$10:$O$29),IF(C46=$P$9,$P$10:$P$29,$Q$10:$Q$29),0))/100,1)","v":1},3.0191304347825998]
[1986,"Microonibus","Diesel",{"$f":"SUM(IF(B47=$L$10:$L$23,$M$10:$M$23,0))","v":3},3,{"$f":"IFERROR(ROUND(VLOOKUP(A47,'Dados de entrada'!$P$7:$Z$50,Dados_v2!D47+1,0)*H47,0),0)","v":4},"CO",{"$f":"IF(OR(D47=$M$15,D47=$M$20),SUM(IF((A47=$O$10:$O$29),IF(C47=$P$9,$P$10:$P$29,$Q$10:$Q$29),0))/100,1)","v":1},3.0191304347825998]
[1987,"Microonibus","Diesel",{"$f":"SUM(IF(B48=$L$10:$L$23,$M$10:$M$23,0))","v":3},3,{"$f":"IFERROR(ROUND(VLOOKUP(A48,'Dados de entrada'!$P$7:$Z$50,Dados_v2!D48+1,0)*H48,0),0)","v":3},"CO",{"$f":"IF(OR(D48=$M$15,D48=$M$20),SUM(IF((A48=$O$10:$O$29),IF(C48=$P$9,$P$10:$P$29,$Q$10:$Q$29),0))/100,1)","v":1},3.0191304347825998]
[1988,"Microonibus","Diesel",{"$f":"SUM(IF(B49=$L$10:$L$23,$M$10:$M$23,0))","v":3},3,{"$f":"IFERROR(ROUND(VLOOKUP(A49,'Dados de entrada'!$P$7:$Z$50,Dados_v2!D49+1,0)*H49,0),0)","v":3},"CO",{"$f":"IF(OR(D49=$M$15,D49=$M$20),SUM(IF((A49=$O$10:$O$29),IF(C49=$P$9,$P$10:$P$29,$Q$10:$Q$29),0))/100,1)","v":1},3.0191304347825998]
[1989,"Microonibus","Diesel",{"$f":"SUM(IF(B50=$L$10:$L$23,$M$10:$M$23,0))","v":3},3,{"$f":"IFERROR(ROUND(VLOOKUP(A50,'Dados de entrada'!$P$7:$Z$50,Dados_v2!D50+1,0)*H50,0),0)","v":0},"CO",{"$f":"IF(OR(D50=$M$15,D50=$M$20),SUM(IF((A50=$O$10:$O$29),IF(C50=$P$9,$P$10:$P$29,$Q$10:$Q$29),0))/100,1)","v":1},3.0191304347825998]
[1990,"Microonibus","Diesel",{"$f":"SUM(IF(B51=$L$10:$L$23,$M$10:$M$23,0))","v":3},3,{"$f":"IFERROR(ROUND(VLOOKUP(A51,'Dados de entrada'!$P$7:$Z$50,Dados_v2!D51+1,0)*H51,0),0)","v":6},"CO",{"$f":"IF(OR(D51=$M$15,D51=$M$20),SUM(IF((A51=$O$10:$O$29),IF(C51=$P$9,$P$10:$P$29,$Q$10:$Q$29),0))/100,1)","v":1},3.0191304347825998]
[1991,"Microonibus","Diesel",{"$f":"SUM(IF(B52=$L$10:$L$23,$M$10:$M$23,0))","v":3},3,{"$f":"IFERROR(ROUND(VLOOKUP(A52,'Dados de entrada'!$P$7:$Z$50,Dados_v2!D52+1,0)*H52,0),0)","v":3},"CO",{"$f":"IF(OR(D52=$M$15,D52=$M$20),SUM(IF((A52=$O$10:$O$29),IF(C52=$P$9,$P$10:$P$29,$Q$10:$Q$29),0))/100,1)","v":1},3.0191304347825998]
[1992,"Microonibus","Diesel",{"$f":"SUM(IF(B53=$L$10:$L$23,$M$10:$M$23,0))","v":3},3,{"$f":"IFERROR(ROUND(VLOOKUP(A53,'Dados de entrada'!$P$7:$Z$50,Dados_v2!D53+1,0)*H53,0),0)","v":0},"CO",{"$f":"IF(OR(D53=$M$15,D53=$M$20),SUM(IF((A53=$O$10:$O$29),IF(C53=$P$9,$P$10:$P$29,$Q$10:$Q$29),0))/100,1)","v":1},3.0191304347825998]
[1993,"Microonibus","Diesel",{"$f":"SUM(IF(B54=$L$10:$L$23,$M$10:$M$23,0))","v":3},3,{"$f":"IFERROR(ROUND(VLOOKUP(A54,'Dados de entrada'!$P$7:$Z$50,Dados_v2!D54+1,0)*H54,0),0)","v":10},"CO",{"$f":"IF(OR(D54=$M$15,D54=$M$20),SUM(IF((A54=$O$10:$O$29),IF(C54=$P$9,$P$10:$P$29,$Q$10:$Q$29),0))/100,1)","v":1},3.0191304347825998]
[1994,"Microonibus","Diesel",{"$f":"SUM(IF(B55=$L$10:$L$23,$M$10:$M$23,0))","v":3},3,{"$f":"IFERROR(ROUND(VLOOKUP(A55,'Dados de entrada'!$P$7:$Z$50,Dados_v2!D55+1,0)*H55,0),0)","v":28},"CO",{"$f":"IF(OR(D55=$M$15,D55=$M$20),SUM(IF((A55=$O$10:$O$29),IF(C55=$P$9,$P$10:$P$29,$Q$10:$Q$29),0))/100,1)","v":1},3.0191304347825998]
[1995,"Microonibus","Diesel",{"$f":"SUM(IF(B56=$L$10:$L$23,$M$10:$M$23,0))","v":3},3,{"$f":"IFERROR(ROUND(VLOOKUP(A56,'Dados de entrada'!$P$7:$Z$50,Dados_v2!D56+1,0)*H56,0),0)","v":103},"CO",{"$f":"IF(OR(D56=$M$15,D56=$M$20),SUM(IF((A56=$O$10:$O$29),IF(C56=$P$9,$P$10:$P$29,$Q$10:$Q$29),0))/100,1)","v":1},3.0191304347825998]
[1996,"Microonibus","Diesel",{"$f":"SUM(IF(B57=$L$10:$L$23,$M$10:$M$23,0))","v":3},3,{"$f":"IFERROR(ROUND(VLOOKUP(A57,'Dados de entrada'!$P$7:$Z$50,Dados_v2!D57+1,0)*H57,0),0)","v":37},"CO",{"$f":"IF(OR(D57=$M$15,D57=$M$20),SUM(IF((A57=$O$10:$O$29),IF(C57=$P$9,$P$10:$P$29,$Q$10:$Q$29),0))/100,1)","v":1},3.0191304347825998]
[1997,"Microonibus","Diesel",{"$f":"SUM(IF(B58=$L$10:$L$23,$M$10:$M$23,0))","v":3},3,{"$f":"IFERROR(ROUND(VLOOKUP(A58,'Dados de entrada'!$P$7:$Z$50,Dados_v2!D58+1,0)*H58,0),0)","v":218},"CO",{"$f":"IF(OR(D58=$M$15,D58=$M$20),SUM(IF((A58=$O$10:$O$29),IF(C58=$P$9,$P$10:$P$29,$Q$10:$Q$29),0))/100,1)","v":1},3.0191304347825998]
[1998,"Microonibus","Diesel",{"$f":"SUM(IF(B59=$L$10:$L$23,$M$10:$M$23,0))","v":3},3,{"$f":"IFERROR(ROUND(VLOOKUP(A59,'Dados de entrada'!$P$7:$Z$50,Dados_v2!D59+1,0)*H59,0),0)","v":159},"CO",{"$f":"IF(OR(D59=$M$15,D59=$M$20),SUM(IF((A59=$O$10:$O$29),IF(C59=$P$9,$P$10:$P$29,$Q$10:$Q$29),0))/100,1)","v":1},3.0191304347825998]
[1999,"Microonibus","Diesel",{"$f":"SUM(IF(B60=$L$10:$L$23,$M$10:$M$23,0))","v":3},3,{"$f":"IFERROR(ROUND(VLOOKUP(A60,'Dados de entrada'!$P$7:$Z$50,Dados_v2!D60+1,0)*H60,0),0)","v":124},"CO",{"$f":"IF(OR(D60=$M$15,D60=$M$20),SUM(IF((A60=$O$10:$O$29),IF(C60=$P$9,$P$10:$P$29,$Q$10:$Q$29),0))/100,1)","v":1},3.0191304347825998]
[2000,"Microonibus","Diesel",{"$f":"SUM(IF(B61=$L$10:$L$23,$M$10:$M$23,0))","v":3},3,{"$f":"IFERROR(ROUND(VLOOKUP(A61,'Dados de entrada'!$P$7:$Z$50,Dados_v2!D61+1,0)*H61,0),0)","v":138},"CO",{"$f":"IF(OR(D61=$M$15,D61=$M$20),SUM(IF((A61=$O$10:$O$29),IF(C61=$P$9,$P$10:$P$29,$Q$10:$Q$29),0))/100,1)","v":1},2.7140007977662499]
[2001,"Microonibus","Diesel",{"$f":"SUM(IF(B62=$L$10:$L$23,$M$10:$M$23,0))","v":3},3,{"$f":"IFERROR(ROUND(VLOOKUP(A62,'Dados de entrada'!$P$7:$Z$50,Dados_v2!D62+1,0)*H62,0),0)","v":208},"CO",{"$f":"IF(OR(D62=$M$15,D62=$M$20),SUM(IF((A62=$O$10:$O$29),IF(C62=$P$9,$P$10:$P$29,$Q$10:$Q$29),0))/100,1)","v":1},2.7140007977662499]
[2002,"Microonibus","Diesel",{"$f":"SUM(IF(B63=$L$10:$L$23,$M$10:$M$23,0))","v":3},3,{"$f":"IFERROR(ROUND(VLOOKUP(A63,'Dados de entrada'!$P$7:$Z$50,Dados_v2!D63+1,0)*H63,0),0)","v":45},"CO",{"$f":"IF(OR(D63=$M$15,D63=$M$20),SUM(IF((A63=$O$10:$O$29),IF(C63=$P$9,$P$10:$P$29,$Q$10:$Q$29),0))/100,1)","v":1},1.47826086956521]
[2003,"Microonibus","Diesel",{"$f":"SUM(IF(B64=$L$10:$L$23,$M$10:$M$23,0))","v":3},3,{"$f":"IFERROR(ROUND(VLOOKUP(A64,'Dados de entrada'!$P$7:$Z$50,Dados_v2!D64+1,0)*H64,0),0)","v":57},"CO",{"$f":"IF(OR(D64=$M$15,D64=$M$20),SUM(IF((A64=$O$10:$O$29),IF(C64=$P$9,$P$10:$P$29,$Q$10:$Q$29),0))/100,1)","v":1},1.47826086956521]
[2004,"Microonibus","Diesel",{"$f":"SUM(IF(B65=$L$10:$L$23,$M$10:$M$23,0))","v":3},3,{"$f":"IFERROR(ROUND(VLOOKUP(A65,'Dados de entrada'!$P$7:$Z$50,Dados_v2!D65+1,0)*H65,0),0)","v":84},"CO",{"$f":"IF(OR(D65=$M$15,D65=$M$20),SUM(IF((A65=$O$10:$O$29),IF(C65=$P$9,$P$10:$P$29,$Q$10:$Q$29),0))/100,1)","v":1},1.41]
[2005,"Microonibus","Diesel",{"$f":"SUM(IF(B66=$L$10:$L$23,$M$10:$M$23,0))","v":3},3,{"$f":"IFERROR(ROUND(VLOOKUP(A66,'Dados de entrada'!$P$7:$Z$50,Dados_v2!D66+1,0)*H66,0),0)","v":77},"CO",{"$f":"IF(OR(D66=$M$15,D66=$M$20),SUM(IF((A66=$O$10:$O$29),IF(C66=$P$9,$P$10:$P$29,$Q$10:$Q$29),0))/100,1)","v":1},1.41]
[2006,"Microonibus","Diesel",{"$f":"SUM(IF(B67=$L$10:$L$23,$M$10:$M$23,0))","v":3},3,{"$f":"IFERROR(ROUND(VLOOKUP(A67,'Dados de entrada'!$P$7:$Z$50,Dados_v2!D67+1,0)*H67,0),0)","v":125},"CO",{"$f":"IF(OR(D67=$M$15,D67=$M$20),SUM(IF((A67=$O$10:$O$29),IF(C67=$P$9,$P$10:$P$29,$Q$10:$Q$29),0))/100,1)","v":1},1.56052705050715]
[2007,"Microonibus","Diesel",{"$f":"SUM(IF(B68=$L$10:$L$23,$M$10:$M$23,0))","v":3},3,{"$f":"IFERROR(ROUND(VLOOKUP(A68,'Dados de entrada'!$P$7:$Z$50,Dados_v2!D68+1,0)*H68,0),0)","v":157},"CO",{"$f":"IF(OR(D68=$M$15,D68=$M$20),SUM(IF((A68=$O$10:$O$29),IF(C68=$P$9,$P$10:$P$29,$Q$10:$Q$29),0))/100,1)","v":1},1.56052705050715]
[2008,"Microonibus","Diesel",{"$f":"SUM(IF(B69=$L$10:$L$23,$M$10:$M$23,0))","v":3},3,{"$f":"IFERROR(ROUND(VLOOKUP(A69,'Dados de entrada'!$P$7:$Z$50,Dados_v2!D69+1,0)*H69,0),0)","v":267},"CO",{"$f":"IF(OR(D69=$M$15,D69=$M$20),SUM(IF((A69=$O$10:$O$29),IF(C69=$P$9,$P$10:$P$29,$Q$10:$Q$29),0))/100,1)","v":1},0.83566138325374995]
[2009,"Microonibus","Diesel",{"$f":"SUM(IF(B70=$L$10:$L$23,$M$10:$M$23,0))","v":3},3,{"$f":"IFERROR(ROUND(VLOOKUP(A70,'Dados de entrada'!$P$7:$Z$50,Dados_v2!D70+1,0)*H70,0),0)","v":234},"CO",{"$f":"IF(OR(D70=$M$15,D70=$M$20),SUM(IF((A70=$O$10:$O$29),IF(C70=$P$9,$P$10:$P$29,$Q$10:$Q$29),0))/100,1)","v":1},0.76137886009009503]
[2010,"Microonibus","Diesel",{"$f":"SUM(IF(B71=$L$10:$L$23,$M$10:$M$23,0))","v":3},3,{"$f":"IFERROR(ROUND(VLOOKUP(A71,'Dados de entrada'!$P$7:$Z$50,Dados_v2!D71+1,0)*H71,0),0)","v":148},"CO",{"$f":"IF(OR(D71=$M$15,D71=$M$20),SUM(IF((A71=$O$10:$O$29),IF(C71=$P$9,$P$10:$P$29,$Q$10:$Q$29),0))/100,1)","v":1},1.2080754863374901]
[2011,"Microonibus","Diesel",{"$f":"SUM(IF(B72=$L$10:$L$23,$M$10:$M$23,0))","v":3},3,{"$f":"IFERROR(ROUND(VLOOKUP(A72,'Dados de entrada'!$P$7:$Z$50,Dados_v2!D72+1,0)*H72,0),0)","v":408},"CO",{"$f":"IF(OR(D72=$M$15,D72=$M$20),SUM(IF((A72=$O$10:$O$29),IF(C72=$P$9,$P$10:$P$29,$Q$10:$Q$29),0))/100,1)","v":1},1.17660165231476]
[2012,"Microonibus","Diesel",{"$f":"SUM(IF(B73=$L$10:$L$23,$M$10:$M$23,0))","v":3},3,{"$f":"IFERROR(ROUND(VLOOKUP(A73,'Dados de entrada'!$P$7:$Z$50,Dados_v2!D73+1,0)*H73,0),0)","v":369},"CO",{"$f":"IF(OR(D73=$M$15,D73=$M$20),SUM(IF((A73=$O$10:$O$29),IF(C73=$P$9,$P$10:$P$29,$Q$10:$Q$29),0))/100,1)","v":1},0.21315720609855199]
[2013,"Microonibus","Diesel",{"$f":"SUM(IF(B74=$L$10:$L$23,$M$10:$M$23,0))","v":3},3,{"$f":"IFERROR(ROUND(VLOOKUP(A74,'Dados de entrada'!$P$7:$Z$50,Dados_v2!D74+1,0)*H74,0),0)","v":391},"CO",{"$f":"IF(OR(D74=$M$15,D74=$M$20),SUM(IF((A74=$O$10:$O$29),IF(C74=$P$9,$P$10:$P$29,$Q$10:$Q$29),0))/100,1)","v":1},0.13151216257696499]
[2014,"Microonibus","Diesel",{"$f":"SUM(IF(B75=$L$10:$L$23,$M$10:$M$23,0))","v":3},3,{"$f":"IFERROR(ROUND(VLOOKUP(A75,'Dados de entrada'!$P$7:$Z$50,Dados_v2!D75+1,0)*H75,0),0)","v":473},"CO",{"$f":"IF(OR(D75=$M$15,D75=$M$20),SUM(IF((A75=$O$10:$O$29),IF(C75=$P$9,$P$10:$P$29,$Q$10:$Q$29),0))/100,1)","v":1},0.13151216257696499]
[2015,"Microonibus","Diesel",{"$f":"SUM(IF(B76=$L$10:$L$23,$M$10:$M$23,0))","v":3},3,{"$f":"IFERROR(ROUND(VLOOKUP(A76,'Dados de entrada'!$P$7:$Z$50,Dados_v2!D76+1,0)*H76,0),0)","v":187},"CO",{"$f":"IF(OR(D76=$M$15,D76=$M$20),SUM(IF((A76=$O$10:$O$29),IF(C76=$P$9,$P$10:$P$29,$Q$10:$Q$29),0))/100,1)","v":1},0.13200000000000001]
[2016,"Microonibus","Diesel",{"$f":"SUM(IF(B77=$L$10:$L$23,$M$10:$M$23,0))","v":3},3,{"$f":"IFERROR(ROUND(VLOOKUP(A77,'Dados de entrada'!$P$7:$Z$50,Dados_v2!D77+1,0)*H77,0),0)","v":168},"CO",{"$f":"IF(OR(D77=$M$15,D77=$M$20),SUM(IF((A77=$O$10:$O$29),IF(C77=$P$9,$P$10:$P$29,$Q$10:$Q$29),0))/100,1)","v":1},7.2143149802188694E-2]
[2017,"Microonibus","Diesel",{"$f":"SUM(IF(B78=$L$10:$L$23,$M$10:$M$23,0))","v":3},3,{"$f":"IFERROR(ROUND(VLOOKUP(A78,'Dados de entrada'!$P$7:$Z$50,Dados_v2!D78+1,0)*H78,0),0)","v":93},"CO",{"$f":"IF(OR(D78=$M$15,D78=$M$20),SUM(IF((A78=$O$10:$O$29),IF(C78=$P$9,$P$10:$P$29,$Q$10:$Q$29),0))/100,1)","v":1},8.1092444741463196E-2]
[2018,"Microonibus","Diesel",{"$f":"SUM(IF(B79=$L$10:$L$23,$M$10:$M$23,0))","v":3},3,{"$f":"IFERROR(ROUND(VLOOKUP(A79,'Dados de entrada'!$P$7:$Z$50,Dados_v2!D79+1,0)*H79,0),0)","v":173},"CO",{"$f":"IF(OR(D79=$M$15,D79=$M$20),SUM(IF((A79=$O$10:$O$29),IF(C79=$P$9,$P$10:$P$29,$Q$10:$Q$29),0))/100,1)","v":1},0.121719737469533]
[2019,"Microonibus","Diesel",{"$f":"SUM(IF(B80=$L$10:$L$23,$M$10:$M$23,0))","v":3},3,{"$f":"IFERROR(ROUND(VLOOKUP(A80,'Dados de entrada'!$P$7:$Z$50,Dados_v2!D80+1,0)*H80,0),0)","v":272},"CO",{"$f":"IF(OR(D80=$M$15,D80=$M$20),SUM(IF((A80=$O$10:$O$29),IF(C80=$P$9,$P$10:$P$29,$Q$10:$Q$29),0))/100,1)","v":1},0.15393534725823799]
[2020,"Microonibus","Diesel",{"$f":"SUM(IF(B81=$L$10:$L$23,$M$10:$M$23,0))","v":3},3,{"$f":"IFERROR(ROUND(VLOOKUP(A81,'Dados de entrada'!$P$7:$Z$50,Dados_v2!D81+1,0)*H81,0),0)","v":238},"CO",{"$f":"IF(OR(D81=$M$15,D81=$M$20),SUM(IF((A81=$O$10:$O$29),IF(C81=$P$9,$P$10:$P$29,$Q$10:$Q$29),0))/100,1)","v":1},0.14323393589446301]
[2021,"Microonibus","Diesel",{"$f":"SUM(IF(B82=$L$10:$L$23,$M$10:$M$23,0))","v":3},3,{"$f":"IFERROR(ROUND(VLOOKUP(A82,'Dados de entrada'!$P$7:$Z$50,Dados_v2!D82+1,0)*H82,0),0)","v":412},"CO",{"$f":"IF(OR(D82=$M$15,D82=$M$20),SUM(IF((A82=$O$10:$O$29),IF(C82=$P$9,$P$10:$P$29,$Q$10:$Q$29),0))/100,1)","v":1},0.19635132321801799]
[2022,"Microonibus","Diesel",{"$f":"SUM(IF(B83=$L$10:$L$23,$M$10:$M$23,0))","v":3},3,{"$f":"IFERROR(ROUND(VLOOKUP(A83,'Dados de entrada'!$P$7:$Z$50,Dados_v2!D83+1,0)*H83,0),0)","v":470},"CO",{"$f":"IF(OR(D83=$M$15,D83=$M$20),SUM(IF((A83=$O$10:$O$29),IF(C83=$P$9,$P$10:$P$29,$Q$10:$Q$29),0))/100,1)","v":1},0.24765262907367599]
[1983,"Caminhao","Diesel",{"$f":"SUM(IF(B84=$L$10:$L$23,$M$10:$M$23,0))","v":4},4,{"$f":"IFERROR(ROUND(VLOOKUP(A84,'Dados de entrada'!$P$7:$Z$50,Dados_v2!D84+1,0)*H84,0),0)","v":147},"CO",{"$f":"IF(OR(D84=$M$15,D84=$M$20),SUM(IF((A84=$O$10:$O$29),IF(C84=$P$9,$P$10:$P$29,$Q$10:$Q$29),0))/100,1)","v":1},1.25]
[1984,"Caminhao","Diesel",{"$f":"SUM(IF(B85=$L$10:$L$23,$M$10:$M$23,0))","v":4},4,{"$f":"IFERROR(ROUND(VLOOKUP(A85,'Dados de entrada'!$P$7:$Z$50,Dados_v2!D85+1,0)*H85,0),0)","v":159},"CO",{"$f":"IF(OR(D85=$M$15,D85=$M$20),SUM(IF((A85=$O$10:$O$29),IF(C85=$P$9,$P$10:$P$29,$Q$10:$Q$29),0))/100,1)","v":1},1.25]
[1985,"Caminhao","Diesel",{"$f":"SUM(IF(B86=$L$10:$L$23,$M$10:$M$23,0))","v":4},4,{"$f":"IFERROR(ROUND(VLOOKUP(A86,'Dados de entrada'!$P$7:$Z$50,Dados_v2!D86+1,0)*H86,0),0)","v":248},"CO",{"$f":"IF(OR(D86=$M$15,D86=$M$20),SUM(IF((A86=$O$10:$O$29),IF(C86=$P$9,$P$10:$P$29,$Q$10:$Q$29),0))/100,1)","v":1},1.25]
[1986,"Caminhao","Diesel",{"$f":"SUM(IF(B87=$L$10:$L$23,$M$10:$M$23,0))","v":4},4,{"$f":"IFERROR(ROUND(VLOOKUP(A87,'Dados de entrada'!$P$7:$Z$50,Dados_v2!D87+1,0)*H87,0),0)","v":444},"CO",{"$f":"IF(OR(D87=$M$15,D87=$M$20),SUM(IF((A87=$O$10:$O$29),IF(C87=$P$9,$P$10:$P$29,$Q$10:$Q$29),0))/100,1)","v":1},1.25]
[1987,"Caminhao","Diesel",{"$f":"SUM(IF(B88=$L$10:$L$23,$M$10:$M$23,0))","v":4},4,{"$f":"IFERROR(ROUND(VLOOKUP(A88,'Dados de entrada'!$P$7:$Z$50,Dados_v2!D88+1,0)*H88,0),0)","v":378},"CO",{"$f":"IF(OR(D88=$M$15,D88=$M$20),SUM(IF((A88=$O$10:$O$29),IF(C88=$P$9,$P$10:$P$29,$Q$10:$Q$29),0))/100,1)","v":1},1.25]
[1988,"Caminhao","Diesel",{"$f":"SUM(IF(B89=$L$10:$L$23,$M$10:$M$23,0))","v":4},4,{"$f":"IFERROR(ROUND(VLOOKUP(A89,'Dados de entrada'!$P$7:$Z$50,Dados_v2!D89+1,0)*H89,0),0)","v":302},"CO",{"$f":"IF(OR(D89=$M$15,D89=$M$20),SUM(IF((A89=$O$10:$O$29),IF(C89=$P$9,$P$10:$P$29,$Q$10:$Q$29),0))/100,1)","v":1},1.25]
[1989,"Caminhao","Diesel",{"$f":"SUM(IF(B90=$L$10:$L$23,$M$10:$M$23,0))","v":4},4,{"$f":"IFERROR(ROUND(VLOOKUP(A90,'Dados de entrada'!$P$7:$Z$50,Dados_v2!D90+1,0)*H90,0),0)","v":332},"CO",{"$f":"IF(OR(D90=$M$15,D90=$M$20),SUM(IF((A90=$O$10:$O$29),IF(C90=$P$9,$P$10:$P$29,$Q$10:$Q$29),0))/100,1)","v":1},1.25]
[1990,"Caminhao","Diesel",{"$f":"SUM(IF(B91=$L$10:$L$23,$M$10:$M$23,0))","v":4},4,{"$f":"IFERROR(ROUND(VLOOKUP(A91,'Dados de entrada'!$P$7:$Z$50,Dados_v2!D91+1,0)*H91,0),0)","v":316},"CO",{"$f":"IF(OR(D91=$M$15,D91=$M$20),SUM(IF((A91=$O$10:$O$29),IF(C91=$P$9,$P$10:$P$29,$Q$10:$Q$29),0))/100,1)","v":1},1.25]
[1991,"Caminhao","Diesel",{"$f":"SUM(IF(B92=$L$10:$L$23,$M$10:$M$23,0))","v":4},4,{"$f":"IFERROR(ROUND(VLOOKUP(A92,'Dados de entrada'!$P$7:$Z$50,Dados_v2!D92+1,0)*H92,0),0)","v":273},"CO",{"$f":"IF(OR(D92=$M$15,D92=$M$20),SUM(IF((A92=$O$10:$O$29),IF(C92=$P$9,$P$10:$P$29,$Q$10:$Q$29),0))/100,1)","v":1},1.25]
[1992,"Caminhao","Diesel",{"$f":"SUM(IF(B93=$L$10:$L$23,$M$10:$M$23,0))","v":4},4,{"$f":"IFERROR(ROUND(VLOOKUP(A93,'Dados de entrada'!$P$7:$Z$50,Dados_v2!D93+1,0)*H93,0),0)","v":258},"CO",{"$f":"IF(OR(D93=$M$15,D93=$M$20),SUM(IF((A93=$O$10:$O$29),IF(C93=$P$9,$P$10:$P$29,$Q$10:$Q$29),0))/100,1)","v":1},1.25]
[1993,"Caminhao","Diesel",{"$f":"SUM(IF(B94=$L$10:$L$23,$M$10:$M$23,0))","v":4},4,{"$f":"IFERROR(ROUND(VLOOKUP(A94,'Dados de entrada'!$P$7:$Z$50,Dados_v2!D94+1,0)*H94,0),0)","v":189},"CO",{"$f":"IF(OR(D94=$M$15,D94=$M$20),SUM(IF((A94=$O$10:$O$29),IF(C94=$P$9,$P$10:$P$29,$Q$10:$Q$29),0))/100,1)","v":1},1.25]
[1994,"Caminhao","Diesel",{"$f":"SUM(IF(B95=$L$10:$L$23,$M$10:$M$23,0))","v":4},4,{"$f":"IFERROR(ROUND(VLOOKUP(A95,'Dados de entrada'!$P$7:$Z$50,Dados_v2!D95+1,0)*H95,0),0)","v":327},"CO",{"$f":"IF(OR(D95=$M$15,D95=$M$20),SUM(IF((A95=$O$10:$O$29),IF(C95=$P$9,$P$10:$P$29,$Q$10:$Q$29),0))/100,1)","v":1},1.25]
[1995,"Caminhao","Diesel",{"$f":"SUM(IF(B96=$L$10:$L$23,$M$10:$M$23,0))","v":4},4,{"$f":"IFERROR(ROUND(VLOOKUP(A96,'Dados de entrada'!$P$7:$Z$50,Dados_v2!D96+1,0)*H96,0),0)","v":527},"CO",{"$f":"IF(OR(D96=$M$15,D96=$M$20),SUM(IF((A96=$O$10:$O$29),IF(C96=$P$9,$P$10:$P$29,$Q$10:$Q$29),0))/100,1)","v":1},1.25]
[1996,"Caminhao","Diesel",{"$f":"SUM(IF(B97=$L$10:$L$23,$M$10:$M$23,0))","v":4},4,{"$f":"IFERROR(ROUND(VLOOKUP(A97,'Dados de entrada'!$P$7:$Z$50,Dados_v2!D97+1,0)*H97,0),0)","v":321},"CO",{"$f":"IF(OR(D97=$M$15,D97=$M$20),SUM(IF((A97=$O$10:$O$29),IF(C97=$P$9,$P$10:$P$29,$Q$10:$Q$29),0))/100,1)","v":1},1.25]
[1997,"Caminhao","Diesel",{"$f":"SUM(IF(B98=$L$10:$L$23,$M$10:$M$23,0))","v":4},4,{"$f":"IFERROR(ROUND(VLOOKUP(A98,'Dados de entrada'!$P$7:$Z$50,Dados_v2!D98+1,0)*H98,0),0)","v":613},"CO",{"$f":"IF(OR(D98=$M$15,D98=$M$20),SUM(IF((A98=$O$10:$O$29),IF(C98=$P$9,$P$10:$P$29,$Q$10:$Q$29),0))/100,1)","v":1},1.25]
[1998,"Caminhao","Diesel",{"$f":"SUM(IF(B99=$L$10:$L$23,$M$10:$M$23,0))","v":4},4,{"$f":"IFERROR(ROUND(VLOOKUP(A99,'Dados de entrada'!$P$7:$Z$50,Dados_v2!D99+1,0)*H99,0),0)","v":641},"CO",{"$f":"IF(OR(D99=$M$15,D99=$M$20),SUM(IF((A99=$O$10:$O$29),IF(C99=$P$9,$P$10:$P$29,$Q$10:$Q$29),0))/100,1)","v":1},1.25]
[1999,"Caminhao","Diesel",{"$f":"SUM(IF(B100=$L$10:$L$23,$M$10:$M$23,0))","v":4},4,{"$f":"IFERROR(ROUND(VLOOKUP(A100,'Dados de entrada'!$P$7:$Z$50,Dados_v2!D100+1,0)*H100,0),0)","v":481},"CO",{"$f":"IF(OR(D100=$M$15,D100=$M$20),SUM(IF((A100=$O$10:$O$29),IF(C100=$P$9,$P$10:$P$29,$Q$10:$Q$29),0))/100,1)","v":1},1.25]
[2000,"Caminhao","Diesel",{"$f":"SUM(IF(B101=$L$10:$L$23,$M$10:$M$23,0))","v":4},4,{"$f":"IFERROR(ROUND(VLOOKUP(A101,'Dados de entrada'!$P$7:$Z$50,Dados_v2!D101+1,0)*H101,0),0)","v":489},"CO",{"$f":"IF(OR(D101=$M$15,D101=$M$20),SUM(IF((A101=$O$10:$O$29),IF(C101=$P$9,$P$10:$P$29,$Q$10:$Q$29),0))/100,1)","v":1},1.1240000000000001]
[2001,"Caminhao","Diesel",{"$f":"SUM(IF(B102=$L$10:$L$23,$M$10:$M$23,0))","v":4},4,{"$f":"IFERROR(ROUND(VLOOKUP(A102,'Dados de entrada'!$P$7:$Z$50,Dados_v2!D102+1,0)*H102,0),0)","v":620},"CO",{"$f":"IF(OR(D102=$M$15,D102=$M$20),SUM(IF((A102=$O$10:$O$29),IF(C102=$P$9,$P$10:$P$29,$Q$10:$Q$29),0))/100,1)","v":1},1.1240000000000001]
[2002,"Caminhao","Diesel",{"$f":"SUM(IF(B103=$L$10:$L$23,$M$10:$M$23,0))","v":4},4,{"$f":"IFERROR(ROUND(VLOOKUP(A103,'Dados de entrada'!$P$7:$Z$50,Dados_v2!D103+1,0)*H103,0),0)","v":509},"CO",{"$f":"IF(OR(D103=$M$15,D103=$M$20),SUM(IF((A103=$O$10:$O$29),IF(C103=$P$9,$P$10:$P$29,$Q$10:$Q$29),0))/100,1)","v":1},0.61199999999999999]
[2003,"Caminhao","Diesel",{"$f":"SUM(IF(B104=$L$10:$L$23,$M$10:$M$23,0))","v":4},4,{"$f":"IFERROR(ROUND(VLOOKUP(A104,'Dados de entrada'!$P$7:$Z$50,Dados_v2!D104+1,0)*H104,0),0)","v":456},"CO",{"$f":"IF(OR(D104=$M$15,D104=$M$20),SUM(IF((A104=$O$10:$O$29),IF(C104=$P$9,$P$10:$P$29,$Q$10:$Q$29),0))/100,1)","v":1},0.61199999999999999]
[2004,"Caminhao","Diesel",{"$f":"SUM(IF(B105=$L$10:$L$23,$M$10:$M$23,0))","v":4},4,{"$f":"IFERROR(ROUND(VLOOKUP(A105,'Dados de entrada'!$P$7:$Z$50,Dados_v2!D105+1,0)*H105,0),0)","v":686},"CO",{"$f":"IF(OR(D105=$M$15,D105=$M$20),SUM(IF((A105=$O$10:$O$29),IF(C105=$P$9,$P$10:$P$29,$Q$10:$Q$29),0))/100,1)","v":1},0.57999999999999996]
[2005,"Caminhao","Diesel",{"$f":"SUM(IF(B106=$L$10:$L$23,$M$10:$M$23,0))","v":4},4,{"$f":"IFERROR(ROUND(VLOOKUP(A106,'Dados de entrada'!$P$7:$Z$50,Dados_v2!D106+1,0)*H106,0),0)","v":824},"CO",{"$f":"IF(OR(D106=$M$15,D106=$M$20),SUM(IF((A106=$O$10:$O$29),IF(C106=$P$9,$P$10:$P$29,$Q$10:$Q$29),0))/100,1)","v":1},0.57999999999999996]
[2006,"Caminhao","Diesel",{"$f":"SUM(IF(B107=$L$10:$L$23,$M$10:$M$23,0))","v":4},4,{"$f":"IFERROR(ROUND(VLOOKUP(A107,'Dados de entrada'!$P$7:$Z$50,Dados_v2!D107+1,0)*H107,0),0)","v":852},"CO",{"$f":"IF(OR(D107=$M$15,D107=$M$20),SUM(IF((A107=$O$10:$O$29),IF(C107=$P$9,$P$10:$P$29,$Q$10:$Q$29),0))/100,1)","v":1},0.66500000000000004]
[2007,"Caminhao","Diesel",{"$f":"SUM(IF(B108=$L$10:$L$23,$M$10:$M$23,0))","v":4},4,{"$f":"IFERROR(ROUND(VLOOKUP(A108,'Dados de entrada'!$P$7:$Z$50,Dados_v2!D108+1,0)*H108,0),0)","v":738},"CO",{"$f":"IF(OR(D108=$M$15,D108=$M$20),SUM(IF((A108=$O$10:$O$29),IF(C108=$P$9,$P$10:$P$29,$Q$10:$Q$29),0))/100,1)","v":1},0.66500000000000004]
[2008,"Caminhao","Diesel",{"$f":"SUM(IF(B109=$L$10:$L$23,$M$10:$M$23,0))","v":4},4,{"$f":"IFERROR(ROUND(VLOOKUP(A109,'Dados de entrada'!$P$7:$Z$50,Dados_v2!D109+1,0)*H109,0),0)","v":1217},"CO",{"$f":"IF(OR(D109=$M$15,D109=$M$20),SUM(IF((A109=$O$10:$O$29),IF(C109=$P$9,$P$10:$P$29,$Q$10:$Q$29),0))/100,1)","v":1},0.49]
[2009,"Caminhao","Diesel",{"$f":"SUM(IF(B110=$L$10:$L$23,$M$10:$M$23,0))","v":4},4,{"$f":"IFERROR(ROUND(VLOOKUP(A110,'Dados de entrada'!$P$7:$Z$50,Dados_v2!D110+1,0)*H110,0),0)","v":1418},"CO",{"$f":"IF(OR(D110=$M$15,D110=$M$20),SUM(IF((A110=$O$10:$O$29),IF(C110=$P$9,$P$10:$P$29,$Q$10:$Q$29),0))/100,1)","v":1},0.48399999999999999]
[2010,"Caminhao","Diesel",{"$f":"SUM(IF(B111=$L$10:$L$23,$M$10:$M$23,0))","v":4},4,{"$f":"IFERROR(ROUND(VLOOKUP(A111,'Dados de entrada'!$P$7:$Z$50,Dados_v2!D111+1,0)*H111,0),0)","v":1874},"CO",{"$f":"IF(OR(D111=$M$15,D111=$M$20),SUM(IF((A111=$O$10:$O$29),IF(C111=$P$9,$P$10:$P$29,$Q$10:$Q$29),0))/100,1)","v":1},0.48099999999999998]
[2011,"Caminhao","Diesel",{"$f":"SUM(IF(B112=$L$10:$L$23,$M$10:$M$23,0))","v":4},4,{"$f":"IFERROR(ROUND(VLOOKUP(A112,'Dados de entrada'!$P$7:$Z$50,Dados_v2!D112+1,0)*H112,0),0)","v":2231},"CO",{"$f":"IF(OR(D112=$M$15,D112=$M$20),SUM(IF((A112=$O$10:$O$29),IF(C112=$P$9,$P$10:$P$29,$Q$10:$Q$29),0))/100,1)","v":1},0.51500000000000001]
[2012,"Caminhao","Diesel",{"$f":"SUM(IF(B113=$L$10:$L$23,$M$10:$M$23,0))","v":4},4,{"$f":"IFERROR(ROUND(VLOOKUP(A113,'Dados de entrada'!$P$7:$Z$50,Dados_v2!D113+1,0)*H113,0),0)","v":1796},"CO",{"$f":"IF(OR(D113=$M$15,D113=$M$20),SUM(IF((A113=$O$10:$O$29),IF(C113=$P$9,$P$10:$P$29,$Q$10:$Q$29),0))/100,1)","v":1},0.124]
[2013,"Caminhao","Diesel",{"$f":"SUM(IF(B114=$L$10:$L$23,$M$10:$M$23,0))","v":4},4,{"$f":"IFERROR(ROUND(VLOOKUP(A114,'Dados de entrada'!$P$7:$Z$50,Dados_v2!D114+1,0)*H114,0),0)","v":2092},"CO",{"$f":"IF(OR(D114=$M$15,D114=$M$20),SUM(IF((A114=$O$10:$O$29),IF(C114=$P$9,$P$10:$P$29,$Q$10:$Q$29),0))/100,1)","v":1},8.1000000000000003E-2]
[2014,"Caminhao","Diesel",{"$f":"SUM(IF(B115=$L$10:$L$23,$M$10:$M$23,0))","v":4},4,{"$f":"IFERROR(ROUND(VLOOKUP(A115,'Dados de entrada'!$P$7:$Z$50,Dados_v2!D115+1,0)*H115,0),0)","v":1273},"CO",{"$f":"IF(OR(D115=$M$15,D115=$M$20),SUM(IF((A115=$O$10:$O$29),IF(C115=$P$9,$P$10:$P$29,$Q$10:$Q$29),0))/100,1)","v":1},8.1000000000000003E-2]
[2015,"Caminhao","Diesel",{"$f":"SUM(IF(B116=$L$10:$L$23,$M$10:$M$23,0))","v":4},4,{"$f":"IFERROR(ROUND(VLOOKUP(A116,'Dados de entrada'!$P$7:$Z$50,Dados_v2!D116+1,0)*H116,0),0)","v":717},"CO",{"$f":"IF(OR(D116=$M$15,D116=$M$20),SUM(IF((A116=$O$10:$O$29),IF(C116=$P$9,$P$10:$P$29,$Q$10:$Q$29),0))/100,1)","v":1},8.1000000000000003E-2]
[2016,"Caminhao","Diesel",{"$f":"SUM(IF(B117=$L$10:$L$23,$M$10:$M$23,0))","v":4},4,{"$f":"IFERROR(ROUND(VLOOKUP(A117,'Dados de entrada'!$P$7:$Z$50,Dados_v2!D117+1,0)*H117,0),0)","v":570},"CO",{"$f":"IF(OR(D117=$M$15,D117=$M$20),SUM(IF((A117=$O$10:$O$29),IF(C117=$P$9,$P$10:$P$29,$Q$10:$Q$29),0))/100,1)","v":1},9.1090454757870198E-2]
[2017,"Caminhao","Diesel",{"$f":"SUM(IF(B118=$L$10:$L$23,$M$10:$M$23,0))","v":4},4,{"$f":"IFERROR(ROUND(VLOOKUP(A118,'Dados de entrada'!$P$7:$Z$50,Dados_v2!D118+1,0)*H118,0),0)","v":299},"CO",{"$f":"IF(OR(D118=$M$15,D118=$M$20),SUM(IF((A118=$O$10:$O$29),IF(C118=$P$9,$P$10:$P$29,$Q$10:$Q$29),0))/100,1)","v":1},0.102250318525911]
[2018,"Caminhao","Diesel",{"$f":"SUM(IF(B119=$L$10:$L$23,$M$10:$M$23,0))","v":4},4,{"$f":"IFERROR(ROUND(VLOOKUP(A119,'Dados de entrada'!$P$7:$Z$50,Dados_v2!D119+1,0)*H119,0),0)","v":699},"CO",{"$f":"IF(OR(D119=$M$15,D119=$M$20),SUM(IF((A119=$O$10:$O$29),IF(C119=$P$9,$P$10:$P$29,$Q$10:$Q$29),0))/100,1)","v":1},0.20800347421336901]
[2019,"Caminhao","Diesel",{"$f":"SUM(IF(B120=$L$10:$L$23,$M$10:$M$23,0))","v":4},4,{"$f":"IFERROR(ROUND(VLOOKUP(A120,'Dados de entrada'!$P$7:$Z$50,Dados_v2!D120+1,0)*H120,0),0)","v":1163},"CO",{"$f":"IF(OR(D120=$M$15,D120=$M$20),SUM(IF((A120=$O$10:$O$29),IF(C120=$P$9,$P$10:$P$29,$Q$10:$Q$29),0))/100,1)","v":1},0.20335462513854499]
[2020,"Caminhao","Diesel",{"$f":"SUM(IF(B121=$L$10:$L$23,$M$10:$M$23,0))","v":4},4,{"$f":"IFERROR(ROUND(VLOOKUP(A121,'Dados de entrada'!$P$7:$Z$50,Dados_v2!D121+1,0)*H121,0),0)","v":1472},"CO",{"$f":"IF(OR(D121=$M$15,D121=$M$20),SUM(IF((A121=$O$10:$O$29),IF(C121=$P$9,$P$10:$P$29,$Q$10:$Q$29),0))/100,1)","v":1},0.140814064778748]
[2021,"Caminhao","Diesel",{"$f":"SUM(IF(B122=$L$10:$L$23,$M$10:$M$23,0))","v":4},4,{"$f":"IFERROR(ROUND(VLOOKUP(A122,'Dados de entrada'!$P$7:$Z$50,Dados_v2!D122+1,0)*H122,0),0)","v":2067},"CO",{"$f":"IF(OR(D122=$M$15,D122=$M$20),SUM(IF((A122=$O$10:$O$29),IF(C122=$P$9,$P$10:$P$29,$Q$10:$Q$29),0))/100,1)","v":1},0.154566412802914]
[2022,"Caminhao","Diesel",{"$f":"SUM(IF(B123=$L$10:$L$23,$M$10:$M$23,0))","v":4},4,{"$f":"IFERROR(ROUND(VLOOKUP(A123,'Dados de entrada'!$P$7:$Z$50,Dados_v2!D123+1,0)*H123,0),0)","v":4601},"CO",{"$f":"IF(OR(D123=$M$15,D123=$M$20),SUM(IF((A123=$O$10:$O$29),IF(C123=$P$9,$P$10:$P$29,$Q$10:$Q$29),0))/100,1)","v":1},0.1784560457561]
[1983,"Moto-Gasolina","Gasolina",{"$f":"SUM(IF(B124=$L$10:$L$23,$M$10:$M$23,0))","v":5},2,{"$f":"IFERROR(ROUND(VLOOKUP(A124,'Dados de entrada'!$P$7:$Z$50,Dados_v2!D124+1,0)*H124,0),0)","v":969},"CO",{"$f":"IF(OR(D124=$M$15,D124=$M$20),SUM(IF((A124=$O$10:$O$29),IF(C124=$P$9,$P$10:$P$29,$Q$10:$Q$29),0))/100,1)","v":1},6.7439499999999999]
[1984,"Moto-Gasolina","Gasolina",{"$f":"SUM(IF(B125=$L$10:$L$23,$M$10:$M$23,0))","v":5},2,{"$f":"IFERROR(ROUND(VLOOKUP(A125,'Dados de entrada'!$P$7:$Z$50,Dados_v2!D125+1,0)*H125,0),0)","v":633},"CO",{"$f":"IF(OR(D125=$M$15,D125=$M$20),SUM(IF((A125=$O$10:$O$29),IF(C125=$P$9,$P$10:$P$29,$Q$10:$Q$29),0))/100,1)","v":1},6.7439499999999999]
[1985,"Moto-Gasolina","Gasolina",{"$f":"SUM(IF(B126=$L$10:$L$23,$M$10:$M$23,0))","v":5},2,{"$f":"IFERROR(ROUND(VLOOKUP(A126,'Dados de entrada'!$P$7:$Z$50,Dados_v2!D126+1,0)*H126,0),0)","v":473},"CO",{"$f":"IF(OR(D126=$M$15,D126=$M$20),SUM(IF((A126=$O$10:$O$29),IF(C126=$P$9,$P$10:$P$29,$Q$10:$Q$29),0))/100,1)","v":1},6.7439499999999999]
[1986,"Moto-Gasolina","Gasolina",{"$f":"SUM(IF(B127=$L$10:$L$23,$M$10:$M$23,0))","v":5},2,{"$f":"IFERROR(ROUND(VLOOKUP(A127,'Dados de entrada'!$P$7:$Z$50,Dados_v2!D127+1,0)*H127,0),0)","v":765},"CO",{"$f":"IF(OR(D127=$M$15,D127=$M$20),SUM(IF((A127=$O$10:$O$29),IF(C127=$P$9,$P$10:$P$29,$Q$10:$Q$29),0))/100,1)","v":1},6.7439499999999999]
[1987,"Moto-Gasolina","Gasolina",{"$f":"SUM(IF(B128=$L$10:$L$23,$M$10:$M$23,0))","v":5},2,{"$f":"IFERROR(ROUND(VLOOKUP(A128,'Dados de entrada'!$P$7:$Z$50,Dados_v2!D128+1,0)*H128,0),0)","v":883},"CO",{"$f":"IF(OR(D128=$M$15,D128=$M$20),SUM(IF((A128=$O$10:$O$29),IF(C128=$P$9,$P$10:$P$29,$Q$10:$Q$29),0))/100,1)","v":1},6.7439499999999999]
[1988,"Moto-Gasolina","Gasolina",{"$f":"SUM(IF(B129=$L$10:$L$23,$M$10:$M$23,0))","v":5},2,{"$f":"IFERROR(ROUND(VLOOKUP(A129,'Dados de entrada'!$P$7:$Z$50,Dados_v2!D129+1,0)*H129,0),0)","v":922},"CO",{"$f":"IF(OR(D129=$M$15,D129=$M$20),SUM(IF((A129=$O$10:$O$29),IF(C129=$P$9,$P$10:$P$29,$Q$10:$Q$29),0))/100,1)","v":1},6.7439499999999999]
[1989,"Moto-Gasolina","Gasolina",{"$f":"SUM(IF(B130=$L$10:$L$23,$M$10:$M$23,0))","v":5},2,{"$f":"IFERROR(ROUND(VLOOKUP(A130,'Dados de entrada'!$P$7:$Z$50,Dados_v2!D130+1,0)*H130,0),0)","v":702},"CO",{"$f":"IF(OR(D130=$M$15,D130=$M$20),SUM(IF((A130=$O$10:$O$29),IF(C130=$P$9,$P$10:$P$29,$Q$10:$Q$29),0))/100,1)","v":1},6.7439499999999999]
[1990,"Moto-Gasolina","Gasolina",{"$f":"SUM(IF(B131=$L$10:$L$23,$M$10:$M$23,0))","v":5},2,{"$f":"IFERROR(ROUND(VLOOKUP(A131,'Dados de entrada'!$P$7:$Z$50,Dados_v2!D131+1,0)*H131,0),0)","v":881},"CO",{"$f":"IF(OR(D131=$M$15,D131=$M$20),SUM(IF((A131=$O$10:$O$29),IF(C131=$P$9,$P$10:$P$29,$Q$10:$Q$29),0))/100,1)","v":1},6.7439499999999999]
[1991,"Moto-Gasolina","Gasolina",{"$f":"SUM(IF(B132=$L$10:$L$23,$M$10:$M$23,0))","v":5},2,{"$f":"IFERROR(ROUND(VLOOKUP(A132,'Dados de entrada'!$P$7:$Z$50,Dados_v2!D132+1,0)*H132,0),0)","v":631},"CO",{"$f":"IF(OR(D132=$M$15,D132=$M$20),SUM(IF((A132=$O$10:$O$29),IF(C132=$P$9,$P$10:$P$29,$Q$10:$Q$29),0))/100,1)","v":1},6.7439499999999999]
[1992,"Moto-Gasolina","Gasolina",{"$f":"SUM(IF(B133=$L$10:$L$23,$M$10:$M$23,0))","v":5},2,{"$f":"IFERROR(ROUND(VLOOKUP(A133,'Dados de entrada'!$P$7:$Z$50,Dados_v2!D133+1,0)*H133,0),0)","v":524},"CO",{"$f":"IF(OR(D133=$M$15,D133=$M$20),SUM(IF((A133=$O$10:$O$29),IF(C133=$P$9,$P$10:$P$29,$Q$10:$Q$29),0))/100,1)","v":1},6.7439499999999999]
[1993,"Moto-Gasolina","Gasolina",{"$f":"SUM(IF(B134=$L$10:$L$23,$M$10:$M$23,0))","v":5},2,{"$f":"IFERROR(ROUND(VLOOKUP(A134,'Dados de entrada'!$P$7:$Z$50,Dados_v2!D134+1,0)*H134,0),0)","v":316},"CO",{"$f":"IF(OR(D134=$M$15,D134=$M$20),SUM(IF((A134=$O$10:$O$29),IF(C134=$P$9,$P$10:$P$29,$Q$10:$Q$29),0))/100,1)","v":1},6.7439499999999999]
[1994,"Moto-Gasolina","Gasolina",{"$f":"SUM(IF(B135=$L$10:$L$23,$M$10:$M$23,0))","v":5},2,{"$f":"IFERROR(ROUND(VLOOKUP(A135,'Dados de entrada'!$P$7:$Z$50,Dados_v2!D135+1,0)*H135,0),0)","v":559},"CO",{"$f":"IF(OR(D135=$M$15,D135=$M$20),SUM(IF((A135=$O$10:$O$29),IF(C135=$P$9,$P$10:$P$29,$Q$10:$Q$29),0))/100,1)","v":1},6.7439499999999999]
[1995,"Moto-Gasolina","Gasolina",{"$f":"SUM(IF(B136=$L$10:$L$23,$M$10:$M$23,0))","v":5},2,{"$f":"IFERROR(ROUND(VLOOKUP(A136,'Dados de entrada'!$P$7:$Z$50,Dados_v2!D136+1,0)*H136,0),0)","v":1134},"CO",{"$f":"IF(OR(D136=$M$15,D136=$M$20),SUM(IF((A136=$O$10:$O$29),IF(C136=$P$9,$P$10:$P$29,$Q$10:$Q$29),0))/100,1)","v":1},6.7439499999999999]
[1996,"Moto-Gasolina","Gasolina",{"$f":"SUM(IF(B137=$L$10:$L$23,$M$10:$M$23,0))","v":5},2,{"$f":"IFERROR(ROUND(VLOOKUP(A137,'Dados de entrada'!$P$7:$Z$50,Dados_v2!D137+1,0)*H137,0),0)","v":1365},"CO",{"$f":"IF(OR(D137=$M$15,D137=$M$20),SUM(IF((A137=$O$10:$O$29),IF(C137=$P$9,$P$10:$P$29,$Q$10:$Q$29),0))/100,1)","v":1},6.7439499999999999]
[1997,"Moto-Gasolina","Gasolina",{"$f":"SUM(IF(B138=$L$10:$L$23,$M$10:$M$23,0))","v":5},2,{"$f":"IFERROR(ROUND(VLOOKUP(A138,'Dados de entrada'!$P$7:$Z$50,Dados_v2!D138+1,0)*H138,0),0)","v":2602},"CO",{"$f":"IF(OR(D138=$M$15,D138=$M$20),SUM(IF((A138=$O$10:$O$29),IF(C138=$P$9,$P$10:$P$29,$Q$10:$Q$29),0))/100,1)","v":1},6.7439499999999999]
[1998,"Moto-Gasolina","Gasolina",{"$f":"SUM(IF(B139=$L$10:$L$23,$M$10:$M$23,0))","v":5},2,{"$f":"IFERROR(ROUND(VLOOKUP(A139,'Dados de entrada'!$P$7:$Z$50,Dados_v2!D139+1,0)*H139,0),0)","v":2838},"CO",{"$f":"IF(OR(D139=$M$15,D139=$M$20),SUM(IF((A139=$O$10:$O$29),IF(C139=$P$9,$P$10:$P$29,$Q$10:$Q$29),0))/100,1)","v":1},6.7439499999999999]
[1999,"Moto-Gasolina","Gasolina",{"$f":"SUM(IF(B140=$L$10:$L$23,$M$10:$M$23,0))","v":5},2,{"$f":"IFERROR(ROUND(VLOOKUP(A140,'Dados de entrada'!$P$7:$Z$50,Dados_v2!D140+1,0)*H140,0),0)","v":2267},"CO",{"$f":"IF(OR(D140=$M$15,D140=$M$20),SUM(IF((A140=$O$10:$O$29),IF(C140=$P$9,$P$10:$P$29,$Q$10:$Q$29),0))/100,1)","v":1},6.7439499999999999]
[2000,"Moto-Gasolina","Gasolina",{"$f":"SUM(IF(B141=$L$10:$L$23,$M$10:$M$23,0))","v":5},2,{"$f":"IFERROR(ROUND(VLOOKUP(A141,'Dados de entrada'!$P$7:$Z$50,Dados_v2!D141+1,0)*H141,0),0)","v":3136},"CO",{"$f":"IF(OR(D141=$M$15,D141=$M$20),SUM(IF((A141=$O$10:$O$29),IF(C141=$P$9,$P$10:$P$29,$Q$10:$Q$29),0))/100,1)","v":1},6.7439499999999999]
[2001,"Moto-Gasolina","Gasolina",{"$f":"SUM(IF(B142=$L$10:$L$23,$M$10:$M$23,0))","v":5},2,{"$f":"IFERROR(ROUND(VLOOKUP(A142,'Dados de entrada'!$P$7:$Z$50,Dados_v2!D142+1,0)*H142,0),0)","v":3541},"CO",{"$f":"IF(OR(D142=$M$15,D142=$M$20),SUM(IF((A142=$O$10:$O$29),IF(C142=$P$9,$P$10:$P$29,$Q$10:$Q$29),0))/100,1)","v":1},6.7439499999999999]
[2002,"Moto-Gasolina","Gasolina",{"$f":"SUM(IF(B143=$L$10:$L$23,$M$10:$M$23,0))","v":5},2,{"$f":"IFERROR(ROUND(VLOOKUP(A143,'Dados de entrada'!$P$7:$Z$50,Dados_v2!D143+1,0)*H143,0),0)","v":4223},"CO",{"$f":"IF(OR(D143=$M$15,D143=$M$20),SUM(IF((A143=$O$10:$O$29),IF(C143=$P$9,$P$10:$P$29,$Q$10:$Q$29),0))/100,1)","v":1},6.7439499999999999]
[2003,"Moto-Gasolina","Gasolina",{"$f":"SUM(IF(B144=$L$10:$L$23,$M$10:$M$23,0))","v":5},2,{"$f":"IFERROR(ROUND(VLOOKUP(A144,'Dados de entrada'!$P$7:$Z$50,Dados_v2!D144+1,0)*H144,0),0)","v":5047},"CO",{"$f":"IF(OR(D144=$M$15,D144=$M$20),SUM(IF((A144=$O$10:$O$29),IF(C144=$P$9,$P$10:$P$29,$Q$10:$Q$29),0))/100,1)","v":1},6.7439499999999999]
[2004,"Moto-Gasolina","Gasolina",{"$f":"SUM(IF(B145=$L$10:$L$23,$M$10:$M$23,0))","v":5},2,{"$f":"IFERROR(ROUND(VLOOKUP(A145,'Dados de entrada'!$P$7:$Z$50,Dados_v2!D145+1,0)*H145,0),0)","v":4619},"CO",{"$f":"IF(OR(D145=$M$15,D145=$M$20),SUM(IF((A145=$O$10:$O$29),IF(C145=$P$9,$P$10:$P$29,$Q$10:$Q$29),0))/100,1)","v":1},6.7734100000000002]
[2005,"Moto-Gasolina","Gasolina",{"$f":"SUM(IF(B146=$L$10:$L$23,$M$10:$M$23,0))","v":5},2,{"$f":"IFERROR(ROUND(VLOOKUP(A146,'Dados de entrada'!$P$7:$Z$50,Dados_v2!D146+1,0)*H146,0),0)","v":6828},"CO",{"$f":"IF(OR(D146=$M$15,D146=$M$20),SUM(IF((A146=$O$10:$O$29),IF(C146=$P$9,$P$10:$P$29,$Q$10:$Q$29),0))/100,1)","v":1},2.9348299999999998]
[2006,"Moto-Gasolina","Gasolina",{"$f":"SUM(IF(B147=$L$10:$L$23,$M$10:$M$23,0))","v":5},2,{"$f":"IFERROR(ROUND(VLOOKUP(A147,'Dados de entrada'!$P$7:$Z$50,Dados_v2!D147+1,0)*H147,0),0)","v":7519},"CO",{"$f":"IF(OR(D147=$M$15,D147=$M$20),SUM(IF((A147=$O$10:$O$29),IF(C147=$P$9,$P$10:$P$29,$Q$10:$Q$29),0))/100,1)","v":1},1.6825599999999901]
[2007,"Moto-Gasolina","Gasolina",{"$f":"SUM(IF(B148=$L$10:$L$23,$M$10:$M$23,0))","v":5},2,{"$f":"IFERROR(ROUND(VLOOKUP(A148,'Dados de entrada'!$P$7:$Z$50,Dados_v2!D148+1,0)*H148,0),0)","v":12449},"CO",{"$f":"IF(OR(D148=$M$15,D148=$M$20),SUM(IF((A148=$O$10:$O$29),IF(C148=$P$9,$P$10:$P$29,$Q$10:$Q$29),0))/100,1)","v":1},1.9017200000000001]
[2008,"Moto-Gasolina","Gasolina",{"$f":"SUM(IF(B149=$L$10:$L$23,$M$10:$M$23,0))","v":5},2,{"$f":"IFERROR(ROUND(VLOOKUP(A149,'Dados de entrada'!$P$7:$Z$50,Dados_v2!D149+1,0)*H149,0),0)","v":22881},"CO",{"$f":"IF(OR(D149=$M$15,D149=$M$20),SUM(IF((A149=$O$10:$O$29),IF(C149=$P$9,$P$10:$P$29,$Q$10:$Q$29),0))/100,1)","v":1},1.64941]
[2009,"Moto-Gasolina","Gasolina",{"$f":"SUM(IF(B150=$L$10:$L$23,$M$10:$M$23,0))","v":5},2,{"$f":"IFERROR(ROUND(VLOOKUP(A150,'Dados de entrada'!$P$7:$Z$50,Dados_v2!D150+1,0)*H150,0),0)","v":7798},"CO",{"$f":"IF(OR(D150=$M$15,D150=$M$20),SUM(IF((A150=$O$10:$O$29),IF(C150=$P$9,$P$10:$P$29,$Q$10:$Q$29),0))/100,1)","v":1},1.0631900000000001]
[2010,"Moto-Gasolina","Gasolina",{"$f":"SUM(IF(B151=$L$10:$L$23,$M$10:$M$23,0))","v":5},2,{"$f":"IFERROR(ROUND(VLOOKUP(A151,'Dados de entrada'!$P$7:$Z$50,Dados_v2!D151+1,0)*H151,0),0)","v":12526},"CO",{"$f":"IF(OR(D151=$M$15,D151=$M$20),SUM(IF((A151=$O$10:$O$29),IF(C151=$P$9,$P$10:$P$29,$Q$10:$Q$29),0))/100,1)","v":1},1.1344799999999999]
[2011,"Moto-Gasolina","Gasolina",{"$f":"SUM(IF(B152=$L$10:$L$23,$M$10:$M$23,0))","v":5},2,{"$f":"IFERROR(ROUND(VLOOKUP(A152,'Dados de entrada'!$P$7:$Z$50,Dados_v2!D152+1,0)*H152,0),0)","v":10202},"CO",{"$f":"IF(OR(D152=$M$15,D152=$M$20),SUM(IF((A152=$O$10:$O$29),IF(C152=$P$9,$P$10:$P$29,$Q$10:$Q$29),0))/100,1)","v":1},1.0249599999999901]
[2012,"Moto-Gasolina","Gasolina",{"$f":"SUM(IF(B153=$L$10:$L$23,$M$10:$M$23,0))","v":5},2,{"$f":"IFERROR(ROUND(VLOOKUP(A153,'Dados de entrada'!$P$7:$Z$50,Dados_v2!D153+1,0)*H153,0),0)","v":9318},"CO",{"$f":"IF(OR(D153=$M$15,D153=$M$20),SUM(IF((A153=$O$10:$O$29),IF(C153=$P$9,$P$10:$P$29,$Q$10:$Q$29),0))/100,1)","v":1},0.984119999999999]
[2013,"Moto-Gasolina","Gasolina",{"$f":"SUM(IF(B154=$L$10:$L$23,$M$10:$M$23,0))","v":5},2,{"$f":"IFERROR(ROUND(VLOOKUP(A154,'Dados de entrada'!$P$7:$Z$50,Dados_v2!D154+1,0)*H154,0),0)","v":5906},"CO",{"$f":"IF(OR(D154=$M$15,D154=$M$20),SUM(IF((A154=$O$10:$O$29),IF(C154=$P$9,$P$10:$P$29,$Q$10:$Q$29),0))/100,1)","v":1},0.81603999999999899]
[2014,"Moto-Gasolina","Gasolina",{"$f":"SUM(IF(B155=$L$10:$L$23,$M$10:$M$23,0))","v":5},2,{"$f":"IFERROR(ROUND(VLOOKUP(A155,'Dados de entrada'!$P$7:$Z$50,Dados_v2!D155+1,0)*H155,0),0)","v":5599},"CO",{"$f":"IF(OR(D155=$M$15,D155=$M$20),SUM(IF((A155=$O$10:$O$29),IF(C155=$P$9,$P$10:$P$29,$Q$10:$Q$29),0))/100,1)","v":1},0.81603999999999899]
[2015,"Moto-Gasolina","Gasolina",{"$f":"SUM(IF(B156=$L$10:$L$23,$M$10:$M$23,0))","v":5},2,{"$f":"IFERROR(ROUND(VLOOKUP(A156,'Dados de entrada'!$P$7:$Z$50,Dados_v2!D156+1,0)*H156,0),0)","v":4403},"CO",{"$f":"IF(OR(D156=$M$15,D156=$M$20),SUM(IF((A156=$O$10:$O$29),IF(C156=$P$9,$P$10:$P$29,$Q$10:$Q$29),0))/100,1)","v":1},0.81603999999999899]
[2016,"Moto-Gasolina","Gasolina",{"$f":"SUM(IF(B157=$L$10:$L$23,$M$10:$M$23,0))","v":5},2,{"$f":"IFERROR(ROUND(VLOOKUP(A157,'Dados de entrada'!$P$7:$Z$50,Dados_v2!D157+1,0)*H157,0),0)","v":2840},"CO",{"$f":"IF(OR(D157=$M$15,D157=$M$20),SUM(IF((A157=$O$10:$O$29),IF(C157=$P$9,$P$10:$P$29,$Q$10:$Q$29),0))/100,1)","v":1},0.504]
[2017,"Moto-Gasolina","Gasolina",{"$f":"SUM(IF(B158=$L$10:$L$23,$M$10:$M$23,0))","v":5},2,{"$f":"IFERROR(ROUND(VLOOKUP(A158,'Dados de entrada'!$P$7:$Z$50,Dados_v2!D158+1,0)*H158,0),0)","v":3672},"CO",{"$f":"IF(OR(D158=$M$15,D158=$M$20),SUM(IF((A158=$O$10:$O$29),IF(C158=$P$9,$P$10:$P$29,$Q$10:$Q$29),0))/100,1)","v":1},0.52500000000000002]
[2018,"Moto-Gasolina","Gasolina",{"$f":"SUM(IF(B159=$L$10:$L$23,$M$10:$M$23,0))","v":5},2,{"$f":"IFERROR(ROUND(VLOOKUP(A159,'Dados de entrada'!$P$7:$Z$50,Dados_v2!D159+1,0)*H159,0),0)","v":4076},"CO",{"$f":"IF(OR(D159=$M$15,D159=$M$20),SUM(IF((A159=$O$10:$O$29),IF(C159=$P$9,$P$10:$P$29,$Q$10:$Q$29),0))/100,1)","v":1},0.54500000000000004]
[2019,"Moto-Gasolina","Gasolina",{"$f":"SUM(IF(B160=$L$10:$L$23,$M$10:$M$23,0))","v":5},2,{"$f":"IFERROR(ROUND(VLOOKUP(A160,'Dados de entrada'!$P$7:$Z$50,Dados_v2!D160+1,0)*H160,0),0)","v":4486},"CO",{"$f":"IF(OR(D160=$M$15,D160=$M$20),SUM(IF((A160=$O$10:$O$29),IF(C160=$P$9,$P$10:$P$29,$Q$10:$Q$29),0))/100,1)","v":1},0.503426943774549]
[2020,"Moto-Gasolina","Gasolina",{"$f":"SUM(IF(B161=$L$10:$L$23,$M$10:$M$23,0))","v":5},2,{"$f":"IFERROR(ROUND(VLOOKUP(A161,'Dados de entrada'!$P$7:$Z$50,Dados_v2!D161+1,0)*H161,0),0)","v":3923},"CO",{"$f":"IF(OR(D161=$M$15,D161=$M$20),SUM(IF((A161=$O$10:$O$29),IF(C161=$P$9,$P$10:$P$29,$Q$10:$Q$29),0))/100,1)","v":1},0.462123053334348]
[2021,"Moto-Gasolina","Gasolina",{"$f":"SUM(IF(B162=$L$10:$L$23,$M$10:$M$23,0))","v":5},2,{"$f":"IFERROR(ROUND(VLOOKUP(A162,'Dados de entrada'!$P$7:$Z$50,Dados_v2!D162+1,0)*H162,0),0)","v":4248},"CO",{"$f":"IF(OR(D162=$M$15,D162=$M$20),SUM(IF((A162=$O$10:$O$29),IF(C162=$P$9,$P$10:$P$29,$Q$10:$Q$29),0))/100,1)","v":1},0.43899753499653599]
[2022,"Moto-Gasolina","Gasolina",{"$f":"SUM(IF(B163=$L$10:$L$23,$M$10:$M$23,0))","v":5},2,{"$f":"IFERROR(ROUND(VLOOKUP(A163,'Dados de entrada'!$P$7:$Z$50,Dados_v2!D163+1,0)*H163,0),0)","v":6938},"CO",{"$f":"IF(OR(D163=$M$15,D163=$M$20),SUM(IF((A163=$O$10:$O$29),IF(C163=$P$9,$P$10:$P$29,$Q$10:$Q$29),0))/100,1)","v":1},0.40362415441671801]
[2009,"Moto-Flex","Gasolina",{"$f":"SUM(IF(B164=$L$10:$L$23,$M$10:$M$23,0))","v":6},2,{"$f":"IFERROR(ROUND(VLOOKUP(A164,'Dados de entrada'!$P$7:$Z$50,Dados_v2!D164+1,0)*H164,0),0)","v":269},"CO",{"$f":"IF(OR(D164=$M$15,D164=$M$20),SUM(IF((A164=$O$10:$O$29),IF(C164=$P$9,$P$10:$P$29,$Q$10:$Q$29),0))/100,1)","v":0.3},0.75]
[2010,"Moto-Flex","Gasolina",{"$f":"SUM(IF(B165=$L$10:$L$23,$M$10:$M$23,0))","v":6},2,{"$f":"IFERROR(ROUND(VLOOKUP(A165,'Dados de entrada'!$P$7:$Z$50,Dados_v2!D165+1,0)*H165,0),0)","v":1279},"CO",{"$f":"IF(OR(D165=$M$15,D165=$M$20),SUM(IF((A165=$O$10:$O$29),IF(C165=$P$9,$P$10:$P$29,$Q$10:$Q$29),0))/100,1)","v":0.48},0.75]
[2011,"Moto-Flex","Gasolina",{"$f":"SUM(IF(B166=$L$10:$L$23,$M$10:$M$23,0))","v":6},2,{"$f":"IFERROR(ROUND(VLOOKUP(A166,'Dados de entrada'!$P$7:$Z$50,Dados_v2!D166+1,0)*H166,0),0)","v":3075},"CO",{"$f":"IF(OR(D166=$M$15,D166=$M$20),SUM(IF((A166=$O$10:$O$29),IF(C166=$P$9,$P$10:$P$29,$Q$10:$Q$29),0))/100,1)","v":0.68},0.76]
[2012,"Moto-Flex","Gasolina",{"$f":"SUM(IF(B167=$L$10:$L$23,$M$10:$M$23,0))","v":6},2,{"$f":"IFERROR(ROUND(VLOOKUP(A167,'Dados de entrada'!$P$7:$Z$50,Dados_v2!D167+1,0)*H167,0),0)","v":3586},"CO",{"$f":"IF(OR(D167=$M$15,D167=$M$20),SUM(IF((A167=$O$10:$O$29),IF(C167=$P$9,$P$10:$P$29,$Q$10:$Q$29),0))/100,1)","v":0.75},1.1352]
[2013,"Moto-Flex","Gasolina",{"$f":"SUM(IF(B168=$L$10:$L$23,$M$10:$M$23,0))","v":6},2,{"$f":"IFERROR(ROUND(VLOOKUP(A168,'Dados de entrada'!$P$7:$Z$50,Dados_v2!D168+1,0)*H168,0),0)","v":3425},"CO",{"$f":"IF(OR(D168=$M$15,D168=$M$20),SUM(IF((A168=$O$10:$O$29),IF(C168=$P$9,$P$10:$P$29,$Q$10:$Q$29),0))/100,1)","v":0.75},0.69964000000000004]
[2014,"Moto-Flex","Gasolina",{"$f":"SUM(IF(B169=$L$10:$L$23,$M$10:$M$23,0))","v":6},2,{"$f":"IFERROR(ROUND(VLOOKUP(A169,'Dados de entrada'!$P$7:$Z$50,Dados_v2!D169+1,0)*H169,0),0)","v":5354},"CO",{"$f":"IF(OR(D169=$M$15,D169=$M$20),SUM(IF((A169=$O$10:$O$29),IF(C169=$P$9,$P$10:$P$29,$Q$10:$Q$29),0))/100,1)","v":0.75},0.69964000000000004]
[2015,"Moto-Flex","Gasolina",{"$f":"SUM(IF(B170=$L$10:$L$23,$M$10:$M$23,0))","v":6},2,{"$f":"IFERROR(ROUND(VLOOKUP(A170,'Dados de entrada'!$P$7:$Z$50,Dados_v2!D170+1,0)*H170,0),0)","v":5829},"CO",{"$f":"IF(OR(D170=$M$15,D170=$M$20),SUM(IF((A170=$O$10:$O$29),IF(C170=$P$9,$P$10:$P$29,$Q$10:$Q$29),0))/100,1)","v":0.75},0.69964000000000004]
[2016,"Moto-Flex","Gasolina",{"$f":"SUM(IF(B171=$L$10:$L$23,$M$10:$M$23,0))","v":6},2,{"$f":"IFERROR(ROUND(VLOOKUP(A171,'Dados de entrada'!$P$7:$Z$50,Dados_v2!D171+1,0)*H171,0),0)","v":3761},"CO",{"$f":"IF(OR(D171=$M$15,D171=$M$20),SUM(IF((A171=$O$10:$O$29),IF(C171=$P$9,$P$10:$P$29,$Q$10:$Q$29),0))/100,1)","v":0.75},0.71499999999999997]
[2017,"Moto-Flex","Gasolina",{"$f":"SUM(IF(B172=$L$10:$L$23,$M$10:$M$23,0))","v":6},2,{"$f":"IFERROR(ROUND(VLOOKUP(A172,'Dados de entrada'!$P$7:$Z$50,Dados_v2!D172+1,0)*H172,0),0)","v":3521},"CO",{"$f":"IF(OR(D172=$M$15,D172=$M$20),SUM(IF((A172=$O$10:$O$29),IF(C172=$P$9,$P$10:$P$29,$Q$10:$Q$29),0))/100,1)","v":0.75},0.69399999999999995]
[2018,"Moto-Flex","Gasolina",{"$f":"SUM(IF(B173=$L$10:$L$23,$M$10:$M$23,0))","v":6},2,{"$f":"IFERROR(ROUND(VLOOKUP(A173,'Dados de entrada'!$P$7:$Z$50,Dados_v2!D173+1,0)*H173,0),0)","v":4611},"CO",{"$f":"IF(OR(D173=$M$15,D173=$M$20),SUM(IF((A173=$O$10:$O$29),IF(C173=$P$9,$P$10:$P$29,$Q$10:$Q$29),0))/100,1)","v":0.75},0.72599999999999998]
[2019,"Moto-Flex","Gasolina",{"$f":"SUM(IF(B174=$L$10:$L$23,$M$10:$M$23,0))","v":6},2,{"$f":"IFERROR(ROUND(VLOOKUP(A174,'Dados de entrada'!$P$7:$Z$50,Dados_v2!D174+1,0)*H174,0),0)","v":6248},"CO",{"$f":"IF(OR(D174=$M$15,D174=$M$20),SUM(IF((A174=$O$10:$O$29),IF(C174=$P$9,$P$10:$P$29,$Q$10:$Q$29),0))/100,1)","v":0.75},0.75388561813520205]
[2020,"Moto-Flex","Gasolina",{"$f":"SUM(IF(B175=$L$10:$L$23,$M$10:$M$23,0))","v":6},2,{"$f":"IFERROR(ROUND(VLOOKUP(A175,'Dados de entrada'!$P$7:$Z$50,Dados_v2!D175+1,0)*H175,0),0)","v":6023},"CO",{"$f":"IF(OR(D175=$M$15,D175=$M$20),SUM(IF((A175=$O$10:$O$29),IF(C175=$P$9,$P$10:$P$29,$Q$10:$Q$29),0))/100,1)","v":0.75},0.792513177639109]
[2021,"Moto-Flex","Gasolina",{"$f":"SUM(IF(B176=$L$10:$L$23,$M$10:$M$23,0))","v":6},2,{"$f":"IFERROR(ROUND(VLOOKUP(A176,'Dados de entrada'!$P$7:$Z$50,Dados_v2!D176+1,0)*H176,0),0)","v":5385},"CO",{"$f":"IF(OR(D176=$M$15,D176=$M$20),SUM(IF((A176=$O$10:$O$29),IF(C176=$P$9,$P$10:$P$29,$Q$10:$Q$29),0))/100,1)","v":0.75},0.67450944912921895]
[2022,"Moto-Flex","Gasolina",{"$f":"SUM(IF(B177=$L$10:$L$23,$M$10:$M$23,0))","v":6},2,{"$f":"IFERROR(ROUND(VLOOKUP(A177,'Dados de entrada'!$P$7:$Z$50,Dados_v2!D177+1,0)*H177,0),0)","v":8265},"CO",{"$f":"IF(OR(D177=$M$15,D177=$M$20),SUM(IF((A177=$O$10:$O$29),IF(C177=$P$9,$P$10:$P$29,$Q$10:$Q$29),0))/100,1)","v":0.75},0.66684530062449798]
[2009,"Moto-Flex","Etanol",{"$f":"SUM(IF(B178=$L$10:$L$23,$M$10:$M$23,0))","v":6},2,{"$f":"IFERROR(ROUND(VLOOKUP(A178,'Dados de entrada'!$P$7:$Z$50,Dados_v2!D178+1,0)*H178,0),0)","v":627},"CO",{"$f":"IF(OR(D178=$M$15,D178=$M$20),SUM(IF((A178=$O$10:$O$29),IF(C178=$P$9,$P$10:$P$29,$Q$10:$Q$29),0))/100,1)","v":0.7},0.57999999999999996]
[2010,"Moto-Flex","Etanol",{"$f":"SUM(IF(B179=$L$10:$L$23,$M$10:$M$23,0))","v":6},2,{"$f":"IFERROR(ROUND(VLOOKUP(A179,'Dados de entrada'!$P$7:$Z$50,Dados_v2!D179+1,0)*H179,0),0)","v":1386},"CO",{"$f":"IF(OR(D179=$M$15,D179=$M$20),SUM(IF((A179=$O$10:$O$29),IF(C179=$P$9,$P$10:$P$29,$Q$10:$Q$29),0))/100,1)","v":0.52},0.57999999999999996]
[2011,"Moto-Flex","Etanol",{"$f":"SUM(IF(B180=$L$10:$L$23,$M$10:$M$23,0))","v":6},2,{"$f":"IFERROR(ROUND(VLOOKUP(A180,'Dados de entrada'!$P$7:$Z$50,Dados_v2!D180+1,0)*H180,0),0)","v":1447},"CO",{"$f":"IF(OR(D180=$M$15,D180=$M$20),SUM(IF((A180=$O$10:$O$29),IF(C180=$P$9,$P$10:$P$29,$Q$10:$Q$29),0))/100,1)","v":0.32},0.68]
[2012,"Moto-Flex","Etanol",{"$f":"SUM(IF(B181=$L$10:$L$23,$M$10:$M$23,0))","v":6},2,{"$f":"IFERROR(ROUND(VLOOKUP(A181,'Dados de entrada'!$P$7:$Z$50,Dados_v2!D181+1,0)*H181,0),0)","v":1195},"CO",{"$f":"IF(OR(D181=$M$15,D181=$M$20),SUM(IF((A181=$O$10:$O$29),IF(C181=$P$9,$P$10:$P$29,$Q$10:$Q$29),0))/100,1)","v":0.25},1.42364]
[2013,"Moto-Flex","Etanol",{"$f":"SUM(IF(B182=$L$10:$L$23,$M$10:$M$23,0))","v":6},2,{"$f":"IFERROR(ROUND(VLOOKUP(A182,'Dados de entrada'!$P$7:$Z$50,Dados_v2!D182+1,0)*H182,0),0)","v":1142},"CO",{"$f":"IF(OR(D182=$M$15,D182=$M$20),SUM(IF((A182=$O$10:$O$29),IF(C182=$P$9,$P$10:$P$29,$Q$10:$Q$29),0))/100,1)","v":0.25},0.78036000000000005]
[2014,"Moto-Flex","Etanol",{"$f":"SUM(IF(B183=$L$10:$L$23,$M$10:$M$23,0))","v":6},2,{"$f":"IFERROR(ROUND(VLOOKUP(A183,'Dados de entrada'!$P$7:$Z$50,Dados_v2!D183+1,0)*H183,0),0)","v":1785},"CO",{"$f":"IF(OR(D183=$M$15,D183=$M$20),SUM(IF((A183=$O$10:$O$29),IF(C183=$P$9,$P$10:$P$29,$Q$10:$Q$29),0))/100,1)","v":0.25},0.78036000000000005]
[2015,"Moto-Flex","Etanol",{"$f":"SUM(IF(B184=$L$10:$L$23,$M$10:$M$23,0))","v":6},2,{"$f":"IFERROR(ROUND(VLOOKUP(A184,'Dados de entrada'!$P$7:$Z$50,Dados_v2!D184+1,0)*H184,0),0)","v":1943},"CO",{"$f":"IF(OR(D184=$M$15,D184=$M$20),SUM(IF((A184=$O$10:$O$29),IF(C184=$P$9,$P$10:$P$29,$Q$10:$Q$29),0))/100,1)","v":0.25},0.78036000000000005]
[2016,"Moto-Flex","Etanol",{"$f":"SUM(IF(B185=$L$10:$L$23,$M$10:$M$23,0))","v":6},2,{"$f":"IFERROR(ROUND(VLOOKUP(A185,'Dados de entrada'!$P$7:$Z$50,Dados_v2!D185+1,0)*H185,0),0)","v":1254},"CO",{"$f":"IF(OR(D185=$M$15,D185=$M$20),SUM(IF((A185=$O$10:$O$29),IF(C185=$P$9,$P$10:$P$29,$Q$10:$Q$29),0))/100,1)","v":0.25},0.82699999999999996]
[2017,"Moto-Flex","Etanol",{"$f":"SUM(IF(B186=$L$10:$L$23,$M$10:$M$23,0))","v":6},2,{"$f":"IFERROR(ROUND(VLOOKUP(A186,'Dados de entrada'!$P$7:$Z$50,Dados_v2!D186+1,0)*H186,0),0)","v":1174},"CO",{"$f":"IF(OR(D186=$M$15,D186=$M$20),SUM(IF((A186=$O$10:$O$29),IF(C186=$P$9,$P$10:$P$29,$Q$10:$Q$29),0))/100,1)","v":0.25},0.68899999999999995]
[2018,"Moto-Flex","Etanol",{"$f":"SUM(IF(B187=$L$10:$L$23,$M$10:$M$23,0))","v":6},2,{"$f":"IFERROR(ROUND(VLOOKUP(A187,'Dados de entrada'!$P$7:$Z$50,Dados_v2!D187+1,0)*H187,0),0)","v":1537},"CO",{"$f":"IF(OR(D187=$M$15,D187=$M$20),SUM(IF((A187=$O$10:$O$29),IF(C187=$P$9,$P$10:$P$29,$Q$10:$Q$29),0))/100,1)","v":0.25},0.65400000000000003]
[2019,"Moto-Flex","Etanol",{"$f":"SUM(IF(B188=$L$10:$L$23,$M$10:$M$23,0))","v":6},2,{"$f":"IFERROR(ROUND(VLOOKUP(A188,'Dados de entrada'!$P$7:$Z$50,Dados_v2!D188+1,0)*H188,0),0)","v":2083},"CO",{"$f":"IF(OR(D188=$M$15,D188=$M$20),SUM(IF((A188=$O$10:$O$29),IF(C188=$P$9,$P$10:$P$29,$Q$10:$Q$29),0))/100,1)","v":0.25},0.67991022717469096]
[2020,"Moto-Flex","Etanol",{"$f":"SUM(IF(B189=$L$10:$L$23,$M$10:$M$23,0))","v":6},2,{"$f":"IFERROR(ROUND(VLOOKUP(A189,'Dados de entrada'!$P$7:$Z$50,Dados_v2!D189+1,0)*H189,0),0)","v":2008},"CO",{"$f":"IF(OR(D189=$M$15,D189=$M$20),SUM(IF((A189=$O$10:$O$29),IF(C189=$P$9,$P$10:$P$29,$Q$10:$Q$29),0))/100,1)","v":0.25},0.68207278612659805]
[2021,"Moto-Flex","Etanol",{"$f":"SUM(IF(B190=$L$10:$L$23,$M$10:$M$23,0))","v":6},2,{"$f":"IFERROR(ROUND(VLOOKUP(A190,'Dados de entrada'!$P$7:$Z$50,Dados_v2!D190+1,0)*H190,0),0)","v":1795},"CO",{"$f":"IF(OR(D190=$M$15,D190=$M$20),SUM(IF((A190=$O$10:$O$29),IF(C190=$P$9,$P$10:$P$29,$Q$10:$Q$29),0))/100,1)","v":0.25},0.68318620223100301]
[2022,"Moto-Flex","Etanol",{"$f":"SUM(IF(B191=$L$10:$L$23,$M$10:$M$23,0))","v":6},2,{"$f":"IFERROR(ROUND(VLOOKUP(A191,'Dados de entrada'!$P$7:$Z$50,Dados_v2!D191+1,0)*H191,0),0)","v":2755},"CO",{"$f":"IF(OR(D191=$M$15,D191=$M$20),SUM(IF((A191=$O$10:$O$29),IF(C191=$P$9,$P$10:$P$29,$Q$10:$Q$29),0))/100,1)","v":0.25},0.63865646740784998]
[1983,"Automovel-Gasolina","Gasolina",{"$f":"SUM(IF(B192=$L$10:$L$23,$M$10:$M$23,0))","v":7},1,{"$f":"IFERROR(ROUND(VLOOKUP(A192,'Dados de entrada'!$P$7:$Z$50,Dados_v2!D192+1,0)*H192,0),0)","v":2057},"CO",{"$f":"IF(OR(D192=$M$15,D192=$M$20),SUM(IF((A192=$O$10:$O$29),IF(C192=$P$9,$P$10:$P$29,$Q$10:$Q$29),0))/100,1)","v":1},33.6]
[1984,"Automovel-Gasolina","Gasolina",{"$f":"SUM(IF(B193=$L$10:$L$23,$M$10:$M$23,0))","v":7},1,{"$f":"IFERROR(ROUND(VLOOKUP(A193,'Dados de entrada'!$P$7:$Z$50,Dados_v2!D193+1,0)*H193,0),0)","v":849},"CO",{"$f":"IF(OR(D193=$M$15,D193=$M$20),SUM(IF((A193=$O$10:$O$29),IF(C193=$P$9,$P$10:$P$29,$Q$10:$Q$29),0))/100,1)","v":1},33.6]
[1985,"Automovel-Gasolina","Gasolina",{"$f":"SUM(IF(B194=$L$10:$L$23,$M$10:$M$23,0))","v":7},1,{"$f":"IFERROR(ROUND(VLOOKUP(A194,'Dados de entrada'!$P$7:$Z$50,Dados_v2!D194+1,0)*H194,0),0)","v":816},"CO",{"$f":"IF(OR(D194=$M$15,D194=$M$20),SUM(IF((A194=$O$10:$O$29),IF(C194=$P$9,$P$10:$P$29,$Q$10:$Q$29),0))/100,1)","v":1},33.6]
[1986,"Automovel-Gasolina","Gasolina",{"$f":"SUM(IF(B195=$L$10:$L$23,$M$10:$M$23,0))","v":7},1,{"$f":"IFERROR(ROUND(VLOOKUP(A195,'Dados de entrada'!$P$7:$Z$50,Dados_v2!D195+1,0)*H195,0),0)","v":1406},"CO",{"$f":"IF(OR(D195=$M$15,D195=$M$20),SUM(IF((A195=$O$10:$O$29),IF(C195=$P$9,$P$10:$P$29,$Q$10:$Q$29),0))/100,1)","v":1},26.4]
[1987,"Automovel-Gasolina","Gasolina",{"$f":"SUM(IF(B196=$L$10:$L$23,$M$10:$M$23,0))","v":7},1,{"$f":"IFERROR(ROUND(VLOOKUP(A196,'Dados de entrada'!$P$7:$Z$50,Dados_v2!D196+1,0)*H196,0),0)","v":808},"CO",{"$f":"IF(OR(D196=$M$15,D196=$M$20),SUM(IF((A196=$O$10:$O$29),IF(C196=$P$9,$P$10:$P$29,$Q$10:$Q$29),0))/100,1)","v":1},26.4]
[1988,"Automovel-Gasolina","Gasolina",{"$f":"SUM(IF(B197=$L$10:$L$23,$M$10:$M$23,0))","v":7},1,{"$f":"IFERROR(ROUND(VLOOKUP(A197,'Dados de entrada'!$P$7:$Z$50,Dados_v2!D197+1,0)*H197,0),0)","v":1012},"CO",{"$f":"IF(OR(D197=$M$15,D197=$M$20),SUM(IF((A197=$O$10:$O$29),IF(C197=$P$9,$P$10:$P$29,$Q$10:$Q$29),0))/100,1)","v":1},22.2]
[1989,"Automovel-Gasolina","Gasolina",{"$f":"SUM(IF(B198=$L$10:$L$23,$M$10:$M$23,0))","v":7},1,{"$f":"IFERROR(ROUND(VLOOKUP(A198,'Dados de entrada'!$P$7:$Z$50,Dados_v2!D198+1,0)*H198,0),0)","v":3130},"CO",{"$f":"IF(OR(D198=$M$15,D198=$M$20),SUM(IF((A198=$O$10:$O$29),IF(C198=$P$9,$P$10:$P$29,$Q$10:$Q$29),0))/100,1)","v":1},18.239999999999998]
[1990,"Automovel-Gasolina","Gasolina",{"$f":"SUM(IF(B199=$L$10:$L$23,$M$10:$M$23,0))","v":7},1,{"$f":"IFERROR(ROUND(VLOOKUP(A199,'Dados de entrada'!$P$7:$Z$50,Dados_v2!D199+1,0)*H199,0),0)","v":5837},"CO",{"$f":"IF(OR(D199=$M$15,D199=$M$20),SUM(IF((A199=$O$10:$O$29),IF(C199=$P$9,$P$10:$P$29,$Q$10:$Q$29),0))/100,1)","v":1},15.96]
[1991,"Automovel-Gasolina","Gasolina",{"$f":"SUM(IF(B200=$L$10:$L$23,$M$10:$M$23,0))","v":7},1,{"$f":"IFERROR(ROUND(VLOOKUP(A200,'Dados de entrada'!$P$7:$Z$50,Dados_v2!D200+1,0)*H200,0),0)","v":6655},"CO",{"$f":"IF(OR(D200=$M$15,D200=$M$20),SUM(IF((A200=$O$10:$O$29),IF(C200=$P$9,$P$10:$P$29,$Q$10:$Q$29),0))/100,1)","v":1},13.8]
[1992,"Automovel-Gasolina","Gasolina",{"$f":"SUM(IF(B201=$L$10:$L$23,$M$10:$M$23,0))","v":7},1,{"$f":"IFERROR(ROUND(VLOOKUP(A201,'Dados de entrada'!$P$7:$Z$50,Dados_v2!D201+1,0)*H201,0),0)","v":5726},"CO",{"$f":"IF(OR(D201=$M$15,D201=$M$20),SUM(IF((A201=$O$10:$O$29),IF(C201=$P$9,$P$10:$P$29,$Q$10:$Q$29),0))/100,1)","v":1},7.44]
[1993,"Automovel-Gasolina","Gasolina",{"$f":"SUM(IF(B202=$L$10:$L$23,$M$10:$M$23,0))","v":7},1,{"$f":"IFERROR(ROUND(VLOOKUP(A202,'Dados de entrada'!$P$7:$Z$50,Dados_v2!D202+1,0)*H202,0),0)","v":8575},"CO",{"$f":"IF(OR(D202=$M$15,D202=$M$20),SUM(IF((A202=$O$10:$O$29),IF(C202=$P$9,$P$10:$P$29,$Q$10:$Q$29),0))/100,1)","v":1},7.56]
[1994,"Automovel-Gasolina","Gasolina",{"$f":"SUM(IF(B203=$L$10:$L$23,$M$10:$M$23,0))","v":7},1,{"$f":"IFERROR(ROUND(VLOOKUP(A203,'Dados de entrada'!$P$7:$Z$50,Dados_v2!D203+1,0)*H203,0),0)","v":11036},"CO",{"$f":"IF(OR(D203=$M$15,D203=$M$20),SUM(IF((A203=$O$10:$O$29),IF(C203=$P$9,$P$10:$P$29,$Q$10:$Q$29),0))/100,1)","v":1},7.2]
[1995,"Automovel-Gasolina","Gasolina",{"$f":"SUM(IF(B204=$L$10:$L$23,$M$10:$M$23,0))","v":7},1,{"$f":"IFERROR(ROUND(VLOOKUP(A204,'Dados de entrada'!$P$7:$Z$50,Dados_v2!D204+1,0)*H204,0),0)","v":18944},"CO",{"$f":"IF(OR(D204=$M$15,D204=$M$20),SUM(IF((A204=$O$10:$O$29),IF(C204=$P$9,$P$10:$P$29,$Q$10:$Q$29),0))/100,1)","v":1},6.0432432363916]
[1996,"Automovel-Gasolina","Gasolina",{"$f":"SUM(IF(B205=$L$10:$L$23,$M$10:$M$23,0))","v":7},1,{"$f":"IFERROR(ROUND(VLOOKUP(A205,'Dados de entrada'!$P$7:$Z$50,Dados_v2!D205+1,0)*H205,0),0)","v":17211},"CO",{"$f":"IF(OR(D205=$M$15,D205=$M$20),SUM(IF((A205=$O$10:$O$29),IF(C205=$P$9,$P$10:$P$29,$Q$10:$Q$29),0))/100,1)","v":1},5.1079019156749101]
[1997,"Automovel-Gasolina","Gasolina",{"$f":"SUM(IF(B206=$L$10:$L$23,$M$10:$M$23,0))","v":7},1,{"$f":"IFERROR(ROUND(VLOOKUP(A206,'Dados de entrada'!$P$7:$Z$50,Dados_v2!D206+1,0)*H206,0),0)","v":19715},"CO",{"$f":"IF(OR(D206=$M$15,D206=$M$20),SUM(IF((A206=$O$10:$O$29),IF(C206=$P$9,$P$10:$P$29,$Q$10:$Q$29),0))/100,1)","v":1},2.47093575649011]
[1998,"Automovel-Gasolina","Gasolina",{"$f":"SUM(IF(B207=$L$10:$L$23,$M$10:$M$23,0))","v":7},1,{"$f":"IFERROR(ROUND(VLOOKUP(A207,'Dados de entrada'!$P$7:$Z$50,Dados_v2!D207+1,0)*H207,0),0)","v":16751},"CO",{"$f":"IF(OR(D207=$M$15,D207=$M$20),SUM(IF((A207=$O$10:$O$29),IF(C207=$P$9,$P$10:$P$29,$Q$10:$Q$29),0))/100,1)","v":1},2.02232356827286]
[1999,"Automovel-Gasolina","Gasolina",{"$f":"SUM(IF(B208=$L$10:$L$23,$M$10:$M$23,0))","v":7},1,{"$f":"IFERROR(ROUND(VLOOKUP(A208,'Dados de entrada'!$P$7:$Z$50,Dados_v2!D208+1,0)*H208,0),0)","v":15116},"CO",{"$f":"IF(OR(D208=$M$15,D208=$M$20),SUM(IF((A208=$O$10:$O$29),IF(C208=$P$9,$P$10:$P$29,$Q$10:$Q$29),0))/100,1)","v":1},1.9320593068860401]
[2000,"Automovel-Gasolina","Gasolina",{"$f":"SUM(IF(B209=$L$10:$L$23,$M$10:$M$23,0))","v":7},1,{"$f":"IFERROR(ROUND(VLOOKUP(A209,'Dados de entrada'!$P$7:$Z$50,Dados_v2!D209+1,0)*H209,0),0)","v":15355},"CO",{"$f":"IF(OR(D209=$M$15,D209=$M$20),SUM(IF((A209=$O$10:$O$29),IF(C209=$P$9,$P$10:$P$29,$Q$10:$Q$29),0))/100,1)","v":1},1.88015207461973]
[2001,"Automovel-Gasolina","Gasolina",{"$f":"SUM(IF(B210=$L$10:$L$23,$M$10:$M$23,0))","v":7},1,{"$f":"IFERROR(ROUND(VLOOKUP(A210,'Dados de entrada'!$P$7:$Z$50,Dados_v2!D210+1,0)*H210,0),0)","v":18573},"CO",{"$f":"IF(OR(D210=$M$15,D210=$M$20),SUM(IF((A210=$O$10:$O$29),IF(C210=$P$9,$P$10:$P$29,$Q$10:$Q$29),0))/100,1)","v":1},1.5866261201912499]
[2002,"Automovel-Gasolina","Gasolina",{"$f":"SUM(IF(B211=$L$10:$L$23,$M$10:$M$23,0))","v":7},1,{"$f":"IFERROR(ROUND(VLOOKUP(A211,'Dados de entrada'!$P$7:$Z$50,Dados_v2!D211+1,0)*H211,0),0)","v":14698},"CO",{"$f":"IF(OR(D211=$M$15,D211=$M$20),SUM(IF((A211=$O$10:$O$29),IF(C211=$P$9,$P$10:$P$29,$Q$10:$Q$29),0))/100,1)","v":1},1.49152083874514]
[2003,"Automovel-Gasolina","Gasolina",{"$f":"SUM(IF(B212=$L$10:$L$23,$M$10:$M$23,0))","v":7},1,{"$f":"IFERROR(ROUND(VLOOKUP(A212,'Dados de entrada'!$P$7:$Z$50,Dados_v2!D212+1,0)*H212,0),0)","v":16345},"CO",{"$f":"IF(OR(D212=$M$15,D212=$M$20),SUM(IF((A212=$O$10:$O$29),IF(C212=$P$9,$P$10:$P$29,$Q$10:$Q$29),0))/100,1)","v":1},1.41489077185315]
[2004,"Automovel-Gasolina","Gasolina",{"$f":"SUM(IF(B213=$L$10:$L$23,$M$10:$M$23,0))","v":7},1,{"$f":"IFERROR(ROUND(VLOOKUP(A213,'Dados de entrada'!$P$7:$Z$50,Dados_v2!D213+1,0)*H213,0),0)","v":13063},"CO",{"$f":"IF(OR(D213=$M$15,D213=$M$20),SUM(IF((A213=$O$10:$O$29),IF(C213=$P$9,$P$10:$P$29,$Q$10:$Q$29),0))/100,1)","v":1},1.31680560751428]
[2005,"Automovel-Gasolina","Gasolina",{"$f":"SUM(IF(B214=$L$10:$L$23,$M$10:$M$23,0))","v":7},1,{"$f":"IFERROR(ROUND(VLOOKUP(A214,'Dados de entrada'!$P$7:$Z$50,Dados_v2!D214+1,0)*H214,0),0)","v":11807},"CO",{"$f":"IF(OR(D214=$M$15,D214=$M$20),SUM(IF((A214=$O$10:$O$29),IF(C214=$P$9,$P$10:$P$29,$Q$10:$Q$29),0))/100,1)","v":1},1.25735018015473]
[2006,"Automovel-Gasolina","Gasolina",{"$f":"SUM(IF(B215=$L$10:$L$23,$M$10:$M$23,0))","v":7},1,{"$f":"IFERROR(ROUND(VLOOKUP(A215,'Dados de entrada'!$P$7:$Z$50,Dados_v2!D215+1,0)*H215,0),0)","v":5134},"CO",{"$f":"IF(OR(D215=$M$15,D215=$M$20),SUM(IF((A215=$O$10:$O$29),IF(C215=$P$9,$P$10:$P$29,$Q$10:$Q$29),0))/100,1)","v":1},1.1686244706279201]
[2007,"Automovel-Gasolina","Gasolina",{"$f":"SUM(IF(B216=$L$10:$L$23,$M$10:$M$23,0))","v":7},1,{"$f":"IFERROR(ROUND(VLOOKUP(A216,'Dados de entrada'!$P$7:$Z$50,Dados_v2!D216+1,0)*H216,0),0)","v":6019},"CO",{"$f":"IF(OR(D216=$M$15,D216=$M$20),SUM(IF((A216=$O$10:$O$29),IF(C216=$P$9,$P$10:$P$29,$Q$10:$Q$29),0))/100,1)","v":1},1.1167436062145]
[2008,"Automovel-Gasolina","Gasolina",{"$f":"SUM(IF(B217=$L$10:$L$23,$M$10:$M$23,0))","v":7},1,{"$f":"IFERROR(ROUND(VLOOKUP(A217,'Dados de entrada'!$P$7:$Z$50,Dados_v2!D217+1,0)*H217,0),0)","v":5907},"CO",{"$f":"IF(OR(D217=$M$15,D217=$M$20),SUM(IF((A217=$O$10:$O$29),IF(C217=$P$9,$P$10:$P$29,$Q$10:$Q$29),0))/100,1)","v":1},1.1308378606223499]
[2009,"Automovel-Gasolina","Gasolina",{"$f":"SUM(IF(B218=$L$10:$L$23,$M$10:$M$23,0))","v":7},1,{"$f":"IFERROR(ROUND(VLOOKUP(A218,'Dados de entrada'!$P$7:$Z$50,Dados_v2!D218+1,0)*H218,0),0)","v":3888},"CO",{"$f":"IF(OR(D218=$M$15,D218=$M$20),SUM(IF((A218=$O$10:$O$29),IF(C218=$P$9,$P$10:$P$29,$Q$10:$Q$29),0))/100,1)","v":1},0.90705265398655899]
[2010,"Automovel-Gasolina","Gasolina",{"$f":"SUM(IF(B219=$L$10:$L$23,$M$10:$M$23,0))","v":7},1,{"$f":"IFERROR(ROUND(VLOOKUP(A219,'Dados de entrada'!$P$7:$Z$50,Dados_v2!D219+1,0)*H219,0),0)","v":5853},"CO",{"$f":"IF(OR(D219=$M$15,D219=$M$20),SUM(IF((A219=$O$10:$O$29),IF(C219=$P$9,$P$10:$P$29,$Q$10:$Q$29),0))/100,1)","v":1},0.85754855286943599]
[2011,"Automovel-Gasolina","Gasolina",{"$f":"SUM(IF(B220=$L$10:$L$23,$M$10:$M$23,0))","v":7},1,{"$f":"IFERROR(ROUND(VLOOKUP(A220,'Dados de entrada'!$P$7:$Z$50,Dados_v2!D220+1,0)*H220,0),0)","v":7341},"CO",{"$f":"IF(OR(D220=$M$15,D220=$M$20),SUM(IF((A220=$O$10:$O$29),IF(C220=$P$9,$P$10:$P$29,$Q$10:$Q$29),0))/100,1)","v":1},0.87250127026052504]
[2012,"Automovel-Gasolina","Gasolina",{"$f":"SUM(IF(B221=$L$10:$L$23,$M$10:$M$23,0))","v":7},1,{"$f":"IFERROR(ROUND(VLOOKUP(A221,'Dados de entrada'!$P$7:$Z$50,Dados_v2!D221+1,0)*H221,0),0)","v":9155},"CO",{"$f":"IF(OR(D221=$M$15,D221=$M$20),SUM(IF((A221=$O$10:$O$29),IF(C221=$P$9,$P$10:$P$29,$Q$10:$Q$29),0))/100,1)","v":1},0.81710166557658503]
[2013,"Automovel-Gasolina","Gasolina",{"$f":"SUM(IF(B222=$L$10:$L$23,$M$10:$M$23,0))","v":7},1,{"$f":"IFERROR(ROUND(VLOOKUP(A222,'Dados de entrada'!$P$7:$Z$50,Dados_v2!D222+1,0)*H222,0),0)","v":4837},"CO",{"$f":"IF(OR(D222=$M$15,D222=$M$20),SUM(IF((A222=$O$10:$O$29),IF(C222=$P$9,$P$10:$P$29,$Q$10:$Q$29),0))/100,1)","v":1},0.7285557446616]
[2014,"Automovel-Gasolina","Gasolina",{"$f":"SUM(IF(B223=$L$10:$L$23,$M$10:$M$23,0))","v":7},1,{"$f":"IFERROR(ROUND(VLOOKUP(A223,'Dados de entrada'!$P$7:$Z$50,Dados_v2!D223+1,0)*H223,0),0)","v":5336},"CO",{"$f":"IF(OR(D223=$M$15,D223=$M$20),SUM(IF((A223=$O$10:$O$29),IF(C223=$P$9,$P$10:$P$29,$Q$10:$Q$29),0))/100,1)","v":1},0.64308465978677298]
[2015,"Automovel-Gasolina","Gasolina",{"$f":"SUM(IF(B224=$L$10:$L$23,$M$10:$M$23,0))","v":7},1,{"$f":"IFERROR(ROUND(VLOOKUP(A224,'Dados de entrada'!$P$7:$Z$50,Dados_v2!D224+1,0)*H224,0),0)","v":4590},"CO",{"$f":"IF(OR(D224=$M$15,D224=$M$20),SUM(IF((A224=$O$10:$O$29),IF(C224=$P$9,$P$10:$P$29,$Q$10:$Q$29),0))/100,1)","v":1},0.53192470965053096]
[2016,"Automovel-Gasolina","Gasolina",{"$f":"SUM(IF(B225=$L$10:$L$23,$M$10:$M$23,0))","v":7},1,{"$f":"IFERROR(ROUND(VLOOKUP(A225,'Dados de entrada'!$P$7:$Z$50,Dados_v2!D225+1,0)*H225,0),0)","v":3165},"CO",{"$f":"IF(OR(D225=$M$15,D225=$M$20),SUM(IF((A225=$O$10:$O$29),IF(C225=$P$9,$P$10:$P$29,$Q$10:$Q$29),0))/100,1)","v":1},0.43632733937852403]
[2017,"Automovel-Gasolina","Gasolina",{"$f":"SUM(IF(B226=$L$10:$L$23,$M$10:$M$23,0))","v":7},1,{"$f":"IFERROR(ROUND(VLOOKUP(A226,'Dados de entrada'!$P$7:$Z$50,Dados_v2!D226+1,0)*H226,0),0)","v":1866},"CO",{"$f":"IF(OR(D226=$M$15,D226=$M$20),SUM(IF((A226=$O$10:$O$29),IF(C226=$P$9,$P$10:$P$29,$Q$10:$Q$29),0))/100,1)","v":1},0.40955914052362402]
[2018,"Automovel-Gasolina","Gasolina",{"$f":"SUM(IF(B227=$L$10:$L$23,$M$10:$M$23,0))","v":7},1,{"$f":"IFERROR(ROUND(VLOOKUP(A227,'Dados de entrada'!$P$7:$Z$50,Dados_v2!D227+1,0)*H227,0),0)","v":2561},"CO",{"$f":"IF(OR(D227=$M$15,D227=$M$20),SUM(IF((A227=$O$10:$O$29),IF(C227=$P$9,$P$10:$P$29,$Q$10:$Q$29),0))/100,1)","v":1},0.38890185106592301]
[2019,"Automovel-Gasolina","Gasolina",{"$f":"SUM(IF(B228=$L$10:$L$23,$M$10:$M$23,0))","v":7},1,{"$f":"IFERROR(ROUND(VLOOKUP(A228,'Dados de entrada'!$P$7:$Z$50,Dados_v2!D228+1,0)*H228,0),0)","v":2561},"CO",{"$f":"IF(OR(D228=$M$15,D228=$M$20),SUM(IF((A228=$O$10:$O$29),IF(C228=$P$9,$P$10:$P$29,$Q$10:$Q$29),0))/100,1)","v":1},0.33065235541273702]
[2020,"Automovel-Gasolina","Gasolina",{"$f":"SUM(IF(B229=$L$10:$L$23,$M$10:$M$23,0))","v":7},1,{"$f":"IFERROR(ROUND(VLOOKUP(A229,'Dados de entrada'!$P$7:$Z$50,Dados_v2!D229+1,0)*H229,0),0)","v":2925},"CO",{"$f":"IF(OR(D229=$M$15,D229=$M$20),SUM(IF((A229=$O$10:$O$29),IF(C229=$P$9,$P$10:$P$29,$Q$10:$Q$29),0))/100,1)","v":1},0.25012268439860402]
[2021,"Automovel-Gasolina","Gasolina",{"$f":"SUM(IF(B230=$L$10:$L$23,$M$10:$M$23,0))","v":7},1,{"$f":"IFERROR(ROUND(VLOOKUP(A230,'Dados de entrada'!$P$7:$Z$50,Dados_v2!D230+1,0)*H230,0),0)","v":1564},"CO",{"$f":"IF(OR(D230=$M$15,D230=$M$20),SUM(IF((A230=$O$10:$O$29),IF(C230=$P$9,$P$10:$P$29,$Q$10:$Q$29),0))/100,1)","v":1},0.210640015285285]
[2022,"Automovel-Gasolina","Gasolina",{"$f":"SUM(IF(B231=$L$10:$L$23,$M$10:$M$23,0))","v":7},1,{"$f":"IFERROR(ROUND(VLOOKUP(A231,'Dados de entrada'!$P$7:$Z$50,Dados_v2!D231+1,0)*H231,0),0)","v":2879},"CO",{"$f":"IF(OR(D231=$M$15,D231=$M$20),SUM(IF((A231=$O$10:$O$29),IF(C231=$P$9,$P$10:$P$29,$Q$10:$Q$29),0))/100,1)","v":1},0.101846671761761]
[1983,"Automovel-Alcool","Etanol",{"$f":"SUM(IF(B232=$L$10:$L$23,$M$10:$M$23,0))","v":8},1,{"$f":"IFERROR(ROUND(VLOOKUP(A232,'Dados de entrada'!$P$7:$Z$50,Dados_v2!D232+1,0)*H232,0),0)","v":2904},"CO",{"$f":"IF(OR(D232=$M$15,D232=$M$20),SUM(IF((A232=$O$10:$O$29),IF(C232=$P$9,$P$10:$P$29,$Q$10:$Q$29),0))/100,1)","v":1},21.6]
[1984,"Automovel-Alcool","Etanol",{"$f":"SUM(IF(B233=$L$10:$L$23,$M$10:$M$23,0))","v":8},1,{"$f":"IFERROR(ROUND(VLOOKUP(A233,'Dados de entrada'!$P$7:$Z$50,Dados_v2!D233+1,0)*H233,0),0)","v":3281},"CO",{"$f":"IF(OR(D233=$M$15,D233=$M$20),SUM(IF((A233=$O$10:$O$29),IF(C233=$P$9,$P$10:$P$29,$Q$10:$Q$29),0))/100,1)","v":1},20.279999999999902]
[1985,"Automovel-Alcool","Etanol",{"$f":"SUM(IF(B234=$L$10:$L$23,$M$10:$M$23,0))","v":8},1,{"$f":"IFERROR(ROUND(VLOOKUP(A234,'Dados de entrada'!$P$7:$Z$50,Dados_v2!D234+1,0)*H234,0),0)","v":3376},"CO",{"$f":"IF(OR(D234=$M$15,D234=$M$20),SUM(IF((A234=$O$10:$O$29),IF(C234=$P$9,$P$10:$P$29,$Q$10:$Q$29),0))/100,1)","v":1},20.279999999999902]
[1986,"Automovel-Alcool","Etanol",{"$f":"SUM(IF(B235=$L$10:$L$23,$M$10:$M$23,0))","v":8},1,{"$f":"IFERROR(ROUND(VLOOKUP(A235,'Dados de entrada'!$P$7:$Z$50,Dados_v2!D235+1,0)*H235,0),0)","v":5821},"CO",{"$f":"IF(OR(D235=$M$15,D235=$M$20),SUM(IF((A235=$O$10:$O$29),IF(C235=$P$9,$P$10:$P$29,$Q$10:$Q$29),0))/100,1)","v":1},19.2]
[1987,"Automovel-Alcool","Etanol",{"$f":"SUM(IF(B236=$L$10:$L$23,$M$10:$M$23,0))","v":8},1,{"$f":"IFERROR(ROUND(VLOOKUP(A236,'Dados de entrada'!$P$7:$Z$50,Dados_v2!D236+1,0)*H236,0),0)","v":3387},"CO",{"$f":"IF(OR(D236=$M$15,D236=$M$20),SUM(IF((A236=$O$10:$O$29),IF(C236=$P$9,$P$10:$P$29,$Q$10:$Q$29),0))/100,1)","v":1},19.2]
[1988,"Automovel-Alcool","Etanol",{"$f":"SUM(IF(B237=$L$10:$L$23,$M$10:$M$23,0))","v":8},1,{"$f":"IFERROR(ROUND(VLOOKUP(A237,'Dados de entrada'!$P$7:$Z$50,Dados_v2!D237+1,0)*H237,0),0)","v":4326},"CO",{"$f":"IF(OR(D237=$M$15,D237=$M$20),SUM(IF((A237=$O$10:$O$29),IF(C237=$P$9,$P$10:$P$29,$Q$10:$Q$29),0))/100,1)","v":1},15.96]
[1989,"Automovel-Alcool","Etanol",{"$f":"SUM(IF(B238=$L$10:$L$23,$M$10:$M$23,0))","v":8},1,{"$f":"IFERROR(ROUND(VLOOKUP(A238,'Dados de entrada'!$P$7:$Z$50,Dados_v2!D238+1,0)*H238,0),0)","v":4395},"CO",{"$f":"IF(OR(D238=$M$15,D238=$M$20),SUM(IF((A238=$O$10:$O$29),IF(C238=$P$9,$P$10:$P$29,$Q$10:$Q$29),0))/100,1)","v":1},15.36]
[1990,"Automovel-Alcool","Etanol",{"$f":"SUM(IF(B239=$L$10:$L$23,$M$10:$M$23,0))","v":8},1,{"$f":"IFERROR(ROUND(VLOOKUP(A239,'Dados de entrada'!$P$7:$Z$50,Dados_v2!D239+1,0)*H239,0),0)","v":988},"CO",{"$f":"IF(OR(D239=$M$15,D239=$M$20),SUM(IF((A239=$O$10:$O$29),IF(C239=$P$9,$P$10:$P$29,$Q$10:$Q$29),0))/100,1)","v":1},12.96]
[1991,"Automovel-Alcool","Etanol",{"$f":"SUM(IF(B240=$L$10:$L$23,$M$10:$M$23,0))","v":8},1,{"$f":"IFERROR(ROUND(VLOOKUP(A240,'Dados de entrada'!$P$7:$Z$50,Dados_v2!D240+1,0)*H240,0),0)","v":838},"CO",{"$f":"IF(OR(D240=$M$15,D240=$M$20),SUM(IF((A240=$O$10:$O$29),IF(C240=$P$9,$P$10:$P$29,$Q$10:$Q$29),0))/100,1)","v":1},10.08]
[1992,"Automovel-Alcool","Etanol",{"$f":"SUM(IF(B241=$L$10:$L$23,$M$10:$M$23,0))","v":8},1,{"$f":"IFERROR(ROUND(VLOOKUP(A241,'Dados de entrada'!$P$7:$Z$50,Dados_v2!D241+1,0)*H241,0),0)","v":1103},"CO",{"$f":"IF(OR(D241=$M$15,D241=$M$20),SUM(IF((A241=$O$10:$O$29),IF(C241=$P$9,$P$10:$P$29,$Q$10:$Q$29),0))/100,1)","v":1},4.32]
[1993,"Automovel-Alcool","Etanol",{"$f":"SUM(IF(B242=$L$10:$L$23,$M$10:$M$23,0))","v":8},1,{"$f":"IFERROR(ROUND(VLOOKUP(A242,'Dados de entrada'!$P$7:$Z$50,Dados_v2!D242+1,0)*H242,0),0)","v":1489},"CO",{"$f":"IF(OR(D242=$M$15,D242=$M$20),SUM(IF((A242=$O$10:$O$29),IF(C242=$P$9,$P$10:$P$29,$Q$10:$Q$29),0))/100,1)","v":1},5.04]
[1994,"Automovel-Alcool","Etanol",{"$f":"SUM(IF(B243=$L$10:$L$23,$M$10:$M$23,0))","v":8},1,{"$f":"IFERROR(ROUND(VLOOKUP(A243,'Dados de entrada'!$P$7:$Z$50,Dados_v2!D243+1,0)*H243,0),0)","v":1343},"CO",{"$f":"IF(OR(D243=$M$15,D243=$M$20),SUM(IF((A243=$O$10:$O$29),IF(C243=$P$9,$P$10:$P$29,$Q$10:$Q$29),0))/100,1)","v":1},5.048]
[1995,"Automovel-Alcool","Etanol",{"$f":"SUM(IF(B244=$L$10:$L$23,$M$10:$M$23,0))","v":8},1,{"$f":"IFERROR(ROUND(VLOOKUP(A244,'Dados de entrada'!$P$7:$Z$50,Dados_v2!D244+1,0)*H244,0),0)","v":344},"CO",{"$f":"IF(OR(D244=$M$15,D244=$M$20),SUM(IF((A244=$O$10:$O$29),IF(C244=$P$9,$P$10:$P$29,$Q$10:$Q$29),0))/100,1)","v":1},5.7701726460470999]
[1996,"Automovel-Alcool","Etanol",{"$f":"SUM(IF(B245=$L$10:$L$23,$M$10:$M$23,0))","v":8},1,{"$f":"IFERROR(ROUND(VLOOKUP(A245,'Dados de entrada'!$P$7:$Z$50,Dados_v2!D245+1,0)*H245,0),0)","v":51},"CO",{"$f":"IF(OR(D245=$M$15,D245=$M$20),SUM(IF((A245=$O$10:$O$29),IF(C245=$P$9,$P$10:$P$29,$Q$10:$Q$29),0))/100,1)","v":1},5.0431864067239598]
[1997,"Automovel-Alcool","Etanol",{"$f":"SUM(IF(B246=$L$10:$L$23,$M$10:$M$23,0))","v":8},1,{"$f":"IFERROR(ROUND(VLOOKUP(A246,'Dados de entrada'!$P$7:$Z$50,Dados_v2!D246+1,0)*H246,0),0)","v":12},"CO",{"$f":"IF(OR(D246=$M$15,D246=$M$20),SUM(IF((A246=$O$10:$O$29),IF(C246=$P$9,$P$10:$P$29,$Q$10:$Q$29),0))/100,1)","v":1},2.0114742002011101]
[1998,"Automovel-Alcool","Etanol",{"$f":"SUM(IF(B247=$L$10:$L$23,$M$10:$M$23,0))","v":8},1,{"$f":"IFERROR(ROUND(VLOOKUP(A247,'Dados de entrada'!$P$7:$Z$50,Dados_v2!D247+1,0)*H247,0),0)","v":7},"CO",{"$f":"IF(OR(D247=$M$15,D247=$M$20),SUM(IF((A247=$O$10:$O$29),IF(C247=$P$9,$P$10:$P$29,$Q$10:$Q$29),0))/100,1)","v":1},1.74662617636303]
[1999,"Automovel-Alcool","Etanol",{"$f":"SUM(IF(B248=$L$10:$L$23,$M$10:$M$23,0))","v":8},1,{"$f":"IFERROR(ROUND(VLOOKUP(A248,'Dados de entrada'!$P$7:$Z$50,Dados_v2!D248+1,0)*H248,0),0)","v":14},"CO",{"$f":"IF(OR(D248=$M$15,D248=$M$20),SUM(IF((A248=$O$10:$O$29),IF(C248=$P$9,$P$10:$P$29,$Q$10:$Q$29),0))/100,1)","v":1},1.6392435657936]
[2000,"Automovel-Alcool","Etanol",{"$f":"SUM(IF(B249=$L$10:$L$23,$M$10:$M$23,0))","v":8},1,{"$f":"IFERROR(ROUND(VLOOKUP(A249,'Dados de entrada'!$P$7:$Z$50,Dados_v2!D249+1,0)*H249,0),0)","v":73},"CO",{"$f":"IF(OR(D249=$M$15,D249=$M$20),SUM(IF((A249=$O$10:$O$29),IF(C249=$P$9,$P$10:$P$29,$Q$10:$Q$29),0))/100,1)","v":1},1.6298632234435599]
[2001,"Automovel-Alcool","Etanol",{"$f":"SUM(IF(B250=$L$10:$L$23,$M$10:$M$23,0))","v":8},1,{"$f":"IFERROR(ROUND(VLOOKUP(A250,'Dados de entrada'!$P$7:$Z$50,Dados_v2!D250+1,0)*H250,0),0)","v":85},"CO",{"$f":"IF(OR(D250=$M$15,D250=$M$20),SUM(IF((A250=$O$10:$O$29),IF(C250=$P$9,$P$10:$P$29,$Q$10:$Q$29),0))/100,1)","v":1},1.6189576286305001]
[2002,"Automovel-Alcool","Etanol",{"$f":"SUM(IF(B251=$L$10:$L$23,$M$10:$M$23,0))","v":8},1,{"$f":"IFERROR(ROUND(VLOOKUP(A251,'Dados de entrada'!$P$7:$Z$50,Dados_v2!D251+1,0)*H251,0),0)","v":147},"CO",{"$f":"IF(OR(D251=$M$15,D251=$M$20),SUM(IF((A251=$O$10:$O$29),IF(C251=$P$9,$P$10:$P$29,$Q$10:$Q$29),0))/100,1)","v":1},1.6569348850388901]
[2003,"Automovel-Alcool","Etanol",{"$f":"SUM(IF(B252=$L$10:$L$23,$M$10:$M$23,0))","v":8},1,{"$f":"IFERROR(ROUND(VLOOKUP(A252,'Dados de entrada'!$P$7:$Z$50,Dados_v2!D252+1,0)*H252,0),0)","v":198},"CO",{"$f":"IF(OR(D252=$M$15,D252=$M$20),SUM(IF((A252=$O$10:$O$29),IF(C252=$P$9,$P$10:$P$29,$Q$10:$Q$29),0))/100,1)","v":1},1.64413872072004]
[2004,"Automovel-Alcool","Etanol",{"$f":"SUM(IF(B253=$L$10:$L$23,$M$10:$M$23,0))","v":8},1,{"$f":"IFERROR(ROUND(VLOOKUP(A253,'Dados de entrada'!$P$7:$Z$50,Dados_v2!D253+1,0)*H253,0),0)","v":83},"CO",{"$f":"IF(OR(D253=$M$15,D253=$M$20),SUM(IF((A253=$O$10:$O$29),IF(C253=$P$9,$P$10:$P$29,$Q$10:$Q$29),0))/100,1)","v":1},1.6508484880921299]
[2005,"Automovel-Alcool","Etanol",{"$f":"SUM(IF(B254=$L$10:$L$23,$M$10:$M$23,0))","v":8},1,{"$f":"IFERROR(ROUND(VLOOKUP(A254,'Dados de entrada'!$P$7:$Z$50,Dados_v2!D254+1,0)*H254,0),0)","v":85},"CO",{"$f":"IF(OR(D254=$M$15,D254=$M$20),SUM(IF((A254=$O$10:$O$29),IF(C254=$P$9,$P$10:$P$29,$Q$10:$Q$29),0))/100,1)","v":1},1.6072791639402]
[2006,"Automovel-Alcool","Etanol",{"$f":"SUM(IF(B255=$L$10:$L$23,$M$10:$M$23,0))","v":8},1,{"$f":"IFERROR(ROUND(VLOOKUP(A255,'Dados de entrada'!$P$7:$Z$50,Dados_v2!D255+1,0)*H255,0),0)","v":77},"CO",{"$f":"IF(OR(D255=$M$15,D255=$M$20),SUM(IF((A255=$O$10:$O$29),IF(C255=$P$9,$P$10:$P$29,$Q$10:$Q$29),0))/100,1)","v":1},1.41358134941615]
[2007,"Automovel-Alcool","Etanol",{"$f":"SUM(IF(B256=$L$10:$L$23,$M$10:$M$23,0))","v":8},1,{"$f":"IFERROR(ROUND(VLOOKUP(A256,'Dados de entrada'!$P$7:$Z$50,Dados_v2!D256+1,0)*H256,0),0)","v":190},"CO",{"$f":"IF(OR(D256=$M$15,D256=$M$20),SUM(IF((A256=$O$10:$O$29),IF(C256=$P$9,$P$10:$P$29,$Q$10:$Q$29),0))/100,1)","v":1},1.41358134941615]
[2008,"Automovel-Alcool","Etanol",{"$f":"SUM(IF(B257=$L$10:$L$23,$M$10:$M$23,0))","v":8},1,{"$f":"IFERROR(ROUND(VLOOKUP(A257,'Dados de entrada'!$P$7:$Z$50,Dados_v2!D257+1,0)*H257,0),0)","v":254},"CO",{"$f":"IF(OR(D257=$M$15,D257=$M$20),SUM(IF((A257=$O$10:$O$29),IF(C257=$P$9,$P$10:$P$29,$Q$10:$Q$29),0))/100,1)","v":1},1.41358134941615]
[2009,"Automovel-Alcool","Etanol",{"$f":"SUM(IF(B258=$L$10:$L$23,$M$10:$M$23,0))","v":8},1,{"$f":"IFERROR(ROUND(VLOOKUP(A258,'Dados de entrada'!$P$7:$Z$50,Dados_v2!D258+1,0)*H258,0),0)","v":134},"CO",{"$f":"IF(OR(D258=$M$15,D258=$M$20),SUM(IF((A258=$O$10:$O$29),IF(C258=$P$9,$P$10:$P$29,$Q$10:$Q$29),0))/100,1)","v":1},1.41358134941615]
[2010,"Automovel-Alcool","Etanol",{"$f":"SUM(IF(B259=$L$10:$L$23,$M$10:$M$23,0))","v":8},1,{"$f":"IFERROR(ROUND(VLOOKUP(A259,'Dados de entrada'!$P$7:$Z$50,Dados_v2!D259+1,0)*H259,0),0)","v":197},"CO",{"$f":"IF(OR(D259=$M$15,D259=$M$20),SUM(IF((A259=$O$10:$O$29),IF(C259=$P$9,$P$10:$P$29,$Q$10:$Q$29),0))/100,1)","v":1},1.41358134941615]
[2011,"Automovel-Alcool","Etanol",{"$f":"SUM(IF(B260=$L$10:$L$23,$M$10:$M$23,0))","v":8},1,{"$f":"IFERROR(ROUND(VLOOKUP(A260,'Dados de entrada'!$P$7:$Z$50,Dados_v2!D260+1,0)*H260,0),0)","v":242},"CO",{"$f":"IF(OR(D260=$M$15,D260=$M$20),SUM(IF((A260=$O$10:$O$29),IF(C260=$P$9,$P$10:$P$29,$Q$10:$Q$29),0))/100,1)","v":1},1.41358134941615]
[2012,"Automovel-Alcool","Etanol",{"$f":"SUM(IF(B261=$L$10:$L$23,$M$10:$M$23,0))","v":8},1,{"$f":"IFERROR(ROUND(VLOOKUP(A261,'Dados de entrada'!$P$7:$Z$50,Dados_v2!D261+1,0)*H261,0),0)","v":392},"CO",{"$f":"IF(OR(D261=$M$15,D261=$M$20),SUM(IF((A261=$O$10:$O$29),IF(C261=$P$9,$P$10:$P$29,$Q$10:$Q$29),0))/100,1)","v":1},1.41358134941615]
[2013,"Automovel-Alcool","Etanol",{"$f":"SUM(IF(B262=$L$10:$L$23,$M$10:$M$23,0))","v":8},1,{"$f":"IFERROR(ROUND(VLOOKUP(A262,'Dados de entrada'!$P$7:$Z$50,Dados_v2!D262+1,0)*H262,0),0)","v":492},"CO",{"$f":"IF(OR(D262=$M$15,D262=$M$20),SUM(IF((A262=$O$10:$O$29),IF(C262=$P$9,$P$10:$P$29,$Q$10:$Q$29),0))/100,1)","v":1},1.41358134941615]
[2014,"Automovel-Alcool","Etanol",{"$f":"SUM(IF(B263=$L$10:$L$23,$M$10:$M$23,0))","v":8},1,{"$f":"IFERROR(ROUND(VLOOKUP(A263,'Dados de entrada'!$P$7:$Z$50,Dados_v2!D263+1,0)*H263,0),0)","v":461},"CO",{"$f":"IF(OR(D263=$M$15,D263=$M$20),SUM(IF((A263=$O$10:$O$29),IF(C263=$P$9,$P$10:$P$29,$Q$10:$Q$29),0))/100,1)","v":1},1.41358134941615]
[2015,"Automovel-Alcool","Etanol",{"$f":"SUM(IF(B264=$L$10:$L$23,$M$10:$M$23,0))","v":8},1,{"$f":"IFERROR(ROUND(VLOOKUP(A264,'Dados de entrada'!$P$7:$Z$50,Dados_v2!D264+1,0)*H264,0),0)","v":519},"CO",{"$f":"IF(OR(D264=$M$15,D264=$M$20),SUM(IF((A264=$O$10:$O$29),IF(C264=$P$9,$P$10:$P$29,$Q$10:$Q$29),0))/100,1)","v":1},1.41358134941615]
[2016,"Automovel-Alcool","Etanol",{"$f":"SUM(IF(B265=$L$10:$L$23,$M$10:$M$23,0))","v":8},1,{"$f":"IFERROR(ROUND(VLOOKUP(A265,'Dados de entrada'!$P$7:$Z$50,Dados_v2!D265+1,0)*H265,0),0)","v":449},"CO",{"$f":"IF(OR(D265=$M$15,D265=$M$20),SUM(IF((A265=$O$10:$O$29),IF(C265=$P$9,$P$10:$P$29,$Q$10:$Q$29),0))/100,1)","v":1},1.41358134941615]
[2017,"Automovel-Alcool","Etanol",{"$f":"SUM(IF(B266=$L$10:$L$23,$M$10:$M$23,0))","v":8},1,{"$f":"IFERROR(ROUND(VLOOKUP(A266,'Dados de entrada'!$P$7:$Z$50,Dados_v2!D266+1,0)*H266,0),0)","v":275},"CO",{"$f":"IF(OR(D266=$M$15,D266=$M$20),SUM(IF((A266=$O$10:$O$29),IF(C266=$P$9,$P$10:$P$29,$Q$10:$Q$29),0))/100,1)","v":1},1.41358134941615]
[2018,"Automovel-Alcool","Etanol",{"$f":"SUM(IF(B267=$L$10:$L$23,$M$10:$M$23,0))","v":8},1,{"$f":"IFERROR(ROUND(VLOOKUP(A267,'Dados de entrada'!$P$7:$Z$50,Dados_v2!D267+1,0)*H267,0),0)","v":494},"CO",{"$f":"IF(OR(D267=$M$15,D267=$M$20),SUM(IF((A267=$O$10:$O$29),IF(C267=$P$9,$P$10:$P$29,$Q$10:$Q$29),0))/100,1)","v":1},1.41358134941615]
[2019,"Automovel-Alcool","Etanol",{"$f":"SUM(IF(B268=$L$10:$L$23,$M$10:$M$23,0))","v":8},1,{"$f":"IFERROR(ROUND(VLOOKUP(A268,'Dados de entrada'!$P$7:$Z$50,Dados_v2!D268+1,0)*H268,0),0)","v":361},"CO",{"$f":"IF(OR(D268=$M$15,D268=$M$20),SUM(IF((A268=$O$10:$O$29),IF(C268=$P$9,$P$10:$P$29,$Q$10:$Q$29),0))/100,1)","v":1},1.41358134941615]
[2020,"Automovel-Alcool","Etanol",{"$f":"SUM(IF(B269=$L$10:$L$23,$M$10:$M$23,0))","v":8},1,{"$f":"IFERROR(ROUND(VLOOKUP(A269,'Dados de entrada'!$P$7:$Z$50,Dados_v2!D269+1,0)*H269,0),0)","v":510},"CO",{"$f":"IF(OR(D269=$M$15,D269=$M$20),SUM(IF((A269=$O$10:$O$29),IF(C269=$P$9,$P$10:$P$29,$Q$10:$Q$29),0))/100,1)","v":1},1.41358134941615]
[2021,"Automovel-Alcool","Etanol",{"$f":"SUM(IF(B270=$L$10:$L$23,$M$10:$M$23,0))","v":8},1,{"$f":"IFERROR(ROUND(VLOOKUP(A270,'Dados de entrada'!$P$7:$Z$50,Dados_v2!D270+1,0)*H270,0),0)","v":150},"CO",{"$f":"IF(OR(D270=$M$15,D270=$M$20),SUM(IF((A270=$O$10:$O$29),IF(C270=$P$9,$P$10:$P$29,$Q$10:$Q$29),0))/100,1)","v":1},1.41358134941615]
[2022,"Automovel-Alcool","Etanol",{"$f":"SUM(IF(B271=$L$10:$L$23,$M$10:$M$23,0))","v":8},1,{"$f":"IFERROR(ROUND(VLOOKUP(A271,'Dados de entrada'!$P$7:$Z$50,Dados_v2!D271+1,0)*H271,0),0)","v":232},"CO",{"$f":"IF(OR(D271=$M$15,D271=$M$20),SUM(IF((A271=$O$10:$O$29),IF(C271=$P$9,$P$10:$P$29,$Q$10:$Q$29),0))/100,1)","v":1},1.41358134941615]
[2003,"Automovel-Flex","Gasolina",{"$f":"SUM(IF(B272=$L$10:$L$23,$M$10:$M$23,0))","v":9},1,{"$f":"IFERROR(ROUND(VLOOKUP(A272,'Dados de entrada'!$P$7:$Z$50,Dados_v2!D272+1,0)*H272,0),0)","v":11},"CO",{"$f":"IF(OR(D272=$M$15,D272=$M$20),SUM(IF((A272=$O$10:$O$29),IF(C272=$P$9,$P$10:$P$29,$Q$10:$Q$29),0))/100,1)","v":0.5},1.5807846238938601]
[2004,"Automovel-Flex","Gasolina",{"$f":"SUM(IF(B273=$L$10:$L$23,$M$10:$M$23,0))","v":9},1,{"$f":"IFERROR(ROUND(VLOOKUP(A273,'Dados de entrada'!$P$7:$Z$50,Dados_v2!D273+1,0)*H273,0),0)","v":0},"CO",{"$f":"IF(OR(D273=$M$15,D273=$M$20),SUM(IF((A273=$O$10:$O$29),IF(C273=$P$9,$P$10:$P$29,$Q$10:$Q$29),0))/100,1)","v":0},1.42269945955499]
[2005,"Automovel-Flex","Gasolina",{"$f":"SUM(IF(B274=$L$10:$L$23,$M$10:$M$23,0))","v":9},1,{"$f":"IFERROR(ROUND(VLOOKUP(A274,'Dados de entrada'!$P$7:$Z$50,Dados_v2!D274+1,0)*H274,0),0)","v":0},"CO",{"$f":"IF(OR(D274=$M$15,D274=$M$20),SUM(IF((A274=$O$10:$O$29),IF(C274=$P$9,$P$10:$P$29,$Q$10:$Q$29),0))/100,1)","v":0},1.4332440321954401]
[2006,"Automovel-Flex","Gasolina",{"$f":"SUM(IF(B275=$L$10:$L$23,$M$10:$M$23,0))","v":9},1,{"$f":"IFERROR(ROUND(VLOOKUP(A275,'Dados de entrada'!$P$7:$Z$50,Dados_v2!D275+1,0)*H275,0),0)","v":1283},"CO",{"$f":"IF(OR(D275=$M$15,D275=$M$20),SUM(IF((A275=$O$10:$O$29),IF(C275=$P$9,$P$10:$P$29,$Q$10:$Q$29),0))/100,1)","v":8.5000000000000006E-2},1.4415183226686299]
[2007,"Automovel-Flex","Gasolina",{"$f":"SUM(IF(B276=$L$10:$L$23,$M$10:$M$23,0))","v":9},1,{"$f":"IFERROR(ROUND(VLOOKUP(A276,'Dados de entrada'!$P$7:$Z$50,Dados_v2!D276+1,0)*H276,0),0)","v":3355},"CO",{"$f":"IF(OR(D276=$M$15,D276=$M$20),SUM(IF((A276=$O$10:$O$29),IF(C276=$P$9,$P$10:$P$29,$Q$10:$Q$29),0))/100,1)","v":0.16},1.38963745825521]
[2008,"Automovel-Flex","Gasolina",{"$f":"SUM(IF(B277=$L$10:$L$23,$M$10:$M$23,0))","v":9},1,{"$f":"IFERROR(ROUND(VLOOKUP(A277,'Dados de entrada'!$P$7:$Z$50,Dados_v2!D277+1,0)*H277,0),0)","v":7217},"CO",{"$f":"IF(OR(D277=$M$15,D277=$M$20),SUM(IF((A277=$O$10:$O$29),IF(C277=$P$9,$P$10:$P$29,$Q$10:$Q$29),0))/100,1)","v":0.2},1.34673171266305]
[2009,"Automovel-Flex","Gasolina",{"$f":"SUM(IF(B278=$L$10:$L$23,$M$10:$M$23,0))","v":9},1,{"$f":"IFERROR(ROUND(VLOOKUP(A278,'Dados de entrada'!$P$7:$Z$50,Dados_v2!D278+1,0)*H278,0),0)","v":9731},"CO",{"$f":"IF(OR(D278=$M$15,D278=$M$20),SUM(IF((A278=$O$10:$O$29),IF(C278=$P$9,$P$10:$P$29,$Q$10:$Q$29),0))/100,1)","v":0.3},1.0909465060272601]
[2010,"Automovel-Flex","Gasolina",{"$f":"SUM(IF(B279=$L$10:$L$23,$M$10:$M$23,0))","v":9},1,{"$f":"IFERROR(ROUND(VLOOKUP(A279,'Dados de entrada'!$P$7:$Z$50,Dados_v2!D279+1,0)*H279,0),0)","v":22085},"CO",{"$f":"IF(OR(D279=$M$15,D279=$M$20),SUM(IF((A279=$O$10:$O$29),IF(C279=$P$9,$P$10:$P$29,$Q$10:$Q$29),0))/100,1)","v":0.48},0.99744240491014102]
[2011,"Automovel-Flex","Gasolina",{"$f":"SUM(IF(B280=$L$10:$L$23,$M$10:$M$23,0))","v":9},1,{"$f":"IFERROR(ROUND(VLOOKUP(A280,'Dados de entrada'!$P$7:$Z$50,Dados_v2!D280+1,0)*H280,0),0)","v":32974},"CO",{"$f":"IF(OR(D280=$M$15,D280=$M$20),SUM(IF((A280=$O$10:$O$29),IF(C280=$P$9,$P$10:$P$29,$Q$10:$Q$29),0))/100,1)","v":0.68},0.94839512230123002]
[2012,"Automovel-Flex","Gasolina",{"$f":"SUM(IF(B281=$L$10:$L$23,$M$10:$M$23,0))","v":9},1,{"$f":"IFERROR(ROUND(VLOOKUP(A281,'Dados de entrada'!$P$7:$Z$50,Dados_v2!D281+1,0)*H281,0),0)","v":38500},"CO",{"$f":"IF(OR(D281=$M$15,D281=$M$20),SUM(IF((A281=$O$10:$O$29),IF(C281=$P$9,$P$10:$P$29,$Q$10:$Q$29),0))/100,1)","v":0.75},0.87599551761729]
[2013,"Automovel-Flex","Gasolina",{"$f":"SUM(IF(B282=$L$10:$L$23,$M$10:$M$23,0))","v":9},1,{"$f":"IFERROR(ROUND(VLOOKUP(A282,'Dados de entrada'!$P$7:$Z$50,Dados_v2!D282+1,0)*H282,0),0)","v":48092},"CO",{"$f":"IF(OR(D282=$M$15,D282=$M$20),SUM(IF((A282=$O$10:$O$29),IF(C282=$P$9,$P$10:$P$29,$Q$10:$Q$29),0))/100,1)","v":0.75},0.78057493060606298]
[2014,"Automovel-Flex","Gasolina",{"$f":"SUM(IF(B283=$L$10:$L$23,$M$10:$M$23,0))","v":9},1,{"$f":"IFERROR(ROUND(VLOOKUP(A283,'Dados de entrada'!$P$7:$Z$50,Dados_v2!D283+1,0)*H283,0),0)","v":41738},"CO",{"$f":"IF(OR(D283=$M$15,D283=$M$20),SUM(IF((A283=$O$10:$O$29),IF(C283=$P$9,$P$10:$P$29,$Q$10:$Q$29),0))/100,1)","v":0.75},0.72613336126754702]
[2015,"Automovel-Flex","Gasolina",{"$f":"SUM(IF(B284=$L$10:$L$23,$M$10:$M$23,0))","v":9},1,{"$f":"IFERROR(ROUND(VLOOKUP(A284,'Dados de entrada'!$P$7:$Z$50,Dados_v2!D284+1,0)*H284,0),0)","v":39767},"CO",{"$f":"IF(OR(D284=$M$15,D284=$M$20),SUM(IF((A284=$O$10:$O$29),IF(C284=$P$9,$P$10:$P$29,$Q$10:$Q$29),0))/100,1)","v":0.75},0.65824215375127604]
[2016,"Automovel-Flex","Gasolina",{"$f":"SUM(IF(B285=$L$10:$L$23,$M$10:$M$23,0))","v":9},1,{"$f":"IFERROR(ROUND(VLOOKUP(A285,'Dados de entrada'!$P$7:$Z$50,Dados_v2!D285+1,0)*H285,0),0)","v":30062},"CO",{"$f":"IF(OR(D285=$M$15,D285=$M$20),SUM(IF((A285=$O$10:$O$29),IF(C285=$P$9,$P$10:$P$29,$Q$10:$Q$29),0))/100,1)","v":0.75},0.63507947877747895]
[2017,"Automovel-Flex","Gasolina",{"$f":"SUM(IF(B286=$L$10:$L$23,$M$10:$M$23,0))","v":9},1,{"$f":"IFERROR(ROUND(VLOOKUP(A286,'Dados de entrada'!$P$7:$Z$50,Dados_v2!D286+1,0)*H286,0),0)","v":26135},"CO",{"$f":"IF(OR(D286=$M$15,D286=$M$20),SUM(IF((A286=$O$10:$O$29),IF(C286=$P$9,$P$10:$P$29,$Q$10:$Q$29),0))/100,1)","v":0.75},0.55627574586273598]
[2018,"Automovel-Flex","Gasolina",{"$f":"SUM(IF(B287=$L$10:$L$23,$M$10:$M$23,0))","v":9},1,{"$f":"IFERROR(ROUND(VLOOKUP(A287,'Dados de entrada'!$P$7:$Z$50,Dados_v2!D287+1,0)*H287,0),0)","v":41519},"CO",{"$f":"IF(OR(D287=$M$15,D287=$M$20),SUM(IF((A287=$O$10:$O$29),IF(C287=$P$9,$P$10:$P$29,$Q$10:$Q$29),0))/100,1)","v":0.75},0.52391360331996994]
[2019,"Automovel-Flex","Gasolina",{"$f":"SUM(IF(B288=$L$10:$L$23,$M$10:$M$23,0))","v":9},1,{"$f":"IFERROR(ROUND(VLOOKUP(A288,'Dados de entrada'!$P$7:$Z$50,Dados_v2!D288+1,0)*H288,0),0)","v":48492},"CO",{"$f":"IF(OR(D288=$M$15,D288=$M$20),SUM(IF((A288=$O$10:$O$29),IF(C288=$P$9,$P$10:$P$29,$Q$10:$Q$29),0))/100,1)","v":0.75},0.48952793825845298]
[2020,"Automovel-Flex","Gasolina",{"$f":"SUM(IF(B289=$L$10:$L$23,$M$10:$M$23,0))","v":9},1,{"$f":"IFERROR(ROUND(VLOOKUP(A289,'Dados de entrada'!$P$7:$Z$50,Dados_v2!D289+1,0)*H289,0),0)","v":65058},"CO",{"$f":"IF(OR(D289=$M$15,D289=$M$20),SUM(IF((A289=$O$10:$O$29),IF(C289=$P$9,$P$10:$P$29,$Q$10:$Q$29),0))/100,1)","v":0.75},0.42110587658380599]
[2021,"Automovel-Flex","Gasolina",{"$f":"SUM(IF(B290=$L$10:$L$23,$M$10:$M$23,0))","v":9},1,{"$f":"IFERROR(ROUND(VLOOKUP(A290,'Dados de entrada'!$P$7:$Z$50,Dados_v2!D290+1,0)*H290,0),0)","v":95462},"CO",{"$f":"IF(OR(D290=$M$15,D290=$M$20),SUM(IF((A290=$O$10:$O$29),IF(C290=$P$9,$P$10:$P$29,$Q$10:$Q$29),0))/100,1)","v":0.75},0.348086782997994]
[2022,"Automovel-Flex","Gasolina",{"$f":"SUM(IF(B291=$L$10:$L$23,$M$10:$M$23,0))","v":9},1,{"$f":"IFERROR(ROUND(VLOOKUP(A291,'Dados de entrada'!$P$7:$Z$50,Dados_v2!D291+1,0)*H291,0),0)","v":156757},"CO",{"$f":"IF(OR(D291=$M$15,D291=$M$20),SUM(IF((A291=$O$10:$O$29),IF(C291=$P$9,$P$10:$P$29,$Q$10:$Q$29),0))/100,1)","v":0.75},0.18836226099933101]
[2003,"Automovel-Flex","Etanol",{"$f":"SUM(IF(B292=$L$10:$L$23,$M$10:$M$23,0))","v":9},1,{"$f":"IFERROR(ROUND(VLOOKUP(A292,'Dados de entrada'!$P$7:$Z$50,Dados_v2!D292+1,0)*H292,0),0)","v":11},"CO",{"$f":"IF(OR(D292=$M$15,D292=$M$20),SUM(IF((A292=$O$10:$O$29),IF(C292=$P$9,$P$10:$P$29,$Q$10:$Q$29),0))/100,1)","v":0.5},1.44770289737436]
[2004,"Automovel-Flex","Etanol",{"$f":"SUM(IF(B293=$L$10:$L$23,$M$10:$M$23,0))","v":9},1,{"$f":"IFERROR(ROUND(VLOOKUP(A293,'Dados de entrada'!$P$7:$Z$50,Dados_v2!D293+1,0)*H293,0),0)","v":1663},"CO",{"$f":"IF(OR(D293=$M$15,D293=$M$20),SUM(IF((A293=$O$10:$O$29),IF(C293=$P$9,$P$10:$P$29,$Q$10:$Q$29),0))/100,1)","v":1},1.3559835789047501]
[2005,"Automovel-Flex","Etanol",{"$f":"SUM(IF(B294=$L$10:$L$23,$M$10:$M$23,0))","v":9},1,{"$f":"IFERROR(ROUND(VLOOKUP(A294,'Dados de entrada'!$P$7:$Z$50,Dados_v2!D294+1,0)*H294,0),0)","v":6460},"CO",{"$f":"IF(OR(D294=$M$15,D294=$M$20),SUM(IF((A294=$O$10:$O$29),IF(C294=$P$9,$P$10:$P$29,$Q$10:$Q$29),0))/100,1)","v":1},1.2430754022887101]
[2006,"Automovel-Flex","Etanol",{"$f":"SUM(IF(B295=$L$10:$L$23,$M$10:$M$23,0))","v":9},1,{"$f":"IFERROR(ROUND(VLOOKUP(A295,'Dados de entrada'!$P$7:$Z$50,Dados_v2!D295+1,0)*H295,0),0)","v":13811},"CO",{"$f":"IF(OR(D295=$M$15,D295=$M$20),SUM(IF((A295=$O$10:$O$29),IF(C295=$P$9,$P$10:$P$29,$Q$10:$Q$29),0))/100,1)","v":0.91500000000000004},1.3010651122243599]
[2007,"Automovel-Flex","Etanol",{"$f":"SUM(IF(B296=$L$10:$L$23,$M$10:$M$23,0))","v":9},1,{"$f":"IFERROR(ROUND(VLOOKUP(A296,'Dados de entrada'!$P$7:$Z$50,Dados_v2!D296+1,0)*H296,0),0)","v":17612},"CO",{"$f":"IF(OR(D296=$M$15,D296=$M$20),SUM(IF((A296=$O$10:$O$29),IF(C296=$P$9,$P$10:$P$29,$Q$10:$Q$29),0))/100,1)","v":0.84},1.25605259464849]
[2008,"Automovel-Flex","Etanol",{"$f":"SUM(IF(B297=$L$10:$L$23,$M$10:$M$23,0))","v":9},1,{"$f":"IFERROR(ROUND(VLOOKUP(A297,'Dados de entrada'!$P$7:$Z$50,Dados_v2!D297+1,0)*H297,0),0)","v":28866},"CO",{"$f":"IF(OR(D297=$M$15,D297=$M$20),SUM(IF((A297=$O$10:$O$29),IF(C297=$P$9,$P$10:$P$29,$Q$10:$Q$29),0))/100,1)","v":0.8},1.2761508767365799]
[2009,"Automovel-Flex","Etanol",{"$f":"SUM(IF(B298=$L$10:$L$23,$M$10:$M$23,0))","v":9},1,{"$f":"IFERROR(ROUND(VLOOKUP(A298,'Dados de entrada'!$P$7:$Z$50,Dados_v2!D298+1,0)*H298,0),0)","v":22707},"CO",{"$f":"IF(OR(D298=$M$15,D298=$M$20),SUM(IF((A298=$O$10:$O$29),IF(C298=$P$9,$P$10:$P$29,$Q$10:$Q$29),0))/100,1)","v":0.7},1.2154861269027399]
[2010,"Automovel-Flex","Etanol",{"$f":"SUM(IF(B299=$L$10:$L$23,$M$10:$M$23,0))","v":9},1,{"$f":"IFERROR(ROUND(VLOOKUP(A299,'Dados de entrada'!$P$7:$Z$50,Dados_v2!D299+1,0)*H299,0),0)","v":23926},"CO",{"$f":"IF(OR(D299=$M$15,D299=$M$20),SUM(IF((A299=$O$10:$O$29),IF(C299=$P$9,$P$10:$P$29,$Q$10:$Q$29),0))/100,1)","v":0.52},1.1321976547997801]
[2011,"Automovel-Flex","Etanol",{"$f":"SUM(IF(B300=$L$10:$L$23,$M$10:$M$23,0))","v":9},1,{"$f":"IFERROR(ROUND(VLOOKUP(A300,'Dados de entrada'!$P$7:$Z$50,Dados_v2!D300+1,0)*H300,0),0)","v":15517},"CO",{"$f":"IF(OR(D300=$M$15,D300=$M$20),SUM(IF((A300=$O$10:$O$29),IF(C300=$P$9,$P$10:$P$29,$Q$10:$Q$29),0))/100,1)","v":0.32},1.06443791131917]
[2012,"Automovel-Flex","Etanol",{"$f":"SUM(IF(B301=$L$10:$L$23,$M$10:$M$23,0))","v":9},1,{"$f":"IFERROR(ROUND(VLOOKUP(A301,'Dados de entrada'!$P$7:$Z$50,Dados_v2!D301+1,0)*H301,0),0)","v":12833},"CO",{"$f":"IF(OR(D301=$M$15,D301=$M$20),SUM(IF((A301=$O$10:$O$29),IF(C301=$P$9,$P$10:$P$29,$Q$10:$Q$29),0))/100,1)","v":0.25},1.0043724885910399]
[2013,"Automovel-Flex","Etanol",{"$f":"SUM(IF(B302=$L$10:$L$23,$M$10:$M$23,0))","v":9},1,{"$f":"IFERROR(ROUND(VLOOKUP(A302,'Dados de entrada'!$P$7:$Z$50,Dados_v2!D302+1,0)*H302,0),0)","v":16031},"CO",{"$f":"IF(OR(D302=$M$15,D302=$M$20),SUM(IF((A302=$O$10:$O$29),IF(C302=$P$9,$P$10:$P$29,$Q$10:$Q$29),0))/100,1)","v":0.25},0.90328886132089603]
[2014,"Automovel-Flex","Etanol",{"$f":"SUM(IF(B303=$L$10:$L$23,$M$10:$M$23,0))","v":9},1,{"$f":"IFERROR(ROUND(VLOOKUP(A303,'Dados de entrada'!$P$7:$Z$50,Dados_v2!D303+1,0)*H303,0),0)","v":13913},"CO",{"$f":"IF(OR(D303=$M$15,D303=$M$20),SUM(IF((A303=$O$10:$O$29),IF(C303=$P$9,$P$10:$P$29,$Q$10:$Q$29),0))/100,1)","v":0.25},0.83018702950873902]
[2015,"Automovel-Flex","Etanol",{"$f":"SUM(IF(B304=$L$10:$L$23,$M$10:$M$23,0))","v":9},1,{"$f":"IFERROR(ROUND(VLOOKUP(A304,'Dados de entrada'!$P$7:$Z$50,Dados_v2!D304+1,0)*H304,0),0)","v":13256},"CO",{"$f":"IF(OR(D304=$M$15,D304=$M$20),SUM(IF((A304=$O$10:$O$29),IF(C304=$P$9,$P$10:$P$29,$Q$10:$Q$29),0))/100,1)","v":0.25},0.74282747262409898]
[2016,"Automovel-Flex","Etanol",{"$f":"SUM(IF(B305=$L$10:$L$23,$M$10:$M$23,0))","v":9},1,{"$f":"IFERROR(ROUND(VLOOKUP(A305,'Dados de entrada'!$P$7:$Z$50,Dados_v2!D305+1,0)*H305,0),0)","v":10021},"CO",{"$f":"IF(OR(D305=$M$15,D305=$M$20),SUM(IF((A305=$O$10:$O$29),IF(C305=$P$9,$P$10:$P$29,$Q$10:$Q$29),0))/100,1)","v":0.25},0.696232387017236]
[2017,"Automovel-Flex","Etanol",{"$f":"SUM(IF(B306=$L$10:$L$23,$M$10:$M$23,0))","v":9},1,{"$f":"IFERROR(ROUND(VLOOKUP(A306,'Dados de entrada'!$P$7:$Z$50,Dados_v2!D306+1,0)*H306,0),0)","v":8712},"CO",{"$f":"IF(OR(D306=$M$15,D306=$M$20),SUM(IF((A306=$O$10:$O$29),IF(C306=$P$9,$P$10:$P$29,$Q$10:$Q$29),0))/100,1)","v":0.25},0.62394872424275005]
[2018,"Automovel-Flex","Etanol",{"$f":"SUM(IF(B307=$L$10:$L$23,$M$10:$M$23,0))","v":9},1,{"$f":"IFERROR(ROUND(VLOOKUP(A307,'Dados de entrada'!$P$7:$Z$50,Dados_v2!D307+1,0)*H307,0),0)","v":13840},"CO",{"$f":"IF(OR(D307=$M$15,D307=$M$20),SUM(IF((A307=$O$10:$O$29),IF(C307=$P$9,$P$10:$P$29,$Q$10:$Q$29),0))/100,1)","v":0.25},0.57304819105958305]
[2019,"Automovel-Flex","Etanol",{"$f":"SUM(IF(B308=$L$10:$L$23,$M$10:$M$23,0))","v":9},1,{"$f":"IFERROR(ROUND(VLOOKUP(A308,'Dados de entrada'!$P$7:$Z$50,Dados_v2!D308+1,0)*H308,0),0)","v":16164},"CO",{"$f":"IF(OR(D308=$M$15,D308=$M$20),SUM(IF((A308=$O$10:$O$29),IF(C308=$P$9,$P$10:$P$29,$Q$10:$Q$29),0))/100,1)","v":0.25},0.52512724943101596]
[2020,"Automovel-Flex","Etanol",{"$f":"SUM(IF(B309=$L$10:$L$23,$M$10:$M$23,0))","v":9},1,{"$f":"IFERROR(ROUND(VLOOKUP(A309,'Dados de entrada'!$P$7:$Z$50,Dados_v2!D309+1,0)*H309,0),0)","v":21686},"CO",{"$f":"IF(OR(D309=$M$15,D309=$M$20),SUM(IF((A309=$O$10:$O$29),IF(C309=$P$9,$P$10:$P$29,$Q$10:$Q$29),0))/100,1)","v":0.25},0.45130711652467098]
[2021,"Automovel-Flex","Etanol",{"$f":"SUM(IF(B310=$L$10:$L$23,$M$10:$M$23,0))","v":9},1,{"$f":"IFERROR(ROUND(VLOOKUP(A310,'Dados de entrada'!$P$7:$Z$50,Dados_v2!D310+1,0)*H310,0),0)","v":31821},"CO",{"$f":"IF(OR(D310=$M$15,D310=$M$20),SUM(IF((A310=$O$10:$O$29),IF(C310=$P$9,$P$10:$P$29,$Q$10:$Q$29),0))/100,1)","v":0.25},0.37723376471251002]
[2022,"Automovel-Flex","Etanol",{"$f":"SUM(IF(B311=$L$10:$L$23,$M$10:$M$23,0))","v":9},1,{"$f":"IFERROR(ROUND(VLOOKUP(A311,'Dados de entrada'!$P$7:$Z$50,Dados_v2!D311+1,0)*H311,0),0)","v":52252},"CO",{"$f":"IF(OR(D311=$M$15,D311=$M$20),SUM(IF((A311=$O$10:$O$29),IF(C311=$P$9,$P$10:$P$29,$Q$10:$Q$29),0))/100,1)","v":0.25},0.192077921570836]
[1983,"Automovel-Diesel","Diesel",{"$f":"SUM(IF(B312=$L$10:$L$23,$M$10:$M$23,0))","v":10},1,{"$f":"IFERROR(ROUND(VLOOKUP(A312,'Dados de entrada'!$P$7:$Z$50,Dados_v2!D312+1,0)*H312,0),0)","v":163},"CO",{"$f":"IF(OR(D312=$M$15,D312=$M$20),SUM(IF((A312=$O$10:$O$29),IF(C312=$P$9,$P$10:$P$29,$Q$10:$Q$29),0))/100,1)","v":1},0.27359121938160802]
[1984,"Automovel-Diesel","Diesel",{"$f":"SUM(IF(B313=$L$10:$L$23,$M$10:$M$23,0))","v":10},1,{"$f":"IFERROR(ROUND(VLOOKUP(A313,'Dados de entrada'!$P$7:$Z$50,Dados_v2!D313+1,0)*H313,0),0)","v":186},"CO",{"$f":"IF(OR(D313=$M$15,D313=$M$20),SUM(IF((A313=$O$10:$O$29),IF(C313=$P$9,$P$10:$P$29,$Q$10:$Q$29),0))/100,1)","v":1},0.27359121938160802]
[1985,"Automovel-Diesel","Diesel",{"$f":"SUM(IF(B314=$L$10:$L$23,$M$10:$M$23,0))","v":10},1,{"$f":"IFERROR(ROUND(VLOOKUP(A314,'Dados de entrada'!$P$7:$Z$50,Dados_v2!D314+1,0)*H314,0),0)","v":157},"CO",{"$f":"IF(OR(D314=$M$15,D314=$M$20),SUM(IF((A314=$O$10:$O$29),IF(C314=$P$9,$P$10:$P$29,$Q$10:$Q$29),0))/100,1)","v":1},0.27359121938160802]
[1986,"Automovel-Diesel","Diesel",{"$f":"SUM(IF(B315=$L$10:$L$23,$M$10:$M$23,0))","v":10},1,{"$f":"IFERROR(ROUND(VLOOKUP(A315,'Dados de entrada'!$P$7:$Z$50,Dados_v2!D315+1,0)*H315,0),0)","v":254},"CO",{"$f":"IF(OR(D315=$M$15,D315=$M$20),SUM(IF((A315=$O$10:$O$29),IF(C315=$P$9,$P$10:$P$29,$Q$10:$Q$29),0))/100,1)","v":1},0.27359121938160802]
[1987,"Automovel-Diesel","Diesel",{"$f":"SUM(IF(B316=$L$10:$L$23,$M$10:$M$23,0))","v":10},1,{"$f":"IFERROR(ROUND(VLOOKUP(A316,'Dados de entrada'!$P$7:$Z$50,Dados_v2!D316+1,0)*H316,0),0)","v":196},"CO",{"$f":"IF(OR(D316=$M$15,D316=$M$20),SUM(IF((A316=$O$10:$O$29),IF(C316=$P$9,$P$10:$P$29,$Q$10:$Q$29),0))/100,1)","v":1},0.27359121938160802]
[1988,"Automovel-Diesel","Diesel",{"$f":"SUM(IF(B317=$L$10:$L$23,$M$10:$M$23,0))","v":10},1,{"$f":"IFERROR(ROUND(VLOOKUP(A317,'Dados de entrada'!$P$7:$Z$50,Dados_v2!D317+1,0)*H317,0),0)","v":274},"CO",{"$f":"IF(OR(D317=$M$15,D317=$M$20),SUM(IF((A317=$O$10:$O$29),IF(C317=$P$9,$P$10:$P$29,$Q$10:$Q$29),0))/100,1)","v":1},0.27359121938160802]
[1989,"Automovel-Diesel","Diesel",{"$f":"SUM(IF(B318=$L$10:$L$23,$M$10:$M$23,0))","v":10},1,{"$f":"IFERROR(ROUND(VLOOKUP(A318,'Dados de entrada'!$P$7:$Z$50,Dados_v2!D318+1,0)*H318,0),0)","v":390},"CO",{"$f":"IF(OR(D318=$M$15,D318=$M$20),SUM(IF((A318=$O$10:$O$29),IF(C318=$P$9,$P$10:$P$29,$Q$10:$Q$29),0))/100,1)","v":1},0.27359121938160802]
[1990,"Automovel-Diesel","Diesel",{"$f":"SUM(IF(B319=$L$10:$L$23,$M$10:$M$23,0))","v":10},1,{"$f":"IFERROR(ROUND(VLOOKUP(A319,'Dados de entrada'!$P$7:$Z$50,Dados_v2!D319+1,0)*H319,0),0)","v":341},"CO",{"$f":"IF(OR(D319=$M$15,D319=$M$20),SUM(IF((A319=$O$10:$O$29),IF(C319=$P$9,$P$10:$P$29,$Q$10:$Q$29),0))/100,1)","v":1},0.27359121938160802]
[1991,"Automovel-Diesel","Diesel",{"$f":"SUM(IF(B320=$L$10:$L$23,$M$10:$M$23,0))","v":10},1,{"$f":"IFERROR(ROUND(VLOOKUP(A320,'Dados de entrada'!$P$7:$Z$50,Dados_v2!D320+1,0)*H320,0),0)","v":271},"CO",{"$f":"IF(OR(D320=$M$15,D320=$M$20),SUM(IF((A320=$O$10:$O$29),IF(C320=$P$9,$P$10:$P$29,$Q$10:$Q$29),0))/100,1)","v":1},0.27359121938160802]
[1992,"Automovel-Diesel","Diesel",{"$f":"SUM(IF(B321=$L$10:$L$23,$M$10:$M$23,0))","v":10},1,{"$f":"IFERROR(ROUND(VLOOKUP(A321,'Dados de entrada'!$P$7:$Z$50,Dados_v2!D321+1,0)*H321,0),0)","v":289},"CO",{"$f":"IF(OR(D321=$M$15,D321=$M$20),SUM(IF((A321=$O$10:$O$29),IF(C321=$P$9,$P$10:$P$29,$Q$10:$Q$29),0))/100,1)","v":1},0.27359121938160802]
[1993,"Automovel-Diesel","Diesel",{"$f":"SUM(IF(B322=$L$10:$L$23,$M$10:$M$23,0))","v":10},1,{"$f":"IFERROR(ROUND(VLOOKUP(A322,'Dados de entrada'!$P$7:$Z$50,Dados_v2!D322+1,0)*H322,0),0)","v":359},"CO",{"$f":"IF(OR(D322=$M$15,D322=$M$20),SUM(IF((A322=$O$10:$O$29),IF(C322=$P$9,$P$10:$P$29,$Q$10:$Q$29),0))/100,1)","v":1},0.27359121938160802]
[1994,"Automovel-Diesel","Diesel",{"$f":"SUM(IF(B323=$L$10:$L$23,$M$10:$M$23,0))","v":10},1,{"$f":"IFERROR(ROUND(VLOOKUP(A323,'Dados de entrada'!$P$7:$Z$50,Dados_v2!D323+1,0)*H323,0),0)","v":491},"CO",{"$f":"IF(OR(D323=$M$15,D323=$M$20),SUM(IF((A323=$O$10:$O$29),IF(C323=$P$9,$P$10:$P$29,$Q$10:$Q$29),0))/100,1)","v":1},0.27359121938160802]
[1995,"Automovel-Diesel","Diesel",{"$f":"SUM(IF(B324=$L$10:$L$23,$M$10:$M$23,0))","v":10},1,{"$f":"IFERROR(ROUND(VLOOKUP(A324,'Dados de entrada'!$P$7:$Z$50,Dados_v2!D324+1,0)*H324,0),0)","v":553},"CO",{"$f":"IF(OR(D324=$M$15,D324=$M$20),SUM(IF((A324=$O$10:$O$29),IF(C324=$P$9,$P$10:$P$29,$Q$10:$Q$29),0))/100,1)","v":1},0.27359121938160802]
[1996,"Automovel-Diesel","Diesel",{"$f":"SUM(IF(B325=$L$10:$L$23,$M$10:$M$23,0))","v":10},1,{"$f":"IFERROR(ROUND(VLOOKUP(A325,'Dados de entrada'!$P$7:$Z$50,Dados_v2!D325+1,0)*H325,0),0)","v":209},"CO",{"$f":"IF(OR(D325=$M$15,D325=$M$20),SUM(IF((A325=$O$10:$O$29),IF(C325=$P$9,$P$10:$P$29,$Q$10:$Q$29),0))/100,1)","v":1},0.27359121938160802]
[1997,"Automovel-Diesel","Diesel",{"$f":"SUM(IF(B326=$L$10:$L$23,$M$10:$M$23,0))","v":10},1,{"$f":"IFERROR(ROUND(VLOOKUP(A326,'Dados de entrada'!$P$7:$Z$50,Dados_v2!D326+1,0)*H326,0),0)","v":299},"CO",{"$f":"IF(OR(D326=$M$15,D326=$M$20),SUM(IF((A326=$O$10:$O$29),IF(C326=$P$9,$P$10:$P$29,$Q$10:$Q$29),0))/100,1)","v":1},0.27359121938160802]
[1998,"Automovel-Diesel","Diesel",{"$f":"SUM(IF(B327=$L$10:$L$23,$M$10:$M$23,0))","v":10},1,{"$f":"IFERROR(ROUND(VLOOKUP(A327,'Dados de entrada'!$P$7:$Z$50,Dados_v2!D327+1,0)*H327,0),0)","v":409},"CO",{"$f":"IF(OR(D327=$M$15,D327=$M$20),SUM(IF((A327=$O$10:$O$29),IF(C327=$P$9,$P$10:$P$29,$Q$10:$Q$29),0))/100,1)","v":1},0.27359121938160802]
[1999,"Automovel-Diesel","Diesel",{"$f":"SUM(IF(B328=$L$10:$L$23,$M$10:$M$23,0))","v":10},1,{"$f":"IFERROR(ROUND(VLOOKUP(A328,'Dados de entrada'!$P$7:$Z$50,Dados_v2!D328+1,0)*H328,0),0)","v":344},"CO",{"$f":"IF(OR(D328=$M$15,D328=$M$20),SUM(IF((A328=$O$10:$O$29),IF(C328=$P$9,$P$10:$P$29,$Q$10:$Q$29),0))/100,1)","v":1},0.27359121938160802]
[2000,"Automovel-Diesel","Diesel",{"$f":"SUM(IF(B329=$L$10:$L$23,$M$10:$M$23,0))","v":10},1,{"$f":"IFERROR(ROUND(VLOOKUP(A329,'Dados de entrada'!$P$7:$Z$50,Dados_v2!D329+1,0)*H329,0),0)","v":529},"CO",{"$f":"IF(OR(D329=$M$15,D329=$M$20),SUM(IF((A329=$O$10:$O$29),IF(C329=$P$9,$P$10:$P$29,$Q$10:$Q$29),0))/100,1)","v":1},0.31478855191356803]
[2001,"Automovel-Diesel","Diesel",{"$f":"SUM(IF(B330=$L$10:$L$23,$M$10:$M$23,0))","v":10},1,{"$f":"IFERROR(ROUND(VLOOKUP(A330,'Dados de entrada'!$P$7:$Z$50,Dados_v2!D330+1,0)*H330,0),0)","v":894},"CO",{"$f":"IF(OR(D330=$M$15,D330=$M$20),SUM(IF((A330=$O$10:$O$29),IF(C330=$P$9,$P$10:$P$29,$Q$10:$Q$29),0))/100,1)","v":1},0.31612093146271097]
[2002,"Automovel-Diesel","Diesel",{"$f":"SUM(IF(B331=$L$10:$L$23,$M$10:$M$23,0))","v":10},1,{"$f":"IFERROR(ROUND(VLOOKUP(A331,'Dados de entrada'!$P$7:$Z$50,Dados_v2!D331+1,0)*H331,0),0)","v":532},"CO",{"$f":"IF(OR(D331=$M$15,D331=$M$20),SUM(IF((A331=$O$10:$O$29),IF(C331=$P$9,$P$10:$P$29,$Q$10:$Q$29),0))/100,1)","v":1},0.276944126521941]
[2003,"Automovel-Diesel","Diesel",{"$f":"SUM(IF(B332=$L$10:$L$23,$M$10:$M$23,0))","v":10},1,{"$f":"IFERROR(ROUND(VLOOKUP(A332,'Dados de entrada'!$P$7:$Z$50,Dados_v2!D332+1,0)*H332,0),0)","v":522},"CO",{"$f":"IF(OR(D332=$M$15,D332=$M$20),SUM(IF((A332=$O$10:$O$29),IF(C332=$P$9,$P$10:$P$29,$Q$10:$Q$29),0))/100,1)","v":1},0.24548253245884]
[2004,"Automovel-Diesel","Diesel",{"$f":"SUM(IF(B333=$L$10:$L$23,$M$10:$M$23,0))","v":10},1,{"$f":"IFERROR(ROUND(VLOOKUP(A333,'Dados de entrada'!$P$7:$Z$50,Dados_v2!D333+1,0)*H333,0),0)","v":700},"CO",{"$f":"IF(OR(D333=$M$15,D333=$M$20),SUM(IF((A333=$O$10:$O$29),IF(C333=$P$9,$P$10:$P$29,$Q$10:$Q$29),0))/100,1)","v":1},0.51601404987255395]
[2005,"Automovel-Diesel","Diesel",{"$f":"SUM(IF(B334=$L$10:$L$23,$M$10:$M$23,0))","v":10},1,{"$f":"IFERROR(ROUND(VLOOKUP(A334,'Dados de entrada'!$P$7:$Z$50,Dados_v2!D334+1,0)*H334,0),0)","v":776},"CO",{"$f":"IF(OR(D334=$M$15,D334=$M$20),SUM(IF((A334=$O$10:$O$29),IF(C334=$P$9,$P$10:$P$29,$Q$10:$Q$29),0))/100,1)","v":1},0.49910882245937499]
[2006,"Automovel-Diesel","Diesel",{"$f":"SUM(IF(B335=$L$10:$L$23,$M$10:$M$23,0))","v":10},1,{"$f":"IFERROR(ROUND(VLOOKUP(A335,'Dados de entrada'!$P$7:$Z$50,Dados_v2!D335+1,0)*H335,0),0)","v":1095},"CO",{"$f":"IF(OR(D335=$M$15,D335=$M$20),SUM(IF((A335=$O$10:$O$29),IF(C335=$P$9,$P$10:$P$29,$Q$10:$Q$29),0))/100,1)","v":1},0.468063226926696]
[2007,"Automovel-Diesel","Diesel",{"$f":"SUM(IF(B336=$L$10:$L$23,$M$10:$M$23,0))","v":10},1,{"$f":"IFERROR(ROUND(VLOOKUP(A336,'Dados de entrada'!$P$7:$Z$50,Dados_v2!D336+1,0)*H336,0),0)","v":1000},"CO",{"$f":"IF(OR(D336=$M$15,D336=$M$20),SUM(IF((A336=$O$10:$O$29),IF(C336=$P$9,$P$10:$P$29,$Q$10:$Q$29),0))/100,1)","v":1},0.61619999999999997]
[2008,"Automovel-Diesel","Diesel",{"$f":"SUM(IF(B337=$L$10:$L$23,$M$10:$M$23,0))","v":10},1,{"$f":"IFERROR(ROUND(VLOOKUP(A337,'Dados de entrada'!$P$7:$Z$50,Dados_v2!D337+1,0)*H337,0),0)","v":1612},"CO",{"$f":"IF(OR(D337=$M$15,D337=$M$20),SUM(IF((A337=$O$10:$O$29),IF(C337=$P$9,$P$10:$P$29,$Q$10:$Q$29),0))/100,1)","v":1},0.65829003786628404]
[2009,"Automovel-Diesel","Diesel",{"$f":"SUM(IF(B338=$L$10:$L$23,$M$10:$M$23,0))","v":10},1,{"$f":"IFERROR(ROUND(VLOOKUP(A338,'Dados de entrada'!$P$7:$Z$50,Dados_v2!D338+1,0)*H338,0),0)","v":1582},"CO",{"$f":"IF(OR(D338=$M$15,D338=$M$20),SUM(IF((A338=$O$10:$O$29),IF(C338=$P$9,$P$10:$P$29,$Q$10:$Q$29),0))/100,1)","v":1},0.51666116285194297]
[2010,"Automovel-Diesel","Diesel",{"$f":"SUM(IF(B339=$L$10:$L$23,$M$10:$M$23,0))","v":10},1,{"$f":"IFERROR(ROUND(VLOOKUP(A339,'Dados de entrada'!$P$7:$Z$50,Dados_v2!D339+1,0)*H339,0),0)","v":1717},"CO",{"$f":"IF(OR(D339=$M$15,D339=$M$20),SUM(IF((A339=$O$10:$O$29),IF(C339=$P$9,$P$10:$P$29,$Q$10:$Q$29),0))/100,1)","v":1},0.75084144450803603]
[2011,"Automovel-Diesel","Diesel",{"$f":"SUM(IF(B340=$L$10:$L$23,$M$10:$M$23,0))","v":10},1,{"$f":"IFERROR(ROUND(VLOOKUP(A340,'Dados de entrada'!$P$7:$Z$50,Dados_v2!D340+1,0)*H340,0),0)","v":2451},"CO",{"$f":"IF(OR(D340=$M$15,D340=$M$20),SUM(IF((A340=$O$10:$O$29),IF(C340=$P$9,$P$10:$P$29,$Q$10:$Q$29),0))/100,1)","v":1},0.49613566949389698]
[2012,"Automovel-Diesel","Diesel",{"$f":"SUM(IF(B341=$L$10:$L$23,$M$10:$M$23,0))","v":10},1,{"$f":"IFERROR(ROUND(VLOOKUP(A341,'Dados de entrada'!$P$7:$Z$50,Dados_v2!D341+1,0)*H341,0),0)","v":2546},"CO",{"$f":"IF(OR(D341=$M$15,D341=$M$20),SUM(IF((A341=$O$10:$O$29),IF(C341=$P$9,$P$10:$P$29,$Q$10:$Q$29),0))/100,1)","v":1},0.49613566949389698]
[2013,"Automovel-Diesel","Diesel",{"$f":"SUM(IF(B342=$L$10:$L$23,$M$10:$M$23,0))","v":10},1,{"$f":"IFERROR(ROUND(VLOOKUP(A342,'Dados de entrada'!$P$7:$Z$50,Dados_v2!D342+1,0)*H342,0),0)","v":3295},"CO",{"$f":"IF(OR(D342=$M$15,D342=$M$20),SUM(IF((A342=$O$10:$O$29),IF(C342=$P$9,$P$10:$P$29,$Q$10:$Q$29),0))/100,1)","v":1},0.49613566949389698]
[2014,"Automovel-Diesel","Diesel",{"$f":"SUM(IF(B343=$L$10:$L$23,$M$10:$M$23,0))","v":10},1,{"$f":"IFERROR(ROUND(VLOOKUP(A343,'Dados de entrada'!$P$7:$Z$50,Dados_v2!D343+1,0)*H343,0),0)","v":2466},"CO",{"$f":"IF(OR(D343=$M$15,D343=$M$20),SUM(IF((A343=$O$10:$O$29),IF(C343=$P$9,$P$10:$P$29,$Q$10:$Q$29),0))/100,1)","v":1},0.49613566949389698]
[2015,"Automovel-Diesel","Diesel",{"$f":"SUM(IF(B344=$L$10:$L$23,$M$10:$M$23,0))","v":10},1,{"$f":"IFERROR(ROUND(VLOOKUP(A344,'Dados de entrada'!$P$7:$Z$50,Dados_v2!D344+1,0)*H344,0),0)","v":2216},"CO",{"$f":"IF(OR(D344=$M$15,D344=$M$20),SUM(IF((A344=$O$10:$O$29),IF(C344=$P$9,$P$10:$P$29,$Q$10:$Q$29),0))/100,1)","v":1},0.49613566949389698]
[2016,"Automovel-Diesel","Diesel",{"$f":"SUM(IF(B345=$L$10:$L$23,$M$10:$M$23,0))","v":10},1,{"$f":"IFERROR(ROUND(VLOOKUP(A345,'Dados de entrada'!$P$7:$Z$50,Dados_v2!D345+1,0)*H345,0),0)","v":1862},"CO",{"$f":"IF(OR(D345=$M$15,D345=$M$20),SUM(IF((A345=$O$10:$O$29),IF(C345=$P$9,$P$10:$P$29,$Q$10:$Q$29),0))/100,1)","v":1},0.49613566949389698]
[2017,"Automovel-Diesel","Diesel",{"$f":"SUM(IF(B346=$L$10:$L$23,$M$10:$M$23,0))","v":10},1,{"$f":"IFERROR(ROUND(VLOOKUP(A346,'Dados de entrada'!$P$7:$Z$50,Dados_v2!D346+1,0)*H346,0),0)","v":2583},"CO",{"$f":"IF(OR(D346=$M$15,D346=$M$20),SUM(IF((A346=$O$10:$O$29),IF(C346=$P$9,$P$10:$P$29,$Q$10:$Q$29),0))/100,1)","v":1},0.49613566949389698]
[2018,"Automovel-Diesel","Diesel",{"$f":"SUM(IF(B347=$L$10:$L$23,$M$10:$M$23,0))","v":10},1,{"$f":"IFERROR(ROUND(VLOOKUP(A347,'Dados de entrada'!$P$7:$Z$50,Dados_v2!D347+1,0)*H347,0),0)","v":3654},"CO",{"$f":"IF(OR(D347=$M$15,D347=$M$20),SUM(IF((A347=$O$10:$O$29),IF(C347=$P$9,$P$10:$P$29,$Q$10:$Q$29),0))/100,1)","v":1},0.49613566949389698]
[2019,"Automovel-Diesel","Diesel",{"$f":"SUM(IF(B348=$L$10:$L$23,$M$10:$M$23,0))","v":10},1,{"$f":"IFERROR(ROUND(VLOOKUP(A348,'Dados de entrada'!$P$7:$Z$50,Dados_v2!D348+1,0)*H348,0),0)","v":5965},"CO",{"$f":"IF(OR(D348=$M$15,D348=$M$20),SUM(IF((A348=$O$10:$O$29),IF(C348=$P$9,$P$10:$P$29,$Q$10:$Q$29),0))/100,1)","v":1},0.49613566949389698]
[2020,"Automovel-Diesel","Diesel",{"$f":"SUM(IF(B349=$L$10:$L$23,$M$10:$M$23,0))","v":10},1,{"$f":"IFERROR(ROUND(VLOOKUP(A349,'Dados de entrada'!$P$7:$Z$50,Dados_v2!D349+1,0)*H349,0),0)","v":7280},"CO",{"$f":"IF(OR(D349=$M$15,D349=$M$20),SUM(IF((A349=$O$10:$O$29),IF(C349=$P$9,$P$10:$P$29,$Q$10:$Q$29),0))/100,1)","v":1},0.49613566949389698]
[2021,"Automovel-Diesel","Diesel",{"$f":"SUM(IF(B350=$L$10:$L$23,$M$10:$M$23,0))","v":10},1,{"$f":"IFERROR(ROUND(VLOOKUP(A350,'Dados de entrada'!$P$7:$Z$50,Dados_v2!D350+1,0)*H350,0),0)","v":10740},"CO",{"$f":"IF(OR(D350=$M$15,D350=$M$20),SUM(IF((A350=$O$10:$O$29),IF(C350=$P$9,$P$10:$P$29,$Q$10:$Q$29),0))/100,1)","v":1},0.49613566949389698]
[2022,"Automovel-Diesel","Diesel",{"$f":"SUM(IF(B351=$L$10:$L$23,$M$10:$M$23,0))","v":10},1,{"$f":"IFERROR(ROUND(VLOOKUP(A351,'Dados de entrada'!$P$7:$Z$50,Dados_v2!D351+1,0)*H351,0),0)","v":20006},"CO",{"$f":"IF(OR(D351=$M$15,D351=$M$20),SUM(IF((A351=$O$10:$O$29),IF(C351=$P$9,$P$10:$P$29,$Q$10:$Q$29),0))/100,1)","v":1},0]
[1983,"Onibus","Diesel",{"$f":"SUM(IF(B352=$L$10:$L$23,$M$10:$M$23,0))","v":1},3,{"$f":"IFERROR(ROUND(VLOOKUP(A352,'Dados de entrada'!$P$7:$Z$50,Dados_v2!D352+1,0)*H352,0),0)","v":26},"NOx",{"$f":"IF(OR(D352=$M$15,D352=$M$20),SUM(IF((A352=$O$10:$O$29),IF(C352=$P$9,$P$10:$P$29,$Q$10:$Q$29),0))/100,1)","v":1},17.367999999999999]
[1984,"Onibus","Diesel",{"$f":"SUM(IF(B353=$L$10:$L$23,$M$10:$M$23,0))","v":1},3,{"$f":"IFERROR(ROUND(VLOOKUP(A353,'Dados de entrada'!$P$7:$Z$50,Dados_v2!D353+1,0)*H353,0),0)","v":27},"NOx",{"$f":"IF(OR(D353=$M$15,D353=$M$20),SUM(IF((A353=$O$10:$O$29),IF(C353=$P$9,$P$10:$P$29,$Q$10:$Q$29),0))/100,1)","v":1},17.367999999999999]
[1985,"Onibus","Diesel",{"$f":"SUM(IF(B354=$L$10:$L$23,$M$10:$M$23,0))","v":1},3,{"$f":"IFERROR(ROUND(VLOOKUP(A354,'Dados de entrada'!$P$7:$Z$50,Dados_v2!D354+1,0)*H354,0),0)","v":30},"NOx",{"$f":"IF(OR(D354=$M$15,D354=$M$20),SUM(IF((A354=$O$10:$O$29),IF(C354=$P$9,$P$10:$P$29,$Q$10:$Q$29),0))/100,1)","v":1},17.367999999999999]
[1986,"Onibus","Diesel",{"$f":"SUM(IF(B355=$L$10:$L$23,$M$10:$M$23,0))","v":1},3,{"$f":"IFERROR(ROUND(VLOOKUP(A355,'Dados de entrada'!$P$7:$Z$50,Dados_v2!D355+1,0)*H355,0),0)","v":58},"NOx",{"$f":"IF(OR(D355=$M$15,D355=$M$20),SUM(IF((A355=$O$10:$O$29),IF(C355=$P$9,$P$10:$P$29,$Q$10:$Q$29),0))/100,1)","v":1},17.367999999999999]
[1987,"Onibus","Diesel",{"$f":"SUM(IF(B356=$L$10:$L$23,$M$10:$M$23,0))","v":1},3,{"$f":"IFERROR(ROUND(VLOOKUP(A356,'Dados de entrada'!$P$7:$Z$50,Dados_v2!D356+1,0)*H356,0),0)","v":57},"NOx",{"$f":"IF(OR(D356=$M$15,D356=$M$20),SUM(IF((A356=$O$10:$O$29),IF(C356=$P$9,$P$10:$P$29,$Q$10:$Q$29),0))/100,1)","v":1},17.367999999999999]
[1988,"Onibus","Diesel",{"$f":"SUM(IF(B357=$L$10:$L$23,$M$10:$M$23,0))","v":1},3,{"$f":"IFERROR(ROUND(VLOOKUP(A357,'Dados de entrada'!$P$7:$Z$50,Dados_v2!D357+1,0)*H357,0),0)","v":67},"NOx",{"$f":"IF(OR(D357=$M$15,D357=$M$20),SUM(IF((A357=$O$10:$O$29),IF(C357=$P$9,$P$10:$P$29,$Q$10:$Q$29),0))/100,1)","v":1},17.367999999999999]
[1989,"Onibus","Diesel",{"$f":"SUM(IF(B358=$L$10:$L$23,$M$10:$M$23,0))","v":1},3,{"$f":"IFERROR(ROUND(VLOOKUP(A358,'Dados de entrada'!$P$7:$Z$50,Dados_v2!D358+1,0)*H358,0),0)","v":81},"NOx",{"$f":"IF(OR(D358=$M$15,D358=$M$20),SUM(IF((A358=$O$10:$O$29),IF(C358=$P$9,$P$10:$P$29,$Q$10:$Q$29),0))/100,1)","v":1},17.367999999999999]
[1990,"Onibus","Diesel",{"$f":"SUM(IF(B359=$L$10:$L$23,$M$10:$M$23,0))","v":1},3,{"$f":"IFERROR(ROUND(VLOOKUP(A359,'Dados de entrada'!$P$7:$Z$50,Dados_v2!D359+1,0)*H359,0),0)","v":54},"NOx",{"$f":"IF(OR(D359=$M$15,D359=$M$20),SUM(IF((A359=$O$10:$O$29),IF(C359=$P$9,$P$10:$P$29,$Q$10:$Q$29),0))/100,1)","v":1},17.367999999999999]
[1991,"Onibus","Diesel",{"$f":"SUM(IF(B360=$L$10:$L$23,$M$10:$M$23,0))","v":1},3,{"$f":"IFERROR(ROUND(VLOOKUP(A360,'Dados de entrada'!$P$7:$Z$50,Dados_v2!D360+1,0)*H360,0),0)","v":50},"NOx",{"$f":"IF(OR(D360=$M$15,D360=$M$20),SUM(IF((A360=$O$10:$O$29),IF(C360=$P$9,$P$10:$P$29,$Q$10:$Q$29),0))/100,1)","v":1},17.367999999999999]
[1992,"Onibus","Diesel",{"$f":"SUM(IF(B361=$L$10:$L$23,$M$10:$M$23,0))","v":1},3,{"$f":"IFERROR(ROUND(VLOOKUP(A361,'Dados de entrada'!$P$7:$Z$50,Dados_v2!D361+1,0)*H361,0),0)","v":97},"NOx",{"$f":"IF(OR(D361=$M$15,D361=$M$20),SUM(IF((A361=$O$10:$O$29),IF(C361=$P$9,$P$10:$P$29,$Q$10:$Q$29),0))/100,1)","v":1},17.367999999999999]
[1993,"Onibus","Diesel",{"$f":"SUM(IF(B362=$L$10:$L$23,$M$10:$M$23,0))","v":1},3,{"$f":"IFERROR(ROUND(VLOOKUP(A362,'Dados de entrada'!$P$7:$Z$50,Dados_v2!D362+1,0)*H362,0),0)","v":71},"NOx",{"$f":"IF(OR(D362=$M$15,D362=$M$20),SUM(IF((A362=$O$10:$O$29),IF(C362=$P$9,$P$10:$P$29,$Q$10:$Q$29),0))/100,1)","v":1},17.367999999999999]
[1994,"Onibus","Diesel",{"$f":"SUM(IF(B363=$L$10:$L$23,$M$10:$M$23,0))","v":1},3,{"$f":"IFERROR(ROUND(VLOOKUP(A363,'Dados de entrada'!$P$7:$Z$50,Dados_v2!D363+1,0)*H363,0),0)","v":49},"NOx",{"$f":"IF(OR(D363=$M$15,D363=$M$20),SUM(IF((A363=$O$10:$O$29),IF(C363=$P$9,$P$10:$P$29,$Q$10:$Q$29),0))/100,1)","v":1},17.367999999999999]
[1995,"Onibus","Diesel",{"$f":"SUM(IF(B364=$L$10:$L$23,$M$10:$M$23,0))","v":1},3,{"$f":"IFERROR(ROUND(VLOOKUP(A364,'Dados de entrada'!$P$7:$Z$50,Dados_v2!D364+1,0)*H364,0),0)","v":86},"NOx",{"$f":"IF(OR(D364=$M$15,D364=$M$20),SUM(IF((A364=$O$10:$O$29),IF(C364=$P$9,$P$10:$P$29,$Q$10:$Q$29),0))/100,1)","v":1},17.367999999999999]
[1996,"Onibus","Diesel",{"$f":"SUM(IF(B365=$L$10:$L$23,$M$10:$M$23,0))","v":1},3,{"$f":"IFERROR(ROUND(VLOOKUP(A365,'Dados de entrada'!$P$7:$Z$50,Dados_v2!D365+1,0)*H365,0),0)","v":101},"NOx",{"$f":"IF(OR(D365=$M$15,D365=$M$20),SUM(IF((A365=$O$10:$O$29),IF(C365=$P$9,$P$10:$P$29,$Q$10:$Q$29),0))/100,1)","v":1},17.367999999999999]
[1997,"Onibus","Diesel",{"$f":"SUM(IF(B366=$L$10:$L$23,$M$10:$M$23,0))","v":1},3,{"$f":"IFERROR(ROUND(VLOOKUP(A366,'Dados de entrada'!$P$7:$Z$50,Dados_v2!D366+1,0)*H366,0),0)","v":89},"NOx",{"$f":"IF(OR(D366=$M$15,D366=$M$20),SUM(IF((A366=$O$10:$O$29),IF(C366=$P$9,$P$10:$P$29,$Q$10:$Q$29),0))/100,1)","v":1},17.367999999999999]
[1998,"Onibus","Diesel",{"$f":"SUM(IF(B367=$L$10:$L$23,$M$10:$M$23,0))","v":1},3,{"$f":"IFERROR(ROUND(VLOOKUP(A367,'Dados de entrada'!$P$7:$Z$50,Dados_v2!D367+1,0)*H367,0),0)","v":97},"NOx",{"$f":"IF(OR(D367=$M$15,D367=$M$20),SUM(IF((A367=$O$10:$O$29),IF(C367=$P$9,$P$10:$P$29,$Q$10:$Q$29),0))/100,1)","v":1},17.367999999999999]
[1999,"Onibus","Diesel",{"$f":"SUM(IF(B368=$L$10:$L$23,$M$10:$M$23,0))","v":1},3,{"$f":"IFERROR(ROUND(VLOOKUP(A368,'Dados de entrada'!$P$7:$Z$50,Dados_v2!D368+1,0)*H368,0),0)","v":139},"NOx",{"$f":"IF(OR(D368=$M$15,D368=$M$20),SUM(IF((A368=$O$10:$O$29),IF(C368=$P$9,$P$10:$P$29,$Q$10:$Q$29),0))/100,1)","v":1},17.367999999999999]
[2000,"Onibus","Diesel",{"$f":"SUM(IF(B369=$L$10:$L$23,$M$10:$M$23,0))","v":1},3,{"$f":"IFERROR(ROUND(VLOOKUP(A369,'Dados de entrada'!$P$7:$Z$50,Dados_v2!D369+1,0)*H369,0),0)","v":77},"NOx",{"$f":"IF(OR(D369=$M$15,D369=$M$20),SUM(IF((A369=$O$10:$O$29),IF(C369=$P$9,$P$10:$P$29,$Q$10:$Q$29),0))/100,1)","v":1},10.973000000000001]
[2001,"Onibus","Diesel",{"$f":"SUM(IF(B370=$L$10:$L$23,$M$10:$M$23,0))","v":1},3,{"$f":"IFERROR(ROUND(VLOOKUP(A370,'Dados de entrada'!$P$7:$Z$50,Dados_v2!D370+1,0)*H370,0),0)","v":156},"NOx",{"$f":"IF(OR(D370=$M$15,D370=$M$20),SUM(IF((A370=$O$10:$O$29),IF(C370=$P$9,$P$10:$P$29,$Q$10:$Q$29),0))/100,1)","v":1},10.973000000000001]
[2002,"Onibus","Diesel",{"$f":"SUM(IF(B371=$L$10:$L$23,$M$10:$M$23,0))","v":1},3,{"$f":"IFERROR(ROUND(VLOOKUP(A371,'Dados de entrada'!$P$7:$Z$50,Dados_v2!D371+1,0)*H371,0),0)","v":91},"NOx",{"$f":"IF(OR(D371=$M$15,D371=$M$20),SUM(IF((A371=$O$10:$O$29),IF(C371=$P$9,$P$10:$P$29,$Q$10:$Q$29),0))/100,1)","v":1},10.712999999999999]
[2003,"Onibus","Diesel",{"$f":"SUM(IF(B372=$L$10:$L$23,$M$10:$M$23,0))","v":1},3,{"$f":"IFERROR(ROUND(VLOOKUP(A372,'Dados de entrada'!$P$7:$Z$50,Dados_v2!D372+1,0)*H372,0),0)","v":103},"NOx",{"$f":"IF(OR(D372=$M$15,D372=$M$20),SUM(IF((A372=$O$10:$O$29),IF(C372=$P$9,$P$10:$P$29,$Q$10:$Q$29),0))/100,1)","v":1},10.712999999999999]
[2004,"Onibus","Diesel",{"$f":"SUM(IF(B373=$L$10:$L$23,$M$10:$M$23,0))","v":1},3,{"$f":"IFERROR(ROUND(VLOOKUP(A373,'Dados de entrada'!$P$7:$Z$50,Dados_v2!D373+1,0)*H373,0),0)","v":131},"NOx",{"$f":"IF(OR(D373=$M$15,D373=$M$20),SUM(IF((A373=$O$10:$O$29),IF(C373=$P$9,$P$10:$P$29,$Q$10:$Q$29),0))/100,1)","v":1},9]
[2005,"Onibus","Diesel",{"$f":"SUM(IF(B374=$L$10:$L$23,$M$10:$M$23,0))","v":1},3,{"$f":"IFERROR(ROUND(VLOOKUP(A374,'Dados de entrada'!$P$7:$Z$50,Dados_v2!D374+1,0)*H374,0),0)","v":96},"NOx",{"$f":"IF(OR(D374=$M$15,D374=$M$20),SUM(IF((A374=$O$10:$O$29),IF(C374=$P$9,$P$10:$P$29,$Q$10:$Q$29),0))/100,1)","v":1},9]
[2006,"Onibus","Diesel",{"$f":"SUM(IF(B375=$L$10:$L$23,$M$10:$M$23,0))","v":1},3,{"$f":"IFERROR(ROUND(VLOOKUP(A375,'Dados de entrada'!$P$7:$Z$50,Dados_v2!D375+1,0)*H375,0),0)","v":156},"NOx",{"$f":"IF(OR(D375=$M$15,D375=$M$20),SUM(IF((A375=$O$10:$O$29),IF(C375=$P$9,$P$10:$P$29,$Q$10:$Q$29),0))/100,1)","v":1},8.2129999999999992]
[2007,"Onibus","Diesel",{"$f":"SUM(IF(B376=$L$10:$L$23,$M$10:$M$23,0))","v":1},3,{"$f":"IFERROR(ROUND(VLOOKUP(A376,'Dados de entrada'!$P$7:$Z$50,Dados_v2!D376+1,0)*H376,0),0)","v":212},"NOx",{"$f":"IF(OR(D376=$M$15,D376=$M$20),SUM(IF((A376=$O$10:$O$29),IF(C376=$P$9,$P$10:$P$29,$Q$10:$Q$29),0))/100,1)","v":1},8.2129999999999992]
[2008,"Onibus","Diesel",{"$f":"SUM(IF(B377=$L$10:$L$23,$M$10:$M$23,0))","v":1},3,{"$f":"IFERROR(ROUND(VLOOKUP(A377,'Dados de entrada'!$P$7:$Z$50,Dados_v2!D377+1,0)*H377,0),0)","v":332},"NOx",{"$f":"IF(OR(D377=$M$15,D377=$M$20),SUM(IF((A377=$O$10:$O$29),IF(C377=$P$9,$P$10:$P$29,$Q$10:$Q$29),0))/100,1)","v":1},8.6229999999999993]
[2009,"Onibus","Diesel",{"$f":"SUM(IF(B378=$L$10:$L$23,$M$10:$M$23,0))","v":1},3,{"$f":"IFERROR(ROUND(VLOOKUP(A378,'Dados de entrada'!$P$7:$Z$50,Dados_v2!D378+1,0)*H378,0),0)","v":187},"NOx",{"$f":"IF(OR(D378=$M$15,D378=$M$20),SUM(IF((A378=$O$10:$O$29),IF(C378=$P$9,$P$10:$P$29,$Q$10:$Q$29),0))/100,1)","v":1},8.2620000000000005]
[2010,"Onibus","Diesel",{"$f":"SUM(IF(B379=$L$10:$L$23,$M$10:$M$23,0))","v":1},3,{"$f":"IFERROR(ROUND(VLOOKUP(A379,'Dados de entrada'!$P$7:$Z$50,Dados_v2!D379+1,0)*H379,0),0)","v":303},"NOx",{"$f":"IF(OR(D379=$M$15,D379=$M$20),SUM(IF((A379=$O$10:$O$29),IF(C379=$P$9,$P$10:$P$29,$Q$10:$Q$29),0))/100,1)","v":1},8.3849999999999998]
[2011,"Onibus","Diesel",{"$f":"SUM(IF(B380=$L$10:$L$23,$M$10:$M$23,0))","v":1},3,{"$f":"IFERROR(ROUND(VLOOKUP(A380,'Dados de entrada'!$P$7:$Z$50,Dados_v2!D380+1,0)*H380,0),0)","v":420},"NOx",{"$f":"IF(OR(D380=$M$15,D380=$M$20),SUM(IF((A380=$O$10:$O$29),IF(C380=$P$9,$P$10:$P$29,$Q$10:$Q$29),0))/100,1)","v":1},8.4640000000000004]
[2012,"Onibus","Diesel",{"$f":"SUM(IF(B381=$L$10:$L$23,$M$10:$M$23,0))","v":1},3,{"$f":"IFERROR(ROUND(VLOOKUP(A381,'Dados de entrada'!$P$7:$Z$50,Dados_v2!D381+1,0)*H381,0),0)","v":472},"NOx",{"$f":"IF(OR(D381=$M$15,D381=$M$20),SUM(IF((A381=$O$10:$O$29),IF(C381=$P$9,$P$10:$P$29,$Q$10:$Q$29),0))/100,1)","v":1},2.6230000000000002]
[2013,"Onibus","Diesel",{"$f":"SUM(IF(B382=$L$10:$L$23,$M$10:$M$23,0))","v":1},3,{"$f":"IFERROR(ROUND(VLOOKUP(A382,'Dados de entrada'!$P$7:$Z$50,Dados_v2!D382+1,0)*H382,0),0)","v":394},"NOx",{"$f":"IF(OR(D382=$M$15,D382=$M$20),SUM(IF((A382=$O$10:$O$29),IF(C382=$P$9,$P$10:$P$29,$Q$10:$Q$29),0))/100,1)","v":1},2.6859999999999999]
[2014,"Onibus","Diesel",{"$f":"SUM(IF(B383=$L$10:$L$23,$M$10:$M$23,0))","v":1},3,{"$f":"IFERROR(ROUND(VLOOKUP(A383,'Dados de entrada'!$P$7:$Z$50,Dados_v2!D383+1,0)*H383,0),0)","v":799},"NOx",{"$f":"IF(OR(D383=$M$15,D383=$M$20),SUM(IF((A383=$O$10:$O$29),IF(C383=$P$9,$P$10:$P$29,$Q$10:$Q$29),0))/100,1)","v":1},2.6859999999999999]
[2015,"Onibus","Diesel",{"$f":"SUM(IF(B384=$L$10:$L$23,$M$10:$M$23,0))","v":1},3,{"$f":"IFERROR(ROUND(VLOOKUP(A384,'Dados de entrada'!$P$7:$Z$50,Dados_v2!D384+1,0)*H384,0),0)","v":209},"NOx",{"$f":"IF(OR(D384=$M$15,D384=$M$20),SUM(IF((A384=$O$10:$O$29),IF(C384=$P$9,$P$10:$P$29,$Q$10:$Q$29),0))/100,1)","v":1},2.6859999999999999]
[2016,"Onibus","Diesel",{"$f":"SUM(IF(B385=$L$10:$L$23,$M$10:$M$23,0))","v":1},3,{"$f":"IFERROR(ROUND(VLOOKUP(A385,'Dados de entrada'!$P$7:$Z$50,Dados_v2!D385+1,0)*H385,0),0)","v":272},"NOx",{"$f":"IF(OR(D385=$M$15,D385=$M$20),SUM(IF((A385=$O$10:$O$29),IF(C385=$P$9,$P$10:$P$29,$Q$10:$Q$29),0))/100,1)","v":1},2.87289934099041]
[2017,"Onibus","Diesel",{"$f":"SUM(IF(B386=$L$10:$L$23,$M$10:$M$23,0))","v":1},3,{"$f":"IFERROR(ROUND(VLOOKUP(A386,'Dados de entrada'!$P$7:$Z$50,Dados_v2!D386+1,0)*H386,0),0)","v":281},"NOx",{"$f":"IF(OR(D386=$M$15,D386=$M$20),SUM(IF((A386=$O$10:$O$29),IF(C386=$P$9,$P$10:$P$29,$Q$10:$Q$29),0))/100,1)","v":1},2.6445976798930899]
[2018,"Onibus","Diesel",{"$f":"SUM(IF(B387=$L$10:$L$23,$M$10:$M$23,0))","v":1},3,{"$f":"IFERROR(ROUND(VLOOKUP(A387,'Dados de entrada'!$P$7:$Z$50,Dados_v2!D387+1,0)*H387,0),0)","v":188},"NOx",{"$f":"IF(OR(D387=$M$15,D387=$M$20),SUM(IF((A387=$O$10:$O$29),IF(C387=$P$9,$P$10:$P$29,$Q$10:$Q$29),0))/100,1)","v":1},2.0212106599099902]
[2019,"Onibus","Diesel",{"$f":"SUM(IF(B388=$L$10:$L$23,$M$10:$M$23,0))","v":1},3,{"$f":"IFERROR(ROUND(VLOOKUP(A388,'Dados de entrada'!$P$7:$Z$50,Dados_v2!D388+1,0)*H388,0),0)","v":363},"NOx",{"$f":"IF(OR(D388=$M$15,D388=$M$20),SUM(IF((A388=$O$10:$O$29),IF(C388=$P$9,$P$10:$P$29,$Q$10:$Q$29),0))/100,1)","v":1},2.6103611484974598]
[2020,"Onibus","Diesel",{"$f":"SUM(IF(B389=$L$10:$L$23,$M$10:$M$23,0))","v":1},3,{"$f":"IFERROR(ROUND(VLOOKUP(A389,'Dados de entrada'!$P$7:$Z$50,Dados_v2!D389+1,0)*H389,0),0)","v":561},"NOx",{"$f":"IF(OR(D389=$M$15,D389=$M$20),SUM(IF((A389=$O$10:$O$29),IF(C389=$P$9,$P$10:$P$29,$Q$10:$Q$29),0))/100,1)","v":1},2.6337305546080598]
[2021,"Onibus","Diesel",{"$f":"SUM(IF(B390=$L$10:$L$23,$M$10:$M$23,0))","v":1},3,{"$f":"IFERROR(ROUND(VLOOKUP(A390,'Dados de entrada'!$P$7:$Z$50,Dados_v2!D390+1,0)*H390,0),0)","v":175},"NOx",{"$f":"IF(OR(D390=$M$15,D390=$M$20),SUM(IF((A390=$O$10:$O$29),IF(C390=$P$9,$P$10:$P$29,$Q$10:$Q$29),0))/100,1)","v":1},2.6870385015736602]
[2022,"Onibus","Diesel",{"$f":"SUM(IF(B391=$L$10:$L$23,$M$10:$M$23,0))","v":1},3,{"$f":"IFERROR(ROUND(VLOOKUP(A391,'Dados de entrada'!$P$7:$Z$50,Dados_v2!D391+1,0)*H391,0),0)","v":239},"NOx",{"$f":"IF(OR(D391=$M$15,D391=$M$20),SUM(IF((A391=$O$10:$O$29),IF(C391=$P$9,$P$10:$P$29,$Q$10:$Q$29),0))/100,1)","v":1},2.5812137713605199]
[2022,"Onibus-E","Elétrico",{"$f":"SUM(IF(B392=$L$10:$L$23,$M$10:$M$23,0))","v":2},3,{"$f":"IFERROR(ROUND(VLOOKUP(A392,'Dados de entrada'!$P$7:$Z$50,Dados_v2!D392+1,0)*H392,0),0)","v":0},"NOx",{"$f":"IF(OR(D392=$M$15,D392=$M$20),SUM(IF((A392=$O$10:$O$29),IF(C392=$P$9,$P$10:$P$29,$Q$10:$Q$29),0))/100,1)","v":1},0]
[1983,"Microonibus","Diesel",{"$f":"SUM(IF(B393=$L$10:$L$23,$M$10:$M$23,0))","v":3},3,{"$f":"IFERROR(ROUND(VLOOKUP(A393,'Dados de entrada'!$P$7:$Z$50,Dados_v2!D393+1,0)*H393,0),0)","v":0},"NOx",{"$f":"IF(OR(D393=$M$15,D393=$M$20),SUM(IF((A393=$O$10:$O$29),IF(C393=$P$9,$P$10:$P$29,$Q$10:$Q$29),0))/100,1)","v":1},17.367999999999999]
[1984,"Microonibus","Diesel",{"$f":"SUM(IF(B394=$L$10:$L$23,$M$10:$M$23,0))","v":3},3,{"$f":"IFERROR(ROUND(VLOOKUP(A394,'Dados de entrada'!$P$7:$Z$50,Dados_v2!D394+1,0)*H394,0),0)","v":1},"NOx",{"$f":"IF(OR(D394=$M$15,D394=$M$20),SUM(IF((A394=$O$10:$O$29),IF(C394=$P$9,$P$10:$P$29,$Q$10:$Q$29),0))/100,1)","v":1},17.367999999999999]
[1985,"Microonibus","Diesel",{"$f":"SUM(IF(B395=$L$10:$L$23,$M$10:$M$23,0))","v":3},3,{"$f":"IFERROR(ROUND(VLOOKUP(A395,'Dados de entrada'!$P$7:$Z$50,Dados_v2!D395+1,0)*H395,0),0)","v":1},"NOx",{"$f":"IF(OR(D395=$M$15,D395=$M$20),SUM(IF((A395=$O$10:$O$29),IF(C395=$P$9,$P$10:$P$29,$Q$10:$Q$29),0))/100,1)","v":1},17.367999999999999]
[1986,"Microonibus","Diesel",{"$f":"SUM(IF(B396=$L$10:$L$23,$M$10:$M$23,0))","v":3},3,{"$f":"IFERROR(ROUND(VLOOKUP(A396,'Dados de entrada'!$P$7:$Z$50,Dados_v2!D396+1,0)*H396,0),0)","v":4},"NOx",{"$f":"IF(OR(D396=$M$15,D396=$M$20),SUM(IF((A396=$O$10:$O$29),IF(C396=$P$9,$P$10:$P$29,$Q$10:$Q$29),0))/100,1)","v":1},17.367999999999999]
[1987,"Microonibus","Diesel",{"$f":"SUM(IF(B397=$L$10:$L$23,$M$10:$M$23,0))","v":3},3,{"$f":"IFERROR(ROUND(VLOOKUP(A397,'Dados de entrada'!$P$7:$Z$50,Dados_v2!D397+1,0)*H397,0),0)","v":3},"NOx",{"$f":"IF(OR(D397=$M$15,D397=$M$20),SUM(IF((A397=$O$10:$O$29),IF(C397=$P$9,$P$10:$P$29,$Q$10:$Q$29),0))/100,1)","v":1},17.367999999999999]
[1988,"Microonibus","Diesel",{"$f":"SUM(IF(B398=$L$10:$L$23,$M$10:$M$23,0))","v":3},3,{"$f":"IFERROR(ROUND(VLOOKUP(A398,'Dados de entrada'!$P$7:$Z$50,Dados_v2!D398+1,0)*H398,0),0)","v":3},"NOx",{"$f":"IF(OR(D398=$M$15,D398=$M$20),SUM(IF((A398=$O$10:$O$29),IF(C398=$P$9,$P$10:$P$29,$Q$10:$Q$29),0))/100,1)","v":1},17.367999999999999]
[1989,"Microonibus","Diesel",{"$f":"SUM(IF(B399=$L$10:$L$23,$M$10:$M$23,0))","v":3},3,{"$f":"IFERROR(ROUND(VLOOKUP(A399,'Dados de entrada'!$P$7:$Z$50,Dados_v2!D399+1,0)*H399,0),0)","v":0},"NOx",{"$f":"IF(OR(D399=$M$15,D399=$M$20),SUM(IF((A399=$O$10:$O$29),IF(C399=$P$9,$P$10:$P$29,$Q$10:$Q$29),0))/100,1)","v":1},17.367999999999999]
[1990,"Microonibus","Diesel",{"$f":"SUM(IF(B400=$L$10:$L$23,$M$10:$M$23,0))","v":3},3,{"$f":"IFERROR(ROUND(VLOOKUP(A400,'Dados de entrada'!$P$7:$Z$50,Dados_v2!D400+1,0)*H400,0),0)","v":6},"NOx",{"$f":"IF(OR(D400=$M$15,D400=$M$20),SUM(IF((A400=$O$10:$O$29),IF(C400=$P$9,$P$10:$P$29,$Q$10:$Q$29),0))/100,1)","v":1},17.367999999999999]
[1991,"Microonibus","Diesel",{"$f":"SUM(IF(B401=$L$10:$L$23,$M$10:$M$23,0))","v":3},3,{"$f":"IFERROR(ROUND(VLOOKUP(A401,'Dados de entrada'!$P$7:$Z$50,Dados_v2!D401+1,0)*H401,0),0)","v":3},"NOx",{"$f":"IF(OR(D401=$M$15,D401=$M$20),SUM(IF((A401=$O$10:$O$29),IF(C401=$P$9,$P$10:$P$29,$Q$10:$Q$29),0))/100,1)","v":1},17.367999999999999]
[1992,"Microonibus","Diesel",{"$f":"SUM(IF(B402=$L$10:$L$23,$M$10:$M$23,0))","v":3},3,{"$f":"IFERROR(ROUND(VLOOKUP(A402,'Dados de entrada'!$P$7:$Z$50,Dados_v2!D402+1,0)*H402,0),0)","v":0},"NOx",{"$f":"IF(OR(D402=$M$15,D402=$M$20),SUM(IF((A402=$O$10:$O$29),IF(C402=$P$9,$P$10:$P$29,$Q$10:$Q$29),0))/100,1)","v":1},17.367999999999999]
[1993,"Microonibus","Diesel",{"$f":"SUM(IF(B403=$L$10:$L$23,$M$10:$M$23,0))","v":3},3,{"$f":"IFERROR(ROUND(VLOOKUP(A403,'Dados de entrada'!$P$7:$Z$50,Dados_v2!D403+1,0)*H403,0),0)","v":10},"NOx",{"$f":"IF(OR(D403=$M$15,D403=$M$20),SUM(IF((A403=$O$10:$O$29),IF(C403=$P$9,$P$10:$P$29,$Q$10:$Q$29),0))/100,1)","v":1},17.367999999999999]
[1994,"Microonibus","Diesel",{"$f":"SUM(IF(B404=$L$10:$L$23,$M$10:$M$23,0))","v":3},3,{"$f":"IFERROR(ROUND(VLOOKUP(A404,'Dados de entrada'!$P$7:$Z$50,Dados_v2!D404+1,0)*H404,0),0)","v":28},"NOx",{"$f":"IF(OR(D404=$M$15,D404=$M$20),SUM(IF((A404=$O$10:$O$29),IF(C404=$P$9,$P$10:$P$29,$Q$10:$Q$29),0))/100,1)","v":1},17.367999999999999]
[1995,"Microonibus","Diesel",{"$f":"SUM(IF(B405=$L$10:$L$23,$M$10:$M$23,0))","v":3},3,{"$f":"IFERROR(ROUND(VLOOKUP(A405,'Dados de entrada'!$P$7:$Z$50,Dados_v2!D405+1,0)*H405,0),0)","v":103},"NOx",{"$f":"IF(OR(D405=$M$15,D405=$M$20),SUM(IF((A405=$O$10:$O$29),IF(C405=$P$9,$P$10:$P$29,$Q$10:$Q$29),0))/100,1)","v":1},17.367999999999999]
[1996,"Microonibus","Diesel",{"$f":"SUM(IF(B406=$L$10:$L$23,$M$10:$M$23,0))","v":3},3,{"$f":"IFERROR(ROUND(VLOOKUP(A406,'Dados de entrada'!$P$7:$Z$50,Dados_v2!D406+1,0)*H406,0),0)","v":37},"NOx",{"$f":"IF(OR(D406=$M$15,D406=$M$20),SUM(IF((A406=$O$10:$O$29),IF(C406=$P$9,$P$10:$P$29,$Q$10:$Q$29),0))/100,1)","v":1},17.367999999999999]
[1997,"Microonibus","Diesel",{"$f":"SUM(IF(B407=$L$10:$L$23,$M$10:$M$23,0))","v":3},3,{"$f":"IFERROR(ROUND(VLOOKUP(A407,'Dados de entrada'!$P$7:$Z$50,Dados_v2!D407+1,0)*H407,0),0)","v":218},"NOx",{"$f":"IF(OR(D407=$M$15,D407=$M$20),SUM(IF((A407=$O$10:$O$29),IF(C407=$P$9,$P$10:$P$29,$Q$10:$Q$29),0))/100,1)","v":1},17.367999999999999]
[1998,"Microonibus","Diesel",{"$f":"SUM(IF(B408=$L$10:$L$23,$M$10:$M$23,0))","v":3},3,{"$f":"IFERROR(ROUND(VLOOKUP(A408,'Dados de entrada'!$P$7:$Z$50,Dados_v2!D408+1,0)*H408,0),0)","v":159},"NOx",{"$f":"IF(OR(D408=$M$15,D408=$M$20),SUM(IF((A408=$O$10:$O$29),IF(C408=$P$9,$P$10:$P$29,$Q$10:$Q$29),0))/100,1)","v":1},17.367999999999999]
[1999,"Microonibus","Diesel",{"$f":"SUM(IF(B409=$L$10:$L$23,$M$10:$M$23,0))","v":3},3,{"$f":"IFERROR(ROUND(VLOOKUP(A409,'Dados de entrada'!$P$7:$Z$50,Dados_v2!D409+1,0)*H409,0),0)","v":124},"NOx",{"$f":"IF(OR(D409=$M$15,D409=$M$20),SUM(IF((A409=$O$10:$O$29),IF(C409=$P$9,$P$10:$P$29,$Q$10:$Q$29),0))/100,1)","v":1},17.367999999999999]
[2000,"Microonibus","Diesel",{"$f":"SUM(IF(B410=$L$10:$L$23,$M$10:$M$23,0))","v":3},3,{"$f":"IFERROR(ROUND(VLOOKUP(A410,'Dados de entrada'!$P$7:$Z$50,Dados_v2!D410+1,0)*H410,0),0)","v":138},"NOx",{"$f":"IF(OR(D410=$M$15,D410=$M$20),SUM(IF((A410=$O$10:$O$29),IF(C410=$P$9,$P$10:$P$29,$Q$10:$Q$29),0))/100,1)","v":1},10.973000000000001]
[2001,"Microonibus","Diesel",{"$f":"SUM(IF(B411=$L$10:$L$23,$M$10:$M$23,0))","v":3},3,{"$f":"IFERROR(ROUND(VLOOKUP(A411,'Dados de entrada'!$P$7:$Z$50,Dados_v2!D411+1,0)*H411,0),0)","v":208},"NOx",{"$f":"IF(OR(D411=$M$15,D411=$M$20),SUM(IF((A411=$O$10:$O$29),IF(C411=$P$9,$P$10:$P$29,$Q$10:$Q$29),0))/100,1)","v":1},10.973000000000001]
[2002,"Microonibus","Diesel",{"$f":"SUM(IF(B412=$L$10:$L$23,$M$10:$M$23,0))","v":3},3,{"$f":"IFERROR(ROUND(VLOOKUP(A412,'Dados de entrada'!$P$7:$Z$50,Dados_v2!D412+1,0)*H412,0),0)","v":45},"NOx",{"$f":"IF(OR(D412=$M$15,D412=$M$20),SUM(IF((A412=$O$10:$O$29),IF(C412=$P$9,$P$10:$P$29,$Q$10:$Q$29),0))/100,1)","v":1},10.712999999999999]
[2003,"Microonibus","Diesel",{"$f":"SUM(IF(B413=$L$10:$L$23,$M$10:$M$23,0))","v":3},3,{"$f":"IFERROR(ROUND(VLOOKUP(A413,'Dados de entrada'!$P$7:$Z$50,Dados_v2!D413+1,0)*H413,0),0)","v":57},"NOx",{"$f":"IF(OR(D413=$M$15,D413=$M$20),SUM(IF((A413=$O$10:$O$29),IF(C413=$P$9,$P$10:$P$29,$Q$10:$Q$29),0))/100,1)","v":1},10.712999999999999]
[2004,"Microonibus","Diesel",{"$f":"SUM(IF(B414=$L$10:$L$23,$M$10:$M$23,0))","v":3},3,{"$f":"IFERROR(ROUND(VLOOKUP(A414,'Dados de entrada'!$P$7:$Z$50,Dados_v2!D414+1,0)*H414,0),0)","v":84},"NOx",{"$f":"IF(OR(D414=$M$15,D414=$M$20),SUM(IF((A414=$O$10:$O$29),IF(C414=$P$9,$P$10:$P$29,$Q$10:$Q$29),0))/100,1)","v":1},9]
[2005,"Microonibus","Diesel",{"$f":"SUM(IF(B415=$L$10:$L$23,$M$10:$M$23,0))","v":3},3,{"$f":"IFERROR(ROUND(VLOOKUP(A415,'Dados de entrada'!$P$7:$Z$50,Dados_v2!D415+1,0)*H415,0),0)","v":77},"NOx",{"$f":"IF(OR(D415=$M$15,D415=$M$20),SUM(IF((A415=$O$10:$O$29),IF(C415=$P$9,$P$10:$P$29,$Q$10:$Q$29),0))/100,1)","v":1},9]
[2006,"Microonibus","Diesel",{"$f":"SUM(IF(B416=$L$10:$L$23,$M$10:$M$23,0))","v":3},3,{"$f":"IFERROR(ROUND(VLOOKUP(A416,'Dados de entrada'!$P$7:$Z$50,Dados_v2!D416+1,0)*H416,0),0)","v":125},"NOx",{"$f":"IF(OR(D416=$M$15,D416=$M$20),SUM(IF((A416=$O$10:$O$29),IF(C416=$P$9,$P$10:$P$29,$Q$10:$Q$29),0))/100,1)","v":1},4.7692280915395697]
[2007,"Microonibus","Diesel",{"$f":"SUM(IF(B417=$L$10:$L$23,$M$10:$M$23,0))","v":3},3,{"$f":"IFERROR(ROUND(VLOOKUP(A417,'Dados de entrada'!$P$7:$Z$50,Dados_v2!D417+1,0)*H417,0),0)","v":157},"NOx",{"$f":"IF(OR(D417=$M$15,D417=$M$20),SUM(IF((A417=$O$10:$O$29),IF(C417=$P$9,$P$10:$P$29,$Q$10:$Q$29),0))/100,1)","v":1},4.7692280915395697]
[2008,"Microonibus","Diesel",{"$f":"SUM(IF(B418=$L$10:$L$23,$M$10:$M$23,0))","v":3},3,{"$f":"IFERROR(ROUND(VLOOKUP(A418,'Dados de entrada'!$P$7:$Z$50,Dados_v2!D418+1,0)*H418,0),0)","v":267},"NOx",{"$f":"IF(OR(D418=$M$15,D418=$M$20),SUM(IF((A418=$O$10:$O$29),IF(C418=$P$9,$P$10:$P$29,$Q$10:$Q$29),0))/100,1)","v":1},4.5084372785539299]
[2009,"Microonibus","Diesel",{"$f":"SUM(IF(B419=$L$10:$L$23,$M$10:$M$23,0))","v":3},3,{"$f":"IFERROR(ROUND(VLOOKUP(A419,'Dados de entrada'!$P$7:$Z$50,Dados_v2!D419+1,0)*H419,0),0)","v":234},"NOx",{"$f":"IF(OR(D419=$M$15,D419=$M$20),SUM(IF((A419=$O$10:$O$29),IF(C419=$P$9,$P$10:$P$29,$Q$10:$Q$29),0))/100,1)","v":1},4.7415856891036103]
[2010,"Microonibus","Diesel",{"$f":"SUM(IF(B420=$L$10:$L$23,$M$10:$M$23,0))","v":3},3,{"$f":"IFERROR(ROUND(VLOOKUP(A420,'Dados de entrada'!$P$7:$Z$50,Dados_v2!D420+1,0)*H420,0),0)","v":148},"NOx",{"$f":"IF(OR(D420=$M$15,D420=$M$20),SUM(IF((A420=$O$10:$O$29),IF(C420=$P$9,$P$10:$P$29,$Q$10:$Q$29),0))/100,1)","v":1},4.7253984244479597]
[2011,"Microonibus","Diesel",{"$f":"SUM(IF(B421=$L$10:$L$23,$M$10:$M$23,0))","v":3},3,{"$f":"IFERROR(ROUND(VLOOKUP(A421,'Dados de entrada'!$P$7:$Z$50,Dados_v2!D421+1,0)*H421,0),0)","v":408},"NOx",{"$f":"IF(OR(D421=$M$15,D421=$M$20),SUM(IF((A421=$O$10:$O$29),IF(C421=$P$9,$P$10:$P$29,$Q$10:$Q$29),0))/100,1)","v":1},4.8714684001270898]
[2012,"Microonibus","Diesel",{"$f":"SUM(IF(B422=$L$10:$L$23,$M$10:$M$23,0))","v":3},3,{"$f":"IFERROR(ROUND(VLOOKUP(A422,'Dados de entrada'!$P$7:$Z$50,Dados_v2!D422+1,0)*H422,0),0)","v":369},"NOx",{"$f":"IF(OR(D422=$M$15,D422=$M$20),SUM(IF((A422=$O$10:$O$29),IF(C422=$P$9,$P$10:$P$29,$Q$10:$Q$29),0))/100,1)","v":1},1.4106206006481501]
[2013,"Microonibus","Diesel",{"$f":"SUM(IF(B423=$L$10:$L$23,$M$10:$M$23,0))","v":3},3,{"$f":"IFERROR(ROUND(VLOOKUP(A423,'Dados de entrada'!$P$7:$Z$50,Dados_v2!D423+1,0)*H423,0),0)","v":391},"NOx",{"$f":"IF(OR(D423=$M$15,D423=$M$20),SUM(IF((A423=$O$10:$O$29),IF(C423=$P$9,$P$10:$P$29,$Q$10:$Q$29),0))/100,1)","v":1},1.2210290798900401]
[2014,"Microonibus","Diesel",{"$f":"SUM(IF(B424=$L$10:$L$23,$M$10:$M$23,0))","v":3},3,{"$f":"IFERROR(ROUND(VLOOKUP(A424,'Dados de entrada'!$P$7:$Z$50,Dados_v2!D424+1,0)*H424,0),0)","v":473},"NOx",{"$f":"IF(OR(D424=$M$15,D424=$M$20),SUM(IF((A424=$O$10:$O$29),IF(C424=$P$9,$P$10:$P$29,$Q$10:$Q$29),0))/100,1)","v":1},1.2210290798900401]
[2015,"Microonibus","Diesel",{"$f":"SUM(IF(B425=$L$10:$L$23,$M$10:$M$23,0))","v":3},3,{"$f":"IFERROR(ROUND(VLOOKUP(A425,'Dados de entrada'!$P$7:$Z$50,Dados_v2!D425+1,0)*H425,0),0)","v":187},"NOx",{"$f":"IF(OR(D425=$M$15,D425=$M$20),SUM(IF((A425=$O$10:$O$29),IF(C425=$P$9,$P$10:$P$29,$Q$10:$Q$29),0))/100,1)","v":1},1.2210290798900401]
[2016,"Microonibus","Diesel",{"$f":"SUM(IF(B426=$L$10:$L$23,$M$10:$M$23,0))","v":3},3,{"$f":"IFERROR(ROUND(VLOOKUP(A426,'Dados de entrada'!$P$7:$Z$50,Dados_v2!D426+1,0)*H426,0),0)","v":168},"NOx",{"$f":"IF(OR(D426=$M$15,D426=$M$20),SUM(IF((A426=$O$10:$O$29),IF(C426=$P$9,$P$10:$P$29,$Q$10:$Q$29),0))/100,1)","v":1},1.30265174758327]
[2017,"Microonibus","Diesel",{"$f":"SUM(IF(B427=$L$10:$L$23,$M$10:$M$23,0))","v":3},3,{"$f":"IFERROR(ROUND(VLOOKUP(A427,'Dados de entrada'!$P$7:$Z$50,Dados_v2!D427+1,0)*H427,0),0)","v":93},"NOx",{"$f":"IF(OR(D427=$M$15,D427=$M$20),SUM(IF((A427=$O$10:$O$29),IF(C427=$P$9,$P$10:$P$29,$Q$10:$Q$29),0))/100,1)","v":1},1.36227395267289]
[2018,"Microonibus","Diesel",{"$f":"SUM(IF(B428=$L$10:$L$23,$M$10:$M$23,0))","v":3},3,{"$f":"IFERROR(ROUND(VLOOKUP(A428,'Dados de entrada'!$P$7:$Z$50,Dados_v2!D428+1,0)*H428,0),0)","v":173},"NOx",{"$f":"IF(OR(D428=$M$15,D428=$M$20),SUM(IF((A428=$O$10:$O$29),IF(C428=$P$9,$P$10:$P$29,$Q$10:$Q$29),0))/100,1)","v":1},1.4213894601577699]
[2019,"Microonibus","Diesel",{"$f":"SUM(IF(B429=$L$10:$L$23,$M$10:$M$23,0))","v":3},3,{"$f":"IFERROR(ROUND(VLOOKUP(A429,'Dados de entrada'!$P$7:$Z$50,Dados_v2!D429+1,0)*H429,0),0)","v":272},"NOx",{"$f":"IF(OR(D429=$M$15,D429=$M$20),SUM(IF((A429=$O$10:$O$29),IF(C429=$P$9,$P$10:$P$29,$Q$10:$Q$29),0))/100,1)","v":1},1.47220064463913]
[2020,"Microonibus","Diesel",{"$f":"SUM(IF(B430=$L$10:$L$23,$M$10:$M$23,0))","v":3},3,{"$f":"IFERROR(ROUND(VLOOKUP(A430,'Dados de entrada'!$P$7:$Z$50,Dados_v2!D430+1,0)*H430,0),0)","v":238},"NOx",{"$f":"IF(OR(D430=$M$15,D430=$M$20),SUM(IF((A430=$O$10:$O$29),IF(C430=$P$9,$P$10:$P$29,$Q$10:$Q$29),0))/100,1)","v":1},1.32465096323318]
[2021,"Microonibus","Diesel",{"$f":"SUM(IF(B431=$L$10:$L$23,$M$10:$M$23,0))","v":3},3,{"$f":"IFERROR(ROUND(VLOOKUP(A431,'Dados de entrada'!$P$7:$Z$50,Dados_v2!D431+1,0)*H431,0),0)","v":412},"NOx",{"$f":"IF(OR(D431=$M$15,D431=$M$20),SUM(IF((A431=$O$10:$O$29),IF(C431=$P$9,$P$10:$P$29,$Q$10:$Q$29),0))/100,1)","v":1},1.5264933205606801]
[2022,"Microonibus","Diesel",{"$f":"SUM(IF(B432=$L$10:$L$23,$M$10:$M$23,0))","v":3},3,{"$f":"IFERROR(ROUND(VLOOKUP(A432,'Dados de entrada'!$P$7:$Z$50,Dados_v2!D432+1,0)*H432,0),0)","v":470},"NOx",{"$f":"IF(OR(D432=$M$15,D432=$M$20),SUM(IF((A432=$O$10:$O$29),IF(C432=$P$9,$P$10:$P$29,$Q$10:$Q$29),0))/100,1)","v":1},1.62434857697762]
[1983,"Caminhao","Diesel",{"$f":"SUM(IF(B433=$L$10:$L$23,$M$10:$M$23,0))","v":4},4,{"$f":"IFERROR(ROUND(VLOOKUP(A433,'Dados de entrada'!$P$7:$Z$50,Dados_v2!D433+1,0)*H433,0),0)","v":147},"NOx",{"$f":"IF(OR(D433=$M$15,D433=$M$20),SUM(IF((A433=$O$10:$O$29),IF(C433=$P$9,$P$10:$P$29,$Q$10:$Q$29),0))/100,1)","v":1},7.19]
[1984,"Caminhao","Diesel",{"$f":"SUM(IF(B434=$L$10:$L$23,$M$10:$M$23,0))","v":4},4,{"$f":"IFERROR(ROUND(VLOOKUP(A434,'Dados de entrada'!$P$7:$Z$50,Dados_v2!D434+1,0)*H434,0),0)","v":159},"NOx",{"$f":"IF(OR(D434=$M$15,D434=$M$20),SUM(IF((A434=$O$10:$O$29),IF(C434=$P$9,$P$10:$P$29,$Q$10:$Q$29),0))/100,1)","v":1},7.19]
[1985,"Caminhao","Diesel",{"$f":"SUM(IF(B435=$L$10:$L$23,$M$10:$M$23,0))","v":4},4,{"$f":"IFERROR(ROUND(VLOOKUP(A435,'Dados de entrada'!$P$7:$Z$50,Dados_v2!D435+1,0)*H435,0),0)","v":248},"NOx",{"$f":"IF(OR(D435=$M$15,D435=$M$20),SUM(IF((A435=$O$10:$O$29),IF(C435=$P$9,$P$10:$P$29,$Q$10:$Q$29),0))/100,1)","v":1},7.19]
[1986,"Caminhao","Diesel",{"$f":"SUM(IF(B436=$L$10:$L$23,$M$10:$M$23,0))","v":4},4,{"$f":"IFERROR(ROUND(VLOOKUP(A436,'Dados de entrada'!$P$7:$Z$50,Dados_v2!D436+1,0)*H436,0),0)","v":444},"NOx",{"$f":"IF(OR(D436=$M$15,D436=$M$20),SUM(IF((A436=$O$10:$O$29),IF(C436=$P$9,$P$10:$P$29,$Q$10:$Q$29),0))/100,1)","v":1},7.19]
[1987,"Caminhao","Diesel",{"$f":"SUM(IF(B437=$L$10:$L$23,$M$10:$M$23,0))","v":4},4,{"$f":"IFERROR(ROUND(VLOOKUP(A437,'Dados de entrada'!$P$7:$Z$50,Dados_v2!D437+1,0)*H437,0),0)","v":378},"NOx",{"$f":"IF(OR(D437=$M$15,D437=$M$20),SUM(IF((A437=$O$10:$O$29),IF(C437=$P$9,$P$10:$P$29,$Q$10:$Q$29),0))/100,1)","v":1},7.19]
[1988,"Caminhao","Diesel",{"$f":"SUM(IF(B438=$L$10:$L$23,$M$10:$M$23,0))","v":4},4,{"$f":"IFERROR(ROUND(VLOOKUP(A438,'Dados de entrada'!$P$7:$Z$50,Dados_v2!D438+1,0)*H438,0),0)","v":302},"NOx",{"$f":"IF(OR(D438=$M$15,D438=$M$20),SUM(IF((A438=$O$10:$O$29),IF(C438=$P$9,$P$10:$P$29,$Q$10:$Q$29),0))/100,1)","v":1},7.19]
[1989,"Caminhao","Diesel",{"$f":"SUM(IF(B439=$L$10:$L$23,$M$10:$M$23,0))","v":4},4,{"$f":"IFERROR(ROUND(VLOOKUP(A439,'Dados de entrada'!$P$7:$Z$50,Dados_v2!D439+1,0)*H439,0),0)","v":332},"NOx",{"$f":"IF(OR(D439=$M$15,D439=$M$20),SUM(IF((A439=$O$10:$O$29),IF(C439=$P$9,$P$10:$P$29,$Q$10:$Q$29),0))/100,1)","v":1},7.19]
[1990,"Caminhao","Diesel",{"$f":"SUM(IF(B440=$L$10:$L$23,$M$10:$M$23,0))","v":4},4,{"$f":"IFERROR(ROUND(VLOOKUP(A440,'Dados de entrada'!$P$7:$Z$50,Dados_v2!D440+1,0)*H440,0),0)","v":316},"NOx",{"$f":"IF(OR(D440=$M$15,D440=$M$20),SUM(IF((A440=$O$10:$O$29),IF(C440=$P$9,$P$10:$P$29,$Q$10:$Q$29),0))/100,1)","v":1},7.19]
[1991,"Caminhao","Diesel",{"$f":"SUM(IF(B441=$L$10:$L$23,$M$10:$M$23,0))","v":4},4,{"$f":"IFERROR(ROUND(VLOOKUP(A441,'Dados de entrada'!$P$7:$Z$50,Dados_v2!D441+1,0)*H441,0),0)","v":273},"NOx",{"$f":"IF(OR(D441=$M$15,D441=$M$20),SUM(IF((A441=$O$10:$O$29),IF(C441=$P$9,$P$10:$P$29,$Q$10:$Q$29),0))/100,1)","v":1},7.19]
[1992,"Caminhao","Diesel",{"$f":"SUM(IF(B442=$L$10:$L$23,$M$10:$M$23,0))","v":4},4,{"$f":"IFERROR(ROUND(VLOOKUP(A442,'Dados de entrada'!$P$7:$Z$50,Dados_v2!D442+1,0)*H442,0),0)","v":258},"NOx",{"$f":"IF(OR(D442=$M$15,D442=$M$20),SUM(IF((A442=$O$10:$O$29),IF(C442=$P$9,$P$10:$P$29,$Q$10:$Q$29),0))/100,1)","v":1},7.19]
[1993,"Caminhao","Diesel",{"$f":"SUM(IF(B443=$L$10:$L$23,$M$10:$M$23,0))","v":4},4,{"$f":"IFERROR(ROUND(VLOOKUP(A443,'Dados de entrada'!$P$7:$Z$50,Dados_v2!D443+1,0)*H443,0),0)","v":189},"NOx",{"$f":"IF(OR(D443=$M$15,D443=$M$20),SUM(IF((A443=$O$10:$O$29),IF(C443=$P$9,$P$10:$P$29,$Q$10:$Q$29),0))/100,1)","v":1},7.19]
[1994,"Caminhao","Diesel",{"$f":"SUM(IF(B444=$L$10:$L$23,$M$10:$M$23,0))","v":4},4,{"$f":"IFERROR(ROUND(VLOOKUP(A444,'Dados de entrada'!$P$7:$Z$50,Dados_v2!D444+1,0)*H444,0),0)","v":327},"NOx",{"$f":"IF(OR(D444=$M$15,D444=$M$20),SUM(IF((A444=$O$10:$O$29),IF(C444=$P$9,$P$10:$P$29,$Q$10:$Q$29),0))/100,1)","v":1},7.19]
[1995,"Caminhao","Diesel",{"$f":"SUM(IF(B445=$L$10:$L$23,$M$10:$M$23,0))","v":4},4,{"$f":"IFERROR(ROUND(VLOOKUP(A445,'Dados de entrada'!$P$7:$Z$50,Dados_v2!D445+1,0)*H445,0),0)","v":527},"NOx",{"$f":"IF(OR(D445=$M$15,D445=$M$20),SUM(IF((A445=$O$10:$O$29),IF(C445=$P$9,$P$10:$P$29,$Q$10:$Q$29),0))/100,1)","v":1},7.19]
[1996,"Caminhao","Diesel",{"$f":"SUM(IF(B446=$L$10:$L$23,$M$10:$M$23,0))","v":4},4,{"$f":"IFERROR(ROUND(VLOOKUP(A446,'Dados de entrada'!$P$7:$Z$50,Dados_v2!D446+1,0)*H446,0),0)","v":321},"NOx",{"$f":"IF(OR(D446=$M$15,D446=$M$20),SUM(IF((A446=$O$10:$O$29),IF(C446=$P$9,$P$10:$P$29,$Q$10:$Q$29),0))/100,1)","v":1},7.19]
[1997,"Caminhao","Diesel",{"$f":"SUM(IF(B447=$L$10:$L$23,$M$10:$M$23,0))","v":4},4,{"$f":"IFERROR(ROUND(VLOOKUP(A447,'Dados de entrada'!$P$7:$Z$50,Dados_v2!D447+1,0)*H447,0),0)","v":613},"NOx",{"$f":"IF(OR(D447=$M$15,D447=$M$20),SUM(IF((A447=$O$10:$O$29),IF(C447=$P$9,$P$10:$P$29,$Q$10:$Q$29),0))/100,1)","v":1},7.19]
[1998,"Caminhao","Diesel",{"$f":"SUM(IF(B448=$L$10:$L$23,$M$10:$M$23,0))","v":4},4,{"$f":"IFERROR(ROUND(VLOOKUP(A448,'Dados de entrada'!$P$7:$Z$50,Dados_v2!D448+1,0)*H448,0),0)","v":641},"NOx",{"$f":"IF(OR(D448=$M$15,D448=$M$20),SUM(IF((A448=$O$10:$O$29),IF(C448=$P$9,$P$10:$P$29,$Q$10:$Q$29),0))/100,1)","v":1},7.19]
[1999,"Caminhao","Diesel",{"$f":"SUM(IF(B449=$L$10:$L$23,$M$10:$M$23,0))","v":4},4,{"$f":"IFERROR(ROUND(VLOOKUP(A449,'Dados de entrada'!$P$7:$Z$50,Dados_v2!D449+1,0)*H449,0),0)","v":481},"NOx",{"$f":"IF(OR(D449=$M$15,D449=$M$20),SUM(IF((A449=$O$10:$O$29),IF(C449=$P$9,$P$10:$P$29,$Q$10:$Q$29),0))/100,1)","v":1},7.19]
[2000,"Caminhao","Diesel",{"$f":"SUM(IF(B450=$L$10:$L$23,$M$10:$M$23,0))","v":4},4,{"$f":"IFERROR(ROUND(VLOOKUP(A450,'Dados de entrada'!$P$7:$Z$50,Dados_v2!D450+1,0)*H450,0),0)","v":489},"NOx",{"$f":"IF(OR(D450=$M$15,D450=$M$20),SUM(IF((A450=$O$10:$O$29),IF(C450=$P$9,$P$10:$P$29,$Q$10:$Q$29),0))/100,1)","v":1},4.5430000000000001]
[2001,"Caminhao","Diesel",{"$f":"SUM(IF(B451=$L$10:$L$23,$M$10:$M$23,0))","v":4},4,{"$f":"IFERROR(ROUND(VLOOKUP(A451,'Dados de entrada'!$P$7:$Z$50,Dados_v2!D451+1,0)*H451,0),0)","v":620},"NOx",{"$f":"IF(OR(D451=$M$15,D451=$M$20),SUM(IF((A451=$O$10:$O$29),IF(C451=$P$9,$P$10:$P$29,$Q$10:$Q$29),0))/100,1)","v":1},4.5430000000000001]
[2002,"Caminhao","Diesel",{"$f":"SUM(IF(B452=$L$10:$L$23,$M$10:$M$23,0))","v":4},4,{"$f":"IFERROR(ROUND(VLOOKUP(A452,'Dados de entrada'!$P$7:$Z$50,Dados_v2!D452+1,0)*H452,0),0)","v":509},"NOx",{"$f":"IF(OR(D452=$M$15,D452=$M$20),SUM(IF((A452=$O$10:$O$29),IF(C452=$P$9,$P$10:$P$29,$Q$10:$Q$29),0))/100,1)","v":1},4.4349999999999996]
[2003,"Caminhao","Diesel",{"$f":"SUM(IF(B453=$L$10:$L$23,$M$10:$M$23,0))","v":4},4,{"$f":"IFERROR(ROUND(VLOOKUP(A453,'Dados de entrada'!$P$7:$Z$50,Dados_v2!D453+1,0)*H453,0),0)","v":456},"NOx",{"$f":"IF(OR(D453=$M$15,D453=$M$20),SUM(IF((A453=$O$10:$O$29),IF(C453=$P$9,$P$10:$P$29,$Q$10:$Q$29),0))/100,1)","v":1},4.4349999999999996]
[2004,"Caminhao","Diesel",{"$f":"SUM(IF(B454=$L$10:$L$23,$M$10:$M$23,0))","v":4},4,{"$f":"IFERROR(ROUND(VLOOKUP(A454,'Dados de entrada'!$P$7:$Z$50,Dados_v2!D454+1,0)*H454,0),0)","v":686},"NOx",{"$f":"IF(OR(D454=$M$15,D454=$M$20),SUM(IF((A454=$O$10:$O$29),IF(C454=$P$9,$P$10:$P$29,$Q$10:$Q$29),0))/100,1)","v":1},3.72]
[2005,"Caminhao","Diesel",{"$f":"SUM(IF(B455=$L$10:$L$23,$M$10:$M$23,0))","v":4},4,{"$f":"IFERROR(ROUND(VLOOKUP(A455,'Dados de entrada'!$P$7:$Z$50,Dados_v2!D455+1,0)*H455,0),0)","v":824},"NOx",{"$f":"IF(OR(D455=$M$15,D455=$M$20),SUM(IF((A455=$O$10:$O$29),IF(C455=$P$9,$P$10:$P$29,$Q$10:$Q$29),0))/100,1)","v":1},3.72]
[2006,"Caminhao","Diesel",{"$f":"SUM(IF(B456=$L$10:$L$23,$M$10:$M$23,0))","v":4},4,{"$f":"IFERROR(ROUND(VLOOKUP(A456,'Dados de entrada'!$P$7:$Z$50,Dados_v2!D456+1,0)*H456,0),0)","v":852},"NOx",{"$f":"IF(OR(D456=$M$15,D456=$M$20),SUM(IF((A456=$O$10:$O$29),IF(C456=$P$9,$P$10:$P$29,$Q$10:$Q$29),0))/100,1)","v":1},3.0880000000000001]
[2007,"Caminhao","Diesel",{"$f":"SUM(IF(B457=$L$10:$L$23,$M$10:$M$23,0))","v":4},4,{"$f":"IFERROR(ROUND(VLOOKUP(A457,'Dados de entrada'!$P$7:$Z$50,Dados_v2!D457+1,0)*H457,0),0)","v":738},"NOx",{"$f":"IF(OR(D457=$M$15,D457=$M$20),SUM(IF((A457=$O$10:$O$29),IF(C457=$P$9,$P$10:$P$29,$Q$10:$Q$29),0))/100,1)","v":1},3.0880000000000001]
[2008,"Caminhao","Diesel",{"$f":"SUM(IF(B458=$L$10:$L$23,$M$10:$M$23,0))","v":4},4,{"$f":"IFERROR(ROUND(VLOOKUP(A458,'Dados de entrada'!$P$7:$Z$50,Dados_v2!D458+1,0)*H458,0),0)","v":1217},"NOx",{"$f":"IF(OR(D458=$M$15,D458=$M$20),SUM(IF((A458=$O$10:$O$29),IF(C458=$P$9,$P$10:$P$29,$Q$10:$Q$29),0))/100,1)","v":1},2.919]
[2009,"Caminhao","Diesel",{"$f":"SUM(IF(B459=$L$10:$L$23,$M$10:$M$23,0))","v":4},4,{"$f":"IFERROR(ROUND(VLOOKUP(A459,'Dados de entrada'!$P$7:$Z$50,Dados_v2!D459+1,0)*H459,0),0)","v":1418},"NOx",{"$f":"IF(OR(D459=$M$15,D459=$M$20),SUM(IF((A459=$O$10:$O$29),IF(C459=$P$9,$P$10:$P$29,$Q$10:$Q$29),0))/100,1)","v":1},3.012]
[2010,"Caminhao","Diesel",{"$f":"SUM(IF(B460=$L$10:$L$23,$M$10:$M$23,0))","v":4},4,{"$f":"IFERROR(ROUND(VLOOKUP(A460,'Dados de entrada'!$P$7:$Z$50,Dados_v2!D460+1,0)*H460,0),0)","v":1874},"NOx",{"$f":"IF(OR(D460=$M$15,D460=$M$20),SUM(IF((A460=$O$10:$O$29),IF(C460=$P$9,$P$10:$P$29,$Q$10:$Q$29),0))/100,1)","v":1},3.0179999999999998]
[2011,"Caminhao","Diesel",{"$f":"SUM(IF(B461=$L$10:$L$23,$M$10:$M$23,0))","v":4},4,{"$f":"IFERROR(ROUND(VLOOKUP(A461,'Dados de entrada'!$P$7:$Z$50,Dados_v2!D461+1,0)*H461,0),0)","v":2231},"NOx",{"$f":"IF(OR(D461=$M$15,D461=$M$20),SUM(IF((A461=$O$10:$O$29),IF(C461=$P$9,$P$10:$P$29,$Q$10:$Q$29),0))/100,1)","v":1},3.0579999999999998]
[2012,"Caminhao","Diesel",{"$f":"SUM(IF(B462=$L$10:$L$23,$M$10:$M$23,0))","v":4},4,{"$f":"IFERROR(ROUND(VLOOKUP(A462,'Dados de entrada'!$P$7:$Z$50,Dados_v2!D462+1,0)*H462,0),0)","v":1796},"NOx",{"$f":"IF(OR(D462=$M$15,D462=$M$20),SUM(IF((A462=$O$10:$O$29),IF(C462=$P$9,$P$10:$P$29,$Q$10:$Q$29),0))/100,1)","v":1},1.032]
[2013,"Caminhao","Diesel",{"$f":"SUM(IF(B463=$L$10:$L$23,$M$10:$M$23,0))","v":4},4,{"$f":"IFERROR(ROUND(VLOOKUP(A463,'Dados de entrada'!$P$7:$Z$50,Dados_v2!D463+1,0)*H463,0),0)","v":2092},"NOx",{"$f":"IF(OR(D463=$M$15,D463=$M$20),SUM(IF((A463=$O$10:$O$29),IF(C463=$P$9,$P$10:$P$29,$Q$10:$Q$29),0))/100,1)","v":1},1.0609999999999999]
[2014,"Caminhao","Diesel",{"$f":"SUM(IF(B464=$L$10:$L$23,$M$10:$M$23,0))","v":4},4,{"$f":"IFERROR(ROUND(VLOOKUP(A464,'Dados de entrada'!$P$7:$Z$50,Dados_v2!D464+1,0)*H464,0),0)","v":1273},"NOx",{"$f":"IF(OR(D464=$M$15,D464=$M$20),SUM(IF((A464=$O$10:$O$29),IF(C464=$P$9,$P$10:$P$29,$Q$10:$Q$29),0))/100,1)","v":1},1.0609999999999999]
[2015,"Caminhao","Diesel",{"$f":"SUM(IF(B465=$L$10:$L$23,$M$10:$M$23,0))","v":4},4,{"$f":"IFERROR(ROUND(VLOOKUP(A465,'Dados de entrada'!$P$7:$Z$50,Dados_v2!D465+1,0)*H465,0),0)","v":717},"NOx",{"$f":"IF(OR(D465=$M$15,D465=$M$20),SUM(IF((A465=$O$10:$O$29),IF(C465=$P$9,$P$10:$P$29,$Q$10:$Q$29),0))/100,1)","v":1},1.0609999999999999]
[2016,"Caminhao","Diesel",{"$f":"SUM(IF(B466=$L$10:$L$23,$M$10:$M$23,0))","v":4},4,{"$f":"IFERROR(ROUND(VLOOKUP(A466,'Dados de entrada'!$P$7:$Z$50,Dados_v2!D466+1,0)*H466,0),0)","v":570},"NOx",{"$f":"IF(OR(D466=$M$15,D466=$M$20),SUM(IF((A466=$O$10:$O$29),IF(C466=$P$9,$P$10:$P$29,$Q$10:$Q$29),0))/100,1)","v":1},0.97460933865891097]
[2017,"Caminhao","Diesel",{"$f":"SUM(IF(B467=$L$10:$L$23,$M$10:$M$23,0))","v":4},4,{"$f":"IFERROR(ROUND(VLOOKUP(A467,'Dados de entrada'!$P$7:$Z$50,Dados_v2!D467+1,0)*H467,0),0)","v":299},"NOx",{"$f":"IF(OR(D467=$M$15,D467=$M$20),SUM(IF((A467=$O$10:$O$29),IF(C467=$P$9,$P$10:$P$29,$Q$10:$Q$29),0))/100,1)","v":1},0.90630278758476901]
[2018,"Caminhao","Diesel",{"$f":"SUM(IF(B468=$L$10:$L$23,$M$10:$M$23,0))","v":4},4,{"$f":"IFERROR(ROUND(VLOOKUP(A468,'Dados de entrada'!$P$7:$Z$50,Dados_v2!D468+1,0)*H468,0),0)","v":699},"NOx",{"$f":"IF(OR(D468=$M$15,D468=$M$20),SUM(IF((A468=$O$10:$O$29),IF(C468=$P$9,$P$10:$P$29,$Q$10:$Q$29),0))/100,1)","v":1},0.84876183080933498]
[2019,"Caminhao","Diesel",{"$f":"SUM(IF(B469=$L$10:$L$23,$M$10:$M$23,0))","v":4},4,{"$f":"IFERROR(ROUND(VLOOKUP(A469,'Dados de entrada'!$P$7:$Z$50,Dados_v2!D469+1,0)*H469,0),0)","v":1163},"NOx",{"$f":"IF(OR(D469=$M$15,D469=$M$20),SUM(IF((A469=$O$10:$O$29),IF(C469=$P$9,$P$10:$P$29,$Q$10:$Q$29),0))/100,1)","v":1},0.82893043758491203]
[2020,"Caminhao","Diesel",{"$f":"SUM(IF(B470=$L$10:$L$23,$M$10:$M$23,0))","v":4},4,{"$f":"IFERROR(ROUND(VLOOKUP(A470,'Dados de entrada'!$P$7:$Z$50,Dados_v2!D470+1,0)*H470,0),0)","v":1472},"NOx",{"$f":"IF(OR(D470=$M$15,D470=$M$20),SUM(IF((A470=$O$10:$O$29),IF(C470=$P$9,$P$10:$P$29,$Q$10:$Q$29),0))/100,1)","v":1},0.94513103608258398]
[2021,"Caminhao","Diesel",{"$f":"SUM(IF(B471=$L$10:$L$23,$M$10:$M$23,0))","v":4},4,{"$f":"IFERROR(ROUND(VLOOKUP(A471,'Dados de entrada'!$P$7:$Z$50,Dados_v2!D471+1,0)*H471,0),0)","v":2067},"NOx",{"$f":"IF(OR(D471=$M$15,D471=$M$20),SUM(IF((A471=$O$10:$O$29),IF(C471=$P$9,$P$10:$P$29,$Q$10:$Q$29),0))/100,1)","v":1},1.00727935664027]
[2022,"Caminhao","Diesel",{"$f":"SUM(IF(B472=$L$10:$L$23,$M$10:$M$23,0))","v":4},4,{"$f":"IFERROR(ROUND(VLOOKUP(A472,'Dados de entrada'!$P$7:$Z$50,Dados_v2!D472+1,0)*H472,0),0)","v":4601},"NOx",{"$f":"IF(OR(D472=$M$15,D472=$M$20),SUM(IF((A472=$O$10:$O$29),IF(C472=$P$9,$P$10:$P$29,$Q$10:$Q$29),0))/100,1)","v":1},0.89042353936914298]
[1983,"Moto-Gasolina","Gasolina",{"$f":"SUM(IF(B473=$L$10:$L$23,$M$10:$M$23,0))","v":5},2,{"$f":"IFERROR(ROUND(VLOOKUP(A473,'Dados de entrada'!$P$7:$Z$50,Dados_v2!D473+1,0)*H473,0),0)","v":969},"NOx",{"$f":"IF(OR(D473=$M$15,D473=$M$20),SUM(IF((A473=$O$10:$O$29),IF(C473=$P$9,$P$10:$P$29,$Q$10:$Q$29),0))/100,1)","v":1},0.1613]
[1984,"Moto-Gasolina","Gasolina",{"$f":"SUM(IF(B474=$L$10:$L$23,$M$10:$M$23,0))","v":5},2,{"$f":"IFERROR(ROUND(VLOOKUP(A474,'Dados de entrada'!$P$7:$Z$50,Dados_v2!D474+1,0)*H474,0),0)","v":633},"NOx",{"$f":"IF(OR(D474=$M$15,D474=$M$20),SUM(IF((A474=$O$10:$O$29),IF(C474=$P$9,$P$10:$P$29,$Q$10:$Q$29),0))/100,1)","v":1},0.1613]
[1985,"Moto-Gasolina","Gasolina",{"$f":"SUM(IF(B475=$L$10:$L$23,$M$10:$M$23,0))","v":5},2,{"$f":"IFERROR(ROUND(VLOOKUP(A475,'Dados de entrada'!$P$7:$Z$50,Dados_v2!D475+1,0)*H475,0),0)","v":473},"NOx",{"$f":"IF(OR(D475=$M$15,D475=$M$20),SUM(IF((A475=$O$10:$O$29),IF(C475=$P$9,$P$10:$P$29,$Q$10:$Q$29),0))/100,1)","v":1},0.1613]
[1986,"Moto-Gasolina","Gasolina",{"$f":"SUM(IF(B476=$L$10:$L$23,$M$10:$M$23,0))","v":5},2,{"$f":"IFERROR(ROUND(VLOOKUP(A476,'Dados de entrada'!$P$7:$Z$50,Dados_v2!D476+1,0)*H476,0),0)","v":765},"NOx",{"$f":"IF(OR(D476=$M$15,D476=$M$20),SUM(IF((A476=$O$10:$O$29),IF(C476=$P$9,$P$10:$P$29,$Q$10:$Q$29),0))/100,1)","v":1},0.1613]
[1987,"Moto-Gasolina","Gasolina",{"$f":"SUM(IF(B477=$L$10:$L$23,$M$10:$M$23,0))","v":5},2,{"$f":"IFERROR(ROUND(VLOOKUP(A477,'Dados de entrada'!$P$7:$Z$50,Dados_v2!D477+1,0)*H477,0),0)","v":883},"NOx",{"$f":"IF(OR(D477=$M$15,D477=$M$20),SUM(IF((A477=$O$10:$O$29),IF(C477=$P$9,$P$10:$P$29,$Q$10:$Q$29),0))/100,1)","v":1},0.1613]
[1988,"Moto-Gasolina","Gasolina",{"$f":"SUM(IF(B478=$L$10:$L$23,$M$10:$M$23,0))","v":5},2,{"$f":"IFERROR(ROUND(VLOOKUP(A478,'Dados de entrada'!$P$7:$Z$50,Dados_v2!D478+1,0)*H478,0),0)","v":922},"NOx",{"$f":"IF(OR(D478=$M$15,D478=$M$20),SUM(IF((A478=$O$10:$O$29),IF(C478=$P$9,$P$10:$P$29,$Q$10:$Q$29),0))/100,1)","v":1},0.1613]
[1989,"Moto-Gasolina","Gasolina",{"$f":"SUM(IF(B479=$L$10:$L$23,$M$10:$M$23,0))","v":5},2,{"$f":"IFERROR(ROUND(VLOOKUP(A479,'Dados de entrada'!$P$7:$Z$50,Dados_v2!D479+1,0)*H479,0),0)","v":702},"NOx",{"$f":"IF(OR(D479=$M$15,D479=$M$20),SUM(IF((A479=$O$10:$O$29),IF(C479=$P$9,$P$10:$P$29,$Q$10:$Q$29),0))/100,1)","v":1},0.1613]
[1990,"Moto-Gasolina","Gasolina",{"$f":"SUM(IF(B480=$L$10:$L$23,$M$10:$M$23,0))","v":5},2,{"$f":"IFERROR(ROUND(VLOOKUP(A480,'Dados de entrada'!$P$7:$Z$50,Dados_v2!D480+1,0)*H480,0),0)","v":881},"NOx",{"$f":"IF(OR(D480=$M$15,D480=$M$20),SUM(IF((A480=$O$10:$O$29),IF(C480=$P$9,$P$10:$P$29,$Q$10:$Q$29),0))/100,1)","v":1},0.1613]
[1991,"Moto-Gasolina","Gasolina",{"$f":"SUM(IF(B481=$L$10:$L$23,$M$10:$M$23,0))","v":5},2,{"$f":"IFERROR(ROUND(VLOOKUP(A481,'Dados de entrada'!$P$7:$Z$50,Dados_v2!D481+1,0)*H481,0),0)","v":631},"NOx",{"$f":"IF(OR(D481=$M$15,D481=$M$20),SUM(IF((A481=$O$10:$O$29),IF(C481=$P$9,$P$10:$P$29,$Q$10:$Q$29),0))/100,1)","v":1},0.1613]
[1992,"Moto-Gasolina","Gasolina",{"$f":"SUM(IF(B482=$L$10:$L$23,$M$10:$M$23,0))","v":5},2,{"$f":"IFERROR(ROUND(VLOOKUP(A482,'Dados de entrada'!$P$7:$Z$50,Dados_v2!D482+1,0)*H482,0),0)","v":524},"NOx",{"$f":"IF(OR(D482=$M$15,D482=$M$20),SUM(IF((A482=$O$10:$O$29),IF(C482=$P$9,$P$10:$P$29,$Q$10:$Q$29),0))/100,1)","v":1},0.1613]
[1993,"Moto-Gasolina","Gasolina",{"$f":"SUM(IF(B483=$L$10:$L$23,$M$10:$M$23,0))","v":5},2,{"$f":"IFERROR(ROUND(VLOOKUP(A483,'Dados de entrada'!$P$7:$Z$50,Dados_v2!D483+1,0)*H483,0),0)","v":316},"NOx",{"$f":"IF(OR(D483=$M$15,D483=$M$20),SUM(IF((A483=$O$10:$O$29),IF(C483=$P$9,$P$10:$P$29,$Q$10:$Q$29),0))/100,1)","v":1},0.1613]
[1994,"Moto-Gasolina","Gasolina",{"$f":"SUM(IF(B484=$L$10:$L$23,$M$10:$M$23,0))","v":5},2,{"$f":"IFERROR(ROUND(VLOOKUP(A484,'Dados de entrada'!$P$7:$Z$50,Dados_v2!D484+1,0)*H484,0),0)","v":559},"NOx",{"$f":"IF(OR(D484=$M$15,D484=$M$20),SUM(IF((A484=$O$10:$O$29),IF(C484=$P$9,$P$10:$P$29,$Q$10:$Q$29),0))/100,1)","v":1},0.1613]
[1995,"Moto-Gasolina","Gasolina",{"$f":"SUM(IF(B485=$L$10:$L$23,$M$10:$M$23,0))","v":5},2,{"$f":"IFERROR(ROUND(VLOOKUP(A485,'Dados de entrada'!$P$7:$Z$50,Dados_v2!D485+1,0)*H485,0),0)","v":1134},"NOx",{"$f":"IF(OR(D485=$M$15,D485=$M$20),SUM(IF((A485=$O$10:$O$29),IF(C485=$P$9,$P$10:$P$29,$Q$10:$Q$29),0))/100,1)","v":1},0.1613]
[1996,"Moto-Gasolina","Gasolina",{"$f":"SUM(IF(B486=$L$10:$L$23,$M$10:$M$23,0))","v":5},2,{"$f":"IFERROR(ROUND(VLOOKUP(A486,'Dados de entrada'!$P$7:$Z$50,Dados_v2!D486+1,0)*H486,0),0)","v":1365},"NOx",{"$f":"IF(OR(D486=$M$15,D486=$M$20),SUM(IF((A486=$O$10:$O$29),IF(C486=$P$9,$P$10:$P$29,$Q$10:$Q$29),0))/100,1)","v":1},0.1613]
[1997,"Moto-Gasolina","Gasolina",{"$f":"SUM(IF(B487=$L$10:$L$23,$M$10:$M$23,0))","v":5},2,{"$f":"IFERROR(ROUND(VLOOKUP(A487,'Dados de entrada'!$P$7:$Z$50,Dados_v2!D487+1,0)*H487,0),0)","v":2602},"NOx",{"$f":"IF(OR(D487=$M$15,D487=$M$20),SUM(IF((A487=$O$10:$O$29),IF(C487=$P$9,$P$10:$P$29,$Q$10:$Q$29),0))/100,1)","v":1},0.1613]
[1998,"Moto-Gasolina","Gasolina",{"$f":"SUM(IF(B488=$L$10:$L$23,$M$10:$M$23,0))","v":5},2,{"$f":"IFERROR(ROUND(VLOOKUP(A488,'Dados de entrada'!$P$7:$Z$50,Dados_v2!D488+1,0)*H488,0),0)","v":2838},"NOx",{"$f":"IF(OR(D488=$M$15,D488=$M$20),SUM(IF((A488=$O$10:$O$29),IF(C488=$P$9,$P$10:$P$29,$Q$10:$Q$29),0))/100,1)","v":1},0.1613]
[1999,"Moto-Gasolina","Gasolina",{"$f":"SUM(IF(B489=$L$10:$L$23,$M$10:$M$23,0))","v":5},2,{"$f":"IFERROR(ROUND(VLOOKUP(A489,'Dados de entrada'!$P$7:$Z$50,Dados_v2!D489+1,0)*H489,0),0)","v":2267},"NOx",{"$f":"IF(OR(D489=$M$15,D489=$M$20),SUM(IF((A489=$O$10:$O$29),IF(C489=$P$9,$P$10:$P$29,$Q$10:$Q$29),0))/100,1)","v":1},0.1613]
[2000,"Moto-Gasolina","Gasolina",{"$f":"SUM(IF(B490=$L$10:$L$23,$M$10:$M$23,0))","v":5},2,{"$f":"IFERROR(ROUND(VLOOKUP(A490,'Dados de entrada'!$P$7:$Z$50,Dados_v2!D490+1,0)*H490,0),0)","v":3136},"NOx",{"$f":"IF(OR(D490=$M$15,D490=$M$20),SUM(IF((A490=$O$10:$O$29),IF(C490=$P$9,$P$10:$P$29,$Q$10:$Q$29),0))/100,1)","v":1},0.1613]
[2001,"Moto-Gasolina","Gasolina",{"$f":"SUM(IF(B491=$L$10:$L$23,$M$10:$M$23,0))","v":5},2,{"$f":"IFERROR(ROUND(VLOOKUP(A491,'Dados de entrada'!$P$7:$Z$50,Dados_v2!D491+1,0)*H491,0),0)","v":3541},"NOx",{"$f":"IF(OR(D491=$M$15,D491=$M$20),SUM(IF((A491=$O$10:$O$29),IF(C491=$P$9,$P$10:$P$29,$Q$10:$Q$29),0))/100,1)","v":1},0.1613]
[2002,"Moto-Gasolina","Gasolina",{"$f":"SUM(IF(B492=$L$10:$L$23,$M$10:$M$23,0))","v":5},2,{"$f":"IFERROR(ROUND(VLOOKUP(A492,'Dados de entrada'!$P$7:$Z$50,Dados_v2!D492+1,0)*H492,0),0)","v":4223},"NOx",{"$f":"IF(OR(D492=$M$15,D492=$M$20),SUM(IF((A492=$O$10:$O$29),IF(C492=$P$9,$P$10:$P$29,$Q$10:$Q$29),0))/100,1)","v":1},0.1613]
[2003,"Moto-Gasolina","Gasolina",{"$f":"SUM(IF(B493=$L$10:$L$23,$M$10:$M$23,0))","v":5},2,{"$f":"IFERROR(ROUND(VLOOKUP(A493,'Dados de entrada'!$P$7:$Z$50,Dados_v2!D493+1,0)*H493,0),0)","v":5047},"NOx",{"$f":"IF(OR(D493=$M$15,D493=$M$20),SUM(IF((A493=$O$10:$O$29),IF(C493=$P$9,$P$10:$P$29,$Q$10:$Q$29),0))/100,1)","v":1},0.1613]
[2004,"Moto-Gasolina","Gasolina",{"$f":"SUM(IF(B494=$L$10:$L$23,$M$10:$M$23,0))","v":5},2,{"$f":"IFERROR(ROUND(VLOOKUP(A494,'Dados de entrada'!$P$7:$Z$50,Dados_v2!D494+1,0)*H494,0),0)","v":4619},"NOx",{"$f":"IF(OR(D494=$M$15,D494=$M$20),SUM(IF((A494=$O$10:$O$29),IF(C494=$P$9,$P$10:$P$29,$Q$10:$Q$29),0))/100,1)","v":1},0.16306999999999999]
[2005,"Moto-Gasolina","Gasolina",{"$f":"SUM(IF(B495=$L$10:$L$23,$M$10:$M$23,0))","v":5},2,{"$f":"IFERROR(ROUND(VLOOKUP(A495,'Dados de entrada'!$P$7:$Z$50,Dados_v2!D495+1,0)*H495,0),0)","v":6828},"NOx",{"$f":"IF(OR(D495=$M$15,D495=$M$20),SUM(IF((A495=$O$10:$O$29),IF(C495=$P$9,$P$10:$P$29,$Q$10:$Q$29),0))/100,1)","v":1},0.13883000000000001]
[2006,"Moto-Gasolina","Gasolina",{"$f":"SUM(IF(B496=$L$10:$L$23,$M$10:$M$23,0))","v":5},2,{"$f":"IFERROR(ROUND(VLOOKUP(A496,'Dados de entrada'!$P$7:$Z$50,Dados_v2!D496+1,0)*H496,0),0)","v":7519},"NOx",{"$f":"IF(OR(D496=$M$15,D496=$M$20),SUM(IF((A496=$O$10:$O$29),IF(C496=$P$9,$P$10:$P$29,$Q$10:$Q$29),0))/100,1)","v":1},0.14473]
[2007,"Moto-Gasolina","Gasolina",{"$f":"SUM(IF(B497=$L$10:$L$23,$M$10:$M$23,0))","v":5},2,{"$f":"IFERROR(ROUND(VLOOKUP(A497,'Dados de entrada'!$P$7:$Z$50,Dados_v2!D497+1,0)*H497,0),0)","v":12449},"NOx",{"$f":"IF(OR(D497=$M$15,D497=$M$20),SUM(IF((A497=$O$10:$O$29),IF(C497=$P$9,$P$10:$P$29,$Q$10:$Q$29),0))/100,1)","v":1},0.14319000000000001]
[2008,"Moto-Gasolina","Gasolina",{"$f":"SUM(IF(B498=$L$10:$L$23,$M$10:$M$23,0))","v":5},2,{"$f":"IFERROR(ROUND(VLOOKUP(A498,'Dados de entrada'!$P$7:$Z$50,Dados_v2!D498+1,0)*H498,0),0)","v":22881},"NOx",{"$f":"IF(OR(D498=$M$15,D498=$M$20),SUM(IF((A498=$O$10:$O$29),IF(C498=$P$9,$P$10:$P$29,$Q$10:$Q$29),0))/100,1)","v":1},0.13836000000000001]
[2009,"Moto-Gasolina","Gasolina",{"$f":"SUM(IF(B499=$L$10:$L$23,$M$10:$M$23,0))","v":5},2,{"$f":"IFERROR(ROUND(VLOOKUP(A499,'Dados de entrada'!$P$7:$Z$50,Dados_v2!D499+1,0)*H499,0),0)","v":7798},"NOx",{"$f":"IF(OR(D499=$M$15,D499=$M$20),SUM(IF((A499=$O$10:$O$29),IF(C499=$P$9,$P$10:$P$29,$Q$10:$Q$29),0))/100,1)","v":1},0.10987999999999901]
[2010,"Moto-Gasolina","Gasolina",{"$f":"SUM(IF(B500=$L$10:$L$23,$M$10:$M$23,0))","v":5},2,{"$f":"IFERROR(ROUND(VLOOKUP(A500,'Dados de entrada'!$P$7:$Z$50,Dados_v2!D500+1,0)*H500,0),0)","v":12526},"NOx",{"$f":"IF(OR(D500=$M$15,D500=$M$20),SUM(IF((A500=$O$10:$O$29),IF(C500=$P$9,$P$10:$P$29,$Q$10:$Q$29),0))/100,1)","v":1},8.9759999999999895E-2]
[2011,"Moto-Gasolina","Gasolina",{"$f":"SUM(IF(B501=$L$10:$L$23,$M$10:$M$23,0))","v":5},2,{"$f":"IFERROR(ROUND(VLOOKUP(A501,'Dados de entrada'!$P$7:$Z$50,Dados_v2!D501+1,0)*H501,0),0)","v":10202},"NOx",{"$f":"IF(OR(D501=$M$15,D501=$M$20),SUM(IF((A501=$O$10:$O$29),IF(C501=$P$9,$P$10:$P$29,$Q$10:$Q$29),0))/100,1)","v":1},8.9880000000000002E-2]
[2012,"Moto-Gasolina","Gasolina",{"$f":"SUM(IF(B502=$L$10:$L$23,$M$10:$M$23,0))","v":5},2,{"$f":"IFERROR(ROUND(VLOOKUP(A502,'Dados de entrada'!$P$7:$Z$50,Dados_v2!D502+1,0)*H502,0),0)","v":9318},"NOx",{"$f":"IF(OR(D502=$M$15,D502=$M$20),SUM(IF((A502=$O$10:$O$29),IF(C502=$P$9,$P$10:$P$29,$Q$10:$Q$29),0))/100,1)","v":1},8.9759999999999895E-2]
[2013,"Moto-Gasolina","Gasolina",{"$f":"SUM(IF(B503=$L$10:$L$23,$M$10:$M$23,0))","v":5},2,{"$f":"IFERROR(ROUND(VLOOKUP(A503,'Dados de entrada'!$P$7:$Z$50,Dados_v2!D503+1,0)*H503,0),0)","v":5906},"NOx",{"$f":"IF(OR(D503=$M$15,D503=$M$20),SUM(IF((A503=$O$10:$O$29),IF(C503=$P$9,$P$10:$P$29,$Q$10:$Q$29),0))/100,1)","v":1},6.9879999999999998E-2]
[2014,"Moto-Gasolina","Gasolina",{"$f":"SUM(IF(B504=$L$10:$L$23,$M$10:$M$23,0))","v":5},2,{"$f":"IFERROR(ROUND(VLOOKUP(A504,'Dados de entrada'!$P$7:$Z$50,Dados_v2!D504+1,0)*H504,0),0)","v":5599},"NOx",{"$f":"IF(OR(D504=$M$15,D504=$M$20),SUM(IF((A504=$O$10:$O$29),IF(C504=$P$9,$P$10:$P$29,$Q$10:$Q$29),0))/100,1)","v":1},6.9879999999999998E-2]
[2015,"Moto-Gasolina","Gasolina",{"$f":"SUM(IF(B505=$L$10:$L$23,$M$10:$M$23,0))","v":5},2,{"$f":"IFERROR(ROUND(VLOOKUP(A505,'Dados de entrada'!$P$7:$Z$50,Dados_v2!D505+1,0)*H505,0),0)","v":4403},"NOx",{"$f":"IF(OR(D505=$M$15,D505=$M$20),SUM(IF((A505=$O$10:$O$29),IF(C505=$P$9,$P$10:$P$29,$Q$10:$Q$29),0))/100,1)","v":1},6.9879999999999998E-2]
[2016,"Moto-Gasolina","Gasolina",{"$f":"SUM(IF(B506=$L$10:$L$23,$M$10:$M$23,0))","v":5},2,{"$f":"IFERROR(ROUND(VLOOKUP(A506,'Dados de entrada'!$P$7:$Z$50,Dados_v2!D506+1,0)*H506,0),0)","v":2840},"NOx",{"$f":"IF(OR(D506=$M$15,D506=$M$20),SUM(IF((A506=$O$10:$O$29),IF(C506=$P$9,$P$10:$P$29,$Q$10:$Q$29),0))/100,1)","v":1},4.9000000000000002E-2]
[2017,"Moto-Gasolina","Gasolina",{"$f":"SUM(IF(B507=$L$10:$L$23,$M$10:$M$23,0))","v":5},2,{"$f":"IFERROR(ROUND(VLOOKUP(A507,'Dados de entrada'!$P$7:$Z$50,Dados_v2!D507+1,0)*H507,0),0)","v":3672},"NOx",{"$f":"IF(OR(D507=$M$15,D507=$M$20),SUM(IF((A507=$O$10:$O$29),IF(C507=$P$9,$P$10:$P$29,$Q$10:$Q$29),0))/100,1)","v":1},4.2999999999999997E-2]
[2018,"Moto-Gasolina","Gasolina",{"$f":"SUM(IF(B508=$L$10:$L$23,$M$10:$M$23,0))","v":5},2,{"$f":"IFERROR(ROUND(VLOOKUP(A508,'Dados de entrada'!$P$7:$Z$50,Dados_v2!D508+1,0)*H508,0),0)","v":4076},"NOx",{"$f":"IF(OR(D508=$M$15,D508=$M$20),SUM(IF((A508=$O$10:$O$29),IF(C508=$P$9,$P$10:$P$29,$Q$10:$Q$29),0))/100,1)","v":1},4.5999999999999999E-2]
[2019,"Moto-Gasolina","Gasolina",{"$f":"SUM(IF(B509=$L$10:$L$23,$M$10:$M$23,0))","v":5},2,{"$f":"IFERROR(ROUND(VLOOKUP(A509,'Dados de entrada'!$P$7:$Z$50,Dados_v2!D509+1,0)*H509,0),0)","v":4486},"NOx",{"$f":"IF(OR(D509=$M$15,D509=$M$20),SUM(IF((A509=$O$10:$O$29),IF(C509=$P$9,$P$10:$P$29,$Q$10:$Q$29),0))/100,1)","v":1},4.7316367065401099E-2]
[2020,"Moto-Gasolina","Gasolina",{"$f":"SUM(IF(B510=$L$10:$L$23,$M$10:$M$23,0))","v":5},2,{"$f":"IFERROR(ROUND(VLOOKUP(A510,'Dados de entrada'!$P$7:$Z$50,Dados_v2!D510+1,0)*H510,0),0)","v":3923},"NOx",{"$f":"IF(OR(D510=$M$15,D510=$M$20),SUM(IF((A510=$O$10:$O$29),IF(C510=$P$9,$P$10:$P$29,$Q$10:$Q$29),0))/100,1)","v":1},4.7527706445307502E-2]
[2021,"Moto-Gasolina","Gasolina",{"$f":"SUM(IF(B511=$L$10:$L$23,$M$10:$M$23,0))","v":5},2,{"$f":"IFERROR(ROUND(VLOOKUP(A511,'Dados de entrada'!$P$7:$Z$50,Dados_v2!D511+1,0)*H511,0),0)","v":4248},"NOx",{"$f":"IF(OR(D511=$M$15,D511=$M$20),SUM(IF((A511=$O$10:$O$29),IF(C511=$P$9,$P$10:$P$29,$Q$10:$Q$29),0))/100,1)","v":1},5.0667386451575702E-2]
[2022,"Moto-Gasolina","Gasolina",{"$f":"SUM(IF(B512=$L$10:$L$23,$M$10:$M$23,0))","v":5},2,{"$f":"IFERROR(ROUND(VLOOKUP(A512,'Dados de entrada'!$P$7:$Z$50,Dados_v2!D512+1,0)*H512,0),0)","v":6938},"NOx",{"$f":"IF(OR(D512=$M$15,D512=$M$20),SUM(IF((A512=$O$10:$O$29),IF(C512=$P$9,$P$10:$P$29,$Q$10:$Q$29),0))/100,1)","v":1},5.3303050868712898E-2]
[2009,"Moto-Flex","Gasolina",{"$f":"SUM(IF(B513=$L$10:$L$23,$M$10:$M$23,0))","v":6},2,{"$f":"IFERROR(ROUND(VLOOKUP(A513,'Dados de entrada'!$P$7:$Z$50,Dados_v2!D513+1,0)*H513,0),0)","v":269},"NOx",{"$f":"IF(OR(D513=$M$15,D513=$M$20),SUM(IF((A513=$O$10:$O$29),IF(C513=$P$9,$P$10:$P$29,$Q$10:$Q$29),0))/100,1)","v":0.3},0.05]
[2010,"Moto-Flex","Gasolina",{"$f":"SUM(IF(B514=$L$10:$L$23,$M$10:$M$23,0))","v":6},2,{"$f":"IFERROR(ROUND(VLOOKUP(A514,'Dados de entrada'!$P$7:$Z$50,Dados_v2!D514+1,0)*H514,0),0)","v":1279},"NOx",{"$f":"IF(OR(D514=$M$15,D514=$M$20),SUM(IF((A514=$O$10:$O$29),IF(C514=$P$9,$P$10:$P$29,$Q$10:$Q$29),0))/100,1)","v":0.48},0.05]
[2011,"Moto-Flex","Gasolina",{"$f":"SUM(IF(B515=$L$10:$L$23,$M$10:$M$23,0))","v":6},2,{"$f":"IFERROR(ROUND(VLOOKUP(A515,'Dados de entrada'!$P$7:$Z$50,Dados_v2!D515+1,0)*H515,0),0)","v":3075},"NOx",{"$f":"IF(OR(D515=$M$15,D515=$M$20),SUM(IF((A515=$O$10:$O$29),IF(C515=$P$9,$P$10:$P$29,$Q$10:$Q$29),0))/100,1)","v":0.68},0.06]
[2012,"Moto-Flex","Gasolina",{"$f":"SUM(IF(B516=$L$10:$L$23,$M$10:$M$23,0))","v":6},2,{"$f":"IFERROR(ROUND(VLOOKUP(A516,'Dados de entrada'!$P$7:$Z$50,Dados_v2!D516+1,0)*H516,0),0)","v":3586},"NOx",{"$f":"IF(OR(D516=$M$15,D516=$M$20),SUM(IF((A516=$O$10:$O$29),IF(C516=$P$9,$P$10:$P$29,$Q$10:$Q$29),0))/100,1)","v":0.75},8.9399999999999993E-2]
[2013,"Moto-Flex","Gasolina",{"$f":"SUM(IF(B517=$L$10:$L$23,$M$10:$M$23,0))","v":6},2,{"$f":"IFERROR(ROUND(VLOOKUP(A517,'Dados de entrada'!$P$7:$Z$50,Dados_v2!D517+1,0)*H517,0),0)","v":3425},"NOx",{"$f":"IF(OR(D517=$M$15,D517=$M$20),SUM(IF((A517=$O$10:$O$29),IF(C517=$P$9,$P$10:$P$29,$Q$10:$Q$29),0))/100,1)","v":0.75},7.9639999999999905E-2]
[2014,"Moto-Flex","Gasolina",{"$f":"SUM(IF(B518=$L$10:$L$23,$M$10:$M$23,0))","v":6},2,{"$f":"IFERROR(ROUND(VLOOKUP(A518,'Dados de entrada'!$P$7:$Z$50,Dados_v2!D518+1,0)*H518,0),0)","v":5354},"NOx",{"$f":"IF(OR(D518=$M$15,D518=$M$20),SUM(IF((A518=$O$10:$O$29),IF(C518=$P$9,$P$10:$P$29,$Q$10:$Q$29),0))/100,1)","v":0.75},7.9639999999999905E-2]
[2015,"Moto-Flex","Gasolina",{"$f":"SUM(IF(B519=$L$10:$L$23,$M$10:$M$23,0))","v":6},2,{"$f":"IFERROR(ROUND(VLOOKUP(A519,'Dados de entrada'!$P$7:$Z$50,Dados_v2!D519+1,0)*H519,0),0)","v":5829},"NOx",{"$f":"IF(OR(D519=$M$15,D519=$M$20),SUM(IF((A519=$O$10:$O$29),IF(C519=$P$9,$P$10:$P$29,$Q$10:$Q$29),0))/100,1)","v":0.75},7.9639999999999905E-2]
[2016,"Moto-Flex","Gasolina",{"$f":"SUM(IF(B520=$L$10:$L$23,$M$10:$M$23,0))","v":6},2,{"$f":"IFERROR(ROUND(VLOOKUP(A520,'Dados de entrada'!$P$7:$Z$50,Dados_v2!D520+1,0)*H520,0),0)","v":3761},"NOx",{"$f":"IF(OR(D520=$M$15,D520=$M$20),SUM(IF((A520=$O$10:$O$29),IF(C520=$P$9,$P$10:$P$29,$Q$10:$Q$29),0))/100,1)","v":0.75},4.3999999999999997E-2]
[2017,"Moto-Flex","Gasolina",{"$f":"SUM(IF(B521=$L$10:$L$23,$M$10:$M$23,0))","v":6},2,{"$f":"IFERROR(ROUND(VLOOKUP(A521,'Dados de entrada'!$P$7:$Z$50,Dados_v2!D521+1,0)*H521,0),0)","v":3521},"NOx",{"$f":"IF(OR(D521=$M$15,D521=$M$20),SUM(IF((A521=$O$10:$O$29),IF(C521=$P$9,$P$10:$P$29,$Q$10:$Q$29),0))/100,1)","v":0.75},4.4999999999999998E-2]
[2018,"Moto-Flex","Gasolina",{"$f":"SUM(IF(B522=$L$10:$L$23,$M$10:$M$23,0))","v":6},2,{"$f":"IFERROR(ROUND(VLOOKUP(A522,'Dados de entrada'!$P$7:$Z$50,Dados_v2!D522+1,0)*H522,0),0)","v":4611},"NOx",{"$f":"IF(OR(D522=$M$15,D522=$M$20),SUM(IF((A522=$O$10:$O$29),IF(C522=$P$9,$P$10:$P$29,$Q$10:$Q$29),0))/100,1)","v":0.75},4.2000000000000003E-2]
[2019,"Moto-Flex","Gasolina",{"$f":"SUM(IF(B523=$L$10:$L$23,$M$10:$M$23,0))","v":6},2,{"$f":"IFERROR(ROUND(VLOOKUP(A523,'Dados de entrada'!$P$7:$Z$50,Dados_v2!D523+1,0)*H523,0),0)","v":6248},"NOx",{"$f":"IF(OR(D523=$M$15,D523=$M$20),SUM(IF((A523=$O$10:$O$29),IF(C523=$P$9,$P$10:$P$29,$Q$10:$Q$29),0))/100,1)","v":0.75},4.29135375522307E-2]
[2020,"Moto-Flex","Gasolina",{"$f":"SUM(IF(B524=$L$10:$L$23,$M$10:$M$23,0))","v":6},2,{"$f":"IFERROR(ROUND(VLOOKUP(A524,'Dados de entrada'!$P$7:$Z$50,Dados_v2!D524+1,0)*H524,0),0)","v":6023},"NOx",{"$f":"IF(OR(D524=$M$15,D524=$M$20),SUM(IF((A524=$O$10:$O$29),IF(C524=$P$9,$P$10:$P$29,$Q$10:$Q$29),0))/100,1)","v":0.75},4.4428594895526898E-2]
[2021,"Moto-Flex","Gasolina",{"$f":"SUM(IF(B525=$L$10:$L$23,$M$10:$M$23,0))","v":6},2,{"$f":"IFERROR(ROUND(VLOOKUP(A525,'Dados de entrada'!$P$7:$Z$50,Dados_v2!D525+1,0)*H525,0),0)","v":5385},"NOx",{"$f":"IF(OR(D525=$M$15,D525=$M$20),SUM(IF((A525=$O$10:$O$29),IF(C525=$P$9,$P$10:$P$29,$Q$10:$Q$29),0))/100,1)","v":0.75},4.9732874385201797E-2]
[2022,"Moto-Flex","Gasolina",{"$f":"SUM(IF(B526=$L$10:$L$23,$M$10:$M$23,0))","v":6},2,{"$f":"IFERROR(ROUND(VLOOKUP(A526,'Dados de entrada'!$P$7:$Z$50,Dados_v2!D526+1,0)*H526,0),0)","v":8265},"NOx",{"$f":"IF(OR(D526=$M$15,D526=$M$20),SUM(IF((A526=$O$10:$O$29),IF(C526=$P$9,$P$10:$P$29,$Q$10:$Q$29),0))/100,1)","v":0.75},4.8817935789892603E-2]
[2009,"Moto-Flex","Etanol",{"$f":"SUM(IF(B527=$L$10:$L$23,$M$10:$M$23,0))","v":6},2,{"$f":"IFERROR(ROUND(VLOOKUP(A527,'Dados de entrada'!$P$7:$Z$50,Dados_v2!D527+1,0)*H527,0),0)","v":627},"NOx",{"$f":"IF(OR(D527=$M$15,D527=$M$20),SUM(IF((A527=$O$10:$O$29),IF(C527=$P$9,$P$10:$P$29,$Q$10:$Q$29),0))/100,1)","v":0.7},7.0000000000000007E-2]
[2010,"Moto-Flex","Etanol",{"$f":"SUM(IF(B528=$L$10:$L$23,$M$10:$M$23,0))","v":6},2,{"$f":"IFERROR(ROUND(VLOOKUP(A528,'Dados de entrada'!$P$7:$Z$50,Dados_v2!D528+1,0)*H528,0),0)","v":1386},"NOx",{"$f":"IF(OR(D528=$M$15,D528=$M$20),SUM(IF((A528=$O$10:$O$29),IF(C528=$P$9,$P$10:$P$29,$Q$10:$Q$29),0))/100,1)","v":0.52},7.0000000000000007E-2]
[2011,"Moto-Flex","Etanol",{"$f":"SUM(IF(B529=$L$10:$L$23,$M$10:$M$23,0))","v":6},2,{"$f":"IFERROR(ROUND(VLOOKUP(A529,'Dados de entrada'!$P$7:$Z$50,Dados_v2!D529+1,0)*H529,0),0)","v":1447},"NOx",{"$f":"IF(OR(D529=$M$15,D529=$M$20),SUM(IF((A529=$O$10:$O$29),IF(C529=$P$9,$P$10:$P$29,$Q$10:$Q$29),0))/100,1)","v":0.32},0.06]
[2012,"Moto-Flex","Etanol",{"$f":"SUM(IF(B530=$L$10:$L$23,$M$10:$M$23,0))","v":6},2,{"$f":"IFERROR(ROUND(VLOOKUP(A530,'Dados de entrada'!$P$7:$Z$50,Dados_v2!D530+1,0)*H530,0),0)","v":1195},"NOx",{"$f":"IF(OR(D530=$M$15,D530=$M$20),SUM(IF((A530=$O$10:$O$29),IF(C530=$P$9,$P$10:$P$29,$Q$10:$Q$29),0))/100,1)","v":0.25},4.9880000000000001E-2]
[2013,"Moto-Flex","Etanol",{"$f":"SUM(IF(B531=$L$10:$L$23,$M$10:$M$23,0))","v":6},2,{"$f":"IFERROR(ROUND(VLOOKUP(A531,'Dados de entrada'!$P$7:$Z$50,Dados_v2!D531+1,0)*H531,0),0)","v":1142},"NOx",{"$f":"IF(OR(D531=$M$15,D531=$M$20),SUM(IF((A531=$O$10:$O$29),IF(C531=$P$9,$P$10:$P$29,$Q$10:$Q$29),0))/100,1)","v":0.25},0.04]
[2014,"Moto-Flex","Etanol",{"$f":"SUM(IF(B532=$L$10:$L$23,$M$10:$M$23,0))","v":6},2,{"$f":"IFERROR(ROUND(VLOOKUP(A532,'Dados de entrada'!$P$7:$Z$50,Dados_v2!D532+1,0)*H532,0),0)","v":1785},"NOx",{"$f":"IF(OR(D532=$M$15,D532=$M$20),SUM(IF((A532=$O$10:$O$29),IF(C532=$P$9,$P$10:$P$29,$Q$10:$Q$29),0))/100,1)","v":0.25},0.04]
[2015,"Moto-Flex","Etanol",{"$f":"SUM(IF(B533=$L$10:$L$23,$M$10:$M$23,0))","v":6},2,{"$f":"IFERROR(ROUND(VLOOKUP(A533,'Dados de entrada'!$P$7:$Z$50,Dados_v2!D533+1,0)*H533,0),0)","v":1943},"NOx",{"$f":"IF(OR(D533=$M$15,D533=$M$20),SUM(IF((A533=$O$10:$O$29),IF(C533=$P$9,$P$10:$P$29,$Q$10:$Q$29),0))/100,1)","v":0.25},0.04]
[2016,"Moto-Flex","Etanol",{"$f":"SUM(IF(B534=$L$10:$L$23,$M$10:$M$23,0))","v":6},2,{"$f":"IFERROR(ROUND(VLOOKUP(A534,'Dados de entrada'!$P$7:$Z$50,Dados_v2!D534+1,0)*H534,0),0)","v":1254},"NOx",{"$f":"IF(OR(D534=$M$15,D534=$M$20),SUM(IF((A534=$O$10:$O$29),IF(C534=$P$9,$P$10:$P$29,$Q$10:$Q$29),0))/100,1)","v":0.25},2.1000000000000001E-2]
[2017,"Moto-Flex","Etanol",{"$f":"SUM(IF(B535=$L$10:$L$23,$M$10:$M$23,0))","v":6},2,{"$f":"IFERROR(ROUND(VLOOKUP(A535,'Dados de entrada'!$P$7:$Z$50,Dados_v2!D535+1,0)*H535,0),0)","v":1174},"NOx",{"$f":"IF(OR(D535=$M$15,D535=$M$20),SUM(IF((A535=$O$10:$O$29),IF(C535=$P$9,$P$10:$P$29,$Q$10:$Q$29),0))/100,1)","v":0.25},2.8000000000000001E-2]
[2018,"Moto-Flex","Etanol",{"$f":"SUM(IF(B536=$L$10:$L$23,$M$10:$M$23,0))","v":6},2,{"$f":"IFERROR(ROUND(VLOOKUP(A536,'Dados de entrada'!$P$7:$Z$50,Dados_v2!D536+1,0)*H536,0),0)","v":1537},"NOx",{"$f":"IF(OR(D536=$M$15,D536=$M$20),SUM(IF((A536=$O$10:$O$29),IF(C536=$P$9,$P$10:$P$29,$Q$10:$Q$29),0))/100,1)","v":0.25},3.5000000000000003E-2]
[2019,"Moto-Flex","Etanol",{"$f":"SUM(IF(B537=$L$10:$L$23,$M$10:$M$23,0))","v":6},2,{"$f":"IFERROR(ROUND(VLOOKUP(A537,'Dados de entrada'!$P$7:$Z$50,Dados_v2!D537+1,0)*H537,0),0)","v":2083},"NOx",{"$f":"IF(OR(D537=$M$15,D537=$M$20),SUM(IF((A537=$O$10:$O$29),IF(C537=$P$9,$P$10:$P$29,$Q$10:$Q$29),0))/100,1)","v":0.25},3.40564276004542E-2]
[2020,"Moto-Flex","Etanol",{"$f":"SUM(IF(B538=$L$10:$L$23,$M$10:$M$23,0))","v":6},2,{"$f":"IFERROR(ROUND(VLOOKUP(A538,'Dados de entrada'!$P$7:$Z$50,Dados_v2!D538+1,0)*H538,0),0)","v":2008},"NOx",{"$f":"IF(OR(D538=$M$15,D538=$M$20),SUM(IF((A538=$O$10:$O$29),IF(C538=$P$9,$P$10:$P$29,$Q$10:$Q$29),0))/100,1)","v":0.25},2.8919401018268901E-2]
[2021,"Moto-Flex","Etanol",{"$f":"SUM(IF(B539=$L$10:$L$23,$M$10:$M$23,0))","v":6},2,{"$f":"IFERROR(ROUND(VLOOKUP(A539,'Dados de entrada'!$P$7:$Z$50,Dados_v2!D539+1,0)*H539,0),0)","v":1795},"NOx",{"$f":"IF(OR(D539=$M$15,D539=$M$20),SUM(IF((A539=$O$10:$O$29),IF(C539=$P$9,$P$10:$P$29,$Q$10:$Q$29),0))/100,1)","v":0.25},3.19301153513371E-2]
[2022,"Moto-Flex","Etanol",{"$f":"SUM(IF(B540=$L$10:$L$23,$M$10:$M$23,0))","v":6},2,{"$f":"IFERROR(ROUND(VLOOKUP(A540,'Dados de entrada'!$P$7:$Z$50,Dados_v2!D540+1,0)*H540,0),0)","v":2755},"NOx",{"$f":"IF(OR(D540=$M$15,D540=$M$20),SUM(IF((A540=$O$10:$O$29),IF(C540=$P$9,$P$10:$P$29,$Q$10:$Q$29),0))/100,1)","v":0.25},3.1110946831741499E-2]
[1983,"Automovel-Gasolina","Gasolina",{"$f":"SUM(IF(B541=$L$10:$L$23,$M$10:$M$23,0))","v":7},1,{"$f":"IFERROR(ROUND(VLOOKUP(A541,'Dados de entrada'!$P$7:$Z$50,Dados_v2!D541+1,0)*H541,0),0)","v":2057},"NOx",{"$f":"IF(OR(D541=$M$15,D541=$M$20),SUM(IF((A541=$O$10:$O$29),IF(C541=$P$9,$P$10:$P$29,$Q$10:$Q$29),0))/100,1)","v":1},1.4]
[1984,"Automovel-Gasolina","Gasolina",{"$f":"SUM(IF(B542=$L$10:$L$23,$M$10:$M$23,0))","v":7},1,{"$f":"IFERROR(ROUND(VLOOKUP(A542,'Dados de entrada'!$P$7:$Z$50,Dados_v2!D542+1,0)*H542,0),0)","v":849},"NOx",{"$f":"IF(OR(D542=$M$15,D542=$M$20),SUM(IF((A542=$O$10:$O$29),IF(C542=$P$9,$P$10:$P$29,$Q$10:$Q$29),0))/100,1)","v":1},1.6]
[1985,"Automovel-Gasolina","Gasolina",{"$f":"SUM(IF(B543=$L$10:$L$23,$M$10:$M$23,0))","v":7},1,{"$f":"IFERROR(ROUND(VLOOKUP(A543,'Dados de entrada'!$P$7:$Z$50,Dados_v2!D543+1,0)*H543,0),0)","v":816},"NOx",{"$f":"IF(OR(D543=$M$15,D543=$M$20),SUM(IF((A543=$O$10:$O$29),IF(C543=$P$9,$P$10:$P$29,$Q$10:$Q$29),0))/100,1)","v":1},1.6]
[1986,"Automovel-Gasolina","Gasolina",{"$f":"SUM(IF(B544=$L$10:$L$23,$M$10:$M$23,0))","v":7},1,{"$f":"IFERROR(ROUND(VLOOKUP(A544,'Dados de entrada'!$P$7:$Z$50,Dados_v2!D544+1,0)*H544,0),0)","v":1406},"NOx",{"$f":"IF(OR(D544=$M$15,D544=$M$20),SUM(IF((A544=$O$10:$O$29),IF(C544=$P$9,$P$10:$P$29,$Q$10:$Q$29),0))/100,1)","v":1},1.9]
[1987,"Automovel-Gasolina","Gasolina",{"$f":"SUM(IF(B545=$L$10:$L$23,$M$10:$M$23,0))","v":7},1,{"$f":"IFERROR(ROUND(VLOOKUP(A545,'Dados de entrada'!$P$7:$Z$50,Dados_v2!D545+1,0)*H545,0),0)","v":808},"NOx",{"$f":"IF(OR(D545=$M$15,D545=$M$20),SUM(IF((A545=$O$10:$O$29),IF(C545=$P$9,$P$10:$P$29,$Q$10:$Q$29),0))/100,1)","v":1},1.9]
[1988,"Automovel-Gasolina","Gasolina",{"$f":"SUM(IF(B546=$L$10:$L$23,$M$10:$M$23,0))","v":7},1,{"$f":"IFERROR(ROUND(VLOOKUP(A546,'Dados de entrada'!$P$7:$Z$50,Dados_v2!D546+1,0)*H546,0),0)","v":1012},"NOx",{"$f":"IF(OR(D546=$M$15,D546=$M$20),SUM(IF((A546=$O$10:$O$29),IF(C546=$P$9,$P$10:$P$29,$Q$10:$Q$29),0))/100,1)","v":1},1.8]
[1989,"Automovel-Gasolina","Gasolina",{"$f":"SUM(IF(B547=$L$10:$L$23,$M$10:$M$23,0))","v":7},1,{"$f":"IFERROR(ROUND(VLOOKUP(A547,'Dados de entrada'!$P$7:$Z$50,Dados_v2!D547+1,0)*H547,0),0)","v":3130},"NOx",{"$f":"IF(OR(D547=$M$15,D547=$M$20),SUM(IF((A547=$O$10:$O$29),IF(C547=$P$9,$P$10:$P$29,$Q$10:$Q$29),0))/100,1)","v":1},1.6]
[1990,"Automovel-Gasolina","Gasolina",{"$f":"SUM(IF(B548=$L$10:$L$23,$M$10:$M$23,0))","v":7},1,{"$f":"IFERROR(ROUND(VLOOKUP(A548,'Dados de entrada'!$P$7:$Z$50,Dados_v2!D548+1,0)*H548,0),0)","v":5837},"NOx",{"$f":"IF(OR(D548=$M$15,D548=$M$20),SUM(IF((A548=$O$10:$O$29),IF(C548=$P$9,$P$10:$P$29,$Q$10:$Q$29),0))/100,1)","v":1},1.4]
[1991,"Automovel-Gasolina","Gasolina",{"$f":"SUM(IF(B549=$L$10:$L$23,$M$10:$M$23,0))","v":7},1,{"$f":"IFERROR(ROUND(VLOOKUP(A549,'Dados de entrada'!$P$7:$Z$50,Dados_v2!D549+1,0)*H549,0),0)","v":6655},"NOx",{"$f":"IF(OR(D549=$M$15,D549=$M$20),SUM(IF((A549=$O$10:$O$29),IF(C549=$P$9,$P$10:$P$29,$Q$10:$Q$29),0))/100,1)","v":1},1.3]
[1992,"Automovel-Gasolina","Gasolina",{"$f":"SUM(IF(B550=$L$10:$L$23,$M$10:$M$23,0))","v":7},1,{"$f":"IFERROR(ROUND(VLOOKUP(A550,'Dados de entrada'!$P$7:$Z$50,Dados_v2!D550+1,0)*H550,0),0)","v":5726},"NOx",{"$f":"IF(OR(D550=$M$15,D550=$M$20),SUM(IF((A550=$O$10:$O$29),IF(C550=$P$9,$P$10:$P$29,$Q$10:$Q$29),0))/100,1)","v":1},0.6]
[1993,"Automovel-Gasolina","Gasolina",{"$f":"SUM(IF(B551=$L$10:$L$23,$M$10:$M$23,0))","v":7},1,{"$f":"IFERROR(ROUND(VLOOKUP(A551,'Dados de entrada'!$P$7:$Z$50,Dados_v2!D551+1,0)*H551,0),0)","v":8575},"NOx",{"$f":"IF(OR(D551=$M$15,D551=$M$20),SUM(IF((A551=$O$10:$O$29),IF(C551=$P$9,$P$10:$P$29,$Q$10:$Q$29),0))/100,1)","v":1},0.8]
[1994,"Automovel-Gasolina","Gasolina",{"$f":"SUM(IF(B552=$L$10:$L$23,$M$10:$M$23,0))","v":7},1,{"$f":"IFERROR(ROUND(VLOOKUP(A552,'Dados de entrada'!$P$7:$Z$50,Dados_v2!D552+1,0)*H552,0),0)","v":11036},"NOx",{"$f":"IF(OR(D552=$M$15,D552=$M$20),SUM(IF((A552=$O$10:$O$29),IF(C552=$P$9,$P$10:$P$29,$Q$10:$Q$29),0))/100,1)","v":1},0.7]
[1995,"Automovel-Gasolina","Gasolina",{"$f":"SUM(IF(B553=$L$10:$L$23,$M$10:$M$23,0))","v":7},1,{"$f":"IFERROR(ROUND(VLOOKUP(A553,'Dados de entrada'!$P$7:$Z$50,Dados_v2!D553+1,0)*H553,0),0)","v":18944},"NOx",{"$f":"IF(OR(D553=$M$15,D553=$M$20),SUM(IF((A553=$O$10:$O$29),IF(C553=$P$9,$P$10:$P$29,$Q$10:$Q$29),0))/100,1)","v":1},0.75310523211150504]
[1996,"Automovel-Gasolina","Gasolina",{"$f":"SUM(IF(B554=$L$10:$L$23,$M$10:$M$23,0))","v":7},1,{"$f":"IFERROR(ROUND(VLOOKUP(A554,'Dados de entrada'!$P$7:$Z$50,Dados_v2!D554+1,0)*H554,0),0)","v":17211},"NOx",{"$f":"IF(OR(D554=$M$15,D554=$M$20),SUM(IF((A554=$O$10:$O$29),IF(C554=$P$9,$P$10:$P$29,$Q$10:$Q$29),0))/100,1)","v":1},0.64907696607236798]
[1997,"Automovel-Gasolina","Gasolina",{"$f":"SUM(IF(B555=$L$10:$L$23,$M$10:$M$23,0))","v":7},1,{"$f":"IFERROR(ROUND(VLOOKUP(A555,'Dados de entrada'!$P$7:$Z$50,Dados_v2!D555+1,0)*H555,0),0)","v":19715},"NOx",{"$f":"IF(OR(D555=$M$15,D555=$M$20),SUM(IF((A555=$O$10:$O$29),IF(C555=$P$9,$P$10:$P$29,$Q$10:$Q$29),0))/100,1)","v":1},0.44486349808018]
[1998,"Automovel-Gasolina","Gasolina",{"$f":"SUM(IF(B556=$L$10:$L$23,$M$10:$M$23,0))","v":7},1,{"$f":"IFERROR(ROUND(VLOOKUP(A556,'Dados de entrada'!$P$7:$Z$50,Dados_v2!D556+1,0)*H556,0),0)","v":16751},"NOx",{"$f":"IF(OR(D556=$M$15,D556=$M$20),SUM(IF((A556=$O$10:$O$29),IF(C556=$P$9,$P$10:$P$29,$Q$10:$Q$29),0))/100,1)","v":1},0.37046241279705899]
[1999,"Automovel-Gasolina","Gasolina",{"$f":"SUM(IF(B557=$L$10:$L$23,$M$10:$M$23,0))","v":7},1,{"$f":"IFERROR(ROUND(VLOOKUP(A557,'Dados de entrada'!$P$7:$Z$50,Dados_v2!D557+1,0)*H557,0),0)","v":15116},"NOx",{"$f":"IF(OR(D557=$M$15,D557=$M$20),SUM(IF((A557=$O$10:$O$29),IF(C557=$P$9,$P$10:$P$29,$Q$10:$Q$29),0))/100,1)","v":1},0.36587302130159999]
[2000,"Automovel-Gasolina","Gasolina",{"$f":"SUM(IF(B558=$L$10:$L$23,$M$10:$M$23,0))","v":7},1,{"$f":"IFERROR(ROUND(VLOOKUP(A558,'Dados de entrada'!$P$7:$Z$50,Dados_v2!D558+1,0)*H558,0),0)","v":15355},"NOx",{"$f":"IF(OR(D558=$M$15,D558=$M$20),SUM(IF((A558=$O$10:$O$29),IF(C558=$P$9,$P$10:$P$29,$Q$10:$Q$29),0))/100,1)","v":1},0.34109636108887498]
[2001,"Automovel-Gasolina","Gasolina",{"$f":"SUM(IF(B559=$L$10:$L$23,$M$10:$M$23,0))","v":7},1,{"$f":"IFERROR(ROUND(VLOOKUP(A559,'Dados de entrada'!$P$7:$Z$50,Dados_v2!D559+1,0)*H559,0),0)","v":18573},"NOx",{"$f":"IF(OR(D559=$M$15,D559=$M$20),SUM(IF((A559=$O$10:$O$29),IF(C559=$P$9,$P$10:$P$29,$Q$10:$Q$29),0))/100,1)","v":1},0.26613519607043101]
[2002,"Automovel-Gasolina","Gasolina",{"$f":"SUM(IF(B560=$L$10:$L$23,$M$10:$M$23,0))","v":7},1,{"$f":"IFERROR(ROUND(VLOOKUP(A560,'Dados de entrada'!$P$7:$Z$50,Dados_v2!D560+1,0)*H560,0),0)","v":14698},"NOx",{"$f":"IF(OR(D560=$M$15,D560=$M$20),SUM(IF((A560=$O$10:$O$29),IF(C560=$P$9,$P$10:$P$29,$Q$10:$Q$29),0))/100,1)","v":1},0.24099401657429401]
[2003,"Automovel-Gasolina","Gasolina",{"$f":"SUM(IF(B561=$L$10:$L$23,$M$10:$M$23,0))","v":7},1,{"$f":"IFERROR(ROUND(VLOOKUP(A561,'Dados de entrada'!$P$7:$Z$50,Dados_v2!D561+1,0)*H561,0),0)","v":16345},"NOx",{"$f":"IF(OR(D561=$M$15,D561=$M$20),SUM(IF((A561=$O$10:$O$29),IF(C561=$P$9,$P$10:$P$29,$Q$10:$Q$29),0))/100,1)","v":1},0.23567903934496401]
[2004,"Automovel-Gasolina","Gasolina",{"$f":"SUM(IF(B562=$L$10:$L$23,$M$10:$M$23,0))","v":7},1,{"$f":"IFERROR(ROUND(VLOOKUP(A562,'Dados de entrada'!$P$7:$Z$50,Dados_v2!D562+1,0)*H562,0),0)","v":13063},"NOx",{"$f":"IF(OR(D562=$M$15,D562=$M$20),SUM(IF((A562=$O$10:$O$29),IF(C562=$P$9,$P$10:$P$29,$Q$10:$Q$29),0))/100,1)","v":1},0.20019820754342199]
[2005,"Automovel-Gasolina","Gasolina",{"$f":"SUM(IF(B563=$L$10:$L$23,$M$10:$M$23,0))","v":7},1,{"$f":"IFERROR(ROUND(VLOOKUP(A563,'Dados de entrada'!$P$7:$Z$50,Dados_v2!D563+1,0)*H563,0),0)","v":11807},"NOx",{"$f":"IF(OR(D563=$M$15,D563=$M$20),SUM(IF((A563=$O$10:$O$29),IF(C563=$P$9,$P$10:$P$29,$Q$10:$Q$29),0))/100,1)","v":1},0.19456119074712]
[2006,"Automovel-Gasolina","Gasolina",{"$f":"SUM(IF(B564=$L$10:$L$23,$M$10:$M$23,0))","v":7},1,{"$f":"IFERROR(ROUND(VLOOKUP(A564,'Dados de entrada'!$P$7:$Z$50,Dados_v2!D564+1,0)*H564,0),0)","v":5134},"NOx",{"$f":"IF(OR(D564=$M$15,D564=$M$20),SUM(IF((A564=$O$10:$O$29),IF(C564=$P$9,$P$10:$P$29,$Q$10:$Q$29),0))/100,1)","v":1},0.164779384949991]
[2007,"Automovel-Gasolina","Gasolina",{"$f":"SUM(IF(B565=$L$10:$L$23,$M$10:$M$23,0))","v":7},1,{"$f":"IFERROR(ROUND(VLOOKUP(A565,'Dados de entrada'!$P$7:$Z$50,Dados_v2!D565+1,0)*H565,0),0)","v":6019},"NOx",{"$f":"IF(OR(D565=$M$15,D565=$M$20),SUM(IF((A565=$O$10:$O$29),IF(C565=$P$9,$P$10:$P$29,$Q$10:$Q$29),0))/100,1)","v":1},0.15886591256244301]
[2008,"Automovel-Gasolina","Gasolina",{"$f":"SUM(IF(B566=$L$10:$L$23,$M$10:$M$23,0))","v":7},1,{"$f":"IFERROR(ROUND(VLOOKUP(A566,'Dados de entrada'!$P$7:$Z$50,Dados_v2!D566+1,0)*H566,0),0)","v":5907},"NOx",{"$f":"IF(OR(D566=$M$15,D566=$M$20),SUM(IF((A566=$O$10:$O$29),IF(C566=$P$9,$P$10:$P$29,$Q$10:$Q$29),0))/100,1)","v":1},0.13183562241136201]
[2009,"Automovel-Gasolina","Gasolina",{"$f":"SUM(IF(B567=$L$10:$L$23,$M$10:$M$23,0))","v":7},1,{"$f":"IFERROR(ROUND(VLOOKUP(A567,'Dados de entrada'!$P$7:$Z$50,Dados_v2!D567+1,0)*H567,0),0)","v":3888},"NOx",{"$f":"IF(OR(D567=$M$15,D567=$M$20),SUM(IF((A567=$O$10:$O$29),IF(C567=$P$9,$P$10:$P$29,$Q$10:$Q$29),0))/100,1)","v":1},0.101705089740109]
[2010,"Automovel-Gasolina","Gasolina",{"$f":"SUM(IF(B568=$L$10:$L$23,$M$10:$M$23,0))","v":7},1,{"$f":"IFERROR(ROUND(VLOOKUP(A568,'Dados de entrada'!$P$7:$Z$50,Dados_v2!D568+1,0)*H568,0),0)","v":5853},"NOx",{"$f":"IF(OR(D568=$M$15,D568=$M$20),SUM(IF((A568=$O$10:$O$29),IF(C568=$P$9,$P$10:$P$29,$Q$10:$Q$29),0))/100,1)","v":1},0.102492616208522]
[2011,"Automovel-Gasolina","Gasolina",{"$f":"SUM(IF(B569=$L$10:$L$23,$M$10:$M$23,0))","v":7},1,{"$f":"IFERROR(ROUND(VLOOKUP(A569,'Dados de entrada'!$P$7:$Z$50,Dados_v2!D569+1,0)*H569,0),0)","v":7341},"NOx",{"$f":"IF(OR(D569=$M$15,D569=$M$20),SUM(IF((A569=$O$10:$O$29),IF(C569=$P$9,$P$10:$P$29,$Q$10:$Q$29),0))/100,1)","v":1},9.3218229892917004E-2]
[2012,"Automovel-Gasolina","Gasolina",{"$f":"SUM(IF(B570=$L$10:$L$23,$M$10:$M$23,0))","v":7},1,{"$f":"IFERROR(ROUND(VLOOKUP(A570,'Dados de entrada'!$P$7:$Z$50,Dados_v2!D570+1,0)*H570,0),0)","v":9155},"NOx",{"$f":"IF(OR(D570=$M$15,D570=$M$20),SUM(IF((A570=$O$10:$O$29),IF(C570=$P$9,$P$10:$P$29,$Q$10:$Q$29),0))/100,1)","v":1},8.3903685286084995E-2]
[2013,"Automovel-Gasolina","Gasolina",{"$f":"SUM(IF(B571=$L$10:$L$23,$M$10:$M$23,0))","v":7},1,{"$f":"IFERROR(ROUND(VLOOKUP(A571,'Dados de entrada'!$P$7:$Z$50,Dados_v2!D571+1,0)*H571,0),0)","v":4837},"NOx",{"$f":"IF(OR(D571=$M$15,D571=$M$20),SUM(IF((A571=$O$10:$O$29),IF(C571=$P$9,$P$10:$P$29,$Q$10:$Q$29),0))/100,1)","v":1},7.5572463297294806E-2]
[2014,"Automovel-Gasolina","Gasolina",{"$f":"SUM(IF(B572=$L$10:$L$23,$M$10:$M$23,0))","v":7},1,{"$f":"IFERROR(ROUND(VLOOKUP(A572,'Dados de entrada'!$P$7:$Z$50,Dados_v2!D572+1,0)*H572,0),0)","v":5336},"NOx",{"$f":"IF(OR(D572=$M$15,D572=$M$20),SUM(IF((A572=$O$10:$O$29),IF(C572=$P$9,$P$10:$P$29,$Q$10:$Q$29),0))/100,1)","v":1},6.4249771252291699E-2]
[2015,"Automovel-Gasolina","Gasolina",{"$f":"SUM(IF(B573=$L$10:$L$23,$M$10:$M$23,0))","v":7},1,{"$f":"IFERROR(ROUND(VLOOKUP(A573,'Dados de entrada'!$P$7:$Z$50,Dados_v2!D573+1,0)*H573,0),0)","v":4590},"NOx",{"$f":"IF(OR(D573=$M$15,D573=$M$20),SUM(IF((A573=$O$10:$O$29),IF(C573=$P$9,$P$10:$P$29,$Q$10:$Q$29),0))/100,1)","v":1},6.79625428932977E-2]
[2016,"Automovel-Gasolina","Gasolina",{"$f":"SUM(IF(B574=$L$10:$L$23,$M$10:$M$23,0))","v":7},1,{"$f":"IFERROR(ROUND(VLOOKUP(A574,'Dados de entrada'!$P$7:$Z$50,Dados_v2!D574+1,0)*H574,0),0)","v":3165},"NOx",{"$f":"IF(OR(D574=$M$15,D574=$M$20),SUM(IF((A574=$O$10:$O$29),IF(C574=$P$9,$P$10:$P$29,$Q$10:$Q$29),0))/100,1)","v":1},5.8739438379011202E-2]
[2017,"Automovel-Gasolina","Gasolina",{"$f":"SUM(IF(B575=$L$10:$L$23,$M$10:$M$23,0))","v":7},1,{"$f":"IFERROR(ROUND(VLOOKUP(A575,'Dados de entrada'!$P$7:$Z$50,Dados_v2!D575+1,0)*H575,0),0)","v":1866},"NOx",{"$f":"IF(OR(D575=$M$15,D575=$M$20),SUM(IF((A575=$O$10:$O$29),IF(C575=$P$9,$P$10:$P$29,$Q$10:$Q$29),0))/100,1)","v":1},4.3610844284607597E-2]
[2018,"Automovel-Gasolina","Gasolina",{"$f":"SUM(IF(B576=$L$10:$L$23,$M$10:$M$23,0))","v":7},1,{"$f":"IFERROR(ROUND(VLOOKUP(A576,'Dados de entrada'!$P$7:$Z$50,Dados_v2!D576+1,0)*H576,0),0)","v":2561},"NOx",{"$f":"IF(OR(D576=$M$15,D576=$M$20),SUM(IF((A576=$O$10:$O$29),IF(C576=$P$9,$P$10:$P$29,$Q$10:$Q$29),0))/100,1)","v":1},3.46088736017389E-2]
[2019,"Automovel-Gasolina","Gasolina",{"$f":"SUM(IF(B577=$L$10:$L$23,$M$10:$M$23,0))","v":7},1,{"$f":"IFERROR(ROUND(VLOOKUP(A577,'Dados de entrada'!$P$7:$Z$50,Dados_v2!D577+1,0)*H577,0),0)","v":2561},"NOx",{"$f":"IF(OR(D577=$M$15,D577=$M$20),SUM(IF((A577=$O$10:$O$29),IF(C577=$P$9,$P$10:$P$29,$Q$10:$Q$29),0))/100,1)","v":1},3.2767365738533803E-2]
[2020,"Automovel-Gasolina","Gasolina",{"$f":"SUM(IF(B578=$L$10:$L$23,$M$10:$M$23,0))","v":7},1,{"$f":"IFERROR(ROUND(VLOOKUP(A578,'Dados de entrada'!$P$7:$Z$50,Dados_v2!D578+1,0)*H578,0),0)","v":2925},"NOx",{"$f":"IF(OR(D578=$M$15,D578=$M$20),SUM(IF((A578=$O$10:$O$29),IF(C578=$P$9,$P$10:$P$29,$Q$10:$Q$29),0))/100,1)","v":1},2.81218865195977E-2]
[2021,"Automovel-Gasolina","Gasolina",{"$f":"SUM(IF(B579=$L$10:$L$23,$M$10:$M$23,0))","v":7},1,{"$f":"IFERROR(ROUND(VLOOKUP(A579,'Dados de entrada'!$P$7:$Z$50,Dados_v2!D579+1,0)*H579,0),0)","v":1564},"NOx",{"$f":"IF(OR(D579=$M$15,D579=$M$20),SUM(IF((A579=$O$10:$O$29),IF(C579=$P$9,$P$10:$P$29,$Q$10:$Q$29),0))/100,1)","v":1},2.27097281860127E-2]
[2022,"Automovel-Gasolina","Gasolina",{"$f":"SUM(IF(B580=$L$10:$L$23,$M$10:$M$23,0))","v":7},1,{"$f":"IFERROR(ROUND(VLOOKUP(A580,'Dados de entrada'!$P$7:$Z$50,Dados_v2!D580+1,0)*H580,0),0)","v":2879},"NOx",{"$f":"IF(OR(D580=$M$15,D580=$M$20),SUM(IF((A580=$O$10:$O$29),IF(C580=$P$9,$P$10:$P$29,$Q$10:$Q$29),0))/100,1)","v":1},9.5699093953375801E-3]
[1983,"Automovel-Alcool","Etanol",{"$f":"SUM(IF(B581=$L$10:$L$23,$M$10:$M$23,0))","v":8},1,{"$f":"IFERROR(ROUND(VLOOKUP(A581,'Dados de entrada'!$P$7:$Z$50,Dados_v2!D581+1,0)*H581,0),0)","v":2904},"NOx",{"$f":"IF(OR(D581=$M$15,D581=$M$20),SUM(IF((A581=$O$10:$O$29),IF(C581=$P$9,$P$10:$P$29,$Q$10:$Q$29),0))/100,1)","v":1},1]
[1984,"Automovel-Alcool","Etanol",{"$f":"SUM(IF(B582=$L$10:$L$23,$M$10:$M$23,0))","v":8},1,{"$f":"IFERROR(ROUND(VLOOKUP(A582,'Dados de entrada'!$P$7:$Z$50,Dados_v2!D582+1,0)*H582,0),0)","v":3281},"NOx",{"$f":"IF(OR(D582=$M$15,D582=$M$20),SUM(IF((A582=$O$10:$O$29),IF(C582=$P$9,$P$10:$P$29,$Q$10:$Q$29),0))/100,1)","v":1},1]
[1985,"Automovel-Alcool","Etanol",{"$f":"SUM(IF(B583=$L$10:$L$23,$M$10:$M$23,0))","v":8},1,{"$f":"IFERROR(ROUND(VLOOKUP(A583,'Dados de entrada'!$P$7:$Z$50,Dados_v2!D583+1,0)*H583,0),0)","v":3376},"NOx",{"$f":"IF(OR(D583=$M$15,D583=$M$20),SUM(IF((A583=$O$10:$O$29),IF(C583=$P$9,$P$10:$P$29,$Q$10:$Q$29),0))/100,1)","v":1},1.2]
[1986,"Automovel-Alcool","Etanol",{"$f":"SUM(IF(B584=$L$10:$L$23,$M$10:$M$23,0))","v":8},1,{"$f":"IFERROR(ROUND(VLOOKUP(A584,'Dados de entrada'!$P$7:$Z$50,Dados_v2!D584+1,0)*H584,0),0)","v":5821},"NOx",{"$f":"IF(OR(D584=$M$15,D584=$M$20),SUM(IF((A584=$O$10:$O$29),IF(C584=$P$9,$P$10:$P$29,$Q$10:$Q$29),0))/100,1)","v":1},1.2]
[1987,"Automovel-Alcool","Etanol",{"$f":"SUM(IF(B585=$L$10:$L$23,$M$10:$M$23,0))","v":8},1,{"$f":"IFERROR(ROUND(VLOOKUP(A585,'Dados de entrada'!$P$7:$Z$50,Dados_v2!D585+1,0)*H585,0),0)","v":3387},"NOx",{"$f":"IF(OR(D585=$M$15,D585=$M$20),SUM(IF((A585=$O$10:$O$29),IF(C585=$P$9,$P$10:$P$29,$Q$10:$Q$29),0))/100,1)","v":1},1.8]
[1988,"Automovel-Alcool","Etanol",{"$f":"SUM(IF(B586=$L$10:$L$23,$M$10:$M$23,0))","v":8},1,{"$f":"IFERROR(ROUND(VLOOKUP(A586,'Dados de entrada'!$P$7:$Z$50,Dados_v2!D586+1,0)*H586,0),0)","v":4326},"NOx",{"$f":"IF(OR(D586=$M$15,D586=$M$20),SUM(IF((A586=$O$10:$O$29),IF(C586=$P$9,$P$10:$P$29,$Q$10:$Q$29),0))/100,1)","v":1},1.8]
[1989,"Automovel-Alcool","Etanol",{"$f":"SUM(IF(B587=$L$10:$L$23,$M$10:$M$23,0))","v":8},1,{"$f":"IFERROR(ROUND(VLOOKUP(A587,'Dados de entrada'!$P$7:$Z$50,Dados_v2!D587+1,0)*H587,0),0)","v":4395},"NOx",{"$f":"IF(OR(D587=$M$15,D587=$M$20),SUM(IF((A587=$O$10:$O$29),IF(C587=$P$9,$P$10:$P$29,$Q$10:$Q$29),0))/100,1)","v":1},1.4]
[1990,"Automovel-Alcool","Etanol",{"$f":"SUM(IF(B588=$L$10:$L$23,$M$10:$M$23,0))","v":8},1,{"$f":"IFERROR(ROUND(VLOOKUP(A588,'Dados de entrada'!$P$7:$Z$50,Dados_v2!D588+1,0)*H588,0),0)","v":988},"NOx",{"$f":"IF(OR(D588=$M$15,D588=$M$20),SUM(IF((A588=$O$10:$O$29),IF(C588=$P$9,$P$10:$P$29,$Q$10:$Q$29),0))/100,1)","v":1},1.1000000000000001]
[1991,"Automovel-Alcool","Etanol",{"$f":"SUM(IF(B589=$L$10:$L$23,$M$10:$M$23,0))","v":8},1,{"$f":"IFERROR(ROUND(VLOOKUP(A589,'Dados de entrada'!$P$7:$Z$50,Dados_v2!D589+1,0)*H589,0),0)","v":838},"NOx",{"$f":"IF(OR(D589=$M$15,D589=$M$20),SUM(IF((A589=$O$10:$O$29),IF(C589=$P$9,$P$10:$P$29,$Q$10:$Q$29),0))/100,1)","v":1},1.2]
[1992,"Automovel-Alcool","Etanol",{"$f":"SUM(IF(B590=$L$10:$L$23,$M$10:$M$23,0))","v":8},1,{"$f":"IFERROR(ROUND(VLOOKUP(A590,'Dados de entrada'!$P$7:$Z$50,Dados_v2!D590+1,0)*H590,0),0)","v":1103},"NOx",{"$f":"IF(OR(D590=$M$15,D590=$M$20),SUM(IF((A590=$O$10:$O$29),IF(C590=$P$9,$P$10:$P$29,$Q$10:$Q$29),0))/100,1)","v":1},1]
[1993,"Automovel-Alcool","Etanol",{"$f":"SUM(IF(B591=$L$10:$L$23,$M$10:$M$23,0))","v":8},1,{"$f":"IFERROR(ROUND(VLOOKUP(A591,'Dados de entrada'!$P$7:$Z$50,Dados_v2!D591+1,0)*H591,0),0)","v":1489},"NOx",{"$f":"IF(OR(D591=$M$15,D591=$M$20),SUM(IF((A591=$O$10:$O$29),IF(C591=$P$9,$P$10:$P$29,$Q$10:$Q$29),0))/100,1)","v":1},0.5]
[1994,"Automovel-Alcool","Etanol",{"$f":"SUM(IF(B592=$L$10:$L$23,$M$10:$M$23,0))","v":8},1,{"$f":"IFERROR(ROUND(VLOOKUP(A592,'Dados de entrada'!$P$7:$Z$50,Dados_v2!D592+1,0)*H592,0),0)","v":1343},"NOx",{"$f":"IF(OR(D592=$M$15,D592=$M$20),SUM(IF((A592=$O$10:$O$29),IF(C592=$P$9,$P$10:$P$29,$Q$10:$Q$29),0))/100,1)","v":1},0.6]
[1995,"Automovel-Alcool","Etanol",{"$f":"SUM(IF(B593=$L$10:$L$23,$M$10:$M$23,0))","v":8},1,{"$f":"IFERROR(ROUND(VLOOKUP(A593,'Dados de entrada'!$P$7:$Z$50,Dados_v2!D593+1,0)*H593,0),0)","v":344},"NOx",{"$f":"IF(OR(D593=$M$15,D593=$M$20),SUM(IF((A593=$O$10:$O$29),IF(C593=$P$9,$P$10:$P$29,$Q$10:$Q$29),0))/100,1)","v":1},0.80447970053992002]
[1996,"Automovel-Alcool","Etanol",{"$f":"SUM(IF(B594=$L$10:$L$23,$M$10:$M$23,0))","v":8},1,{"$f":"IFERROR(ROUND(VLOOKUP(A594,'Dados de entrada'!$P$7:$Z$50,Dados_v2!D594+1,0)*H594,0),0)","v":51},"NOx",{"$f":"IF(OR(D594=$M$15,D594=$M$20),SUM(IF((A594=$O$10:$O$29),IF(C594=$P$9,$P$10:$P$29,$Q$10:$Q$29),0))/100,1)","v":1},0.802070214886068]
[1997,"Automovel-Alcool","Etanol",{"$f":"SUM(IF(B595=$L$10:$L$23,$M$10:$M$23,0))","v":8},1,{"$f":"IFERROR(ROUND(VLOOKUP(A595,'Dados de entrada'!$P$7:$Z$50,Dados_v2!D595+1,0)*H595,0),0)","v":12},"NOx",{"$f":"IF(OR(D595=$M$15,D595=$M$20),SUM(IF((A595=$O$10:$O$29),IF(C595=$P$9,$P$10:$P$29,$Q$10:$Q$29),0))/100,1)","v":1},0.39923876787509899]
[1998,"Automovel-Alcool","Etanol",{"$f":"SUM(IF(B596=$L$10:$L$23,$M$10:$M$23,0))","v":8},1,{"$f":"IFERROR(ROUND(VLOOKUP(A596,'Dados de entrada'!$P$7:$Z$50,Dados_v2!D596+1,0)*H596,0),0)","v":7},"NOx",{"$f":"IF(OR(D596=$M$15,D596=$M$20),SUM(IF((A596=$O$10:$O$29),IF(C596=$P$9,$P$10:$P$29,$Q$10:$Q$29),0))/100,1)","v":1},0.33612733717527099]
[1999,"Automovel-Alcool","Etanol",{"$f":"SUM(IF(B597=$L$10:$L$23,$M$10:$M$23,0))","v":8},1,{"$f":"IFERROR(ROUND(VLOOKUP(A597,'Dados de entrada'!$P$7:$Z$50,Dados_v2!D597+1,0)*H597,0),0)","v":14},"NOx",{"$f":"IF(OR(D597=$M$15,D597=$M$20),SUM(IF((A597=$O$10:$O$29),IF(C597=$P$9,$P$10:$P$29,$Q$10:$Q$29),0))/100,1)","v":1},0.31278960408871398]
[2000,"Automovel-Alcool","Etanol",{"$f":"SUM(IF(B598=$L$10:$L$23,$M$10:$M$23,0))","v":8},1,{"$f":"IFERROR(ROUND(VLOOKUP(A598,'Dados de entrada'!$P$7:$Z$50,Dados_v2!D598+1,0)*H598,0),0)","v":73},"NOx",{"$f":"IF(OR(D598=$M$15,D598=$M$20),SUM(IF((A598=$O$10:$O$29),IF(C598=$P$9,$P$10:$P$29,$Q$10:$Q$29),0))/100,1)","v":1},0.29927350209317499]
[2001,"Automovel-Alcool","Etanol",{"$f":"SUM(IF(B599=$L$10:$L$23,$M$10:$M$23,0))","v":8},1,{"$f":"IFERROR(ROUND(VLOOKUP(A599,'Dados de entrada'!$P$7:$Z$50,Dados_v2!D599+1,0)*H599,0),0)","v":85},"NOx",{"$f":"IF(OR(D599=$M$15,D599=$M$20),SUM(IF((A599=$O$10:$O$29),IF(C599=$P$9,$P$10:$P$29,$Q$10:$Q$29),0))/100,1)","v":1},0.16562121684200901]
[2002,"Automovel-Alcool","Etanol",{"$f":"SUM(IF(B600=$L$10:$L$23,$M$10:$M$23,0))","v":8},1,{"$f":"IFERROR(ROUND(VLOOKUP(A600,'Dados de entrada'!$P$7:$Z$50,Dados_v2!D600+1,0)*H600,0),0)","v":147},"NOx",{"$f":"IF(OR(D600=$M$15,D600=$M$20),SUM(IF((A600=$O$10:$O$29),IF(C600=$P$9,$P$10:$P$29,$Q$10:$Q$29),0))/100,1)","v":1},0.161869186164186]
[2003,"Automovel-Alcool","Etanol",{"$f":"SUM(IF(B601=$L$10:$L$23,$M$10:$M$23,0))","v":8},1,{"$f":"IFERROR(ROUND(VLOOKUP(A601,'Dados de entrada'!$P$7:$Z$50,Dados_v2!D601+1,0)*H601,0),0)","v":198},"NOx",{"$f":"IF(OR(D601=$M$15,D601=$M$20),SUM(IF((A601=$O$10:$O$29),IF(C601=$P$9,$P$10:$P$29,$Q$10:$Q$29),0))/100,1)","v":1},0.168048100064289]
[2004,"Automovel-Alcool","Etanol",{"$f":"SUM(IF(B602=$L$10:$L$23,$M$10:$M$23,0))","v":8},1,{"$f":"IFERROR(ROUND(VLOOKUP(A602,'Dados de entrada'!$P$7:$Z$50,Dados_v2!D602+1,0)*H602,0),0)","v":83},"NOx",{"$f":"IF(OR(D602=$M$15,D602=$M$20),SUM(IF((A602=$O$10:$O$29),IF(C602=$P$9,$P$10:$P$29,$Q$10:$Q$29),0))/100,1)","v":1},0.15418290072251201]
[2005,"Automovel-Alcool","Etanol",{"$f":"SUM(IF(B603=$L$10:$L$23,$M$10:$M$23,0))","v":8},1,{"$f":"IFERROR(ROUND(VLOOKUP(A603,'Dados de entrada'!$P$7:$Z$50,Dados_v2!D603+1,0)*H603,0),0)","v":85},"NOx",{"$f":"IF(OR(D603=$M$15,D603=$M$20),SUM(IF((A603=$O$10:$O$29),IF(C603=$P$9,$P$10:$P$29,$Q$10:$Q$29),0))/100,1)","v":1},0.15029278249466099]
[2006,"Automovel-Alcool","Etanol",{"$f":"SUM(IF(B604=$L$10:$L$23,$M$10:$M$23,0))","v":8},1,{"$f":"IFERROR(ROUND(VLOOKUP(A604,'Dados de entrada'!$P$7:$Z$50,Dados_v2!D604+1,0)*H604,0),0)","v":77},"NOx",{"$f":"IF(OR(D604=$M$15,D604=$M$20),SUM(IF((A604=$O$10:$O$29),IF(C604=$P$9,$P$10:$P$29,$Q$10:$Q$29),0))/100,1)","v":1},0.11639119191215599]
[2007,"Automovel-Alcool","Etanol",{"$f":"SUM(IF(B605=$L$10:$L$23,$M$10:$M$23,0))","v":8},1,{"$f":"IFERROR(ROUND(VLOOKUP(A605,'Dados de entrada'!$P$7:$Z$50,Dados_v2!D605+1,0)*H605,0),0)","v":190},"NOx",{"$f":"IF(OR(D605=$M$15,D605=$M$20),SUM(IF((A605=$O$10:$O$29),IF(C605=$P$9,$P$10:$P$29,$Q$10:$Q$29),0))/100,1)","v":1},0.11639119191215599]
[2008,"Automovel-Alcool","Etanol",{"$f":"SUM(IF(B606=$L$10:$L$23,$M$10:$M$23,0))","v":8},1,{"$f":"IFERROR(ROUND(VLOOKUP(A606,'Dados de entrada'!$P$7:$Z$50,Dados_v2!D606+1,0)*H606,0),0)","v":254},"NOx",{"$f":"IF(OR(D606=$M$15,D606=$M$20),SUM(IF((A606=$O$10:$O$29),IF(C606=$P$9,$P$10:$P$29,$Q$10:$Q$29),0))/100,1)","v":1},0.11639119191215599]
[2009,"Automovel-Alcool","Etanol",{"$f":"SUM(IF(B607=$L$10:$L$23,$M$10:$M$23,0))","v":8},1,{"$f":"IFERROR(ROUND(VLOOKUP(A607,'Dados de entrada'!$P$7:$Z$50,Dados_v2!D607+1,0)*H607,0),0)","v":134},"NOx",{"$f":"IF(OR(D607=$M$15,D607=$M$20),SUM(IF((A607=$O$10:$O$29),IF(C607=$P$9,$P$10:$P$29,$Q$10:$Q$29),0))/100,1)","v":1},0.11639119191215599]
[2010,"Automovel-Alcool","Etanol",{"$f":"SUM(IF(B608=$L$10:$L$23,$M$10:$M$23,0))","v":8},1,{"$f":"IFERROR(ROUND(VLOOKUP(A608,'Dados de entrada'!$P$7:$Z$50,Dados_v2!D608+1,0)*H608,0),0)","v":197},"NOx",{"$f":"IF(OR(D608=$M$15,D608=$M$20),SUM(IF((A608=$O$10:$O$29),IF(C608=$P$9,$P$10:$P$29,$Q$10:$Q$29),0))/100,1)","v":1},0.11639119191215599]
[2011,"Automovel-Alcool","Etanol",{"$f":"SUM(IF(B609=$L$10:$L$23,$M$10:$M$23,0))","v":8},1,{"$f":"IFERROR(ROUND(VLOOKUP(A609,'Dados de entrada'!$P$7:$Z$50,Dados_v2!D609+1,0)*H609,0),0)","v":242},"NOx",{"$f":"IF(OR(D609=$M$15,D609=$M$20),SUM(IF((A609=$O$10:$O$29),IF(C609=$P$9,$P$10:$P$29,$Q$10:$Q$29),0))/100,1)","v":1},0.11639119191215599]
[2012,"Automovel-Alcool","Etanol",{"$f":"SUM(IF(B610=$L$10:$L$23,$M$10:$M$23,0))","v":8},1,{"$f":"IFERROR(ROUND(VLOOKUP(A610,'Dados de entrada'!$P$7:$Z$50,Dados_v2!D610+1,0)*H610,0),0)","v":392},"NOx",{"$f":"IF(OR(D610=$M$15,D610=$M$20),SUM(IF((A610=$O$10:$O$29),IF(C610=$P$9,$P$10:$P$29,$Q$10:$Q$29),0))/100,1)","v":1},0.11639119191215599]
[2013,"Automovel-Alcool","Etanol",{"$f":"SUM(IF(B611=$L$10:$L$23,$M$10:$M$23,0))","v":8},1,{"$f":"IFERROR(ROUND(VLOOKUP(A611,'Dados de entrada'!$P$7:$Z$50,Dados_v2!D611+1,0)*H611,0),0)","v":492},"NOx",{"$f":"IF(OR(D611=$M$15,D611=$M$20),SUM(IF((A611=$O$10:$O$29),IF(C611=$P$9,$P$10:$P$29,$Q$10:$Q$29),0))/100,1)","v":1},0.11639119191215599]
[2014,"Automovel-Alcool","Etanol",{"$f":"SUM(IF(B612=$L$10:$L$23,$M$10:$M$23,0))","v":8},1,{"$f":"IFERROR(ROUND(VLOOKUP(A612,'Dados de entrada'!$P$7:$Z$50,Dados_v2!D612+1,0)*H612,0),0)","v":461},"NOx",{"$f":"IF(OR(D612=$M$15,D612=$M$20),SUM(IF((A612=$O$10:$O$29),IF(C612=$P$9,$P$10:$P$29,$Q$10:$Q$29),0))/100,1)","v":1},0.11639119191215599]
[2015,"Automovel-Alcool","Etanol",{"$f":"SUM(IF(B613=$L$10:$L$23,$M$10:$M$23,0))","v":8},1,{"$f":"IFERROR(ROUND(VLOOKUP(A613,'Dados de entrada'!$P$7:$Z$50,Dados_v2!D613+1,0)*H613,0),0)","v":519},"NOx",{"$f":"IF(OR(D613=$M$15,D613=$M$20),SUM(IF((A613=$O$10:$O$29),IF(C613=$P$9,$P$10:$P$29,$Q$10:$Q$29),0))/100,1)","v":1},0.11639119191215599]
[2016,"Automovel-Alcool","Etanol",{"$f":"SUM(IF(B614=$L$10:$L$23,$M$10:$M$23,0))","v":8},1,{"$f":"IFERROR(ROUND(VLOOKUP(A614,'Dados de entrada'!$P$7:$Z$50,Dados_v2!D614+1,0)*H614,0),0)","v":449},"NOx",{"$f":"IF(OR(D614=$M$15,D614=$M$20),SUM(IF((A614=$O$10:$O$29),IF(C614=$P$9,$P$10:$P$29,$Q$10:$Q$29),0))/100,1)","v":1},0.11639119191215599]
[2017,"Automovel-Alcool","Etanol",{"$f":"SUM(IF(B615=$L$10:$L$23,$M$10:$M$23,0))","v":8},1,{"$f":"IFERROR(ROUND(VLOOKUP(A615,'Dados de entrada'!$P$7:$Z$50,Dados_v2!D615+1,0)*H615,0),0)","v":275},"NOx",{"$f":"IF(OR(D615=$M$15,D615=$M$20),SUM(IF((A615=$O$10:$O$29),IF(C615=$P$9,$P$10:$P$29,$Q$10:$Q$29),0))/100,1)","v":1},0.11639119191215599]
[2018,"Automovel-Alcool","Etanol",{"$f":"SUM(IF(B616=$L$10:$L$23,$M$10:$M$23,0))","v":8},1,{"$f":"IFERROR(ROUND(VLOOKUP(A616,'Dados de entrada'!$P$7:$Z$50,Dados_v2!D616+1,0)*H616,0),0)","v":494},"NOx",{"$f":"IF(OR(D616=$M$15,D616=$M$20),SUM(IF((A616=$O$10:$O$29),IF(C616=$P$9,$P$10:$P$29,$Q$10:$Q$29),0))/100,1)","v":1},0.11639119191215599]
[2019,"Automovel-Alcool","Etanol",{"$f":"SUM(IF(B617=$L$10:$L$23,$M$10:$M$23,0))","v":8},1,{"$f":"IFERROR(ROUND(VLOOKUP(A617,'Dados de entrada'!$P$7:$Z$50,Dados_v2!D617+1,0)*H617,0),0)","v":361},"NOx",{"$f":"IF(OR(D617=$M$15,D617=$M$20),SUM(IF((A617=$O$10:$O$29),IF(C617=$P$9,$P$10:$P$29,$Q$10:$Q$29),0))/100,1)","v":1},0.11639119191215599]
[2020,"Automovel-Alcool","Etanol",{"$f":"SUM(IF(B618=$L$10:$L$23,$M$10:$M$23,0))","v":8},1,{"$f":"IFERROR(ROUND(VLOOKUP(A618,'Dados de entrada'!$P$7:$Z$50,Dados_v2!D618+1,0)*H618,0),0)","v":510},"NOx",{"$f":"IF(OR(D618=$M$15,D618=$M$20),SUM(IF((A618=$O$10:$O$29),IF(C618=$P$9,$P$10:$P$29,$Q$10:$Q$29),0))/100,1)","v":1},0.11639119191215599]
[2021,"Automovel-Alcool","Etanol",{"$f":"SUM(IF(B619=$L$10:$L$23,$M$10:$M$23,0))","v":8},1,{"$f":"IFERROR(ROUND(VLOOKUP(A619,'Dados de entrada'!$P$7:$Z$50,Dados_v2!D619+1,0)*H619,0),0)","v":150},"NOx",{"$f":"IF(OR(D619=$M$15,D619=$M$20),SUM(IF((A619=$O$10:$O$29),IF(C619=$P$9,$P$10:$P$29,$Q$10:$Q$29),0))/100,1)","v":1},0.11639119191215599]
[2022,"Automovel-Alcool","Etanol",{"$f":"SUM(IF(B620=$L$10:$L$23,$M$10:$M$23,0))","v":8},1,{"$f":"IFERROR(ROUND(VLOOKUP(A620,'Dados de entrada'!$P$7:$Z$50,Dados_v2!D620+1,0)*H620,0),0)","v":232},"NOx",{"$f":"IF(OR(D620=$M$15,D620=$M$20),SUM(IF((A620=$O$10:$O$29),IF(C620=$P$9,$P$10:$P$29,$Q$10:$Q$29),0))/100,1)","v":1},0.11639119191215599]
[2003,"Automovel-Flex","Gasolina",{"$f":"SUM(IF(B621=$L$10:$L$23,$M$10:$M$23,0))","v":9},1,{"$f":"IFERROR(ROUND(VLOOKUP(A621,'Dados de entrada'!$P$7:$Z$50,Dados_v2!D621+1,0)*H621,0),0)","v":11},"NOx",{"$f":"IF(OR(D621=$M$15,D621=$M$20),SUM(IF((A621=$O$10:$O$29),IF(C621=$P$9,$P$10:$P$29,$Q$10:$Q$29),0))/100,1)","v":0.5},0.163189736766017]
[2004,"Automovel-Flex","Gasolina",{"$f":"SUM(IF(B622=$L$10:$L$23,$M$10:$M$23,0))","v":9},1,{"$f":"IFERROR(ROUND(VLOOKUP(A622,'Dados de entrada'!$P$7:$Z$50,Dados_v2!D622+1,0)*H622,0),0)","v":0},"NOx",{"$f":"IF(OR(D622=$M$15,D622=$M$20),SUM(IF((A622=$O$10:$O$29),IF(C622=$P$9,$P$10:$P$29,$Q$10:$Q$29),0))/100,1)","v":0},0.16770890496447499]
[2005,"Automovel-Flex","Gasolina",{"$f":"SUM(IF(B623=$L$10:$L$23,$M$10:$M$23,0))","v":9},1,{"$f":"IFERROR(ROUND(VLOOKUP(A623,'Dados de entrada'!$P$7:$Z$50,Dados_v2!D623+1,0)*H623,0),0)","v":0},"NOx",{"$f":"IF(OR(D623=$M$15,D623=$M$20),SUM(IF((A623=$O$10:$O$29),IF(C623=$P$9,$P$10:$P$29,$Q$10:$Q$29),0))/100,1)","v":0},0.162071888168173]
[2006,"Automovel-Flex","Gasolina",{"$f":"SUM(IF(B624=$L$10:$L$23,$M$10:$M$23,0))","v":9},1,{"$f":"IFERROR(ROUND(VLOOKUP(A624,'Dados de entrada'!$P$7:$Z$50,Dados_v2!D624+1,0)*H624,0),0)","v":1283},"NOx",{"$f":"IF(OR(D624=$M$15,D624=$M$20),SUM(IF((A624=$O$10:$O$29),IF(C624=$P$9,$P$10:$P$29,$Q$10:$Q$29),0))/100,1)","v":8.5000000000000006E-2},0.14929008237104399]
[2007,"Automovel-Flex","Gasolina",{"$f":"SUM(IF(B625=$L$10:$L$23,$M$10:$M$23,0))","v":9},1,{"$f":"IFERROR(ROUND(VLOOKUP(A625,'Dados de entrada'!$P$7:$Z$50,Dados_v2!D625+1,0)*H625,0),0)","v":3355},"NOx",{"$f":"IF(OR(D625=$M$15,D625=$M$20),SUM(IF((A625=$O$10:$O$29),IF(C625=$P$9,$P$10:$P$29,$Q$10:$Q$29),0))/100,1)","v":0.16},0.143376609983496]
[2008,"Automovel-Flex","Gasolina",{"$f":"SUM(IF(B626=$L$10:$L$23,$M$10:$M$23,0))","v":9},1,{"$f":"IFERROR(ROUND(VLOOKUP(A626,'Dados de entrada'!$P$7:$Z$50,Dados_v2!D626+1,0)*H626,0),0)","v":7217},"NOx",{"$f":"IF(OR(D626=$M$15,D626=$M$20),SUM(IF((A626=$O$10:$O$29),IF(C626=$P$9,$P$10:$P$29,$Q$10:$Q$29),0))/100,1)","v":0.2},0.13334631983241499]
[2009,"Automovel-Flex","Gasolina",{"$f":"SUM(IF(B627=$L$10:$L$23,$M$10:$M$23,0))","v":9},1,{"$f":"IFERROR(ROUND(VLOOKUP(A627,'Dados de entrada'!$P$7:$Z$50,Dados_v2!D627+1,0)*H627,0),0)","v":9731},"NOx",{"$f":"IF(OR(D627=$M$15,D627=$M$20),SUM(IF((A627=$O$10:$O$29),IF(C627=$P$9,$P$10:$P$29,$Q$10:$Q$29),0))/100,1)","v":0.3},0.115215787161162]
[2010,"Automovel-Flex","Gasolina",{"$f":"SUM(IF(B628=$L$10:$L$23,$M$10:$M$23,0))","v":9},1,{"$f":"IFERROR(ROUND(VLOOKUP(A628,'Dados de entrada'!$P$7:$Z$50,Dados_v2!D628+1,0)*H628,0),0)","v":22085},"NOx",{"$f":"IF(OR(D628=$M$15,D628=$M$20),SUM(IF((A628=$O$10:$O$29),IF(C628=$P$9,$P$10:$P$29,$Q$10:$Q$29),0))/100,1)","v":0.48},0.112003313629575]
[2011,"Automovel-Flex","Gasolina",{"$f":"SUM(IF(B629=$L$10:$L$23,$M$10:$M$23,0))","v":9},1,{"$f":"IFERROR(ROUND(VLOOKUP(A629,'Dados de entrada'!$P$7:$Z$50,Dados_v2!D629+1,0)*H629,0),0)","v":32974},"NOx",{"$f":"IF(OR(D629=$M$15,D629=$M$20),SUM(IF((A629=$O$10:$O$29),IF(C629=$P$9,$P$10:$P$29,$Q$10:$Q$29),0))/100,1)","v":0.68},0.10472892731397]
[2012,"Automovel-Flex","Gasolina",{"$f":"SUM(IF(B630=$L$10:$L$23,$M$10:$M$23,0))","v":9},1,{"$f":"IFERROR(ROUND(VLOOKUP(A630,'Dados de entrada'!$P$7:$Z$50,Dados_v2!D630+1,0)*H630,0),0)","v":38500},"NOx",{"$f":"IF(OR(D630=$M$15,D630=$M$20),SUM(IF((A630=$O$10:$O$29),IF(C630=$P$9,$P$10:$P$29,$Q$10:$Q$29),0))/100,1)","v":0.75},9.6414382707137994E-2]
[2013,"Automovel-Flex","Gasolina",{"$f":"SUM(IF(B631=$L$10:$L$23,$M$10:$M$23,0))","v":9},1,{"$f":"IFERROR(ROUND(VLOOKUP(A631,'Dados de entrada'!$P$7:$Z$50,Dados_v2!D631+1,0)*H631,0),0)","v":48092},"NOx",{"$f":"IF(OR(D631=$M$15,D631=$M$20),SUM(IF((A631=$O$10:$O$29),IF(C631=$P$9,$P$10:$P$29,$Q$10:$Q$29),0))/100,1)","v":0.75},8.90974464976515E-2]
[2014,"Automovel-Flex","Gasolina",{"$f":"SUM(IF(B632=$L$10:$L$23,$M$10:$M$23,0))","v":9},1,{"$f":"IFERROR(ROUND(VLOOKUP(A632,'Dados de entrada'!$P$7:$Z$50,Dados_v2!D632+1,0)*H632,0),0)","v":41738},"NOx",{"$f":"IF(OR(D632=$M$15,D632=$M$20),SUM(IF((A632=$O$10:$O$29),IF(C632=$P$9,$P$10:$P$29,$Q$10:$Q$29),0))/100,1)","v":0.75},7.5778118685510695E-2]
[2015,"Automovel-Flex","Gasolina",{"$f":"SUM(IF(B633=$L$10:$L$23,$M$10:$M$23,0))","v":9},1,{"$f":"IFERROR(ROUND(VLOOKUP(A633,'Dados de entrada'!$P$7:$Z$50,Dados_v2!D633+1,0)*H633,0),0)","v":39767},"NOx",{"$f":"IF(OR(D633=$M$15,D633=$M$20),SUM(IF((A633=$O$10:$O$29),IF(C633=$P$9,$P$10:$P$29,$Q$10:$Q$29),0))/100,1)","v":0.75},6.5293558558276094E-2]
[2016,"Automovel-Flex","Gasolina",{"$f":"SUM(IF(B634=$L$10:$L$23,$M$10:$M$23,0))","v":9},1,{"$f":"IFERROR(ROUND(VLOOKUP(A634,'Dados de entrada'!$P$7:$Z$50,Dados_v2!D634+1,0)*H634,0),0)","v":30062},"NOx",{"$f":"IF(OR(D634=$M$15,D634=$M$20),SUM(IF((A634=$O$10:$O$29),IF(C634=$P$9,$P$10:$P$29,$Q$10:$Q$29),0))/100,1)","v":0.75},5.5778056091658E-2]
[2017,"Automovel-Flex","Gasolina",{"$f":"SUM(IF(B635=$L$10:$L$23,$M$10:$M$23,0))","v":9},1,{"$f":"IFERROR(ROUND(VLOOKUP(A635,'Dados de entrada'!$P$7:$Z$50,Dados_v2!D635+1,0)*H635,0),0)","v":26135},"NOx",{"$f":"IF(OR(D635=$M$15,D635=$M$20),SUM(IF((A635=$O$10:$O$29),IF(C635=$P$9,$P$10:$P$29,$Q$10:$Q$29),0))/100,1)","v":0.75},4.8303466473716097E-2]
[2018,"Automovel-Flex","Gasolina",{"$f":"SUM(IF(B636=$L$10:$L$23,$M$10:$M$23,0))","v":9},1,{"$f":"IFERROR(ROUND(VLOOKUP(A636,'Dados de entrada'!$P$7:$Z$50,Dados_v2!D636+1,0)*H636,0),0)","v":41519},"NOx",{"$f":"IF(OR(D636=$M$15,D636=$M$20),SUM(IF((A636=$O$10:$O$29),IF(C636=$P$9,$P$10:$P$29,$Q$10:$Q$29),0))/100,1)","v":0.75},4.2879210104859802E-2]
[2019,"Automovel-Flex","Gasolina",{"$f":"SUM(IF(B637=$L$10:$L$23,$M$10:$M$23,0))","v":9},1,{"$f":"IFERROR(ROUND(VLOOKUP(A637,'Dados de entrada'!$P$7:$Z$50,Dados_v2!D637+1,0)*H637,0),0)","v":48492},"NOx",{"$f":"IF(OR(D637=$M$15,D637=$M$20),SUM(IF((A637=$O$10:$O$29),IF(C637=$P$9,$P$10:$P$29,$Q$10:$Q$29),0))/100,1)","v":0.75},3.5452272597848E-2]
[2020,"Automovel-Flex","Gasolina",{"$f":"SUM(IF(B638=$L$10:$L$23,$M$10:$M$23,0))","v":9},1,{"$f":"IFERROR(ROUND(VLOOKUP(A638,'Dados de entrada'!$P$7:$Z$50,Dados_v2!D638+1,0)*H638,0),0)","v":65058},"NOx",{"$f":"IF(OR(D638=$M$15,D638=$M$20),SUM(IF((A638=$O$10:$O$29),IF(C638=$P$9,$P$10:$P$29,$Q$10:$Q$29),0))/100,1)","v":0.75},2.8907204777789401E-2]
[2021,"Automovel-Flex","Gasolina",{"$f":"SUM(IF(B639=$L$10:$L$23,$M$10:$M$23,0))","v":9},1,{"$f":"IFERROR(ROUND(VLOOKUP(A639,'Dados de entrada'!$P$7:$Z$50,Dados_v2!D639+1,0)*H639,0),0)","v":95462},"NOx",{"$f":"IF(OR(D639=$M$15,D639=$M$20),SUM(IF((A639=$O$10:$O$29),IF(C639=$P$9,$P$10:$P$29,$Q$10:$Q$29),0))/100,1)","v":0.75},2.20661226821421E-2]
[2022,"Automovel-Flex","Gasolina",{"$f":"SUM(IF(B640=$L$10:$L$23,$M$10:$M$23,0))","v":9},1,{"$f":"IFERROR(ROUND(VLOOKUP(A640,'Dados de entrada'!$P$7:$Z$50,Dados_v2!D640+1,0)*H640,0),0)","v":156757},"NOx",{"$f":"IF(OR(D640=$M$15,D640=$M$20),SUM(IF((A640=$O$10:$O$29),IF(C640=$P$9,$P$10:$P$29,$Q$10:$Q$29),0))/100,1)","v":0.75},1.0688707560714E-2]
[2003,"Automovel-Flex","Etanol",{"$f":"SUM(IF(B641=$L$10:$L$23,$M$10:$M$23,0))","v":9},1,{"$f":"IFERROR(ROUND(VLOOKUP(A641,'Dados de entrada'!$P$7:$Z$50,Dados_v2!D641+1,0)*H641,0),0)","v":11},"NOx",{"$f":"IF(OR(D641=$M$15,D641=$M$20),SUM(IF((A641=$O$10:$O$29),IF(C641=$P$9,$P$10:$P$29,$Q$10:$Q$29),0))/100,1)","v":0.5},0.22372347297985301]
[2004,"Automovel-Flex","Etanol",{"$f":"SUM(IF(B642=$L$10:$L$23,$M$10:$M$23,0))","v":9},1,{"$f":"IFERROR(ROUND(VLOOKUP(A642,'Dados de entrada'!$P$7:$Z$50,Dados_v2!D642+1,0)*H642,0),0)","v":1663},"NOx",{"$f":"IF(OR(D642=$M$15,D642=$M$20),SUM(IF((A642=$O$10:$O$29),IF(C642=$P$9,$P$10:$P$29,$Q$10:$Q$29),0))/100,1)","v":1},0.219998533830781]
[2005,"Automovel-Flex","Etanol",{"$f":"SUM(IF(B643=$L$10:$L$23,$M$10:$M$23,0))","v":9},1,{"$f":"IFERROR(ROUND(VLOOKUP(A643,'Dados de entrada'!$P$7:$Z$50,Dados_v2!D643+1,0)*H643,0),0)","v":6460},"NOx",{"$f":"IF(OR(D643=$M$15,D643=$M$20),SUM(IF((A643=$O$10:$O$29),IF(C643=$P$9,$P$10:$P$29,$Q$10:$Q$29),0))/100,1)","v":1},0.176167446632921]
[2006,"Automovel-Flex","Etanol",{"$f":"SUM(IF(B644=$L$10:$L$23,$M$10:$M$23,0))","v":9},1,{"$f":"IFERROR(ROUND(VLOOKUP(A644,'Dados de entrada'!$P$7:$Z$50,Dados_v2!D644+1,0)*H644,0),0)","v":13811},"NOx",{"$f":"IF(OR(D644=$M$15,D644=$M$20),SUM(IF((A644=$O$10:$O$29),IF(C644=$P$9,$P$10:$P$29,$Q$10:$Q$29),0))/100,1)","v":0.91500000000000004},0.13323795644860301]
[2007,"Automovel-Flex","Etanol",{"$f":"SUM(IF(B645=$L$10:$L$23,$M$10:$M$23,0))","v":9},1,{"$f":"IFERROR(ROUND(VLOOKUP(A645,'Dados de entrada'!$P$7:$Z$50,Dados_v2!D645+1,0)*H645,0),0)","v":17612},"NOx",{"$f":"IF(OR(D645=$M$15,D645=$M$20),SUM(IF((A645=$O$10:$O$29),IF(C645=$P$9,$P$10:$P$29,$Q$10:$Q$29),0))/100,1)","v":0.84},0.129218981665044]
[2008,"Automovel-Flex","Etanol",{"$f":"SUM(IF(B646=$L$10:$L$23,$M$10:$M$23,0))","v":9},1,{"$f":"IFERROR(ROUND(VLOOKUP(A646,'Dados de entrada'!$P$7:$Z$50,Dados_v2!D646+1,0)*H646,0),0)","v":28866},"NOx",{"$f":"IF(OR(D646=$M$15,D646=$M$20),SUM(IF((A646=$O$10:$O$29),IF(C646=$P$9,$P$10:$P$29,$Q$10:$Q$29),0))/100,1)","v":0.8},0.113120613994337]
[2009,"Automovel-Flex","Etanol",{"$f":"SUM(IF(B647=$L$10:$L$23,$M$10:$M$23,0))","v":9},1,{"$f":"IFERROR(ROUND(VLOOKUP(A647,'Dados de entrada'!$P$7:$Z$50,Dados_v2!D647+1,0)*H647,0),0)","v":22707},"NOx",{"$f":"IF(OR(D647=$M$15,D647=$M$20),SUM(IF((A647=$O$10:$O$29),IF(C647=$P$9,$P$10:$P$29,$Q$10:$Q$29),0))/100,1)","v":0.7},9.09541184734593E-2]
[2010,"Automovel-Flex","Etanol",{"$f":"SUM(IF(B648=$L$10:$L$23,$M$10:$M$23,0))","v":9},1,{"$f":"IFERROR(ROUND(VLOOKUP(A648,'Dados de entrada'!$P$7:$Z$50,Dados_v2!D648+1,0)*H648,0),0)","v":23926},"NOx",{"$f":"IF(OR(D648=$M$15,D648=$M$20),SUM(IF((A648=$O$10:$O$29),IF(C648=$P$9,$P$10:$P$29,$Q$10:$Q$29),0))/100,1)","v":0.52},9.3731933464266698E-2]
[2011,"Automovel-Flex","Etanol",{"$f":"SUM(IF(B649=$L$10:$L$23,$M$10:$M$23,0))","v":9},1,{"$f":"IFERROR(ROUND(VLOOKUP(A649,'Dados de entrada'!$P$7:$Z$50,Dados_v2!D649+1,0)*H649,0),0)","v":15517},"NOx",{"$f":"IF(OR(D649=$M$15,D649=$M$20),SUM(IF((A649=$O$10:$O$29),IF(C649=$P$9,$P$10:$P$29,$Q$10:$Q$29),0))/100,1)","v":0.32},8.2467670653497693E-2]
[2012,"Automovel-Flex","Etanol",{"$f":"SUM(IF(B650=$L$10:$L$23,$M$10:$M$23,0))","v":9},1,{"$f":"IFERROR(ROUND(VLOOKUP(A650,'Dados de entrada'!$P$7:$Z$50,Dados_v2!D650+1,0)*H650,0),0)","v":12833},"NOx",{"$f":"IF(OR(D650=$M$15,D650=$M$20),SUM(IF((A650=$O$10:$O$29),IF(C650=$P$9,$P$10:$P$29,$Q$10:$Q$29),0))/100,1)","v":0.25},7.6176115052771498E-2]
[2013,"Automovel-Flex","Etanol",{"$f":"SUM(IF(B651=$L$10:$L$23,$M$10:$M$23,0))","v":9},1,{"$f":"IFERROR(ROUND(VLOOKUP(A651,'Dados de entrada'!$P$7:$Z$50,Dados_v2!D651+1,0)*H651,0),0)","v":16031},"NOx",{"$f":"IF(OR(D651=$M$15,D651=$M$20),SUM(IF((A651=$O$10:$O$29),IF(C651=$P$9,$P$10:$P$29,$Q$10:$Q$29),0))/100,1)","v":0.25},6.5882934046508607E-2]
[2014,"Automovel-Flex","Etanol",{"$f":"SUM(IF(B652=$L$10:$L$23,$M$10:$M$23,0))","v":9},1,{"$f":"IFERROR(ROUND(VLOOKUP(A652,'Dados de entrada'!$P$7:$Z$50,Dados_v2!D652+1,0)*H652,0),0)","v":13913},"NOx",{"$f":"IF(OR(D652=$M$15,D652=$M$20),SUM(IF((A652=$O$10:$O$29),IF(C652=$P$9,$P$10:$P$29,$Q$10:$Q$29),0))/100,1)","v":0.25},5.6588127634708899E-2]
[2015,"Automovel-Flex","Etanol",{"$f":"SUM(IF(B653=$L$10:$L$23,$M$10:$M$23,0))","v":9},1,{"$f":"IFERROR(ROUND(VLOOKUP(A653,'Dados de entrada'!$P$7:$Z$50,Dados_v2!D653+1,0)*H653,0),0)","v":13256},"NOx",{"$f":"IF(OR(D653=$M$15,D653=$M$20),SUM(IF((A653=$O$10:$O$29),IF(C653=$P$9,$P$10:$P$29,$Q$10:$Q$29),0))/100,1)","v":0.25},5.0181024341437397E-2]
[2016,"Automovel-Flex","Etanol",{"$f":"SUM(IF(B654=$L$10:$L$23,$M$10:$M$23,0))","v":9},1,{"$f":"IFERROR(ROUND(VLOOKUP(A654,'Dados de entrada'!$P$7:$Z$50,Dados_v2!D654+1,0)*H654,0),0)","v":10021},"NOx",{"$f":"IF(OR(D654=$M$15,D654=$M$20),SUM(IF((A654=$O$10:$O$29),IF(C654=$P$9,$P$10:$P$29,$Q$10:$Q$29),0))/100,1)","v":0.25},4.2752891697967497E-2]
[2017,"Automovel-Flex","Etanol",{"$f":"SUM(IF(B655=$L$10:$L$23,$M$10:$M$23,0))","v":9},1,{"$f":"IFERROR(ROUND(VLOOKUP(A655,'Dados de entrada'!$P$7:$Z$50,Dados_v2!D655+1,0)*H655,0),0)","v":8712},"NOx",{"$f":"IF(OR(D655=$M$15,D655=$M$20),SUM(IF((A655=$O$10:$O$29),IF(C655=$P$9,$P$10:$P$29,$Q$10:$Q$29),0))/100,1)","v":0.25},3.7352564664531303E-2]
[2018,"Automovel-Flex","Etanol",{"$f":"SUM(IF(B656=$L$10:$L$23,$M$10:$M$23,0))","v":9},1,{"$f":"IFERROR(ROUND(VLOOKUP(A656,'Dados de entrada'!$P$7:$Z$50,Dados_v2!D656+1,0)*H656,0),0)","v":13840},"NOx",{"$f":"IF(OR(D656=$M$15,D656=$M$20),SUM(IF((A656=$O$10:$O$29),IF(C656=$P$9,$P$10:$P$29,$Q$10:$Q$29),0))/100,1)","v":0.25},3.2986445630319897E-2]
[2019,"Automovel-Flex","Etanol",{"$f":"SUM(IF(B657=$L$10:$L$23,$M$10:$M$23,0))","v":9},1,{"$f":"IFERROR(ROUND(VLOOKUP(A657,'Dados de entrada'!$P$7:$Z$50,Dados_v2!D657+1,0)*H657,0),0)","v":16164},"NOx",{"$f":"IF(OR(D657=$M$15,D657=$M$20),SUM(IF((A657=$O$10:$O$29),IF(C657=$P$9,$P$10:$P$29,$Q$10:$Q$29),0))/100,1)","v":0.25},2.6618504413483599E-2]
[2020,"Automovel-Flex","Etanol",{"$f":"SUM(IF(B658=$L$10:$L$23,$M$10:$M$23,0))","v":9},1,{"$f":"IFERROR(ROUND(VLOOKUP(A658,'Dados de entrada'!$P$7:$Z$50,Dados_v2!D658+1,0)*H658,0),0)","v":21686},"NOx",{"$f":"IF(OR(D658=$M$15,D658=$M$20),SUM(IF((A658=$O$10:$O$29),IF(C658=$P$9,$P$10:$P$29,$Q$10:$Q$29),0))/100,1)","v":0.25},2.4170278261131301E-2]
[2021,"Automovel-Flex","Etanol",{"$f":"SUM(IF(B659=$L$10:$L$23,$M$10:$M$23,0))","v":9},1,{"$f":"IFERROR(ROUND(VLOOKUP(A659,'Dados de entrada'!$P$7:$Z$50,Dados_v2!D659+1,0)*H659,0),0)","v":31821},"NOx",{"$f":"IF(OR(D659=$M$15,D659=$M$20),SUM(IF((A659=$O$10:$O$29),IF(C659=$P$9,$P$10:$P$29,$Q$10:$Q$29),0))/100,1)","v":0.25},1.9520871849331298E-2]
[2022,"Automovel-Flex","Etanol",{"$f":"SUM(IF(B660=$L$10:$L$23,$M$10:$M$23,0))","v":9},1,{"$f":"IFERROR(ROUND(VLOOKUP(A660,'Dados de entrada'!$P$7:$Z$50,Dados_v2!D660+1,0)*H660,0),0)","v":52252},"NOx",{"$f":"IF(OR(D660=$M$15,D660=$M$20),SUM(IF((A660=$O$10:$O$29),IF(C660=$P$9,$P$10:$P$29,$Q$10:$Q$29),0))/100,1)","v":0.25},9.5069572831104308E-3]
[1983,"Automovel-Diesel","Diesel",{"$f":"SUM(IF(B661=$L$10:$L$23,$M$10:$M$23,0))","v":10},1,{"$f":"IFERROR(ROUND(VLOOKUP(A661,'Dados de entrada'!$P$7:$Z$50,Dados_v2!D661+1,0)*H661,0),0)","v":163},"NOx",{"$f":"IF(OR(D661=$M$15,D661=$M$20),SUM(IF((A661=$O$10:$O$29),IF(C661=$P$9,$P$10:$P$29,$Q$10:$Q$29),0))/100,1)","v":1},2.45857314951144]
[1984,"Automovel-Diesel","Diesel",{"$f":"SUM(IF(B662=$L$10:$L$23,$M$10:$M$23,0))","v":10},1,{"$f":"IFERROR(ROUND(VLOOKUP(A662,'Dados de entrada'!$P$7:$Z$50,Dados_v2!D662+1,0)*H662,0),0)","v":186},"NOx",{"$f":"IF(OR(D662=$M$15,D662=$M$20),SUM(IF((A662=$O$10:$O$29),IF(C662=$P$9,$P$10:$P$29,$Q$10:$Q$29),0))/100,1)","v":1},2.45857314951144]
[1985,"Automovel-Diesel","Diesel",{"$f":"SUM(IF(B663=$L$10:$L$23,$M$10:$M$23,0))","v":10},1,{"$f":"IFERROR(ROUND(VLOOKUP(A663,'Dados de entrada'!$P$7:$Z$50,Dados_v2!D663+1,0)*H663,0),0)","v":157},"NOx",{"$f":"IF(OR(D663=$M$15,D663=$M$20),SUM(IF((A663=$O$10:$O$29),IF(C663=$P$9,$P$10:$P$29,$Q$10:$Q$29),0))/100,1)","v":1},2.45857314951144]
[1986,"Automovel-Diesel","Diesel",{"$f":"SUM(IF(B664=$L$10:$L$23,$M$10:$M$23,0))","v":10},1,{"$f":"IFERROR(ROUND(VLOOKUP(A664,'Dados de entrada'!$P$7:$Z$50,Dados_v2!D664+1,0)*H664,0),0)","v":254},"NOx",{"$f":"IF(OR(D664=$M$15,D664=$M$20),SUM(IF((A664=$O$10:$O$29),IF(C664=$P$9,$P$10:$P$29,$Q$10:$Q$29),0))/100,1)","v":1},2.45857314951144]
[1987,"Automovel-Diesel","Diesel",{"$f":"SUM(IF(B665=$L$10:$L$23,$M$10:$M$23,0))","v":10},1,{"$f":"IFERROR(ROUND(VLOOKUP(A665,'Dados de entrada'!$P$7:$Z$50,Dados_v2!D665+1,0)*H665,0),0)","v":196},"NOx",{"$f":"IF(OR(D665=$M$15,D665=$M$20),SUM(IF((A665=$O$10:$O$29),IF(C665=$P$9,$P$10:$P$29,$Q$10:$Q$29),0))/100,1)","v":1},2.45857314951144]
[1988,"Automovel-Diesel","Diesel",{"$f":"SUM(IF(B666=$L$10:$L$23,$M$10:$M$23,0))","v":10},1,{"$f":"IFERROR(ROUND(VLOOKUP(A666,'Dados de entrada'!$P$7:$Z$50,Dados_v2!D666+1,0)*H666,0),0)","v":274},"NOx",{"$f":"IF(OR(D666=$M$15,D666=$M$20),SUM(IF((A666=$O$10:$O$29),IF(C666=$P$9,$P$10:$P$29,$Q$10:$Q$29),0))/100,1)","v":1},2.45857314951144]
[1989,"Automovel-Diesel","Diesel",{"$f":"SUM(IF(B667=$L$10:$L$23,$M$10:$M$23,0))","v":10},1,{"$f":"IFERROR(ROUND(VLOOKUP(A667,'Dados de entrada'!$P$7:$Z$50,Dados_v2!D667+1,0)*H667,0),0)","v":390},"NOx",{"$f":"IF(OR(D667=$M$15,D667=$M$20),SUM(IF((A667=$O$10:$O$29),IF(C667=$P$9,$P$10:$P$29,$Q$10:$Q$29),0))/100,1)","v":1},2.45857314951144]
[1990,"Automovel-Diesel","Diesel",{"$f":"SUM(IF(B668=$L$10:$L$23,$M$10:$M$23,0))","v":10},1,{"$f":"IFERROR(ROUND(VLOOKUP(A668,'Dados de entrada'!$P$7:$Z$50,Dados_v2!D668+1,0)*H668,0),0)","v":341},"NOx",{"$f":"IF(OR(D668=$M$15,D668=$M$20),SUM(IF((A668=$O$10:$O$29),IF(C668=$P$9,$P$10:$P$29,$Q$10:$Q$29),0))/100,1)","v":1},2.45857314951144]
[1991,"Automovel-Diesel","Diesel",{"$f":"SUM(IF(B669=$L$10:$L$23,$M$10:$M$23,0))","v":10},1,{"$f":"IFERROR(ROUND(VLOOKUP(A669,'Dados de entrada'!$P$7:$Z$50,Dados_v2!D669+1,0)*H669,0),0)","v":271},"NOx",{"$f":"IF(OR(D669=$M$15,D669=$M$20),SUM(IF((A669=$O$10:$O$29),IF(C669=$P$9,$P$10:$P$29,$Q$10:$Q$29),0))/100,1)","v":1},2.45857314951144]
[1992,"Automovel-Diesel","Diesel",{"$f":"SUM(IF(B670=$L$10:$L$23,$M$10:$M$23,0))","v":10},1,{"$f":"IFERROR(ROUND(VLOOKUP(A670,'Dados de entrada'!$P$7:$Z$50,Dados_v2!D670+1,0)*H670,0),0)","v":289},"NOx",{"$f":"IF(OR(D670=$M$15,D670=$M$20),SUM(IF((A670=$O$10:$O$29),IF(C670=$P$9,$P$10:$P$29,$Q$10:$Q$29),0))/100,1)","v":1},2.45857314951144]
[1993,"Automovel-Diesel","Diesel",{"$f":"SUM(IF(B671=$L$10:$L$23,$M$10:$M$23,0))","v":10},1,{"$f":"IFERROR(ROUND(VLOOKUP(A671,'Dados de entrada'!$P$7:$Z$50,Dados_v2!D671+1,0)*H671,0),0)","v":359},"NOx",{"$f":"IF(OR(D671=$M$15,D671=$M$20),SUM(IF((A671=$O$10:$O$29),IF(C671=$P$9,$P$10:$P$29,$Q$10:$Q$29),0))/100,1)","v":1},2.45857314951144]
[1994,"Automovel-Diesel","Diesel",{"$f":"SUM(IF(B672=$L$10:$L$23,$M$10:$M$23,0))","v":10},1,{"$f":"IFERROR(ROUND(VLOOKUP(A672,'Dados de entrada'!$P$7:$Z$50,Dados_v2!D672+1,0)*H672,0),0)","v":491},"NOx",{"$f":"IF(OR(D672=$M$15,D672=$M$20),SUM(IF((A672=$O$10:$O$29),IF(C672=$P$9,$P$10:$P$29,$Q$10:$Q$29),0))/100,1)","v":1},2.45857314951144]
[1995,"Automovel-Diesel","Diesel",{"$f":"SUM(IF(B673=$L$10:$L$23,$M$10:$M$23,0))","v":10},1,{"$f":"IFERROR(ROUND(VLOOKUP(A673,'Dados de entrada'!$P$7:$Z$50,Dados_v2!D673+1,0)*H673,0),0)","v":553},"NOx",{"$f":"IF(OR(D673=$M$15,D673=$M$20),SUM(IF((A673=$O$10:$O$29),IF(C673=$P$9,$P$10:$P$29,$Q$10:$Q$29),0))/100,1)","v":1},2.45857314951144]
[1996,"Automovel-Diesel","Diesel",{"$f":"SUM(IF(B674=$L$10:$L$23,$M$10:$M$23,0))","v":10},1,{"$f":"IFERROR(ROUND(VLOOKUP(A674,'Dados de entrada'!$P$7:$Z$50,Dados_v2!D674+1,0)*H674,0),0)","v":209},"NOx",{"$f":"IF(OR(D674=$M$15,D674=$M$20),SUM(IF((A674=$O$10:$O$29),IF(C674=$P$9,$P$10:$P$29,$Q$10:$Q$29),0))/100,1)","v":1},2.45857314951144]
[1997,"Automovel-Diesel","Diesel",{"$f":"SUM(IF(B675=$L$10:$L$23,$M$10:$M$23,0))","v":10},1,{"$f":"IFERROR(ROUND(VLOOKUP(A675,'Dados de entrada'!$P$7:$Z$50,Dados_v2!D675+1,0)*H675,0),0)","v":299},"NOx",{"$f":"IF(OR(D675=$M$15,D675=$M$20),SUM(IF((A675=$O$10:$O$29),IF(C675=$P$9,$P$10:$P$29,$Q$10:$Q$29),0))/100,1)","v":1},2.45857314951144]
[1998,"Automovel-Diesel","Diesel",{"$f":"SUM(IF(B676=$L$10:$L$23,$M$10:$M$23,0))","v":10},1,{"$f":"IFERROR(ROUND(VLOOKUP(A676,'Dados de entrada'!$P$7:$Z$50,Dados_v2!D676+1,0)*H676,0),0)","v":409},"NOx",{"$f":"IF(OR(D676=$M$15,D676=$M$20),SUM(IF((A676=$O$10:$O$29),IF(C676=$P$9,$P$10:$P$29,$Q$10:$Q$29),0))/100,1)","v":1},2.45857314951144]
[1999,"Automovel-Diesel","Diesel",{"$f":"SUM(IF(B677=$L$10:$L$23,$M$10:$M$23,0))","v":10},1,{"$f":"IFERROR(ROUND(VLOOKUP(A677,'Dados de entrada'!$P$7:$Z$50,Dados_v2!D677+1,0)*H677,0),0)","v":344},"NOx",{"$f":"IF(OR(D677=$M$15,D677=$M$20),SUM(IF((A677=$O$10:$O$29),IF(C677=$P$9,$P$10:$P$29,$Q$10:$Q$29),0))/100,1)","v":1},2.45857314951144]
[2000,"Automovel-Diesel","Diesel",{"$f":"SUM(IF(B678=$L$10:$L$23,$M$10:$M$23,0))","v":10},1,{"$f":"IFERROR(ROUND(VLOOKUP(A678,'Dados de entrada'!$P$7:$Z$50,Dados_v2!D678+1,0)*H678,0),0)","v":529},"NOx",{"$f":"IF(OR(D678=$M$15,D678=$M$20),SUM(IF((A678=$O$10:$O$29),IF(C678=$P$9,$P$10:$P$29,$Q$10:$Q$29),0))/100,1)","v":1},2.4904074519225001]
[2001,"Automovel-Diesel","Diesel",{"$f":"SUM(IF(B679=$L$10:$L$23,$M$10:$M$23,0))","v":10},1,{"$f":"IFERROR(ROUND(VLOOKUP(A679,'Dados de entrada'!$P$7:$Z$50,Dados_v2!D679+1,0)*H679,0),0)","v":894},"NOx",{"$f":"IF(OR(D679=$M$15,D679=$M$20),SUM(IF((A679=$O$10:$O$29),IF(C679=$P$9,$P$10:$P$29,$Q$10:$Q$29),0))/100,1)","v":1},2.4914370179377499]
[2002,"Automovel-Diesel","Diesel",{"$f":"SUM(IF(B680=$L$10:$L$23,$M$10:$M$23,0))","v":10},1,{"$f":"IFERROR(ROUND(VLOOKUP(A680,'Dados de entrada'!$P$7:$Z$50,Dados_v2!D680+1,0)*H680,0),0)","v":532},"NOx",{"$f":"IF(OR(D680=$M$15,D680=$M$20),SUM(IF((A680=$O$10:$O$29),IF(C680=$P$9,$P$10:$P$29,$Q$10:$Q$29),0))/100,1)","v":1},2.5155495313222498]
[2003,"Automovel-Diesel","Diesel",{"$f":"SUM(IF(B681=$L$10:$L$23,$M$10:$M$23,0))","v":10},1,{"$f":"IFERROR(ROUND(VLOOKUP(A681,'Dados de entrada'!$P$7:$Z$50,Dados_v2!D681+1,0)*H681,0),0)","v":522},"NOx",{"$f":"IF(OR(D681=$M$15,D681=$M$20),SUM(IF((A681=$O$10:$O$29),IF(C681=$P$9,$P$10:$P$29,$Q$10:$Q$29),0))/100,1)","v":1},2.4285905501271499]
[2004,"Automovel-Diesel","Diesel",{"$f":"SUM(IF(B682=$L$10:$L$23,$M$10:$M$23,0))","v":10},1,{"$f":"IFERROR(ROUND(VLOOKUP(A682,'Dados de entrada'!$P$7:$Z$50,Dados_v2!D682+1,0)*H682,0),0)","v":700},"NOx",{"$f":"IF(OR(D682=$M$15,D682=$M$20),SUM(IF((A682=$O$10:$O$29),IF(C682=$P$9,$P$10:$P$29,$Q$10:$Q$29),0))/100,1)","v":1},2.0260292969421498]
[2005,"Automovel-Diesel","Diesel",{"$f":"SUM(IF(B683=$L$10:$L$23,$M$10:$M$23,0))","v":10},1,{"$f":"IFERROR(ROUND(VLOOKUP(A683,'Dados de entrada'!$P$7:$Z$50,Dados_v2!D683+1,0)*H683,0),0)","v":776},"NOx",{"$f":"IF(OR(D683=$M$15,D683=$M$20),SUM(IF((A683=$O$10:$O$29),IF(C683=$P$9,$P$10:$P$29,$Q$10:$Q$29),0))/100,1)","v":1},2.0175233752368]
[2006,"Automovel-Diesel","Diesel",{"$f":"SUM(IF(B684=$L$10:$L$23,$M$10:$M$23,0))","v":10},1,{"$f":"IFERROR(ROUND(VLOOKUP(A684,'Dados de entrada'!$P$7:$Z$50,Dados_v2!D684+1,0)*H684,0),0)","v":1095},"NOx",{"$f":"IF(OR(D684=$M$15,D684=$M$20),SUM(IF((A684=$O$10:$O$29),IF(C684=$P$9,$P$10:$P$29,$Q$10:$Q$29),0))/100,1)","v":1},2.2539387563805899]
[2007,"Automovel-Diesel","Diesel",{"$f":"SUM(IF(B685=$L$10:$L$23,$M$10:$M$23,0))","v":10},1,{"$f":"IFERROR(ROUND(VLOOKUP(A685,'Dados de entrada'!$P$7:$Z$50,Dados_v2!D685+1,0)*H685,0),0)","v":1000},"NOx",{"$f":"IF(OR(D685=$M$15,D685=$M$20),SUM(IF((A685=$O$10:$O$29),IF(C685=$P$9,$P$10:$P$29,$Q$10:$Q$29),0))/100,1)","v":1},1.8269]
[2008,"Automovel-Diesel","Diesel",{"$f":"SUM(IF(B686=$L$10:$L$23,$M$10:$M$23,0))","v":10},1,{"$f":"IFERROR(ROUND(VLOOKUP(A686,'Dados de entrada'!$P$7:$Z$50,Dados_v2!D686+1,0)*H686,0),0)","v":1612},"NOx",{"$f":"IF(OR(D686=$M$15,D686=$M$20),SUM(IF((A686=$O$10:$O$29),IF(C686=$P$9,$P$10:$P$29,$Q$10:$Q$29),0))/100,1)","v":1},1.7377568818257201]
[2009,"Automovel-Diesel","Diesel",{"$f":"SUM(IF(B687=$L$10:$L$23,$M$10:$M$23,0))","v":10},1,{"$f":"IFERROR(ROUND(VLOOKUP(A687,'Dados de entrada'!$P$7:$Z$50,Dados_v2!D687+1,0)*H687,0),0)","v":1582},"NOx",{"$f":"IF(OR(D687=$M$15,D687=$M$20),SUM(IF((A687=$O$10:$O$29),IF(C687=$P$9,$P$10:$P$29,$Q$10:$Q$29),0))/100,1)","v":1},1.66022940250716]
[2010,"Automovel-Diesel","Diesel",{"$f":"SUM(IF(B688=$L$10:$L$23,$M$10:$M$23,0))","v":10},1,{"$f":"IFERROR(ROUND(VLOOKUP(A688,'Dados de entrada'!$P$7:$Z$50,Dados_v2!D688+1,0)*H688,0),0)","v":1717},"NOx",{"$f":"IF(OR(D688=$M$15,D688=$M$20),SUM(IF((A688=$O$10:$O$29),IF(C688=$P$9,$P$10:$P$29,$Q$10:$Q$29),0))/100,1)","v":1},1.9551977674928001]
[2011,"Automovel-Diesel","Diesel",{"$f":"SUM(IF(B689=$L$10:$L$23,$M$10:$M$23,0))","v":10},1,{"$f":"IFERROR(ROUND(VLOOKUP(A689,'Dados de entrada'!$P$7:$Z$50,Dados_v2!D689+1,0)*H689,0),0)","v":2451},"NOx",{"$f":"IF(OR(D689=$M$15,D689=$M$20),SUM(IF((A689=$O$10:$O$29),IF(C689=$P$9,$P$10:$P$29,$Q$10:$Q$29),0))/100,1)","v":1},1.4635729474439501]
[2012,"Automovel-Diesel","Diesel",{"$f":"SUM(IF(B690=$L$10:$L$23,$M$10:$M$23,0))","v":10},1,{"$f":"IFERROR(ROUND(VLOOKUP(A690,'Dados de entrada'!$P$7:$Z$50,Dados_v2!D690+1,0)*H690,0),0)","v":2546},"NOx",{"$f":"IF(OR(D690=$M$15,D690=$M$20),SUM(IF((A690=$O$10:$O$29),IF(C690=$P$9,$P$10:$P$29,$Q$10:$Q$29),0))/100,1)","v":1},1.4635729474439501]
[2013,"Automovel-Diesel","Diesel",{"$f":"SUM(IF(B691=$L$10:$L$23,$M$10:$M$23,0))","v":10},1,{"$f":"IFERROR(ROUND(VLOOKUP(A691,'Dados de entrada'!$P$7:$Z$50,Dados_v2!D691+1,0)*H691,0),0)","v":3295},"NOx",{"$f":"IF(OR(D691=$M$15,D691=$M$20),SUM(IF((A691=$O$10:$O$29),IF(C691=$P$9,$P$10:$P$29,$Q$10:$Q$29),0))/100,1)","v":1},1.4635729474439501]
[2014,"Automovel-Diesel","Diesel",{"$f":"SUM(IF(B692=$L$10:$L$23,$M$10:$M$23,0))","v":10},1,{"$f":"IFERROR(ROUND(VLOOKUP(A692,'Dados de entrada'!$P$7:$Z$50,Dados_v2!D692+1,0)*H692,0),0)","v":2466},"NOx",{"$f":"IF(OR(D692=$M$15,D692=$M$20),SUM(IF((A692=$O$10:$O$29),IF(C692=$P$9,$P$10:$P$29,$Q$10:$Q$29),0))/100,1)","v":1},1.4635729474439501]
[2015,"Automovel-Diesel","Diesel",{"$f":"SUM(IF(B693=$L$10:$L$23,$M$10:$M$23,0))","v":10},1,{"$f":"IFERROR(ROUND(VLOOKUP(A693,'Dados de entrada'!$P$7:$Z$50,Dados_v2!D693+1,0)*H693,0),0)","v":2216},"NOx",{"$f":"IF(OR(D693=$M$15,D693=$M$20),SUM(IF((A693=$O$10:$O$29),IF(C693=$P$9,$P$10:$P$29,$Q$10:$Q$29),0))/100,1)","v":1},1.4635729474439501]
[2016,"Automovel-Diesel","Diesel",{"$f":"SUM(IF(B694=$L$10:$L$23,$M$10:$M$23,0))","v":10},1,{"$f":"IFERROR(ROUND(VLOOKUP(A694,'Dados de entrada'!$P$7:$Z$50,Dados_v2!D694+1,0)*H694,0),0)","v":1862},"NOx",{"$f":"IF(OR(D694=$M$15,D694=$M$20),SUM(IF((A694=$O$10:$O$29),IF(C694=$P$9,$P$10:$P$29,$Q$10:$Q$29),0))/100,1)","v":1},1.4635729474439501]
[2017,"Automovel-Diesel","Diesel",{"$f":"SUM(IF(B695=$L$10:$L$23,$M$10:$M$23,0))","v":10},1,{"$f":"IFERROR(ROUND(VLOOKUP(A695,'Dados de entrada'!$P$7:$Z$50,Dados_v2!D695+1,0)*H695,0),0)","v":2583},"NOx",{"$f":"IF(OR(D695=$M$15,D695=$M$20),SUM(IF((A695=$O$10:$O$29),IF(C695=$P$9,$P$10:$P$29,$Q$10:$Q$29),0))/100,1)","v":1},1.4635729474439501]
[2018,"Automovel-Diesel","Diesel",{"$f":"SUM(IF(B696=$L$10:$L$23,$M$10:$M$23,0))","v":10},1,{"$f":"IFERROR(ROUND(VLOOKUP(A696,'Dados de entrada'!$P$7:$Z$50,Dados_v2!D696+1,0)*H696,0),0)","v":3654},"NOx",{"$f":"IF(OR(D696=$M$15,D696=$M$20),SUM(IF((A696=$O$10:$O$29),IF(C696=$P$9,$P$10:$P$29,$Q$10:$Q$29),0))/100,1)","v":1},1.4635729474439501]
[2019,"Automovel-Diesel","Diesel",{"$f":"SUM(IF(B697=$L$10:$L$23,$M$10:$M$23,0))","v":10},1,{"$f":"IFERROR(ROUND(VLOOKUP(A697,'Dados de entrada'!$P$7:$Z$50,Dados_v2!D697+1,0)*H697,0),0)","v":5965},"NOx",{"$f":"IF(OR(D697=$M$15,D697=$M$20),SUM(IF((A697=$O$10:$O$29),IF(C697=$P$9,$P$10:$P$29,$Q$10:$Q$29),0))/100,1)","v":1},1.4635729474439501]
[2020,"Automovel-Diesel","Diesel",{"$f":"SUM(IF(B698=$L$10:$L$23,$M$10:$M$23,0))","v":10},1,{"$f":"IFERROR(ROUND(VLOOKUP(A698,'Dados de entrada'!$P$7:$Z$50,Dados_v2!D698+1,0)*H698,0),0)","v":7280},"NOx",{"$f":"IF(OR(D698=$M$15,D698=$M$20),SUM(IF((A698=$O$10:$O$29),IF(C698=$P$9,$P$10:$P$29,$Q$10:$Q$29),0))/100,1)","v":1},1.4635729474439501]
[2021,"Automovel-Diesel","Diesel",{"$f":"SUM(IF(B699=$L$10:$L$23,$M$10:$M$23,0))","v":10},1,{"$f":"IFERROR(ROUND(VLOOKUP(A699,'Dados de entrada'!$P$7:$Z$50,Dados_v2!D699+1,0)*H699,0),0)","v":10740},"NOx",{"$f":"IF(OR(D699=$M$15,D699=$M$20),SUM(IF((A699=$O$10:$O$29),IF(C699=$P$9,$P$10:$P$29,$Q$10:$Q$29),0))/100,1)","v":1},1.4635729474439501]
[2022,"Automovel-Diesel","Diesel",{"$f":"SUM(IF(B700=$L$10:$L$23,$M$10:$M$23,0))","v":10},1,{"$f":"IFERROR(ROUND(VLOOKUP(A700,'Dados de entrada'!$P$7:$Z$50,Dados_v2!D700+1,0)*H700,0),0)","v":20006},"NOx",{"$f":"IF(OR(D700=$M$15,D700=$M$20),SUM(IF((A700=$O$10:$O$29),IF(C700=$P$9,$P$10:$P$29,$Q$10:$Q$29),0))/100,1)","v":1},3.4000000000000002E-2]
[1983,"Onibus","Diesel",{"$f":"SUM(IF(B701=$L$10:$L$23,$M$10:$M$23,0))","v":1},3,{"$f":"IFERROR(ROUND(VLOOKUP(A701,'Dados de entrada'!$P$7:$Z$50,Dados_v2!D701+1,0)*H701,0),0)","v":26},"MP",{"$f":"IF(OR(D701=$M$15,D701=$M$20),SUM(IF((A701=$O$10:$O$29),IF(C701=$P$9,$P$10:$P$29,$Q$10:$Q$29),0))/100,1)","v":1},1.071]
[1984,"Onibus","Diesel",{"$f":"SUM(IF(B702=$L$10:$L$23,$M$10:$M$23,0))","v":1},3,{"$f":"IFERROR(ROUND(VLOOKUP(A702,'Dados de entrada'!$P$7:$Z$50,Dados_v2!D702+1,0)*H702,0),0)","v":27},"MP",{"$f":"IF(OR(D702=$M$15,D702=$M$20),SUM(IF((A702=$O$10:$O$29),IF(C702=$P$9,$P$10:$P$29,$Q$10:$Q$29),0))/100,1)","v":1},1.071]
[1985,"Onibus","Diesel",{"$f":"SUM(IF(B703=$L$10:$L$23,$M$10:$M$23,0))","v":1},3,{"$f":"IFERROR(ROUND(VLOOKUP(A703,'Dados de entrada'!$P$7:$Z$50,Dados_v2!D703+1,0)*H703,0),0)","v":30},"MP",{"$f":"IF(OR(D703=$M$15,D703=$M$20),SUM(IF((A703=$O$10:$O$29),IF(C703=$P$9,$P$10:$P$29,$Q$10:$Q$29),0))/100,1)","v":1},1.071]
[1986,"Onibus","Diesel",{"$f":"SUM(IF(B704=$L$10:$L$23,$M$10:$M$23,0))","v":1},3,{"$f":"IFERROR(ROUND(VLOOKUP(A704,'Dados de entrada'!$P$7:$Z$50,Dados_v2!D704+1,0)*H704,0),0)","v":58},"MP",{"$f":"IF(OR(D704=$M$15,D704=$M$20),SUM(IF((A704=$O$10:$O$29),IF(C704=$P$9,$P$10:$P$29,$Q$10:$Q$29),0))/100,1)","v":1},1.071]
[1987,"Onibus","Diesel",{"$f":"SUM(IF(B705=$L$10:$L$23,$M$10:$M$23,0))","v":1},3,{"$f":"IFERROR(ROUND(VLOOKUP(A705,'Dados de entrada'!$P$7:$Z$50,Dados_v2!D705+1,0)*H705,0),0)","v":57},"MP",{"$f":"IF(OR(D705=$M$15,D705=$M$20),SUM(IF((A705=$O$10:$O$29),IF(C705=$P$9,$P$10:$P$29,$Q$10:$Q$29),0))/100,1)","v":1},1.071]
[1988,"Onibus","Diesel",{"$f":"SUM(IF(B706=$L$10:$L$23,$M$10:$M$23,0))","v":1},3,{"$f":"IFERROR(ROUND(VLOOKUP(A706,'Dados de entrada'!$P$7:$Z$50,Dados_v2!D706+1,0)*H706,0),0)","v":67},"MP",{"$f":"IF(OR(D706=$M$15,D706=$M$20),SUM(IF((A706=$O$10:$O$29),IF(C706=$P$9,$P$10:$P$29,$Q$10:$Q$29),0))/100,1)","v":1},1.071]
[1989,"Onibus","Diesel",{"$f":"SUM(IF(B707=$L$10:$L$23,$M$10:$M$23,0))","v":1},3,{"$f":"IFERROR(ROUND(VLOOKUP(A707,'Dados de entrada'!$P$7:$Z$50,Dados_v2!D707+1,0)*H707,0),0)","v":81},"MP",{"$f":"IF(OR(D707=$M$15,D707=$M$20),SUM(IF((A707=$O$10:$O$29),IF(C707=$P$9,$P$10:$P$29,$Q$10:$Q$29),0))/100,1)","v":1},1.071]
[1990,"Onibus","Diesel",{"$f":"SUM(IF(B708=$L$10:$L$23,$M$10:$M$23,0))","v":1},3,{"$f":"IFERROR(ROUND(VLOOKUP(A708,'Dados de entrada'!$P$7:$Z$50,Dados_v2!D708+1,0)*H708,0),0)","v":54},"MP",{"$f":"IF(OR(D708=$M$15,D708=$M$20),SUM(IF((A708=$O$10:$O$29),IF(C708=$P$9,$P$10:$P$29,$Q$10:$Q$29),0))/100,1)","v":1},1.071]
[1991,"Onibus","Diesel",{"$f":"SUM(IF(B709=$L$10:$L$23,$M$10:$M$23,0))","v":1},3,{"$f":"IFERROR(ROUND(VLOOKUP(A709,'Dados de entrada'!$P$7:$Z$50,Dados_v2!D709+1,0)*H709,0),0)","v":50},"MP",{"$f":"IF(OR(D709=$M$15,D709=$M$20),SUM(IF((A709=$O$10:$O$29),IF(C709=$P$9,$P$10:$P$29,$Q$10:$Q$29),0))/100,1)","v":1},1.071]
[1992,"Onibus","Diesel",{"$f":"SUM(IF(B710=$L$10:$L$23,$M$10:$M$23,0))","v":1},3,{"$f":"IFERROR(ROUND(VLOOKUP(A710,'Dados de entrada'!$P$7:$Z$50,Dados_v2!D710+1,0)*H710,0),0)","v":97},"MP",{"$f":"IF(OR(D710=$M$15,D710=$M$20),SUM(IF((A710=$O$10:$O$29),IF(C710=$P$9,$P$10:$P$29,$Q$10:$Q$29),0))/100,1)","v":1},1.071]
[1993,"Onibus","Diesel",{"$f":"SUM(IF(B711=$L$10:$L$23,$M$10:$M$23,0))","v":1},3,{"$f":"IFERROR(ROUND(VLOOKUP(A711,'Dados de entrada'!$P$7:$Z$50,Dados_v2!D711+1,0)*H711,0),0)","v":71},"MP",{"$f":"IF(OR(D711=$M$15,D711=$M$20),SUM(IF((A711=$O$10:$O$29),IF(C711=$P$9,$P$10:$P$29,$Q$10:$Q$29),0))/100,1)","v":1},1.071]
[1994,"Onibus","Diesel",{"$f":"SUM(IF(B712=$L$10:$L$23,$M$10:$M$23,0))","v":1},3,{"$f":"IFERROR(ROUND(VLOOKUP(A712,'Dados de entrada'!$P$7:$Z$50,Dados_v2!D712+1,0)*H712,0),0)","v":49},"MP",{"$f":"IF(OR(D712=$M$15,D712=$M$20),SUM(IF((A712=$O$10:$O$29),IF(C712=$P$9,$P$10:$P$29,$Q$10:$Q$29),0))/100,1)","v":1},1.071]
[1995,"Onibus","Diesel",{"$f":"SUM(IF(B713=$L$10:$L$23,$M$10:$M$23,0))","v":1},3,{"$f":"IFERROR(ROUND(VLOOKUP(A713,'Dados de entrada'!$P$7:$Z$50,Dados_v2!D713+1,0)*H713,0),0)","v":86},"MP",{"$f":"IF(OR(D713=$M$15,D713=$M$20),SUM(IF((A713=$O$10:$O$29),IF(C713=$P$9,$P$10:$P$29,$Q$10:$Q$29),0))/100,1)","v":1},1.071]
[1996,"Onibus","Diesel",{"$f":"SUM(IF(B714=$L$10:$L$23,$M$10:$M$23,0))","v":1},3,{"$f":"IFERROR(ROUND(VLOOKUP(A714,'Dados de entrada'!$P$7:$Z$50,Dados_v2!D714+1,0)*H714,0),0)","v":101},"MP",{"$f":"IF(OR(D714=$M$15,D714=$M$20),SUM(IF((A714=$O$10:$O$29),IF(C714=$P$9,$P$10:$P$29,$Q$10:$Q$29),0))/100,1)","v":1},1.071]
[1997,"Onibus","Diesel",{"$f":"SUM(IF(B715=$L$10:$L$23,$M$10:$M$23,0))","v":1},3,{"$f":"IFERROR(ROUND(VLOOKUP(A715,'Dados de entrada'!$P$7:$Z$50,Dados_v2!D715+1,0)*H715,0),0)","v":89},"MP",{"$f":"IF(OR(D715=$M$15,D715=$M$20),SUM(IF((A715=$O$10:$O$29),IF(C715=$P$9,$P$10:$P$29,$Q$10:$Q$29),0))/100,1)","v":1},1.071]
[1998,"Onibus","Diesel",{"$f":"SUM(IF(B716=$L$10:$L$23,$M$10:$M$23,0))","v":1},3,{"$f":"IFERROR(ROUND(VLOOKUP(A716,'Dados de entrada'!$P$7:$Z$50,Dados_v2!D716+1,0)*H716,0),0)","v":97},"MP",{"$f":"IF(OR(D716=$M$15,D716=$M$20),SUM(IF((A716=$O$10:$O$29),IF(C716=$P$9,$P$10:$P$29,$Q$10:$Q$29),0))/100,1)","v":1},1.071]
[1999,"Onibus","Diesel",{"$f":"SUM(IF(B717=$L$10:$L$23,$M$10:$M$23,0))","v":1},3,{"$f":"IFERROR(ROUND(VLOOKUP(A717,'Dados de entrada'!$P$7:$Z$50,Dados_v2!D717+1,0)*H717,0),0)","v":139},"MP",{"$f":"IF(OR(D717=$M$15,D717=$M$20),SUM(IF((A717=$O$10:$O$29),IF(C717=$P$9,$P$10:$P$29,$Q$10:$Q$29),0))/100,1)","v":1},1.071]
[2000,"Onibus","Diesel",{"$f":"SUM(IF(B718=$L$10:$L$23,$M$10:$M$23,0))","v":1},3,{"$f":"IFERROR(ROUND(VLOOKUP(A718,'Dados de entrada'!$P$7:$Z$50,Dados_v2!D718+1,0)*H718,0),0)","v":77},"MP",{"$f":"IF(OR(D718=$M$15,D718=$M$20),SUM(IF((A718=$O$10:$O$29),IF(C718=$P$9,$P$10:$P$29,$Q$10:$Q$29),0))/100,1)","v":1},0.53300000000000003]
[2001,"Onibus","Diesel",{"$f":"SUM(IF(B719=$L$10:$L$23,$M$10:$M$23,0))","v":1},3,{"$f":"IFERROR(ROUND(VLOOKUP(A719,'Dados de entrada'!$P$7:$Z$50,Dados_v2!D719+1,0)*H719,0),0)","v":156},"MP",{"$f":"IF(OR(D719=$M$15,D719=$M$20),SUM(IF((A719=$O$10:$O$29),IF(C719=$P$9,$P$10:$P$29,$Q$10:$Q$29),0))/100,1)","v":1},0.53300000000000003]
[2002,"Onibus","Diesel",{"$f":"SUM(IF(B720=$L$10:$L$23,$M$10:$M$23,0))","v":1},3,{"$f":"IFERROR(ROUND(VLOOKUP(A720,'Dados de entrada'!$P$7:$Z$50,Dados_v2!D720+1,0)*H720,0),0)","v":91},"MP",{"$f":"IF(OR(D720=$M$15,D720=$M$20),SUM(IF((A720=$O$10:$O$29),IF(C720=$P$9,$P$10:$P$29,$Q$10:$Q$29),0))/100,1)","v":1},0.20899999999999999]
[2003,"Onibus","Diesel",{"$f":"SUM(IF(B721=$L$10:$L$23,$M$10:$M$23,0))","v":1},3,{"$f":"IFERROR(ROUND(VLOOKUP(A721,'Dados de entrada'!$P$7:$Z$50,Dados_v2!D721+1,0)*H721,0),0)","v":103},"MP",{"$f":"IF(OR(D721=$M$15,D721=$M$20),SUM(IF((A721=$O$10:$O$29),IF(C721=$P$9,$P$10:$P$29,$Q$10:$Q$29),0))/100,1)","v":1},0.20899999999999999]
[2004,"Onibus","Diesel",{"$f":"SUM(IF(B722=$L$10:$L$23,$M$10:$M$23,0))","v":1},3,{"$f":"IFERROR(ROUND(VLOOKUP(A722,'Dados de entrada'!$P$7:$Z$50,Dados_v2!D722+1,0)*H722,0),0)","v":131},"MP",{"$f":"IF(OR(D722=$M$15,D722=$M$20),SUM(IF((A722=$O$10:$O$29),IF(C722=$P$9,$P$10:$P$29,$Q$10:$Q$29),0))/100,1)","v":1},0.16600000000000001]
[2005,"Onibus","Diesel",{"$f":"SUM(IF(B723=$L$10:$L$23,$M$10:$M$23,0))","v":1},3,{"$f":"IFERROR(ROUND(VLOOKUP(A723,'Dados de entrada'!$P$7:$Z$50,Dados_v2!D723+1,0)*H723,0),0)","v":96},"MP",{"$f":"IF(OR(D723=$M$15,D723=$M$20),SUM(IF((A723=$O$10:$O$29),IF(C723=$P$9,$P$10:$P$29,$Q$10:$Q$29),0))/100,1)","v":1},0.16600000000000001]
[2006,"Onibus","Diesel",{"$f":"SUM(IF(B724=$L$10:$L$23,$M$10:$M$23,0))","v":1},3,{"$f":"IFERROR(ROUND(VLOOKUP(A724,'Dados de entrada'!$P$7:$Z$50,Dados_v2!D724+1,0)*H724,0),0)","v":156},"MP",{"$f":"IF(OR(D724=$M$15,D724=$M$20),SUM(IF((A724=$O$10:$O$29),IF(C724=$P$9,$P$10:$P$29,$Q$10:$Q$29),0))/100,1)","v":1},0.16300000000000001]
[2007,"Onibus","Diesel",{"$f":"SUM(IF(B725=$L$10:$L$23,$M$10:$M$23,0))","v":1},3,{"$f":"IFERROR(ROUND(VLOOKUP(A725,'Dados de entrada'!$P$7:$Z$50,Dados_v2!D725+1,0)*H725,0),0)","v":212},"MP",{"$f":"IF(OR(D725=$M$15,D725=$M$20),SUM(IF((A725=$O$10:$O$29),IF(C725=$P$9,$P$10:$P$29,$Q$10:$Q$29),0))/100,1)","v":1},0.16300000000000001]
[2008,"Onibus","Diesel",{"$f":"SUM(IF(B726=$L$10:$L$23,$M$10:$M$23,0))","v":1},3,{"$f":"IFERROR(ROUND(VLOOKUP(A726,'Dados de entrada'!$P$7:$Z$50,Dados_v2!D726+1,0)*H726,0),0)","v":332},"MP",{"$f":"IF(OR(D726=$M$15,D726=$M$20),SUM(IF((A726=$O$10:$O$29),IF(C726=$P$9,$P$10:$P$29,$Q$10:$Q$29),0))/100,1)","v":1},0.16]
[2009,"Onibus","Diesel",{"$f":"SUM(IF(B727=$L$10:$L$23,$M$10:$M$23,0))","v":1},3,{"$f":"IFERROR(ROUND(VLOOKUP(A727,'Dados de entrada'!$P$7:$Z$50,Dados_v2!D727+1,0)*H727,0),0)","v":187},"MP",{"$f":"IF(OR(D727=$M$15,D727=$M$20),SUM(IF((A727=$O$10:$O$29),IF(C727=$P$9,$P$10:$P$29,$Q$10:$Q$29),0))/100,1)","v":1},0.14699999999999999]
[2010,"Onibus","Diesel",{"$f":"SUM(IF(B728=$L$10:$L$23,$M$10:$M$23,0))","v":1},3,{"$f":"IFERROR(ROUND(VLOOKUP(A728,'Dados de entrada'!$P$7:$Z$50,Dados_v2!D728+1,0)*H728,0),0)","v":303},"MP",{"$f":"IF(OR(D728=$M$15,D728=$M$20),SUM(IF((A728=$O$10:$O$29),IF(C728=$P$9,$P$10:$P$29,$Q$10:$Q$29),0))/100,1)","v":1},0.152]
[2011,"Onibus","Diesel",{"$f":"SUM(IF(B729=$L$10:$L$23,$M$10:$M$23,0))","v":1},3,{"$f":"IFERROR(ROUND(VLOOKUP(A729,'Dados de entrada'!$P$7:$Z$50,Dados_v2!D729+1,0)*H729,0),0)","v":420},"MP",{"$f":"IF(OR(D729=$M$15,D729=$M$20),SUM(IF((A729=$O$10:$O$29),IF(C729=$P$9,$P$10:$P$29,$Q$10:$Q$29),0))/100,1)","v":1},0.152]
[2012,"Onibus","Diesel",{"$f":"SUM(IF(B730=$L$10:$L$23,$M$10:$M$23,0))","v":1},3,{"$f":"IFERROR(ROUND(VLOOKUP(A730,'Dados de entrada'!$P$7:$Z$50,Dados_v2!D730+1,0)*H730,0),0)","v":472},"MP",{"$f":"IF(OR(D730=$M$15,D730=$M$20),SUM(IF((A730=$O$10:$O$29),IF(C730=$P$9,$P$10:$P$29,$Q$10:$Q$29),0))/100,1)","v":1},2.1000000000000001E-2]
[2013,"Onibus","Diesel",{"$f":"SUM(IF(B731=$L$10:$L$23,$M$10:$M$23,0))","v":1},3,{"$f":"IFERROR(ROUND(VLOOKUP(A731,'Dados de entrada'!$P$7:$Z$50,Dados_v2!D731+1,0)*H731,0),0)","v":394},"MP",{"$f":"IF(OR(D731=$M$15,D731=$M$20),SUM(IF((A731=$O$10:$O$29),IF(C731=$P$9,$P$10:$P$29,$Q$10:$Q$29),0))/100,1)","v":1},2.1000000000000001E-2]
[2014,"Onibus","Diesel",{"$f":"SUM(IF(B732=$L$10:$L$23,$M$10:$M$23,0))","v":1},3,{"$f":"IFERROR(ROUND(VLOOKUP(A732,'Dados de entrada'!$P$7:$Z$50,Dados_v2!D732+1,0)*H732,0),0)","v":799},"MP",{"$f":"IF(OR(D732=$M$15,D732=$M$20),SUM(IF((A732=$O$10:$O$29),IF(C732=$P$9,$P$10:$P$29,$Q$10:$Q$29),0))/100,1)","v":1},2.1000000000000001E-2]
[2015,"Onibus","Diesel",{"$f":"SUM(IF(B733=$L$10:$L$23,$M$10:$M$23,0))","v":1},3,{"$f":"IFERROR(ROUND(VLOOKUP(A733,'Dados de entrada'!$P$7:$Z$50,Dados_v2!D733+1,0)*H733,0),0)","v":209},"MP",{"$f":"IF(OR(D733=$M$15,D733=$M$20),SUM(IF((A733=$O$10:$O$29),IF(C733=$P$9,$P$10:$P$29,$Q$10:$Q$29),0))/100,1)","v":1},2.1000000000000001E-2]
[2016,"Onibus","Diesel",{"$f":"SUM(IF(B734=$L$10:$L$23,$M$10:$M$23,0))","v":1},3,{"$f":"IFERROR(ROUND(VLOOKUP(A734,'Dados de entrada'!$P$7:$Z$50,Dados_v2!D734+1,0)*H734,0),0)","v":272},"MP",{"$f":"IF(OR(D734=$M$15,D734=$M$20),SUM(IF((A734=$O$10:$O$29),IF(C734=$P$9,$P$10:$P$29,$Q$10:$Q$29),0))/100,1)","v":1},2.0964051181738601E-2]
[2017,"Onibus","Diesel",{"$f":"SUM(IF(B735=$L$10:$L$23,$M$10:$M$23,0))","v":1},3,{"$f":"IFERROR(ROUND(VLOOKUP(A735,'Dados de entrada'!$P$7:$Z$50,Dados_v2!D735+1,0)*H735,0),0)","v":281},"MP",{"$f":"IF(OR(D735=$M$15,D735=$M$20),SUM(IF((A735=$O$10:$O$29),IF(C735=$P$9,$P$10:$P$29,$Q$10:$Q$29),0))/100,1)","v":1},2.1428279730067199E-2]
[2018,"Onibus","Diesel",{"$f":"SUM(IF(B736=$L$10:$L$23,$M$10:$M$23,0))","v":1},3,{"$f":"IFERROR(ROUND(VLOOKUP(A736,'Dados de entrada'!$P$7:$Z$50,Dados_v2!D736+1,0)*H736,0),0)","v":188},"MP",{"$f":"IF(OR(D736=$M$15,D736=$M$20),SUM(IF((A736=$O$10:$O$29),IF(C736=$P$9,$P$10:$P$29,$Q$10:$Q$29),0))/100,1)","v":1},2.15593965277836E-2]
[2019,"Onibus","Diesel",{"$f":"SUM(IF(B737=$L$10:$L$23,$M$10:$M$23,0))","v":1},3,{"$f":"IFERROR(ROUND(VLOOKUP(A737,'Dados de entrada'!$P$7:$Z$50,Dados_v2!D737+1,0)*H737,0),0)","v":363},"MP",{"$f":"IF(OR(D737=$M$15,D737=$M$20),SUM(IF((A737=$O$10:$O$29),IF(C737=$P$9,$P$10:$P$29,$Q$10:$Q$29),0))/100,1)","v":1},2.3382147677525101E-2]
[2020,"Onibus","Diesel",{"$f":"SUM(IF(B738=$L$10:$L$23,$M$10:$M$23,0))","v":1},3,{"$f":"IFERROR(ROUND(VLOOKUP(A738,'Dados de entrada'!$P$7:$Z$50,Dados_v2!D738+1,0)*H738,0),0)","v":561},"MP",{"$f":"IF(OR(D738=$M$15,D738=$M$20),SUM(IF((A738=$O$10:$O$29),IF(C738=$P$9,$P$10:$P$29,$Q$10:$Q$29),0))/100,1)","v":1},2.3596447699795901E-2]
[2021,"Onibus","Diesel",{"$f":"SUM(IF(B739=$L$10:$L$23,$M$10:$M$23,0))","v":1},3,{"$f":"IFERROR(ROUND(VLOOKUP(A739,'Dados de entrada'!$P$7:$Z$50,Dados_v2!D739+1,0)*H739,0),0)","v":175},"MP",{"$f":"IF(OR(D739=$M$15,D739=$M$20),SUM(IF((A739=$O$10:$O$29),IF(C739=$P$9,$P$10:$P$29,$Q$10:$Q$29),0))/100,1)","v":1},2.4662222555546499E-2]
[2022,"Onibus","Diesel",{"$f":"SUM(IF(B740=$L$10:$L$23,$M$10:$M$23,0))","v":1},3,{"$f":"IFERROR(ROUND(VLOOKUP(A740,'Dados de entrada'!$P$7:$Z$50,Dados_v2!D740+1,0)*H740,0),0)","v":239},"MP",{"$f":"IF(OR(D740=$M$15,D740=$M$20),SUM(IF((A740=$O$10:$O$29),IF(C740=$P$9,$P$10:$P$29,$Q$10:$Q$29),0))/100,1)","v":1},2.7501697801625799E-2]
[2022,"Onibus-E","Elétrico",{"$f":"SUM(IF(B741=$L$10:$L$23,$M$10:$M$23,0))","v":2},3,{"$f":"IFERROR(ROUND(VLOOKUP(A741,'Dados de entrada'!$P$7:$Z$50,Dados_v2!D741+1,0)*H741,0),0)","v":0},"MP",{"$f":"IF(OR(D741=$M$15,D741=$M$20),SUM(IF((A741=$O$10:$O$29),IF(C741=$P$9,$P$10:$P$29,$Q$10:$Q$29),0))/100,1)","v":1},0]
[1983,"Microonibus","Diesel",{"$f":"SUM(IF(B742=$L$10:$L$23,$M$10:$M$23,0))","v":3},3,{"$f":"IFERROR(ROUND(VLOOKUP(A742,'Dados de entrada'!$P$7:$Z$50,Dados_v2!D742+1,0)*H742,0),0)","v":0},"MP",{"$f":"IF(OR(D742=$M$15,D742=$M$20),SUM(IF((A742=$O$10:$O$29),IF(C742=$P$9,$P$10:$P$29,$Q$10:$Q$29),0))/100,1)","v":1},1.071]
[1984,"Microonibus","Diesel",{"$f":"SUM(IF(B743=$L$10:$L$23,$M$10:$M$23,0))","v":3},3,{"$f":"IFERROR(ROUND(VLOOKUP(A743,'Dados de entrada'!$P$7:$Z$50,Dados_v2!D743+1,0)*H743,0),0)","v":1},"MP",{"$f":"IF(OR(D743=$M$15,D743=$M$20),SUM(IF((A743=$O$10:$O$29),IF(C743=$P$9,$P$10:$P$29,$Q$10:$Q$29),0))/100,1)","v":1},1.071]
[1985,"Microonibus","Diesel",{"$f":"SUM(IF(B744=$L$10:$L$23,$M$10:$M$23,0))","v":3},3,{"$f":"IFERROR(ROUND(VLOOKUP(A744,'Dados de entrada'!$P$7:$Z$50,Dados_v2!D744+1,0)*H744,0),0)","v":1},"MP",{"$f":"IF(OR(D744=$M$15,D744=$M$20),SUM(IF((A744=$O$10:$O$29),IF(C744=$P$9,$P$10:$P$29,$Q$10:$Q$29),0))/100,1)","v":1},1.071]
[1986,"Microonibus","Diesel",{"$f":"SUM(IF(B745=$L$10:$L$23,$M$10:$M$23,0))","v":3},3,{"$f":"IFERROR(ROUND(VLOOKUP(A745,'Dados de entrada'!$P$7:$Z$50,Dados_v2!D745+1,0)*H745,0),0)","v":4},"MP",{"$f":"IF(OR(D745=$M$15,D745=$M$20),SUM(IF((A745=$O$10:$O$29),IF(C745=$P$9,$P$10:$P$29,$Q$10:$Q$29),0))/100,1)","v":1},1.071]
[1987,"Microonibus","Diesel",{"$f":"SUM(IF(B746=$L$10:$L$23,$M$10:$M$23,0))","v":3},3,{"$f":"IFERROR(ROUND(VLOOKUP(A746,'Dados de entrada'!$P$7:$Z$50,Dados_v2!D746+1,0)*H746,0),0)","v":3},"MP",{"$f":"IF(OR(D746=$M$15,D746=$M$20),SUM(IF((A746=$O$10:$O$29),IF(C746=$P$9,$P$10:$P$29,$Q$10:$Q$29),0))/100,1)","v":1},1.071]
[1988,"Microonibus","Diesel",{"$f":"SUM(IF(B747=$L$10:$L$23,$M$10:$M$23,0))","v":3},3,{"$f":"IFERROR(ROUND(VLOOKUP(A747,'Dados de entrada'!$P$7:$Z$50,Dados_v2!D747+1,0)*H747,0),0)","v":3},"MP",{"$f":"IF(OR(D747=$M$15,D747=$M$20),SUM(IF((A747=$O$10:$O$29),IF(C747=$P$9,$P$10:$P$29,$Q$10:$Q$29),0))/100,1)","v":1},1.071]
[1989,"Microonibus","Diesel",{"$f":"SUM(IF(B748=$L$10:$L$23,$M$10:$M$23,0))","v":3},3,{"$f":"IFERROR(ROUND(VLOOKUP(A748,'Dados de entrada'!$P$7:$Z$50,Dados_v2!D748+1,0)*H748,0),0)","v":0},"MP",{"$f":"IF(OR(D748=$M$15,D748=$M$20),SUM(IF((A748=$O$10:$O$29),IF(C748=$P$9,$P$10:$P$29,$Q$10:$Q$29),0))/100,1)","v":1},1.071]
[1990,"Microonibus","Diesel",{"$f":"SUM(IF(B749=$L$10:$L$23,$M$10:$M$23,0))","v":3},3,{"$f":"IFERROR(ROUND(VLOOKUP(A749,'Dados de entrada'!$P$7:$Z$50,Dados_v2!D749+1,0)*H749,0),0)","v":6},"MP",{"$f":"IF(OR(D749=$M$15,D749=$M$20),SUM(IF((A749=$O$10:$O$29),IF(C749=$P$9,$P$10:$P$29,$Q$10:$Q$29),0))/100,1)","v":1},1.071]
[1991,"Microonibus","Diesel",{"$f":"SUM(IF(B750=$L$10:$L$23,$M$10:$M$23,0))","v":3},3,{"$f":"IFERROR(ROUND(VLOOKUP(A750,'Dados de entrada'!$P$7:$Z$50,Dados_v2!D750+1,0)*H750,0),0)","v":3},"MP",{"$f":"IF(OR(D750=$M$15,D750=$M$20),SUM(IF((A750=$O$10:$O$29),IF(C750=$P$9,$P$10:$P$29,$Q$10:$Q$29),0))/100,1)","v":1},1.071]
[1992,"Microonibus","Diesel",{"$f":"SUM(IF(B751=$L$10:$L$23,$M$10:$M$23,0))","v":3},3,{"$f":"IFERROR(ROUND(VLOOKUP(A751,'Dados de entrada'!$P$7:$Z$50,Dados_v2!D751+1,0)*H751,0),0)","v":0},"MP",{"$f":"IF(OR(D751=$M$15,D751=$M$20),SUM(IF((A751=$O$10:$O$29),IF(C751=$P$9,$P$10:$P$29,$Q$10:$Q$29),0))/100,1)","v":1},1.071]
[1993,"Microonibus","Diesel",{"$f":"SUM(IF(B752=$L$10:$L$23,$M$10:$M$23,0))","v":3},3,{"$f":"IFERROR(ROUND(VLOOKUP(A752,'Dados de entrada'!$P$7:$Z$50,Dados_v2!D752+1,0)*H752,0),0)","v":10},"MP",{"$f":"IF(OR(D752=$M$15,D752=$M$20),SUM(IF((A752=$O$10:$O$29),IF(C752=$P$9,$P$10:$P$29,$Q$10:$Q$29),0))/100,1)","v":1},1.071]
[1994,"Microonibus","Diesel",{"$f":"SUM(IF(B753=$L$10:$L$23,$M$10:$M$23,0))","v":3},3,{"$f":"IFERROR(ROUND(VLOOKUP(A753,'Dados de entrada'!$P$7:$Z$50,Dados_v2!D753+1,0)*H753,0),0)","v":28},"MP",{"$f":"IF(OR(D753=$M$15,D753=$M$20),SUM(IF((A753=$O$10:$O$29),IF(C753=$P$9,$P$10:$P$29,$Q$10:$Q$29),0))/100,1)","v":1},1.071]
[1995,"Microonibus","Diesel",{"$f":"SUM(IF(B754=$L$10:$L$23,$M$10:$M$23,0))","v":3},3,{"$f":"IFERROR(ROUND(VLOOKUP(A754,'Dados de entrada'!$P$7:$Z$50,Dados_v2!D754+1,0)*H754,0),0)","v":103},"MP",{"$f":"IF(OR(D754=$M$15,D754=$M$20),SUM(IF((A754=$O$10:$O$29),IF(C754=$P$9,$P$10:$P$29,$Q$10:$Q$29),0))/100,1)","v":1},1.071]
[1996,"Microonibus","Diesel",{"$f":"SUM(IF(B755=$L$10:$L$23,$M$10:$M$23,0))","v":3},3,{"$f":"IFERROR(ROUND(VLOOKUP(A755,'Dados de entrada'!$P$7:$Z$50,Dados_v2!D755+1,0)*H755,0),0)","v":37},"MP",{"$f":"IF(OR(D755=$M$15,D755=$M$20),SUM(IF((A755=$O$10:$O$29),IF(C755=$P$9,$P$10:$P$29,$Q$10:$Q$29),0))/100,1)","v":1},1.071]
[1997,"Microonibus","Diesel",{"$f":"SUM(IF(B756=$L$10:$L$23,$M$10:$M$23,0))","v":3},3,{"$f":"IFERROR(ROUND(VLOOKUP(A756,'Dados de entrada'!$P$7:$Z$50,Dados_v2!D756+1,0)*H756,0),0)","v":218},"MP",{"$f":"IF(OR(D756=$M$15,D756=$M$20),SUM(IF((A756=$O$10:$O$29),IF(C756=$P$9,$P$10:$P$29,$Q$10:$Q$29),0))/100,1)","v":1},1.071]
[1998,"Microonibus","Diesel",{"$f":"SUM(IF(B757=$L$10:$L$23,$M$10:$M$23,0))","v":3},3,{"$f":"IFERROR(ROUND(VLOOKUP(A757,'Dados de entrada'!$P$7:$Z$50,Dados_v2!D757+1,0)*H757,0),0)","v":159},"MP",{"$f":"IF(OR(D757=$M$15,D757=$M$20),SUM(IF((A757=$O$10:$O$29),IF(C757=$P$9,$P$10:$P$29,$Q$10:$Q$29),0))/100,1)","v":1},1.071]
[1999,"Microonibus","Diesel",{"$f":"SUM(IF(B758=$L$10:$L$23,$M$10:$M$23,0))","v":3},3,{"$f":"IFERROR(ROUND(VLOOKUP(A758,'Dados de entrada'!$P$7:$Z$50,Dados_v2!D758+1,0)*H758,0),0)","v":124},"MP",{"$f":"IF(OR(D758=$M$15,D758=$M$20),SUM(IF((A758=$O$10:$O$29),IF(C758=$P$9,$P$10:$P$29,$Q$10:$Q$29),0))/100,1)","v":1},1.071]
[2000,"Microonibus","Diesel",{"$f":"SUM(IF(B759=$L$10:$L$23,$M$10:$M$23,0))","v":3},3,{"$f":"IFERROR(ROUND(VLOOKUP(A759,'Dados de entrada'!$P$7:$Z$50,Dados_v2!D759+1,0)*H759,0),0)","v":138},"MP",{"$f":"IF(OR(D759=$M$15,D759=$M$20),SUM(IF((A759=$O$10:$O$29),IF(C759=$P$9,$P$10:$P$29,$Q$10:$Q$29),0))/100,1)","v":1},0.53300000000000003]
[2001,"Microonibus","Diesel",{"$f":"SUM(IF(B760=$L$10:$L$23,$M$10:$M$23,0))","v":3},3,{"$f":"IFERROR(ROUND(VLOOKUP(A760,'Dados de entrada'!$P$7:$Z$50,Dados_v2!D760+1,0)*H760,0),0)","v":208},"MP",{"$f":"IF(OR(D760=$M$15,D760=$M$20),SUM(IF((A760=$O$10:$O$29),IF(C760=$P$9,$P$10:$P$29,$Q$10:$Q$29),0))/100,1)","v":1},0.53300000000000003]
[2002,"Microonibus","Diesel",{"$f":"SUM(IF(B761=$L$10:$L$23,$M$10:$M$23,0))","v":3},3,{"$f":"IFERROR(ROUND(VLOOKUP(A761,'Dados de entrada'!$P$7:$Z$50,Dados_v2!D761+1,0)*H761,0),0)","v":45},"MP",{"$f":"IF(OR(D761=$M$15,D761=$M$20),SUM(IF((A761=$O$10:$O$29),IF(C761=$P$9,$P$10:$P$29,$Q$10:$Q$29),0))/100,1)","v":1},0.20899999999999999]
[2003,"Microonibus","Diesel",{"$f":"SUM(IF(B762=$L$10:$L$23,$M$10:$M$23,0))","v":3},3,{"$f":"IFERROR(ROUND(VLOOKUP(A762,'Dados de entrada'!$P$7:$Z$50,Dados_v2!D762+1,0)*H762,0),0)","v":57},"MP",{"$f":"IF(OR(D762=$M$15,D762=$M$20),SUM(IF((A762=$O$10:$O$29),IF(C762=$P$9,$P$10:$P$29,$Q$10:$Q$29),0))/100,1)","v":1},0.20899999999999999]
[2004,"Microonibus","Diesel",{"$f":"SUM(IF(B763=$L$10:$L$23,$M$10:$M$23,0))","v":3},3,{"$f":"IFERROR(ROUND(VLOOKUP(A763,'Dados de entrada'!$P$7:$Z$50,Dados_v2!D763+1,0)*H763,0),0)","v":84},"MP",{"$f":"IF(OR(D763=$M$15,D763=$M$20),SUM(IF((A763=$O$10:$O$29),IF(C763=$P$9,$P$10:$P$29,$Q$10:$Q$29),0))/100,1)","v":1},0.16600000000000001]
[2005,"Microonibus","Diesel",{"$f":"SUM(IF(B764=$L$10:$L$23,$M$10:$M$23,0))","v":3},3,{"$f":"IFERROR(ROUND(VLOOKUP(A764,'Dados de entrada'!$P$7:$Z$50,Dados_v2!D764+1,0)*H764,0),0)","v":77},"MP",{"$f":"IF(OR(D764=$M$15,D764=$M$20),SUM(IF((A764=$O$10:$O$29),IF(C764=$P$9,$P$10:$P$29,$Q$10:$Q$29),0))/100,1)","v":1},0.16600000000000001]
[2006,"Microonibus","Diesel",{"$f":"SUM(IF(B765=$L$10:$L$23,$M$10:$M$23,0))","v":3},3,{"$f":"IFERROR(ROUND(VLOOKUP(A765,'Dados de entrada'!$P$7:$Z$50,Dados_v2!D765+1,0)*H765,0),0)","v":125},"MP",{"$f":"IF(OR(D765=$M$15,D765=$M$20),SUM(IF((A765=$O$10:$O$29),IF(C765=$P$9,$P$10:$P$29,$Q$10:$Q$29),0))/100,1)","v":1},0.10990451015043699]
[2007,"Microonibus","Diesel",{"$f":"SUM(IF(B766=$L$10:$L$23,$M$10:$M$23,0))","v":3},3,{"$f":"IFERROR(ROUND(VLOOKUP(A766,'Dados de entrada'!$P$7:$Z$50,Dados_v2!D766+1,0)*H766,0),0)","v":157},"MP",{"$f":"IF(OR(D766=$M$15,D766=$M$20),SUM(IF((A766=$O$10:$O$29),IF(C766=$P$9,$P$10:$P$29,$Q$10:$Q$29),0))/100,1)","v":1},0.10990451015043699]
[2008,"Microonibus","Diesel",{"$f":"SUM(IF(B767=$L$10:$L$23,$M$10:$M$23,0))","v":3},3,{"$f":"IFERROR(ROUND(VLOOKUP(A767,'Dados de entrada'!$P$7:$Z$50,Dados_v2!D767+1,0)*H767,0),0)","v":267},"MP",{"$f":"IF(OR(D767=$M$15,D767=$M$20),SUM(IF((A767=$O$10:$O$29),IF(C767=$P$9,$P$10:$P$29,$Q$10:$Q$29),0))/100,1)","v":1},8.534487698722E-2]
[2009,"Microonibus","Diesel",{"$f":"SUM(IF(B768=$L$10:$L$23,$M$10:$M$23,0))","v":3},3,{"$f":"IFERROR(ROUND(VLOOKUP(A768,'Dados de entrada'!$P$7:$Z$50,Dados_v2!D768+1,0)*H768,0),0)","v":234},"MP",{"$f":"IF(OR(D768=$M$15,D768=$M$20),SUM(IF((A768=$O$10:$O$29),IF(C768=$P$9,$P$10:$P$29,$Q$10:$Q$29),0))/100,1)","v":1},8.1344127440099195E-2]
[2010,"Microonibus","Diesel",{"$f":"SUM(IF(B769=$L$10:$L$23,$M$10:$M$23,0))","v":3},3,{"$f":"IFERROR(ROUND(VLOOKUP(A769,'Dados de entrada'!$P$7:$Z$50,Dados_v2!D769+1,0)*H769,0),0)","v":148},"MP",{"$f":"IF(OR(D769=$M$15,D769=$M$20),SUM(IF((A769=$O$10:$O$29),IF(C769=$P$9,$P$10:$P$29,$Q$10:$Q$29),0))/100,1)","v":1},8.1770399894879706E-2]
[2011,"Microonibus","Diesel",{"$f":"SUM(IF(B770=$L$10:$L$23,$M$10:$M$23,0))","v":3},3,{"$f":"IFERROR(ROUND(VLOOKUP(A770,'Dados de entrada'!$P$7:$Z$50,Dados_v2!D770+1,0)*H770,0),0)","v":408},"MP",{"$f":"IF(OR(D770=$M$15,D770=$M$20),SUM(IF((A770=$O$10:$O$29),IF(C770=$P$9,$P$10:$P$29,$Q$10:$Q$29),0))/100,1)","v":1},9.4265736725622995E-2]
[2012,"Microonibus","Diesel",{"$f":"SUM(IF(B771=$L$10:$L$23,$M$10:$M$23,0))","v":3},3,{"$f":"IFERROR(ROUND(VLOOKUP(A771,'Dados de entrada'!$P$7:$Z$50,Dados_v2!D771+1,0)*H771,0),0)","v":369},"MP",{"$f":"IF(OR(D771=$M$15,D771=$M$20),SUM(IF((A771=$O$10:$O$29),IF(C771=$P$9,$P$10:$P$29,$Q$10:$Q$29),0))/100,1)","v":1},1.64783417868898E-2]
[2013,"Microonibus","Diesel",{"$f":"SUM(IF(B772=$L$10:$L$23,$M$10:$M$23,0))","v":3},3,{"$f":"IFERROR(ROUND(VLOOKUP(A772,'Dados de entrada'!$P$7:$Z$50,Dados_v2!D772+1,0)*H772,0),0)","v":391},"MP",{"$f":"IF(OR(D772=$M$15,D772=$M$20),SUM(IF((A772=$O$10:$O$29),IF(C772=$P$9,$P$10:$P$29,$Q$10:$Q$29),0))/100,1)","v":1},1.13148147816122E-2]
[2014,"Microonibus","Diesel",{"$f":"SUM(IF(B773=$L$10:$L$23,$M$10:$M$23,0))","v":3},3,{"$f":"IFERROR(ROUND(VLOOKUP(A773,'Dados de entrada'!$P$7:$Z$50,Dados_v2!D773+1,0)*H773,0),0)","v":473},"MP",{"$f":"IF(OR(D773=$M$15,D773=$M$20),SUM(IF((A773=$O$10:$O$29),IF(C773=$P$9,$P$10:$P$29,$Q$10:$Q$29),0))/100,1)","v":1},1.13148147816122E-2]
[2015,"Microonibus","Diesel",{"$f":"SUM(IF(B774=$L$10:$L$23,$M$10:$M$23,0))","v":3},3,{"$f":"IFERROR(ROUND(VLOOKUP(A774,'Dados de entrada'!$P$7:$Z$50,Dados_v2!D774+1,0)*H774,0),0)","v":187},"MP",{"$f":"IF(OR(D774=$M$15,D774=$M$20),SUM(IF((A774=$O$10:$O$29),IF(C774=$P$9,$P$10:$P$29,$Q$10:$Q$29),0))/100,1)","v":1},1.13148147816122E-2]
[2016,"Microonibus","Diesel",{"$f":"SUM(IF(B775=$L$10:$L$23,$M$10:$M$23,0))","v":3},3,{"$f":"IFERROR(ROUND(VLOOKUP(A775,'Dados de entrada'!$P$7:$Z$50,Dados_v2!D775+1,0)*H775,0),0)","v":168},"MP",{"$f":"IF(OR(D775=$M$15,D775=$M$20),SUM(IF((A775=$O$10:$O$29),IF(C775=$P$9,$P$10:$P$29,$Q$10:$Q$29),0))/100,1)","v":1},1.00881120267868E-2]
[2017,"Microonibus","Diesel",{"$f":"SUM(IF(B776=$L$10:$L$23,$M$10:$M$23,0))","v":3},3,{"$f":"IFERROR(ROUND(VLOOKUP(A776,'Dados de entrada'!$P$7:$Z$50,Dados_v2!D776+1,0)*H776,0),0)","v":93},"MP",{"$f":"IF(OR(D776=$M$15,D776=$M$20),SUM(IF((A776=$O$10:$O$29),IF(C776=$P$9,$P$10:$P$29,$Q$10:$Q$29),0))/100,1)","v":1},8.1872894010093893E-3]
[2018,"Microonibus","Diesel",{"$f":"SUM(IF(B777=$L$10:$L$23,$M$10:$M$23,0))","v":3},3,{"$f":"IFERROR(ROUND(VLOOKUP(A777,'Dados de entrada'!$P$7:$Z$50,Dados_v2!D777+1,0)*H777,0),0)","v":173},"MP",{"$f":"IF(OR(D777=$M$15,D777=$M$20),SUM(IF((A777=$O$10:$O$29),IF(C777=$P$9,$P$10:$P$29,$Q$10:$Q$29),0))/100,1)","v":1},8.0802453237561501E-3]
[2019,"Microonibus","Diesel",{"$f":"SUM(IF(B778=$L$10:$L$23,$M$10:$M$23,0))","v":3},3,{"$f":"IFERROR(ROUND(VLOOKUP(A778,'Dados de entrada'!$P$7:$Z$50,Dados_v2!D778+1,0)*H778,0),0)","v":272},"MP",{"$f":"IF(OR(D778=$M$15,D778=$M$20),SUM(IF((A778=$O$10:$O$29),IF(C778=$P$9,$P$10:$P$29,$Q$10:$Q$29),0))/100,1)","v":1},8.4835772661414396E-3]
[2020,"Microonibus","Diesel",{"$f":"SUM(IF(B779=$L$10:$L$23,$M$10:$M$23,0))","v":3},3,{"$f":"IFERROR(ROUND(VLOOKUP(A779,'Dados de entrada'!$P$7:$Z$50,Dados_v2!D779+1,0)*H779,0),0)","v":238},"MP",{"$f":"IF(OR(D779=$M$15,D779=$M$20),SUM(IF((A779=$O$10:$O$29),IF(C779=$P$9,$P$10:$P$29,$Q$10:$Q$29),0))/100,1)","v":1},8.5754050511185394E-3]
[2021,"Microonibus","Diesel",{"$f":"SUM(IF(B780=$L$10:$L$23,$M$10:$M$23,0))","v":3},3,{"$f":"IFERROR(ROUND(VLOOKUP(A780,'Dados de entrada'!$P$7:$Z$50,Dados_v2!D780+1,0)*H780,0),0)","v":412},"MP",{"$f":"IF(OR(D780=$M$15,D780=$M$20),SUM(IF((A780=$O$10:$O$29),IF(C780=$P$9,$P$10:$P$29,$Q$10:$Q$29),0))/100,1)","v":1},7.4525873449955496E-3]
[2022,"Microonibus","Diesel",{"$f":"SUM(IF(B781=$L$10:$L$23,$M$10:$M$23,0))","v":3},3,{"$f":"IFERROR(ROUND(VLOOKUP(A781,'Dados de entrada'!$P$7:$Z$50,Dados_v2!D781+1,0)*H781,0),0)","v":470},"MP",{"$f":"IF(OR(D781=$M$15,D781=$M$20),SUM(IF((A781=$O$10:$O$29),IF(C781=$P$9,$P$10:$P$29,$Q$10:$Q$29),0))/100,1)","v":1},9.88725893880011E-3]
[1983,"Caminhao","Diesel",{"$f":"SUM(IF(B782=$L$10:$L$23,$M$10:$M$23,0))","v":4},4,{"$f":"IFERROR(ROUND(VLOOKUP(A782,'Dados de entrada'!$P$7:$Z$50,Dados_v2!D782+1,0)*H782,0),0)","v":147},"MP",{"$f":"IF(OR(D782=$M$15,D782=$M$20),SUM(IF((A782=$O$10:$O$29),IF(C782=$P$9,$P$10:$P$29,$Q$10:$Q$29),0))/100,1)","v":1},0.44400000000000001]
[1984,"Caminhao","Diesel",{"$f":"SUM(IF(B783=$L$10:$L$23,$M$10:$M$23,0))","v":4},4,{"$f":"IFERROR(ROUND(VLOOKUP(A783,'Dados de entrada'!$P$7:$Z$50,Dados_v2!D783+1,0)*H783,0),0)","v":159},"MP",{"$f":"IF(OR(D783=$M$15,D783=$M$20),SUM(IF((A783=$O$10:$O$29),IF(C783=$P$9,$P$10:$P$29,$Q$10:$Q$29),0))/100,1)","v":1},0.44400000000000001]
[1985,"Caminhao","Diesel",{"$f":"SUM(IF(B784=$L$10:$L$23,$M$10:$M$23,0))","v":4},4,{"$f":"IFERROR(ROUND(VLOOKUP(A784,'Dados de entrada'!$P$7:$Z$50,Dados_v2!D784+1,0)*H784,0),0)","v":248},"MP",{"$f":"IF(OR(D784=$M$15,D784=$M$20),SUM(IF((A784=$O$10:$O$29),IF(C784=$P$9,$P$10:$P$29,$Q$10:$Q$29),0))/100,1)","v":1},0.44400000000000001]
[1986,"Caminhao","Diesel",{"$f":"SUM(IF(B785=$L$10:$L$23,$M$10:$M$23,0))","v":4},4,{"$f":"IFERROR(ROUND(VLOOKUP(A785,'Dados de entrada'!$P$7:$Z$50,Dados_v2!D785+1,0)*H785,0),0)","v":444},"MP",{"$f":"IF(OR(D785=$M$15,D785=$M$20),SUM(IF((A785=$O$10:$O$29),IF(C785=$P$9,$P$10:$P$29,$Q$10:$Q$29),0))/100,1)","v":1},0.44400000000000001]
[1987,"Caminhao","Diesel",{"$f":"SUM(IF(B786=$L$10:$L$23,$M$10:$M$23,0))","v":4},4,{"$f":"IFERROR(ROUND(VLOOKUP(A786,'Dados de entrada'!$P$7:$Z$50,Dados_v2!D786+1,0)*H786,0),0)","v":378},"MP",{"$f":"IF(OR(D786=$M$15,D786=$M$20),SUM(IF((A786=$O$10:$O$29),IF(C786=$P$9,$P$10:$P$29,$Q$10:$Q$29),0))/100,1)","v":1},0.44400000000000001]
[1988,"Caminhao","Diesel",{"$f":"SUM(IF(B787=$L$10:$L$23,$M$10:$M$23,0))","v":4},4,{"$f":"IFERROR(ROUND(VLOOKUP(A787,'Dados de entrada'!$P$7:$Z$50,Dados_v2!D787+1,0)*H787,0),0)","v":302},"MP",{"$f":"IF(OR(D787=$M$15,D787=$M$20),SUM(IF((A787=$O$10:$O$29),IF(C787=$P$9,$P$10:$P$29,$Q$10:$Q$29),0))/100,1)","v":1},0.44400000000000001]
[1989,"Caminhao","Diesel",{"$f":"SUM(IF(B788=$L$10:$L$23,$M$10:$M$23,0))","v":4},4,{"$f":"IFERROR(ROUND(VLOOKUP(A788,'Dados de entrada'!$P$7:$Z$50,Dados_v2!D788+1,0)*H788,0),0)","v":332},"MP",{"$f":"IF(OR(D788=$M$15,D788=$M$20),SUM(IF((A788=$O$10:$O$29),IF(C788=$P$9,$P$10:$P$29,$Q$10:$Q$29),0))/100,1)","v":1},0.44400000000000001]
[1990,"Caminhao","Diesel",{"$f":"SUM(IF(B789=$L$10:$L$23,$M$10:$M$23,0))","v":4},4,{"$f":"IFERROR(ROUND(VLOOKUP(A789,'Dados de entrada'!$P$7:$Z$50,Dados_v2!D789+1,0)*H789,0),0)","v":316},"MP",{"$f":"IF(OR(D789=$M$15,D789=$M$20),SUM(IF((A789=$O$10:$O$29),IF(C789=$P$9,$P$10:$P$29,$Q$10:$Q$29),0))/100,1)","v":1},0.44400000000000001]
[1991,"Caminhao","Diesel",{"$f":"SUM(IF(B790=$L$10:$L$23,$M$10:$M$23,0))","v":4},4,{"$f":"IFERROR(ROUND(VLOOKUP(A790,'Dados de entrada'!$P$7:$Z$50,Dados_v2!D790+1,0)*H790,0),0)","v":273},"MP",{"$f":"IF(OR(D790=$M$15,D790=$M$20),SUM(IF((A790=$O$10:$O$29),IF(C790=$P$9,$P$10:$P$29,$Q$10:$Q$29),0))/100,1)","v":1},0.44400000000000001]
[1992,"Caminhao","Diesel",{"$f":"SUM(IF(B791=$L$10:$L$23,$M$10:$M$23,0))","v":4},4,{"$f":"IFERROR(ROUND(VLOOKUP(A791,'Dados de entrada'!$P$7:$Z$50,Dados_v2!D791+1,0)*H791,0),0)","v":258},"MP",{"$f":"IF(OR(D791=$M$15,D791=$M$20),SUM(IF((A791=$O$10:$O$29),IF(C791=$P$9,$P$10:$P$29,$Q$10:$Q$29),0))/100,1)","v":1},0.44400000000000001]
[1993,"Caminhao","Diesel",{"$f":"SUM(IF(B792=$L$10:$L$23,$M$10:$M$23,0))","v":4},4,{"$f":"IFERROR(ROUND(VLOOKUP(A792,'Dados de entrada'!$P$7:$Z$50,Dados_v2!D792+1,0)*H792,0),0)","v":189},"MP",{"$f":"IF(OR(D792=$M$15,D792=$M$20),SUM(IF((A792=$O$10:$O$29),IF(C792=$P$9,$P$10:$P$29,$Q$10:$Q$29),0))/100,1)","v":1},0.44400000000000001]
[1994,"Caminhao","Diesel",{"$f":"SUM(IF(B793=$L$10:$L$23,$M$10:$M$23,0))","v":4},4,{"$f":"IFERROR(ROUND(VLOOKUP(A793,'Dados de entrada'!$P$7:$Z$50,Dados_v2!D793+1,0)*H793,0),0)","v":327},"MP",{"$f":"IF(OR(D793=$M$15,D793=$M$20),SUM(IF((A793=$O$10:$O$29),IF(C793=$P$9,$P$10:$P$29,$Q$10:$Q$29),0))/100,1)","v":1},0.44400000000000001]
[1995,"Caminhao","Diesel",{"$f":"SUM(IF(B794=$L$10:$L$23,$M$10:$M$23,0))","v":4},4,{"$f":"IFERROR(ROUND(VLOOKUP(A794,'Dados de entrada'!$P$7:$Z$50,Dados_v2!D794+1,0)*H794,0),0)","v":527},"MP",{"$f":"IF(OR(D794=$M$15,D794=$M$20),SUM(IF((A794=$O$10:$O$29),IF(C794=$P$9,$P$10:$P$29,$Q$10:$Q$29),0))/100,1)","v":1},0.44400000000000001]
[1996,"Caminhao","Diesel",{"$f":"SUM(IF(B795=$L$10:$L$23,$M$10:$M$23,0))","v":4},4,{"$f":"IFERROR(ROUND(VLOOKUP(A795,'Dados de entrada'!$P$7:$Z$50,Dados_v2!D795+1,0)*H795,0),0)","v":321},"MP",{"$f":"IF(OR(D795=$M$15,D795=$M$20),SUM(IF((A795=$O$10:$O$29),IF(C795=$P$9,$P$10:$P$29,$Q$10:$Q$29),0))/100,1)","v":1},0.44400000000000001]
[1997,"Caminhao","Diesel",{"$f":"SUM(IF(B796=$L$10:$L$23,$M$10:$M$23,0))","v":4},4,{"$f":"IFERROR(ROUND(VLOOKUP(A796,'Dados de entrada'!$P$7:$Z$50,Dados_v2!D796+1,0)*H796,0),0)","v":613},"MP",{"$f":"IF(OR(D796=$M$15,D796=$M$20),SUM(IF((A796=$O$10:$O$29),IF(C796=$P$9,$P$10:$P$29,$Q$10:$Q$29),0))/100,1)","v":1},0.44400000000000001]
[1998,"Caminhao","Diesel",{"$f":"SUM(IF(B797=$L$10:$L$23,$M$10:$M$23,0))","v":4},4,{"$f":"IFERROR(ROUND(VLOOKUP(A797,'Dados de entrada'!$P$7:$Z$50,Dados_v2!D797+1,0)*H797,0),0)","v":641},"MP",{"$f":"IF(OR(D797=$M$15,D797=$M$20),SUM(IF((A797=$O$10:$O$29),IF(C797=$P$9,$P$10:$P$29,$Q$10:$Q$29),0))/100,1)","v":1},0.44400000000000001]
[1999,"Caminhao","Diesel",{"$f":"SUM(IF(B798=$L$10:$L$23,$M$10:$M$23,0))","v":4},4,{"$f":"IFERROR(ROUND(VLOOKUP(A798,'Dados de entrada'!$P$7:$Z$50,Dados_v2!D798+1,0)*H798,0),0)","v":481},"MP",{"$f":"IF(OR(D798=$M$15,D798=$M$20),SUM(IF((A798=$O$10:$O$29),IF(C798=$P$9,$P$10:$P$29,$Q$10:$Q$29),0))/100,1)","v":1},0.44400000000000001]
[2000,"Caminhao","Diesel",{"$f":"SUM(IF(B799=$L$10:$L$23,$M$10:$M$23,0))","v":4},4,{"$f":"IFERROR(ROUND(VLOOKUP(A799,'Dados de entrada'!$P$7:$Z$50,Dados_v2!D799+1,0)*H799,0),0)","v":489},"MP",{"$f":"IF(OR(D799=$M$15,D799=$M$20),SUM(IF((A799=$O$10:$O$29),IF(C799=$P$9,$P$10:$P$29,$Q$10:$Q$29),0))/100,1)","v":1},0.221]
[2001,"Caminhao","Diesel",{"$f":"SUM(IF(B800=$L$10:$L$23,$M$10:$M$23,0))","v":4},4,{"$f":"IFERROR(ROUND(VLOOKUP(A800,'Dados de entrada'!$P$7:$Z$50,Dados_v2!D800+1,0)*H800,0),0)","v":620},"MP",{"$f":"IF(OR(D800=$M$15,D800=$M$20),SUM(IF((A800=$O$10:$O$29),IF(C800=$P$9,$P$10:$P$29,$Q$10:$Q$29),0))/100,1)","v":1},0.221]
[2002,"Caminhao","Diesel",{"$f":"SUM(IF(B801=$L$10:$L$23,$M$10:$M$23,0))","v":4},4,{"$f":"IFERROR(ROUND(VLOOKUP(A801,'Dados de entrada'!$P$7:$Z$50,Dados_v2!D801+1,0)*H801,0),0)","v":509},"MP",{"$f":"IF(OR(D801=$M$15,D801=$M$20),SUM(IF((A801=$O$10:$O$29),IF(C801=$P$9,$P$10:$P$29,$Q$10:$Q$29),0))/100,1)","v":1},8.5999999999999993E-2]
[2003,"Caminhao","Diesel",{"$f":"SUM(IF(B802=$L$10:$L$23,$M$10:$M$23,0))","v":4},4,{"$f":"IFERROR(ROUND(VLOOKUP(A802,'Dados de entrada'!$P$7:$Z$50,Dados_v2!D802+1,0)*H802,0),0)","v":456},"MP",{"$f":"IF(OR(D802=$M$15,D802=$M$20),SUM(IF((A802=$O$10:$O$29),IF(C802=$P$9,$P$10:$P$29,$Q$10:$Q$29),0))/100,1)","v":1},8.5999999999999993E-2]
[2004,"Caminhao","Diesel",{"$f":"SUM(IF(B803=$L$10:$L$23,$M$10:$M$23,0))","v":4},4,{"$f":"IFERROR(ROUND(VLOOKUP(A803,'Dados de entrada'!$P$7:$Z$50,Dados_v2!D803+1,0)*H803,0),0)","v":686},"MP",{"$f":"IF(OR(D803=$M$15,D803=$M$20),SUM(IF((A803=$O$10:$O$29),IF(C803=$P$9,$P$10:$P$29,$Q$10:$Q$29),0))/100,1)","v":1},6.9000000000000006E-2]
[2005,"Caminhao","Diesel",{"$f":"SUM(IF(B804=$L$10:$L$23,$M$10:$M$23,0))","v":4},4,{"$f":"IFERROR(ROUND(VLOOKUP(A804,'Dados de entrada'!$P$7:$Z$50,Dados_v2!D804+1,0)*H804,0),0)","v":824},"MP",{"$f":"IF(OR(D804=$M$15,D804=$M$20),SUM(IF((A804=$O$10:$O$29),IF(C804=$P$9,$P$10:$P$29,$Q$10:$Q$29),0))/100,1)","v":1},6.9000000000000006E-2]
[2006,"Caminhao","Diesel",{"$f":"SUM(IF(B805=$L$10:$L$23,$M$10:$M$23,0))","v":4},4,{"$f":"IFERROR(ROUND(VLOOKUP(A805,'Dados de entrada'!$P$7:$Z$50,Dados_v2!D805+1,0)*H805,0),0)","v":852},"MP",{"$f":"IF(OR(D805=$M$15,D805=$M$20),SUM(IF((A805=$O$10:$O$29),IF(C805=$P$9,$P$10:$P$29,$Q$10:$Q$29),0))/100,1)","v":1},6.0999999999999999E-2]
[2007,"Caminhao","Diesel",{"$f":"SUM(IF(B806=$L$10:$L$23,$M$10:$M$23,0))","v":4},4,{"$f":"IFERROR(ROUND(VLOOKUP(A806,'Dados de entrada'!$P$7:$Z$50,Dados_v2!D806+1,0)*H806,0),0)","v":738},"MP",{"$f":"IF(OR(D806=$M$15,D806=$M$20),SUM(IF((A806=$O$10:$O$29),IF(C806=$P$9,$P$10:$P$29,$Q$10:$Q$29),0))/100,1)","v":1},6.0999999999999999E-2]
[2008,"Caminhao","Diesel",{"$f":"SUM(IF(B807=$L$10:$L$23,$M$10:$M$23,0))","v":4},4,{"$f":"IFERROR(ROUND(VLOOKUP(A807,'Dados de entrada'!$P$7:$Z$50,Dados_v2!D807+1,0)*H807,0),0)","v":1217},"MP",{"$f":"IF(OR(D807=$M$15,D807=$M$20),SUM(IF((A807=$O$10:$O$29),IF(C807=$P$9,$P$10:$P$29,$Q$10:$Q$29),0))/100,1)","v":1},5.3999999999999999E-2]
[2009,"Caminhao","Diesel",{"$f":"SUM(IF(B808=$L$10:$L$23,$M$10:$M$23,0))","v":4},4,{"$f":"IFERROR(ROUND(VLOOKUP(A808,'Dados de entrada'!$P$7:$Z$50,Dados_v2!D808+1,0)*H808,0),0)","v":1418},"MP",{"$f":"IF(OR(D808=$M$15,D808=$M$20),SUM(IF((A808=$O$10:$O$29),IF(C808=$P$9,$P$10:$P$29,$Q$10:$Q$29),0))/100,1)","v":1},5.8000000000000003E-2]
[2010,"Caminhao","Diesel",{"$f":"SUM(IF(B809=$L$10:$L$23,$M$10:$M$23,0))","v":4},4,{"$f":"IFERROR(ROUND(VLOOKUP(A809,'Dados de entrada'!$P$7:$Z$50,Dados_v2!D809+1,0)*H809,0),0)","v":1874},"MP",{"$f":"IF(OR(D809=$M$15,D809=$M$20),SUM(IF((A809=$O$10:$O$29),IF(C809=$P$9,$P$10:$P$29,$Q$10:$Q$29),0))/100,1)","v":1},5.0999999999999997E-2]
[2011,"Caminhao","Diesel",{"$f":"SUM(IF(B810=$L$10:$L$23,$M$10:$M$23,0))","v":4},4,{"$f":"IFERROR(ROUND(VLOOKUP(A810,'Dados de entrada'!$P$7:$Z$50,Dados_v2!D810+1,0)*H810,0),0)","v":2231},"MP",{"$f":"IF(OR(D810=$M$15,D810=$M$20),SUM(IF((A810=$O$10:$O$29),IF(C810=$P$9,$P$10:$P$29,$Q$10:$Q$29),0))/100,1)","v":1},5.6000000000000001E-2]
[2012,"Caminhao","Diesel",{"$f":"SUM(IF(B811=$L$10:$L$23,$M$10:$M$23,0))","v":4},4,{"$f":"IFERROR(ROUND(VLOOKUP(A811,'Dados de entrada'!$P$7:$Z$50,Dados_v2!D811+1,0)*H811,0),0)","v":1796},"MP",{"$f":"IF(OR(D811=$M$15,D811=$M$20),SUM(IF((A811=$O$10:$O$29),IF(C811=$P$9,$P$10:$P$29,$Q$10:$Q$29),0))/100,1)","v":1},7.0000000000000001E-3]
[2013,"Caminhao","Diesel",{"$f":"SUM(IF(B812=$L$10:$L$23,$M$10:$M$23,0))","v":4},4,{"$f":"IFERROR(ROUND(VLOOKUP(A812,'Dados de entrada'!$P$7:$Z$50,Dados_v2!D812+1,0)*H812,0),0)","v":2092},"MP",{"$f":"IF(OR(D812=$M$15,D812=$M$20),SUM(IF((A812=$O$10:$O$29),IF(C812=$P$9,$P$10:$P$29,$Q$10:$Q$29),0))/100,1)","v":1},8.9999999999999993E-3]
[2014,"Caminhao","Diesel",{"$f":"SUM(IF(B813=$L$10:$L$23,$M$10:$M$23,0))","v":4},4,{"$f":"IFERROR(ROUND(VLOOKUP(A813,'Dados de entrada'!$P$7:$Z$50,Dados_v2!D813+1,0)*H813,0),0)","v":1273},"MP",{"$f":"IF(OR(D813=$M$15,D813=$M$20),SUM(IF((A813=$O$10:$O$29),IF(C813=$P$9,$P$10:$P$29,$Q$10:$Q$29),0))/100,1)","v":1},8.9999999999999993E-3]
[2015,"Caminhao","Diesel",{"$f":"SUM(IF(B814=$L$10:$L$23,$M$10:$M$23,0))","v":4},4,{"$f":"IFERROR(ROUND(VLOOKUP(A814,'Dados de entrada'!$P$7:$Z$50,Dados_v2!D814+1,0)*H814,0),0)","v":717},"MP",{"$f":"IF(OR(D814=$M$15,D814=$M$20),SUM(IF((A814=$O$10:$O$29),IF(C814=$P$9,$P$10:$P$29,$Q$10:$Q$29),0))/100,1)","v":1},8.9999999999999993E-3]
[2016,"Caminhao","Diesel",{"$f":"SUM(IF(B815=$L$10:$L$23,$M$10:$M$23,0))","v":4},4,{"$f":"IFERROR(ROUND(VLOOKUP(A815,'Dados de entrada'!$P$7:$Z$50,Dados_v2!D815+1,0)*H815,0),0)","v":570},"MP",{"$f":"IF(OR(D815=$M$15,D815=$M$20),SUM(IF((A815=$O$10:$O$29),IF(C815=$P$9,$P$10:$P$29,$Q$10:$Q$29),0))/100,1)","v":1},8.8110993137877798E-3]
[2017,"Caminhao","Diesel",{"$f":"SUM(IF(B816=$L$10:$L$23,$M$10:$M$23,0))","v":4},4,{"$f":"IFERROR(ROUND(VLOOKUP(A816,'Dados de entrada'!$P$7:$Z$50,Dados_v2!D816+1,0)*H816,0),0)","v":299},"MP",{"$f":"IF(OR(D816=$M$15,D816=$M$20),SUM(IF((A816=$O$10:$O$29),IF(C816=$P$9,$P$10:$P$29,$Q$10:$Q$29),0))/100,1)","v":1},7.57268782667823E-3]
[2018,"Caminhao","Diesel",{"$f":"SUM(IF(B817=$L$10:$L$23,$M$10:$M$23,0))","v":4},4,{"$f":"IFERROR(ROUND(VLOOKUP(A817,'Dados de entrada'!$P$7:$Z$50,Dados_v2!D817+1,0)*H817,0),0)","v":699},"MP",{"$f":"IF(OR(D817=$M$15,D817=$M$20),SUM(IF((A817=$O$10:$O$29),IF(C817=$P$9,$P$10:$P$29,$Q$10:$Q$29),0))/100,1)","v":1},7.23030878237476E-3]
[2019,"Caminhao","Diesel",{"$f":"SUM(IF(B818=$L$10:$L$23,$M$10:$M$23,0))","v":4},4,{"$f":"IFERROR(ROUND(VLOOKUP(A818,'Dados de entrada'!$P$7:$Z$50,Dados_v2!D818+1,0)*H818,0),0)","v":1163},"MP",{"$f":"IF(OR(D818=$M$15,D818=$M$20),SUM(IF((A818=$O$10:$O$29),IF(C818=$P$9,$P$10:$P$29,$Q$10:$Q$29),0))/100,1)","v":1},8.2380106283720701E-3]
[2020,"Caminhao","Diesel",{"$f":"SUM(IF(B819=$L$10:$L$23,$M$10:$M$23,0))","v":4},4,{"$f":"IFERROR(ROUND(VLOOKUP(A819,'Dados de entrada'!$P$7:$Z$50,Dados_v2!D819+1,0)*H819,0),0)","v":1472},"MP",{"$f":"IF(OR(D819=$M$15,D819=$M$20),SUM(IF((A819=$O$10:$O$29),IF(C819=$P$9,$P$10:$P$29,$Q$10:$Q$29),0))/100,1)","v":1},8.4939036839067495E-3]
[2021,"Caminhao","Diesel",{"$f":"SUM(IF(B820=$L$10:$L$23,$M$10:$M$23,0))","v":4},4,{"$f":"IFERROR(ROUND(VLOOKUP(A820,'Dados de entrada'!$P$7:$Z$50,Dados_v2!D820+1,0)*H820,0),0)","v":2067},"MP",{"$f":"IF(OR(D820=$M$15,D820=$M$20),SUM(IF((A820=$O$10:$O$29),IF(C820=$P$9,$P$10:$P$29,$Q$10:$Q$29),0))/100,1)","v":1},8.8920315517598998E-3]
[2022,"Caminhao","Diesel",{"$f":"SUM(IF(B821=$L$10:$L$23,$M$10:$M$23,0))","v":4},4,{"$f":"IFERROR(ROUND(VLOOKUP(A821,'Dados de entrada'!$P$7:$Z$50,Dados_v2!D821+1,0)*H821,0),0)","v":4601},"MP",{"$f":"IF(OR(D821=$M$15,D821=$M$20),SUM(IF((A821=$O$10:$O$29),IF(C821=$P$9,$P$10:$P$29,$Q$10:$Q$29),0))/100,1)","v":1},8.3963774790420595E-3]
[1983,"Moto-Gasolina","Gasolina",{"$f":"SUM(IF(B822=$L$10:$L$23,$M$10:$M$23,0))","v":5},2,{"$f":"IFERROR(ROUND(VLOOKUP(A822,'Dados de entrada'!$P$7:$Z$50,Dados_v2!D822+1,0)*H822,0),0)","v":969},"MP",{"$f":"IF(OR(D822=$M$15,D822=$M$20),SUM(IF((A822=$O$10:$O$29),IF(C822=$P$9,$P$10:$P$29,$Q$10:$Q$29),0))/100,1)","v":1}]
[1984,"Moto-Gasolina","Gasolina",{"$f":"SUM(IF(B823=$L$10:$L$23,$M$10:$M$23,0))","v":5},2,{"$f":"IFERROR(ROUND(VLOOKUP(A823,'Dados de entrada'!$P$7:$Z$50,Dados_v2!D823+1,0)*H823,0),0)","v":633},"MP",{"$f":"IF(OR(D823=$M$15,D823=$M$20),SUM(IF((A823=$O$10:$O$29),IF(C823=$P$9,$P$10:$P$29,$Q$10:$Q$29),0))/100,1)","v":1}]
[1985,"Moto-Gasolina","Gasolina",{"$f":"SUM(IF(B824=$L$10:$L$23,$M$10:$M$23,0))","v":5},2,{"$f":"IFERROR(ROUND(VLOOKUP(A824,'Dados de entrada'!$P$7:$Z$50,Dados_v2!D824+1,0)*H824,0),0)","v":473},"MP",{"$f":"IF(OR(D824=$M$15,D824=$M$20),SUM(IF((A824=$O$10:$O$29),IF(C824=$P$9,$P$10:$P$29,$Q$10:$Q$29),0))/100,1)","v":1}]
[1986,"Moto-Gasolina","Gasolina",{"$f":"SUM(IF(B825=$L$10:$L$23,$M$10:$M$23,0))","v":5},2,{"$f":"IFERROR(ROUND(VLOOKUP(A825,'Dados de entrada'!$P$7:$Z$50,Dados_v2!D825+1,0)*H825,0),0)","v":765},"MP",{"$f":"IF(OR(D825=$M$15,D825=$M$20),SUM(IF((A825=$O$10:$O$29),IF(C825=$P$9,$P$10:$P$29,$Q$10:$Q$29),0))/100,1)","v":1}]
[1987,"Moto-Gasolina","Gasolina",{"$f":"SUM(IF(B826=$L$10:$L$23,$M$10:$M$23,0))","v":5},2,{"$f":"IFERROR(ROUND(VLOOKUP(A826,'Dados de entrada'!$P$7:$Z$50,Dados_v2!D826+1,0)*H826,0),0)","v":883},"MP",{"$f":"IF(OR(D826=$M$15,D826=$M$20),SUM(IF((A826=$O$10:$O$29),IF(C826=$P$9,$P$10:$P$29,$Q$10:$Q$29),0))/100,1)","v":1}]
[1988,"Moto-Gasolina","Gasolina",{"$f":"SUM(IF(B827=$L$10:$L$23,$M$10:$M$23,0))","v":5},2,{"$f":"IFERROR(ROUND(VLOOKUP(A827,'Dados de entrada'!$P$7:$Z$50,Dados_v2!D827+1,0)*H827,0),0)","v":922},"MP",{"$f":"IF(OR(D827=$M$15,D827=$M$20),SUM(IF((A827=$O$10:$O$29),IF(C827=$P$9,$P$10:$P$29,$Q$10:$Q$29),0))/100,1)","v":1}]
[1989,"Moto-Gasolina","Gasolina",{"$f":"SUM(IF(B828=$L$10:$L$23,$M$10:$M$23,0))","v":5},2,{"$f":"IFERROR(ROUND(VLOOKUP(A828,'Dados de entrada'!$P$7:$Z$50,Dados_v2!D828+1,0)*H828,0),0)","v":702},"MP",{"$f":"IF(OR(D828=$M$15,D828=$M$20),SUM(IF((A828=$O$10:$O$29),IF(C828=$P$9,$P$10:$P$29,$Q$10:$Q$29),0))/100,1)","v":1}]
[1990,"Moto-Gasolina","Gasolina",{"$f":"SUM(IF(B829=$L$10:$L$23,$M$10:$M$23,0))","v":5},2,{"$f":"IFERROR(ROUND(VLOOKUP(A829,'Dados de entrada'!$P$7:$Z$50,Dados_v2!D829+1,0)*H829,0),0)","v":881},"MP",{"$f":"IF(OR(D829=$M$15,D829=$M$20),SUM(IF((A829=$O$10:$O$29),IF(C829=$P$9,$P$10:$P$29,$Q$10:$Q$29),0))/100,1)","v":1}]
[1991,"Moto-Gasolina","Gasolina",{"$f":"SUM(IF(B830=$L$10:$L$23,$M$10:$M$23,0))","v":5},2,{"$f":"IFERROR(ROUND(VLOOKUP(A830,'Dados de entrada'!$P$7:$Z$50,Dados_v2!D830+1,0)*H830,0),0)","v":631},"MP",{"$f":"IF(OR(D830=$M$15,D830=$M$20),SUM(IF((A830=$O$10:$O$29),IF(C830=$P$9,$P$10:$P$29,$Q$10:$Q$29),0))/100,1)","v":1}]
[1992,"Moto-Gasolina","Gasolina",{"$f":"SUM(IF(B831=$L$10:$L$23,$M$10:$M$23,0))","v":5},2,{"$f":"IFERROR(ROUND(VLOOKUP(A831,'Dados de entrada'!$P$7:$Z$50,Dados_v2!D831+1,0)*H831,0),0)","v":524},"MP",{"$f":"IF(OR(D831=$M$15,D831=$M$20),SUM(IF((A831=$O$10:$O$29),IF(C831=$P$9,$P$10:$P$29,$Q$10:$Q$29),0))/100,1)","v":1}]
[1993,"Moto-Gasolina","Gasolina",{"$f":"SUM(IF(B832=$L$10:$L$23,$M$10:$M$23,0))","v":5},2,{"$f":"IFERROR(ROUND(VLOOKUP(A832,'Dados de entrada'!$P$7:$Z$50,Dados_v2!D832+1,0)*H832,0),0)","v":316},"MP",{"$f":"IF(OR(D832=$M$15,D832=$M$20),SUM(IF((A832=$O$10:$O$29),IF(C832=$P$9,$P$10:$P$29,$Q$10:$Q$29),0))/100,1)","v":1}]
[1994,"Moto-Gasolina","Gasolina",{"$f":"SUM(IF(B833=$L$10:$L$23,$M$10:$M$23,0))","v":5},2,{"$f":"IFERROR(ROUND(VLOOKUP(A833,'Dados de entrada'!$P$7:$Z$50,Dados_v2!D833+1,0)*H833,0),0)","v":559},"MP",{"$f":"IF(OR(D833=$M$15,D833=$M$20),SUM(IF((A833=$O$10:$O$29),IF(C833=$P$9,$P$10:$P$29,$Q$10:$Q$29),0))/100,1)","v":1}]
[1995,"Moto-Gasolina","Gasolina",{"$f":"SUM(IF(B834=$L$10:$L$23,$M$10:$M$23,0))","v":5},2,{"$f":"IFERROR(ROUND(VLOOKUP(A834,'Dados de entrada'!$P$7:$Z$50,Dados_v2!D834+1,0)*H834,0),0)","v":1134},"MP",{"$f":"IF(OR(D834=$M$15,D834=$M$20),SUM(IF((A834=$O$10:$O$29),IF(C834=$P$9,$P$10:$P$29,$Q$10:$Q$29),0))/100,1)","v":1}]
[1996,"Moto-Gasolina","Gasolina",{"$f":"SUM(IF(B835=$L$10:$L$23,$M$10:$M$23,0))","v":5},2,{"$f":"IFERROR(ROUND(VLOOKUP(A835,'Dados de entrada'!$P$7:$Z$50,Dados_v2!D835+1,0)*H835,0),0)","v":1365},"MP",{"$f":"IF(OR(D835=$M$15,D835=$M$20),SUM(IF((A835=$O$10:$O$29),IF(C835=$P$9,$P$10:$P$29,$Q$10:$Q$29),0))/100,1)","v":1}]
[1997,"Moto-Gasolina","Gasolina",{"$f":"SUM(IF(B836=$L$10:$L$23,$M$10:$M$23,0))","v":5},2,{"$f":"IFERROR(ROUND(VLOOKUP(A836,'Dados de entrada'!$P$7:$Z$50,Dados_v2!D836+1,0)*H836,0),0)","v":2602},"MP",{"$f":"IF(OR(D836=$M$15,D836=$M$20),SUM(IF((A836=$O$10:$O$29),IF(C836=$P$9,$P$10:$P$29,$Q$10:$Q$29),0))/100,1)","v":1}]
[1998,"Moto-Gasolina","Gasolina",{"$f":"SUM(IF(B837=$L$10:$L$23,$M$10:$M$23,0))","v":5},2,{"$f":"IFERROR(ROUND(VLOOKUP(A837,'Dados de entrada'!$P$7:$Z$50,Dados_v2!D837+1,0)*H837,0),0)","v":2838},"MP",{"$f":"IF(OR(D837=$M$15,D837=$M$20),SUM(IF((A837=$O$10:$O$29),IF(C837=$P$9,$P$10:$P$29,$Q$10:$Q$29),0))/100,1)","v":1}]
[1999,"Moto-Gasolina","Gasolina",{"$f":"SUM(IF(B838=$L$10:$L$23,$M$10:$M$23,0))","v":5},2,{"$f":"IFERROR(ROUND(VLOOKUP(A838,'Dados de entrada'!$P$7:$Z$50,Dados_v2!D838+1,0)*H838,0),0)","v":2267},"MP",{"$f":"IF(OR(D838=$M$15,D838=$M$20),SUM(IF((A838=$O$10:$O$29),IF(C838=$P$9,$P$10:$P$29,$Q$10:$Q$29),0))/100,1)","v":1}]
[2000,"Moto-Gasolina","Gasolina",{"$f":"SUM(IF(B839=$L$10:$L$23,$M$10:$M$23,0))","v":5},2,{"$f":"IFERROR(ROUND(VLOOKUP(A839,'Dados de entrada'!$P$7:$Z$50,Dados_v2!D839+1,0)*H839,0),0)","v":3136},"MP",{"$f":"IF(OR(D839=$M$15,D839=$M$20),SUM(IF((A839=$O$10:$O$29),IF(C839=$P$9,$P$10:$P$29,$Q$10:$Q$29),0))/100,1)","v":1}]
[2001,"Moto-Gasolina","Gasolina",{"$f":"SUM(IF(B840=$L$10:$L$23,$M$10:$M$23,0))","v":5},2,{"$f":"IFERROR(ROUND(VLOOKUP(A840,'Dados de entrada'!$P$7:$Z$50,Dados_v2!D840+1,0)*H840,0),0)","v":3541},"MP",{"$f":"IF(OR(D840=$M$15,D840=$M$20),SUM(IF((A840=$O$10:$O$29),IF(C840=$P$9,$P$10:$P$29,$Q$10:$Q$29),0))/100,1)","v":1}]
[2002,"Moto-Gasolina","Gasolina",{"$f":"SUM(IF(B841=$L$10:$L$23,$M$10:$M$23,0))","v":5},2,{"$f":"IFERROR(ROUND(VLOOKUP(A841,'Dados de entrada'!$P$7:$Z$50,Dados_v2!D841+1,0)*H841,0),0)","v":4223},"MP",{"$f":"IF(OR(D841=$M$15,D841=$M$20),SUM(IF((A841=$O$10:$O$29),IF(C841=$P$9,$P$10:$P$29,$Q$10:$Q$29),0))/100,1)","v":1}]
[2003,"Moto-Gasolina","Gasolina",{"$f":"SUM(IF(B842=$L$10:$L$23,$M$10:$M$23,0))","v":5},2,{"$f":"IFERROR(ROUND(VLOOKUP(A842,'Dados de entrada'!$P$7:$Z$50,Dados_v2!D842+1,0)*H842,0),0)","v":5047},"MP",{"$f":"IF(OR(D842=$M$15,D842=$M$20),SUM(IF((A842=$O$10:$O$29),IF(C842=$P$9,$P$10:$P$29,$Q$10:$Q$29),0))/100,1)","v":1}]
[2004,"Moto-Gasolina","Gasolina",{"$f":"SUM(IF(B843=$L$10:$L$23,$M$10:$M$23,0))","v":5},2,{"$f":"IFERROR(ROUND(VLOOKUP(A843,'Dados de entrada'!$P$7:$Z$50,Dados_v2!D843+1,0)*H843,0),0)","v":4619},"MP",{"$f":"IF(OR(D843=$M$15,D843=$M$20),SUM(IF((A843=$O$10:$O$29),IF(C843=$P$9,$P$10:$P$29,$Q$10:$Q$29),0))/100,1)","v":1}]
[2005,"Moto-Gasolina","Gasolina",{"$f":"SUM(IF(B844=$L$10:$L$23,$M$10:$M$23,0))","v":5},2,{"$f":"IFERROR(ROUND(VLOOKUP(A844,'Dados de entrada'!$P$7:$Z$50,Dados_v2!D844+1,0)*H844,0),0)","v":6828},"MP",{"$f":"IF(OR(D844=$M$15,D844=$M$20),SUM(IF((A844=$O$10:$O$29),IF(C844=$P$9,$P$10:$P$29,$Q$10:$Q$29),0))/100,1)","v":1}]
[2006,"Moto-Gasolina","Gasolina",{"$f":"SUM(IF(B845=$L$10:$L$23,$M$10:$M$23,0))","v":5},2,{"$f":"IFERROR(ROUND(VLOOKUP(A845,'Dados de entrada'!$P$7:$Z$50,Dados_v2!D845+1,0)*H845,0),0)","v":7519},"MP",{"$f":"IF(OR(D845=$M$15,D845=$M$20),SUM(IF((A845=$O$10:$O$29),IF(C845=$P$9,$P$10:$P$29,$Q$10:$Q$29),0))/100,1)","v":1}]
[2007,"Moto-Gasolina","Gasolina",{"$f":"SUM(IF(B846=$L$10:$L$23,$M$10:$M$23,0))","v":5},2,{"$f":"IFERROR(ROUND(VLOOKUP(A846,'Dados de entrada'!$P$7:$Z$50,Dados_v2!D846+1,0)*H846,0),0)","v":12449},"MP",{"$f":"IF(OR(D846=$M$15,D846=$M$20),SUM(IF((A846=$O$10:$O$29),IF(C846=$P$9,$P$10:$P$29,$Q$10:$Q$29),0))/100,1)","v":1}]
[2008,"Moto-Gasolina","Gasolina",{"$f":"SUM(IF(B847=$L$10:$L$23,$M$10:$M$23,0))","v":5},2,{"$f":"IFERROR(ROUND(VLOOKUP(A847,'Dados de entrada'!$P$7:$Z$50,Dados_v2!D847+1,0)*H847,0),0)","v":22881},"MP",{"$f":"IF(OR(D847=$M$15,D847=$M$20),SUM(IF((A847=$O$10:$O$29),IF(C847=$P$9,$P$10:$P$29,$Q$10:$Q$29),0))/100,1)","v":1}]
[2009,"Moto-Gasolina","Gasolina",{"$f":"SUM(IF(B848=$L$10:$L$23,$M$10:$M$23,0))","v":5},2,{"$f":"IFERROR(ROUND(VLOOKUP(A848,'Dados de entrada'!$P$7:$Z$50,Dados_v2!D848+1,0)*H848,0),0)","v":7798},"MP",{"$f":"IF(OR(D848=$M$15,D848=$M$20),SUM(IF((A848=$O$10:$O$29),IF(C848=$P$9,$P$10:$P$29,$Q$10:$Q$29),0))/100,1)","v":1}]
[2010,"Moto-Gasolina","Gasolina",{"$f":"SUM(IF(B849=$L$10:$L$23,$M$10:$M$23,0))","v":5},2,{"$f":"IFERROR(ROUND(VLOOKUP(A849,'Dados de entrada'!$P$7:$Z$50,Dados_v2!D849+1,0)*H849,0),0)","v":12526},"MP",{"$f":"IF(OR(D849=$M$15,D849=$M$20),SUM(IF((A849=$O$10:$O$29),IF(C849=$P$9,$P$10:$P$29,$Q$10:$Q$29),0))/100,1)","v":1}]
[2011,"Moto-Gasolina","Gasolina",{"$f":"SUM(IF(B850=$L$10:$L$23,$M$10:$M$23,0))","v":5},2,{"$f":"IFERROR(ROUND(VLOOKUP(A850,'Dados de entrada'!$P$7:$Z$50,Dados_v2!D850+1,0)*H850,0),0)","v":10202},"MP",{"$f":"IF(OR(D850=$M$15,D850=$M$20),SUM(IF((A850=$O$10:$O$29),IF(C850=$P$9,$P$10:$P$29,$Q$10:$Q$29),0))/100,1)","v":1}]
[2012,"Moto-Gasolina","Gasolina",{"$f":"SUM(IF(B851=$L$10:$L$23,$M$10:$M$23,0))","v":5},2,{"$f":"IFERROR(ROUND(VLOOKUP(A851,'Dados de entrada'!$P$7:$Z$50,Dados_v2!D851+1,0)*H851,0),0)","v":9318},"MP",{"$f":"IF(OR(D851=$M$15,D851=$M$20),SUM(IF((A851=$O$10:$O$29),IF(C851=$P$9,$P$10:$P$29,$Q$10:$Q$29),0))/100,1)","v":1}]
[2013,"Moto-Gasolina","Gasolina",{"$f":"SUM(IF(B852=$L$10:$L$23,$M$10:$M$23,0))","v":5},2,{"$f":"IFERROR(ROUND(VLOOKUP(A852,'Dados de entrada'!$P$7:$Z$50,Dados_v2!D852+1,0)*H852,0),0)","v":5906},"MP",{"$f":"IF(OR(D852=$M$15,D852=$M$20),SUM(IF((A852=$O$10:$O$29),IF(C852=$P$9,$P$10:$P$29,$Q$10:$Q$29),0))/100,1)","v":1}]
[2014,"Moto-Gasolina","Gasolina",{"$f":"SUM(IF(B853=$L$10:$L$23,$M$10:$M$23,0))","v":5},2,{"$f":"IFERROR(ROUND(VLOOKUP(A853,'Dados de entrada'!$P$7:$Z$50,Dados_v2!D853+1,0)*H853,0),0)","v":5599},"MP",{"$f":"IF(OR(D853=$M$15,D853=$M$20),SUM(IF((A853=$O$10:$O$29),IF(C853=$P$9,$P$10:$P$29,$Q$10:$Q$29),0))/100,1)","v":1}]
[2015,"Moto-Gasolina","Gasolina",{"$f":"SUM(IF(B854=$L$10:$L$23,$M$10:$M$23,0))","v":5},2,{"$f":"IFERROR(ROUND(VLOOKUP(A854,'Dados de entrada'!$P$7:$Z$50,Dados_v2!D854+1,0)*H854,0),0)","v":4403},"MP",{"$f":"IF(OR(D854=$M$15,D854=$M$20),SUM(IF((A854=$O$10:$O$29),IF(C854=$P$9,$P$10:$P$29,$Q$10:$Q$29),0))/100,1)","v":1}]
[2016,"Moto-Gasolina","Gasolina",{"$f":"SUM(IF(B855=$L$10:$L$23,$M$10:$M$23,0))","v":5},2,{"$f":"IFERROR(ROUND(VLOOKUP(A855,'Dados de entrada'!$P$7:$Z$50,Dados_v2!D855+1,0)*H855,0),0)","v":2840},"MP",{"$f":"IF(OR(D855=$M$15,D855=$M$20),SUM(IF((A855=$O$10:$O$29),IF(C855=$P$9,$P$10:$P$29,$Q$10:$Q$29),0))/100,1)","v":1}]
[2017,"Moto-Gasolina","Gasolina",{"$f":"SUM(IF(B856=$L$10:$L$23,$M$10:$M$23,0))","v":5},2,{"$f":"IFERROR(ROUND(VLOOKUP(A856,'Dados de entrada'!$P$7:$Z$50,Dados_v2!D856+1,0)*H856,0),0)","v":3672},"MP",{"$f":"IF(OR(D856=$M$15,D856=$M$20),SUM(IF((A856=$O$10:$O$29),IF(C856=$P$9,$P$10:$P$29,$Q$10:$Q$29),0))/100,1)","v":1}]
[2018,"Moto-Gasolina","Gasolina",{"$f":"SUM(IF(B857=$L$10:$L$23,$M$10:$M$23,0))","v":5},2,{"$f":"IFERROR(ROUND(VLOOKUP(A857,'Dados de entrada'!$P$7:$Z$50,Dados_v2!D857+1,0)*H857,0),0)","v":4076},"MP",{"$f":"IF(OR(D857=$M$15,D857=$M$20),SUM(IF((A857=$O$10:$O$29),IF(C857=$P$9,$P$10:$P$29,$Q$10:$Q$29),0))/100,1)","v":1}]
[2019,"Moto-Gasolina","Gasolina",{"$f":"SUM(IF(B858=$L$10:$L$23,$M$10:$M$23,0))","v":5},2,{"$f":"IFERROR(ROUND(VLOOKUP(A858,'Dados de entrada'!$P$7:$Z$50,Dados_v2!D858+1,0)*H858,0),0)","v":4486},"MP",{"$f":"IF(OR(D858=$M$15,D858=$M$20),SUM(IF((A858=$O$10:$O$29),IF(C858=$P$9,$P$10:$P$29,$Q$10:$Q$29),0))/100,1)","v":1}]
[2020,"Moto-Gasolina","Gasolina",{"$f":"SUM(IF(B859=$L$10:$L$23,$M$10:$M$23,0))","v":5},2,{"$f":"IFERROR(ROUND(VLOOKUP(A859,'Dados de entrada'!$P$7:$Z$50,Dados_v2!D859+1,0)*H859,0),0)","v":3923},"MP",{"$f":"IF(OR(D859=$M$15,D859=$M$20),SUM(IF((A859=$O$10:$O$29),IF(C859=$P$9,$P$10:$P$29,$Q$10:$Q$29),0))/100,1)","v":1}]
[2021,"Moto-Gasolina","Gasolina",{"$f":"SUM(IF(B860=$L$10:$L$23,$M$10:$M$23,0))","v":5},2,{"$f":"IFERROR(ROUND(VLOOKUP(A860,'Dados de entrada'!$P$7:$Z$50,Dados_v2!D860+1,0)*H860,0),0)","v":4248},"MP",{"$f":"IF(OR(D860=$M$15,D860=$M$20),SUM(IF((A860=$O$10:$O$29),IF(C860=$P$9,$P$10:$P$29,$Q$10:$Q$29),0))/100,1)","v":1}]
[2022,"Moto-Gasolina","Gasolina",{"$f":"SUM(IF(B861=$L$10:$L$23,$M$10:$M$23,0))","v":5},2,{"$f":"IFERROR(ROUND(VLOOKUP(A861,'Dados de entrada'!$P$7:$Z$50,Dados_v2!D861+1,0)*H861,0),0)","v":6938},"MP",{"$f":"IF(OR(D861=$M$15,D861=$M$20),SUM(IF((A861=$O$10:$O$29),IF(C861=$P$9,$P$10:$P$29,$Q$10:$Q$29),0))/100,1)","v":1}]
[2009,"Moto-Flex","Gasolina",{"$f":"SUM(IF(B862=$L$10:$L$23,$M$10:$M$23,0))","v":6},2,{"$f":"IFERROR(ROUND(VLOOKUP(A862,'Dados de entrada'!$P$7:$Z$50,Dados_v2!D862+1,0)*H862,0),0)","v":269},"MP",{"$f":"IF(OR(D862=$M$15,D862=$M$20),SUM(IF((A862=$O$10:$O$29),IF(C862=$P$9,$P$10:$P$29,$Q$10:$Q$29),0))/100,1)","v":0.3}]
[2010,"Moto-Flex","Gasolina",{"$f":"SUM(IF(B863=$L$10:$L$23,$M$10:$M$23,0))","v":6},2,{"$f":"IFERROR(ROUND(VLOOKUP(A863,'Dados de entrada'!$P$7:$Z$50,Dados_v2!D863+1,0)*H863,0),0)","v":1279},"MP",{"$f":"IF(OR(D863=$M$15,D863=$M$20),SUM(IF((A863=$O$10:$O$29),IF(C863=$P$9,$P$10:$P$29,$Q$10:$Q$29),0))/100,1)","v":0.48}]
[2011,"Moto-Flex","Gasolina",{"$f":"SUM(IF(B864=$L$10:$L$23,$M$10:$M$23,0))","v":6},2,{"$f":"IFERROR(ROUND(VLOOKUP(A864,'Dados de entrada'!$P$7:$Z$50,Dados_v2!D864+1,0)*H864,0),0)","v":3075},"MP",{"$f":"IF(OR(D864=$M$15,D864=$M$20),SUM(IF((A864=$O$10:$O$29),IF(C864=$P$9,$P$10:$P$29,$Q$10:$Q$29),0))/100,1)","v":0.68}]
[2012,"Moto-Flex","Gasolina",{"$f":"SUM(IF(B865=$L$10:$L$23,$M$10:$M$23,0))","v":6},2,{"$f":"IFERROR(ROUND(VLOOKUP(A865,'Dados de entrada'!$P$7:$Z$50,Dados_v2!D865+1,0)*H865,0),0)","v":3586},"MP",{"$f":"IF(OR(D865=$M$15,D865=$M$20),SUM(IF((A865=$O$10:$O$29),IF(C865=$P$9,$P$10:$P$29,$Q$10:$Q$29),0))/100,1)","v":0.75}]
[2013,"Moto-Flex","Gasolina",{"$f":"SUM(IF(B866=$L$10:$L$23,$M$10:$M$23,0))","v":6},2,{"$f":"IFERROR(ROUND(VLOOKUP(A866,'Dados de entrada'!$P$7:$Z$50,Dados_v2!D866+1,0)*H866,0),0)","v":3425},"MP",{"$f":"IF(OR(D866=$M$15,D866=$M$20),SUM(IF((A866=$O$10:$O$29),IF(C866=$P$9,$P$10:$P$29,$Q$10:$Q$29),0))/100,1)","v":0.75}]
[2014,"Moto-Flex","Gasolina",{"$f":"SUM(IF(B867=$L$10:$L$23,$M$10:$M$23,0))","v":6},2,{"$f":"IFERROR(ROUND(VLOOKUP(A867,'Dados de entrada'!$P$7:$Z$50,Dados_v2!D867+1,0)*H867,0),0)","v":5354},"MP",{"$f":"IF(OR(D867=$M$15,D867=$M$20),SUM(IF((A867=$O$10:$O$29),IF(C867=$P$9,$P$10:$P$29,$Q$10:$Q$29),0))/100,1)","v":0.75}]
[2015,"Moto-Flex","Gasolina",{"$f":"SUM(IF(B868=$L$10:$L$23,$M$10:$M$23,0))","v":6},2,{"$f":"IFERROR(ROUND(VLOOKUP(A868,'Dados de entrada'!$P$7:$Z$50,Dados_v2!D868+1,0)*H868,0),0)","v":5829},"MP",{"$f":"IF(OR(D868=$M$15,D868=$M$20),SUM(IF((A868=$O$10:$O$29),IF(C868=$P$9,$P$10:$P$29,$Q$10:$Q$29),0))/100,1)","v":0.75}]
[2016,"Moto-Flex","Gasolina",{"$f":"SUM(IF(B869=$L$10:$L$23,$M$10:$M$23,0))","v":6},2,{"$f":"IFERROR(ROUND(VLOOKUP(A869,'Dados de entrada'!$P$7:$Z$50,Dados_v2!D869+1,0)*H869,0),0)","v":3761},"MP",{"$f":"IF(OR(D869=$M$15,D869=$M$20),SUM(IF((A869=$O$10:$O$29),IF(C869=$P$9,$P$10:$P$29,$Q$10:$Q$29),0))/100,1)","v":0.75}]
[2017,"Moto-Flex","Gasolina",{"$f":"SUM(IF(B870=$L$10:$L$23,$M$10:$M$23,0))","v":6},2,{"$f":"IFERROR(ROUND(VLOOKUP(A870,'Dados de entrada'!$P$7:$Z$50,Dados_v2!D870+1,0)*H870,0),0)","v":3521},"MP",{"$f":"IF(OR(D870=$M$15,D870=$M$20),SUM(IF((A870=$O$10:$O$29),IF(C870=$P$9,$P$10:$P$29,$Q$10:$Q$29),0))/100,1)","v":0.75}]
[2018,"Moto-Flex","Gasolina",{"$f":"SUM(IF(B871=$L$10:$L$23,$M$10:$M$23,0))","v":6},2,{"$f":"IFERROR(ROUND(VLOOKUP(A871,'Dados de entrada'!$P$7:$Z$50,Dados_v2!D871+1,0)*H871,0),0)","v":4611},"MP",{"$f":"IF(OR(D871=$M$15,D871=$M$20),SUM(IF((A871=$O$10:$O$29),IF(C871=$P$9,$P$10:$P$29,$Q$10:$Q$29),0))/100,1)","v":0.75}]
[2019,"Moto-Flex","Gasolina",{"$f":"SUM(IF(B872=$L$10:$L$23,$M$10:$M$23,0))","v":6},2,{"$f":"IFERROR(ROUND(VLOOKUP(A872,'Dados de entrada'!$P$7:$Z$50,Dados_v2!D872+1,0)*H872,0),0)","v":6248},"MP",{"$f":"IF(OR(D872=$M$15,D872=$M$20),SUM(IF((A872=$O$10:$O$29),IF(C872=$P$9,$P$10:$P$29,$Q$10:$Q$29),0))/100,1)","v":0.75}]
[2020,"Moto-Flex","Gasolina",{"$f":"SUM(IF(B873=$L$10:$L$23,$M$10:$M$23,0))","v":6},2,{"$f":"IFERROR(ROUND(VLOOKUP(A873,'Dados de entrada'!$P$7:$Z$50,Dados_v2!D873+1,0)*H873,0),0)","v":6023},"MP",{"$f":"IF(OR(D873=$M$15,D873=$M$20),SUM(IF((A873=$O$10:$O$29),IF(C873=$P$9,$P$10:$P$29,$Q$10:$Q$29),0))/100,1)","v":0.75}]
[2021,"Moto-Flex","Gasolina",{"$f":"SUM(IF(B874=$L$10:$L$23,$M$10:$M$23,0))","v":6},2,{"$f":"IFERROR(ROUND(VLOOKUP(A874,'Dados de entrada'!$P$7:$Z$50,Dados_v2!D874+1,0)*H874,0),0)","v":5385},"MP",{"$f":"IF(OR(D874=$M$15,D874=$M$20),SUM(IF((A874=$O$10:$O$29),IF(C874=$P$9,$P$10:$P$29,$Q$10:$Q$29),0))/100,1)","v":0.75}]
[2022,"Moto-Flex","Gasolina",{"$f":"SUM(IF(B875=$L$10:$L$23,$M$10:$M$23,0))","v":6},2,{"$f":"IFERROR(ROUND(VLOOKUP(A875,'Dados de entrada'!$P$7:$Z$50,Dados_v2!D875+1,0)*H875,0),0)","v":8265},"MP",{"$f":"IF(OR(D875=$M$15,D875=$M$20),SUM(IF((A875=$O$10:$O$29),IF(C875=$P$9,$P$10:$P$29,$Q$10:$Q$29),0))/100,1)","v":0.75}]
[2009,"Moto-Flex","Etanol",{"$f":"SUM(IF(B876=$L$10:$L$23,$M$10:$M$23,0))","v":6},2,{"$f":"IFERROR(ROUND(VLOOKUP(A876,'Dados de entrada'!$P$7:$Z$50,Dados_v2!D876+1,0)*H876,0),0)","v":627},"MP",{"$f":"IF(OR(D876=$M$15,D876=$M$20),SUM(IF((A876=$O$10:$O$29),IF(C876=$P$9,$P$10:$P$29,$Q$10:$Q$29),0))/100,1)","v":0.7}]
[2010,"Moto-Flex","Etanol",{"$f":"SUM(IF(B877=$L$10:$L$23,$M$10:$M$23,0))","v":6},2,{"$f":"IFERROR(ROUND(VLOOKUP(A877,'Dados de entrada'!$P$7:$Z$50,Dados_v2!D877+1,0)*H877,0),0)","v":1386},"MP",{"$f":"IF(OR(D877=$M$15,D877=$M$20),SUM(IF((A877=$O$10:$O$29),IF(C877=$P$9,$P$10:$P$29,$Q$10:$Q$29),0))/100,1)","v":0.52}]
[2011,"Moto-Flex","Etanol",{"$f":"SUM(IF(B878=$L$10:$L$23,$M$10:$M$23,0))","v":6},2,{"$f":"IFERROR(ROUND(VLOOKUP(A878,'Dados de entrada'!$P$7:$Z$50,Dados_v2!D878+1,0)*H878,0),0)","v":1447},"MP",{"$f":"IF(OR(D878=$M$15,D878=$M$20),SUM(IF((A878=$O$10:$O$29),IF(C878=$P$9,$P$10:$P$29,$Q$10:$Q$29),0))/100,1)","v":0.32}]
[2012,"Moto-Flex","Etanol",{"$f":"SUM(IF(B879=$L$10:$L$23,$M$10:$M$23,0))","v":6},2,{"$f":"IFERROR(ROUND(VLOOKUP(A879,'Dados de entrada'!$P$7:$Z$50,Dados_v2!D879+1,0)*H879,0),0)","v":1195},"MP",{"$f":"IF(OR(D879=$M$15,D879=$M$20),SUM(IF((A879=$O$10:$O$29),IF(C879=$P$9,$P$10:$P$29,$Q$10:$Q$29),0))/100,1)","v":0.25}]
[2013,"Moto-Flex","Etanol",{"$f":"SUM(IF(B880=$L$10:$L$23,$M$10:$M$23,0))","v":6},2,{"$f":"IFERROR(ROUND(VLOOKUP(A880,'Dados de entrada'!$P$7:$Z$50,Dados_v2!D880+1,0)*H880,0),0)","v":1142},"MP",{"$f":"IF(OR(D880=$M$15,D880=$M$20),SUM(IF((A880=$O$10:$O$29),IF(C880=$P$9,$P$10:$P$29,$Q$10:$Q$29),0))/100,1)","v":0.25}]
[2014,"Moto-Flex","Etanol",{"$f":"SUM(IF(B881=$L$10:$L$23,$M$10:$M$23,0))","v":6},2,{"$f":"IFERROR(ROUND(VLOOKUP(A881,'Dados de entrada'!$P$7:$Z$50,Dados_v2!D881+1,0)*H881,0),0)","v":1785},"MP",{"$f":"IF(OR(D881=$M$15,D881=$M$20),SUM(IF((A881=$O$10:$O$29),IF(C881=$P$9,$P$10:$P$29,$Q$10:$Q$29),0))/100,1)","v":0.25}]
[2015,"Moto-Flex","Etanol",{"$f":"SUM(IF(B882=$L$10:$L$23,$M$10:$M$23,0))","v":6},2,{"$f":"IFERROR(ROUND(VLOOKUP(A882,'Dados de entrada'!$P$7:$Z$50,Dados_v2!D882+1,0)*H882,0),0)","v":1943},"MP",{"$f":"IF(OR(D882=$M$15,D882=$M$20),SUM(IF((A882=$O$10:$O$29),IF(C882=$P$9,$P$10:$P$29,$Q$10:$Q$29),0))/100,1)","v":0.25}]
[2016,"Moto-Flex","Etanol",{"$f":"SUM(IF(B883=$L$10:$L$23,$M$10:$M$23,0))","v":6},2,{"$f":"IFERROR(ROUND(VLOOKUP(A883,'Dados de entrada'!$P$7:$Z$50,Dados_v2!D883+1,0)*H883,0),0)","v":1254},"MP",{"$f":"IF(OR(D883=$M$15,D883=$M$20),SUM(IF((A883=$O$10:$O$29),IF(C883=$P$9,$P$10:$P$29,$Q$10:$Q$29),0))/100,1)","v":0.25}]
[2017,"Moto-Flex","Etanol",{"$f":"SUM(IF(B884=$L$10:$L$23,$M$10:$M$23,0))","v":6},2,{"$f":"IFERROR(ROUND(VLOOKUP(A884,'Dados de entrada'!$P$7:$Z$50,Dados_v2!D884+1,0)*H884,0),0)","v":1174},"MP",{"$f":"IF(OR(D884=$M$15,D884=$M$20),SUM(IF((A884=$O$10:$O$29),IF(C884=$P$9,$P$10:$P$29,$Q$10:$Q$29),0))/100,1)","v":0.25}]
[2018,"Moto-Flex","Etanol",{"$f":"SUM(IF(B885=$L$10:$L$23,$M$10:$M$23,0))","v":6},2,{"$f":"IFERROR(ROUND(VLOOKUP(A885,'Dados de entrada'!$P$7:$Z$50,Dados_v2!D885+1,0)*H885,0),0)","v":1537},"MP",{"$f":"IF(OR(D885=$M$15,D885=$M$20),SUM(IF((A885=$O$10:$O$29),IF(C885=$P$9,$P$10:$P$29,$Q$10:$Q$29),0))/100,1)","v":0.25}]
[2019,"Moto-Flex","Etanol",{"$f":"SUM(IF(B886=$L$10:$L$23,$M$10:$M$23,0))","v":6},2,{"$f":"IFERROR(ROUND(VLOOKUP(A886,'Dados de entrada'!$P$7:$Z$50,Dados_v2!D886+1,0)*H886,0),0)","v":2083},"MP",{"$f":"IF(OR(D886=$M$15,D886=$M$20),SUM(IF((A886=$O$10:$O$29),IF(C886=$P$9,$P$10:$P$29,$Q$10:$Q$29),0))/100,1)","v":0.25}]
[2020,"Moto-Flex","Etanol",{"$f":"SUM(IF(B887=$L$10:$L$23,$M$10:$M$23,0))","v":6},2,{"$f":"IFERROR(ROUND(VLOOKUP(A887,'Dados de entrada'!$P$7:$Z$50,Dados_v2!D887+1,0)*H887,0),0)","v":2008},"MP",{"$f":"IF(OR(D887=$M$15,D887=$M$20),SUM(IF((A887=$O$10:$O$29),IF(C887=$P$9,$P$10:$P$29,$Q$10:$Q$29),0))/100,1)","v":0.25}]
[2021,"Moto-Flex","Etanol",{"$f":"SUM(IF(B888=$L$10:$L$23,$M$10:$M$23,0))","v":6},2,{"$f":"IFERROR(ROUND(VLOOKUP(A888,'Dados de entrada'!$P$7:$Z$50,Dados_v2!D888+1,0)*H888,0),0)","v":1795},"MP",{"$f":"IF(OR(D888=$M$15,D888=$M$20),SUM(IF((A888=$O$10:$O$29),IF(C888=$P$9,$P$10:$P$29,$Q$10:$Q$29),0))/100,1)","v":0.25}]
[2022,"Moto-Flex","Etanol",{"$f":"SUM(IF(B889=$L$10:$L$23,$M$10:$M$23,0))","v":6},2,{"$f":"IFERROR(ROUND(VLOOKUP(A889,'Dados de entrada'!$P$7:$Z$50,Dados_v2!D889+1,0)*H889,0),0)","v":2755},"MP",{"$f":"IF(OR(D889=$M$15,D889=$M$20),SUM(IF((A889=$O$10:$O$29),IF(C889=$P$9,$P$10:$P$29,$Q$10:$Q$29),0))/100,1)","v":0.25}]
[1983,"Automovel-Gasolina","Gasolina",{"$f":"SUM(IF(B890=$L$10:$L$23,$M$10:$M$23,0))","v":7},1,{"$f":"IFERROR(ROUND(VLOOKUP(A890,'Dados de entrada'!$P$7:$Z$50,Dados_v2!D890+1,0)*H890,0),0)","v":2057},"MP",{"$f":"IF(OR(D890=$M$15,D890=$M$20),SUM(IF((A890=$O$10:$O$29),IF(C890=$P$9,$P$10:$P$29,$Q$10:$Q$29),0))/100,1)","v":1},2.3999999999999998E-3]
[1984,"Automovel-Gasolina","Gasolina",{"$f":"SUM(IF(B891=$L$10:$L$23,$M$10:$M$23,0))","v":7},1,{"$f":"IFERROR(ROUND(VLOOKUP(A891,'Dados de entrada'!$P$7:$Z$50,Dados_v2!D891+1,0)*H891,0),0)","v":849},"MP",{"$f":"IF(OR(D891=$M$15,D891=$M$20),SUM(IF((A891=$O$10:$O$29),IF(C891=$P$9,$P$10:$P$29,$Q$10:$Q$29),0))/100,1)","v":1},2.3999999999999998E-3]
[1985,"Automovel-Gasolina","Gasolina",{"$f":"SUM(IF(B892=$L$10:$L$23,$M$10:$M$23,0))","v":7},1,{"$f":"IFERROR(ROUND(VLOOKUP(A892,'Dados de entrada'!$P$7:$Z$50,Dados_v2!D892+1,0)*H892,0),0)","v":816},"MP",{"$f":"IF(OR(D892=$M$15,D892=$M$20),SUM(IF((A892=$O$10:$O$29),IF(C892=$P$9,$P$10:$P$29,$Q$10:$Q$29),0))/100,1)","v":1},2.3999999999999998E-3]
[1986,"Automovel-Gasolina","Gasolina",{"$f":"SUM(IF(B893=$L$10:$L$23,$M$10:$M$23,0))","v":7},1,{"$f":"IFERROR(ROUND(VLOOKUP(A893,'Dados de entrada'!$P$7:$Z$50,Dados_v2!D893+1,0)*H893,0),0)","v":1406},"MP",{"$f":"IF(OR(D893=$M$15,D893=$M$20),SUM(IF((A893=$O$10:$O$29),IF(C893=$P$9,$P$10:$P$29,$Q$10:$Q$29),0))/100,1)","v":1},2.3999999999999998E-3]
[1987,"Automovel-Gasolina","Gasolina",{"$f":"SUM(IF(B894=$L$10:$L$23,$M$10:$M$23,0))","v":7},1,{"$f":"IFERROR(ROUND(VLOOKUP(A894,'Dados de entrada'!$P$7:$Z$50,Dados_v2!D894+1,0)*H894,0),0)","v":808},"MP",{"$f":"IF(OR(D894=$M$15,D894=$M$20),SUM(IF((A894=$O$10:$O$29),IF(C894=$P$9,$P$10:$P$29,$Q$10:$Q$29),0))/100,1)","v":1},2.3999999999999998E-3]
[1988,"Automovel-Gasolina","Gasolina",{"$f":"SUM(IF(B895=$L$10:$L$23,$M$10:$M$23,0))","v":7},1,{"$f":"IFERROR(ROUND(VLOOKUP(A895,'Dados de entrada'!$P$7:$Z$50,Dados_v2!D895+1,0)*H895,0),0)","v":1012},"MP",{"$f":"IF(OR(D895=$M$15,D895=$M$20),SUM(IF((A895=$O$10:$O$29),IF(C895=$P$9,$P$10:$P$29,$Q$10:$Q$29),0))/100,1)","v":1},2.3999999999999998E-3]
[1989,"Automovel-Gasolina","Gasolina",{"$f":"SUM(IF(B896=$L$10:$L$23,$M$10:$M$23,0))","v":7},1,{"$f":"IFERROR(ROUND(VLOOKUP(A896,'Dados de entrada'!$P$7:$Z$50,Dados_v2!D896+1,0)*H896,0),0)","v":3130},"MP",{"$f":"IF(OR(D896=$M$15,D896=$M$20),SUM(IF((A896=$O$10:$O$29),IF(C896=$P$9,$P$10:$P$29,$Q$10:$Q$29),0))/100,1)","v":1},2.3999999999999998E-3]
[1990,"Automovel-Gasolina","Gasolina",{"$f":"SUM(IF(B897=$L$10:$L$23,$M$10:$M$23,0))","v":7},1,{"$f":"IFERROR(ROUND(VLOOKUP(A897,'Dados de entrada'!$P$7:$Z$50,Dados_v2!D897+1,0)*H897,0),0)","v":5837},"MP",{"$f":"IF(OR(D897=$M$15,D897=$M$20),SUM(IF((A897=$O$10:$O$29),IF(C897=$P$9,$P$10:$P$29,$Q$10:$Q$29),0))/100,1)","v":1},2.3999999999999998E-3]
[1991,"Automovel-Gasolina","Gasolina",{"$f":"SUM(IF(B898=$L$10:$L$23,$M$10:$M$23,0))","v":7},1,{"$f":"IFERROR(ROUND(VLOOKUP(A898,'Dados de entrada'!$P$7:$Z$50,Dados_v2!D898+1,0)*H898,0),0)","v":6655},"MP",{"$f":"IF(OR(D898=$M$15,D898=$M$20),SUM(IF((A898=$O$10:$O$29),IF(C898=$P$9,$P$10:$P$29,$Q$10:$Q$29),0))/100,1)","v":1},2.3999999999999998E-3]
[1992,"Automovel-Gasolina","Gasolina",{"$f":"SUM(IF(B899=$L$10:$L$23,$M$10:$M$23,0))","v":7},1,{"$f":"IFERROR(ROUND(VLOOKUP(A899,'Dados de entrada'!$P$7:$Z$50,Dados_v2!D899+1,0)*H899,0),0)","v":5726},"MP",{"$f":"IF(OR(D899=$M$15,D899=$M$20),SUM(IF((A899=$O$10:$O$29),IF(C899=$P$9,$P$10:$P$29,$Q$10:$Q$29),0))/100,1)","v":1},2.3999999999999998E-3]
[1993,"Automovel-Gasolina","Gasolina",{"$f":"SUM(IF(B900=$L$10:$L$23,$M$10:$M$23,0))","v":7},1,{"$f":"IFERROR(ROUND(VLOOKUP(A900,'Dados de entrada'!$P$7:$Z$50,Dados_v2!D900+1,0)*H900,0),0)","v":8575},"MP",{"$f":"IF(OR(D900=$M$15,D900=$M$20),SUM(IF((A900=$O$10:$O$29),IF(C900=$P$9,$P$10:$P$29,$Q$10:$Q$29),0))/100,1)","v":1},2.3999999999999998E-3]
[1994,"Automovel-Gasolina","Gasolina",{"$f":"SUM(IF(B901=$L$10:$L$23,$M$10:$M$23,0))","v":7},1,{"$f":"IFERROR(ROUND(VLOOKUP(A901,'Dados de entrada'!$P$7:$Z$50,Dados_v2!D901+1,0)*H901,0),0)","v":11036},"MP",{"$f":"IF(OR(D901=$M$15,D901=$M$20),SUM(IF((A901=$O$10:$O$29),IF(C901=$P$9,$P$10:$P$29,$Q$10:$Q$29),0))/100,1)","v":1},2.3999999999999998E-3]
[1995,"Automovel-Gasolina","Gasolina",{"$f":"SUM(IF(B902=$L$10:$L$23,$M$10:$M$23,0))","v":7},1,{"$f":"IFERROR(ROUND(VLOOKUP(A902,'Dados de entrada'!$P$7:$Z$50,Dados_v2!D902+1,0)*H902,0),0)","v":18944},"MP",{"$f":"IF(OR(D902=$M$15,D902=$M$20),SUM(IF((A902=$O$10:$O$29),IF(C902=$P$9,$P$10:$P$29,$Q$10:$Q$29),0))/100,1)","v":1},2.3999999999999998E-3]
[1996,"Automovel-Gasolina","Gasolina",{"$f":"SUM(IF(B903=$L$10:$L$23,$M$10:$M$23,0))","v":7},1,{"$f":"IFERROR(ROUND(VLOOKUP(A903,'Dados de entrada'!$P$7:$Z$50,Dados_v2!D903+1,0)*H903,0),0)","v":17211},"MP",{"$f":"IF(OR(D903=$M$15,D903=$M$20),SUM(IF((A903=$O$10:$O$29),IF(C903=$P$9,$P$10:$P$29,$Q$10:$Q$29),0))/100,1)","v":1},2.3999999999999998E-3]
[1997,"Automovel-Gasolina","Gasolina",{"$f":"SUM(IF(B904=$L$10:$L$23,$M$10:$M$23,0))","v":7},1,{"$f":"IFERROR(ROUND(VLOOKUP(A904,'Dados de entrada'!$P$7:$Z$50,Dados_v2!D904+1,0)*H904,0),0)","v":19715},"MP",{"$f":"IF(OR(D904=$M$15,D904=$M$20),SUM(IF((A904=$O$10:$O$29),IF(C904=$P$9,$P$10:$P$29,$Q$10:$Q$29),0))/100,1)","v":1},1.1000000000000001E-3]
[1998,"Automovel-Gasolina","Gasolina",{"$f":"SUM(IF(B905=$L$10:$L$23,$M$10:$M$23,0))","v":7},1,{"$f":"IFERROR(ROUND(VLOOKUP(A905,'Dados de entrada'!$P$7:$Z$50,Dados_v2!D905+1,0)*H905,0),0)","v":16751},"MP",{"$f":"IF(OR(D905=$M$15,D905=$M$20),SUM(IF((A905=$O$10:$O$29),IF(C905=$P$9,$P$10:$P$29,$Q$10:$Q$29),0))/100,1)","v":1},1.1000000000000001E-3]
[1999,"Automovel-Gasolina","Gasolina",{"$f":"SUM(IF(B906=$L$10:$L$23,$M$10:$M$23,0))","v":7},1,{"$f":"IFERROR(ROUND(VLOOKUP(A906,'Dados de entrada'!$P$7:$Z$50,Dados_v2!D906+1,0)*H906,0),0)","v":15116},"MP",{"$f":"IF(OR(D906=$M$15,D906=$M$20),SUM(IF((A906=$O$10:$O$29),IF(C906=$P$9,$P$10:$P$29,$Q$10:$Q$29),0))/100,1)","v":1},1.1000000000000001E-3]
[2000,"Automovel-Gasolina","Gasolina",{"$f":"SUM(IF(B907=$L$10:$L$23,$M$10:$M$23,0))","v":7},1,{"$f":"IFERROR(ROUND(VLOOKUP(A907,'Dados de entrada'!$P$7:$Z$50,Dados_v2!D907+1,0)*H907,0),0)","v":15355},"MP",{"$f":"IF(OR(D907=$M$15,D907=$M$20),SUM(IF((A907=$O$10:$O$29),IF(C907=$P$9,$P$10:$P$29,$Q$10:$Q$29),0))/100,1)","v":1},1.1000000000000001E-3]
[2001,"Automovel-Gasolina","Gasolina",{"$f":"SUM(IF(B908=$L$10:$L$23,$M$10:$M$23,0))","v":7},1,{"$f":"IFERROR(ROUND(VLOOKUP(A908,'Dados de entrada'!$P$7:$Z$50,Dados_v2!D908+1,0)*H908,0),0)","v":18573},"MP",{"$f":"IF(OR(D908=$M$15,D908=$M$20),SUM(IF((A908=$O$10:$O$29),IF(C908=$P$9,$P$10:$P$29,$Q$10:$Q$29),0))/100,1)","v":1},1.1000000000000001E-3]
[2002,"Automovel-Gasolina","Gasolina",{"$f":"SUM(IF(B909=$L$10:$L$23,$M$10:$M$23,0))","v":7},1,{"$f":"IFERROR(ROUND(VLOOKUP(A909,'Dados de entrada'!$P$7:$Z$50,Dados_v2!D909+1,0)*H909,0),0)","v":14698},"MP",{"$f":"IF(OR(D909=$M$15,D909=$M$20),SUM(IF((A909=$O$10:$O$29),IF(C909=$P$9,$P$10:$P$29,$Q$10:$Q$29),0))/100,1)","v":1},1.1000000000000001E-3]
[2003,"Automovel-Gasolina","Gasolina",{"$f":"SUM(IF(B910=$L$10:$L$23,$M$10:$M$23,0))","v":7},1,{"$f":"IFERROR(ROUND(VLOOKUP(A910,'Dados de entrada'!$P$7:$Z$50,Dados_v2!D910+1,0)*H910,0),0)","v":16345},"MP",{"$f":"IF(OR(D910=$M$15,D910=$M$20),SUM(IF((A910=$O$10:$O$29),IF(C910=$P$9,$P$10:$P$29,$Q$10:$Q$29),0))/100,1)","v":1},1.1000000000000001E-3]
[2004,"Automovel-Gasolina","Gasolina",{"$f":"SUM(IF(B911=$L$10:$L$23,$M$10:$M$23,0))","v":7},1,{"$f":"IFERROR(ROUND(VLOOKUP(A911,'Dados de entrada'!$P$7:$Z$50,Dados_v2!D911+1,0)*H911,0),0)","v":13063},"MP",{"$f":"IF(OR(D911=$M$15,D911=$M$20),SUM(IF((A911=$O$10:$O$29),IF(C911=$P$9,$P$10:$P$29,$Q$10:$Q$29),0))/100,1)","v":1},1.1000000000000001E-3]
[2005,"Automovel-Gasolina","Gasolina",{"$f":"SUM(IF(B912=$L$10:$L$23,$M$10:$M$23,0))","v":7},1,{"$f":"IFERROR(ROUND(VLOOKUP(A912,'Dados de entrada'!$P$7:$Z$50,Dados_v2!D912+1,0)*H912,0),0)","v":11807},"MP",{"$f":"IF(OR(D912=$M$15,D912=$M$20),SUM(IF((A912=$O$10:$O$29),IF(C912=$P$9,$P$10:$P$29,$Q$10:$Q$29),0))/100,1)","v":1},1.1000000000000001E-3]
[2006,"Automovel-Gasolina","Gasolina",{"$f":"SUM(IF(B913=$L$10:$L$23,$M$10:$M$23,0))","v":7},1,{"$f":"IFERROR(ROUND(VLOOKUP(A913,'Dados de entrada'!$P$7:$Z$50,Dados_v2!D913+1,0)*H913,0),0)","v":5134},"MP",{"$f":"IF(OR(D913=$M$15,D913=$M$20),SUM(IF((A913=$O$10:$O$29),IF(C913=$P$9,$P$10:$P$29,$Q$10:$Q$29),0))/100,1)","v":1},1.1000000000000001E-3]
[2007,"Automovel-Gasolina","Gasolina",{"$f":"SUM(IF(B914=$L$10:$L$23,$M$10:$M$23,0))","v":7},1,{"$f":"IFERROR(ROUND(VLOOKUP(A914,'Dados de entrada'!$P$7:$Z$50,Dados_v2!D914+1,0)*H914,0),0)","v":6019},"MP",{"$f":"IF(OR(D914=$M$15,D914=$M$20),SUM(IF((A914=$O$10:$O$29),IF(C914=$P$9,$P$10:$P$29,$Q$10:$Q$29),0))/100,1)","v":1},1.1000000000000001E-3]
[2008,"Automovel-Gasolina","Gasolina",{"$f":"SUM(IF(B915=$L$10:$L$23,$M$10:$M$23,0))","v":7},1,{"$f":"IFERROR(ROUND(VLOOKUP(A915,'Dados de entrada'!$P$7:$Z$50,Dados_v2!D915+1,0)*H915,0),0)","v":5907},"MP",{"$f":"IF(OR(D915=$M$15,D915=$M$20),SUM(IF((A915=$O$10:$O$29),IF(C915=$P$9,$P$10:$P$29,$Q$10:$Q$29),0))/100,1)","v":1},1.1000000000000001E-3]
[2009,"Automovel-Gasolina","Gasolina",{"$f":"SUM(IF(B916=$L$10:$L$23,$M$10:$M$23,0))","v":7},1,{"$f":"IFERROR(ROUND(VLOOKUP(A916,'Dados de entrada'!$P$7:$Z$50,Dados_v2!D916+1,0)*H916,0),0)","v":3888},"MP",{"$f":"IF(OR(D916=$M$15,D916=$M$20),SUM(IF((A916=$O$10:$O$29),IF(C916=$P$9,$P$10:$P$29,$Q$10:$Q$29),0))/100,1)","v":1},1.1000000000000001E-3]
[2010,"Automovel-Gasolina","Gasolina",{"$f":"SUM(IF(B917=$L$10:$L$23,$M$10:$M$23,0))","v":7},1,{"$f":"IFERROR(ROUND(VLOOKUP(A917,'Dados de entrada'!$P$7:$Z$50,Dados_v2!D917+1,0)*H917,0),0)","v":5853},"MP",{"$f":"IF(OR(D917=$M$15,D917=$M$20),SUM(IF((A917=$O$10:$O$29),IF(C917=$P$9,$P$10:$P$29,$Q$10:$Q$29),0))/100,1)","v":1},1.1000000000000001E-3]
[2011,"Automovel-Gasolina","Gasolina",{"$f":"SUM(IF(B918=$L$10:$L$23,$M$10:$M$23,0))","v":7},1,{"$f":"IFERROR(ROUND(VLOOKUP(A918,'Dados de entrada'!$P$7:$Z$50,Dados_v2!D918+1,0)*H918,0),0)","v":7341},"MP",{"$f":"IF(OR(D918=$M$15,D918=$M$20),SUM(IF((A918=$O$10:$O$29),IF(C918=$P$9,$P$10:$P$29,$Q$10:$Q$29),0))/100,1)","v":1},1.1000000000000001E-3]
[2012,"Automovel-Gasolina","Gasolina",{"$f":"SUM(IF(B919=$L$10:$L$23,$M$10:$M$23,0))","v":7},1,{"$f":"IFERROR(ROUND(VLOOKUP(A919,'Dados de entrada'!$P$7:$Z$50,Dados_v2!D919+1,0)*H919,0),0)","v":9155},"MP",{"$f":"IF(OR(D919=$M$15,D919=$M$20),SUM(IF((A919=$O$10:$O$29),IF(C919=$P$9,$P$10:$P$29,$Q$10:$Q$29),0))/100,1)","v":1},1.1000000000000001E-3]
[2013,"Automovel-Gasolina","Gasolina",{"$f":"SUM(IF(B920=$L$10:$L$23,$M$10:$M$23,0))","v":7},1,{"$f":"IFERROR(ROUND(VLOOKUP(A920,'Dados de entrada'!$P$7:$Z$50,Dados_v2!D920+1,0)*H920,0),0)","v":4837},"MP",{"$f":"IF(OR(D920=$M$15,D920=$M$20),SUM(IF((A920=$O$10:$O$29),IF(C920=$P$9,$P$10:$P$29,$Q$10:$Q$29),0))/100,1)","v":1},1.1000000000000001E-3]
[2014,"Automovel-Gasolina","Gasolina",{"$f":"SUM(IF(B921=$L$10:$L$23,$M$10:$M$23,0))","v":7},1,{"$f":"IFERROR(ROUND(VLOOKUP(A921,'Dados de entrada'!$P$7:$Z$50,Dados_v2!D921+1,0)*H921,0),0)","v":5336},"MP",{"$f":"IF(OR(D921=$M$15,D921=$M$20),SUM(IF((A921=$O$10:$O$29),IF(C921=$P$9,$P$10:$P$29,$Q$10:$Q$29),0))/100,1)","v":1},1.1000000000000001E-3]
[2015,"Automovel-Gasolina","Gasolina",{"$f":"SUM(IF(B922=$L$10:$L$23,$M$10:$M$23,0))","v":7},1,{"$f":"IFERROR(ROUND(VLOOKUP(A922,'Dados de entrada'!$P$7:$Z$50,Dados_v2!D922+1,0)*H922,0),0)","v":4590},"MP",{"$f":"IF(OR(D922=$M$15,D922=$M$20),SUM(IF((A922=$O$10:$O$29),IF(C922=$P$9,$P$10:$P$29,$Q$10:$Q$29),0))/100,1)","v":1},1.1000000000000001E-3]
[2016,"Automovel-Gasolina","Gasolina",{"$f":"SUM(IF(B923=$L$10:$L$23,$M$10:$M$23,0))","v":7},1,{"$f":"IFERROR(ROUND(VLOOKUP(A923,'Dados de entrada'!$P$7:$Z$50,Dados_v2!D923+1,0)*H923,0),0)","v":3165},"MP",{"$f":"IF(OR(D923=$M$15,D923=$M$20),SUM(IF((A923=$O$10:$O$29),IF(C923=$P$9,$P$10:$P$29,$Q$10:$Q$29),0))/100,1)","v":1},1.1000000000000001E-3]
[2017,"Automovel-Gasolina","Gasolina",{"$f":"SUM(IF(B924=$L$10:$L$23,$M$10:$M$23,0))","v":7},1,{"$f":"IFERROR(ROUND(VLOOKUP(A924,'Dados de entrada'!$P$7:$Z$50,Dados_v2!D924+1,0)*H924,0),0)","v":1866},"MP",{"$f":"IF(OR(D924=$M$15,D924=$M$20),SUM(IF((A924=$O$10:$O$29),IF(C924=$P$9,$P$10:$P$29,$Q$10:$Q$29),0))/100,1)","v":1},1.1000000000000001E-3]
[2018,"Automovel-Gasolina","Gasolina",{"$f":"SUM(IF(B925=$L$10:$L$23,$M$10:$M$23,0))","v":7},1,{"$f":"IFERROR(ROUND(VLOOKUP(A925,'Dados de entrada'!$P$7:$Z$50,Dados_v2!D925+1,0)*H925,0),0)","v":2561},"MP",{"$f":"IF(OR(D925=$M$15,D925=$M$20),SUM(IF((A925=$O$10:$O$29),IF(C925=$P$9,$P$10:$P$29,$Q$10:$Q$29),0))/100,1)","v":1},1.1000000000000001E-3]
[2019,"Automovel-Gasolina","Gasolina",{"$f":"SUM(IF(B926=$L$10:$L$23,$M$10:$M$23,0))","v":7},1,{"$f":"IFERROR(ROUND(VLOOKUP(A926,'Dados de entrada'!$P$7:$Z$50,Dados_v2!D926+1,0)*H926,0),0)","v":2561},"MP",{"$f":"IF(OR(D926=$M$15,D926=$M$20),SUM(IF((A926=$O$10:$O$29),IF(C926=$P$9,$P$10:$P$29,$Q$10:$Q$29),0))/100,1)","v":1},1.1000000000000001E-3]
[2020,"Automovel-Gasolina","Gasolina",{"$f":"SUM(IF(B927=$L$10:$L$23,$M$10:$M$23,0))","v":7},1,{"$f":"IFERROR(ROUND(VLOOKUP(A927,'Dados de entrada'!$P$7:$Z$50,Dados_v2!D927+1,0)*H927,0),0)","v":2925},"MP",{"$f":"IF(OR(D927=$M$15,D927=$M$20),SUM(IF((A927=$O$10:$O$29),IF(C927=$P$9,$P$10:$P$29,$Q$10:$Q$29),0))/100,1)","v":1},1.1000000000000001E-3]
[2021,"Automovel-Gasolina","Gasolina",{"$f":"SUM(IF(B928=$L$10:$L$23,$M$10:$M$23,0))","v":7},1,{"$f":"IFERROR(ROUND(VLOOKUP(A928,'Dados de entrada'!$P$7:$Z$50,Dados_v2!D928+1,0)*H928,0),0)","v":1564},"MP",{"$f":"IF(OR(D928=$M$15,D928=$M$20),SUM(IF((A928=$O$10:$O$29),IF(C928=$P$9,$P$10:$P$29,$Q$10:$Q$29),0))/100,1)","v":1},1.1000000000000001E-3]
[2022,"Automovel-Gasolina","Gasolina",{"$f":"SUM(IF(B929=$L$10:$L$23,$M$10:$M$23,0))","v":7},1,{"$f":"IFERROR(ROUND(VLOOKUP(A929,'Dados de entrada'!$P$7:$Z$50,Dados_v2!D929+1,0)*H929,0),0)","v":2879},"MP",{"$f":"IF(OR(D929=$M$15,D929=$M$20),SUM(IF((A929=$O$10:$O$29),IF(C929=$P$9,$P$10:$P$29,$Q$10:$Q$29),0))/100,1)","v":1},1.1000000000000001E-3]
[1983,"Automovel-Alcool","Etanol",{"$f":"SUM(IF(B930=$L$10:$L$23,$M$10:$M$23,0))","v":8},1,{"$f":"IFERROR(ROUND(VLOOKUP(A930,'Dados de entrada'!$P$7:$Z$50,Dados_v2!D930+1,0)*H930,0),0)","v":2904},"MP",{"$f":"IF(OR(D930=$M$15,D930=$M$20),SUM(IF((A930=$O$10:$O$29),IF(C930=$P$9,$P$10:$P$29,$Q$10:$Q$29),0))/100,1)","v":1}]
[1984,"Automovel-Alcool","Etanol",{"$f":"SUM(IF(B931=$L$10:$L$23,$M$10:$M$23,0))","v":8},1,{"$f":"IFERROR(ROUND(VLOOKUP(A931,'Dados de entrada'!$P$7:$Z$50,Dados_v2!D931+1,0)*H931,0),0)","v":3281},"MP",{"$f":"IF(OR(D931=$M$15,D931=$M$20),SUM(IF((A931=$O$10:$O$29),IF(C931=$P$9,$P$10:$P$29,$Q$10:$Q$29),0))/100,1)","v":1}]
[1985,"Automovel-Alcool","Etanol",{"$f":"SUM(IF(B932=$L$10:$L$23,$M$10:$M$23,0))","v":8},1,{"$f":"IFERROR(ROUND(VLOOKUP(A932,'Dados de entrada'!$P$7:$Z$50,Dados_v2!D932+1,0)*H932,0),0)","v":3376},"MP",{"$f":"IF(OR(D932=$M$15,D932=$M$20),SUM(IF((A932=$O$10:$O$29),IF(C932=$P$9,$P$10:$P$29,$Q$10:$Q$29),0))/100,1)","v":1}]
[1986,"Automovel-Alcool","Etanol",{"$f":"SUM(IF(B933=$L$10:$L$23,$M$10:$M$23,0))","v":8},1,{"$f":"IFERROR(ROUND(VLOOKUP(A933,'Dados de entrada'!$P$7:$Z$50,Dados_v2!D933+1,0)*H933,0),0)","v":5821},"MP",{"$f":"IF(OR(D933=$M$15,D933=$M$20),SUM(IF((A933=$O$10:$O$29),IF(C933=$P$9,$P$10:$P$29,$Q$10:$Q$29),0))/100,1)","v":1}]
[1987,"Automovel-Alcool","Etanol",{"$f":"SUM(IF(B934=$L$10:$L$23,$M$10:$M$23,0))","v":8},1,{"$f":"IFERROR(ROUND(VLOOKUP(A934,'Dados de entrada'!$P$7:$Z$50,Dados_v2!D934+1,0)*H934,0),0)","v":3387},"MP",{"$f":"IF(OR(D934=$M$15,D934=$M$20),SUM(IF((A934=$O$10:$O$29),IF(C934=$P$9,$P$10:$P$29,$Q$10:$Q$29),0))/100,1)","v":1}]
[1988,"Automovel-Alcool","Etanol",{"$f":"SUM(IF(B935=$L$10:$L$23,$M$10:$M$23,0))","v":8},1,{"$f":"IFERROR(ROUND(VLOOKUP(A935,'Dados de entrada'!$P$7:$Z$50,Dados_v2!D935+1,0)*H935,0),0)","v":4326},"MP",{"$f":"IF(OR(D935=$M$15,D935=$M$20),SUM(IF((A935=$O$10:$O$29),IF(C935=$P$9,$P$10:$P$29,$Q$10:$Q$29),0))/100,1)","v":1}]
[1989,"Automovel-Alcool","Etanol",{"$f":"SUM(IF(B936=$L$10:$L$23,$M$10:$M$23,0))","v":8},1,{"$f":"IFERROR(ROUND(VLOOKUP(A936,'Dados de entrada'!$P$7:$Z$50,Dados_v2!D936+1,0)*H936,0),0)","v":4395},"MP",{"$f":"IF(OR(D936=$M$15,D936=$M$20),SUM(IF((A936=$O$10:$O$29),IF(C936=$P$9,$P$10:$P$29,$Q$10:$Q$29),0))/100,1)","v":1}]
[1990,"Automovel-Alcool","Etanol",{"$f":"SUM(IF(B937=$L$10:$L$23,$M$10:$M$23,0))","v":8},1,{"$f":"IFERROR(ROUND(VLOOKUP(A937,'Dados de entrada'!$P$7:$Z$50,Dados_v2!D937+1,0)*H937,0),0)","v":988},"MP",{"$f":"IF(OR(D937=$M$15,D937=$M$20),SUM(IF((A937=$O$10:$O$29),IF(C937=$P$9,$P$10:$P$29,$Q$10:$Q$29),0))/100,1)","v":1}]
[1991,"Automovel-Alcool","Etanol",{"$f":"SUM(IF(B938=$L$10:$L$23,$M$10:$M$23,0))","v":8},1,{"$f":"IFERROR(ROUND(VLOOKUP(A938,'Dados de entrada'!$P$7:$Z$50,Dados_v2!D938+1,0)*H938,0),0)","v":838},"MP",{"$f":"IF(OR(D938=$M$15,D938=$M$20),SUM(IF((A938=$O$10:$O$29),IF(C938=$P$9,$P$10:$P$29,$Q$10:$Q$29),0))/100,1)","v":1}]
[1992,"Automovel-Alcool","Etanol",{"$f":"SUM(IF(B939=$L$10:$L$23,$M$10:$M$23,0))","v":8},1,{"$f":"IFERROR(ROUND(VLOOKUP(A939,'Dados de entrada'!$P$7:$Z$50,Dados_v2!D939+1,0)*H939,0),0)","v":1103},"MP",{"$f":"IF(OR(D939=$M$15,D939=$M$20),SUM(IF((A939=$O$10:$O$29),IF(C939=$P$9,$P$10:$P$29,$Q$10:$Q$29),0))/100,1)","v":1}]
[1993,"Automovel-Alcool","Etanol",{"$f":"SUM(IF(B940=$L$10:$L$23,$M$10:$M$23,0))","v":8},1,{"$f":"IFERROR(ROUND(VLOOKUP(A940,'Dados de entrada'!$P$7:$Z$50,Dados_v2!D940+1,0)*H940,0),0)","v":1489},"MP",{"$f":"IF(OR(D940=$M$15,D940=$M$20),SUM(IF((A940=$O$10:$O$29),IF(C940=$P$9,$P$10:$P$29,$Q$10:$Q$29),0))/100,1)","v":1}]
[1994,"Automovel-Alcool","Etanol",{"$f":"SUM(IF(B941=$L$10:$L$23,$M$10:$M$23,0))","v":8},1,{"$f":"IFERROR(ROUND(VLOOKUP(A941,'Dados de entrada'!$P$7:$Z$50,Dados_v2!D941+1,0)*H941,0),0)","v":1343},"MP",{"$f":"IF(OR(D941=$M$15,D941=$M$20),SUM(IF((A941=$O$10:$O$29),IF(C941=$P$9,$P$10:$P$29,$Q$10:$Q$29),0))/100,1)","v":1}]
[1995,"Automovel-Alcool","Etanol",{"$f":"SUM(IF(B942=$L$10:$L$23,$M$10:$M$23,0))","v":8},1,{"$f":"IFERROR(ROUND(VLOOKUP(A942,'Dados de entrada'!$P$7:$Z$50,Dados_v2!D942+1,0)*H942,0),0)","v":344},"MP",{"$f":"IF(OR(D942=$M$15,D942=$M$20),SUM(IF((A942=$O$10:$O$29),IF(C942=$P$9,$P$10:$P$29,$Q$10:$Q$29),0))/100,1)","v":1}]
[1996,"Automovel-Alcool","Etanol",{"$f":"SUM(IF(B943=$L$10:$L$23,$M$10:$M$23,0))","v":8},1,{"$f":"IFERROR(ROUND(VLOOKUP(A943,'Dados de entrada'!$P$7:$Z$50,Dados_v2!D943+1,0)*H943,0),0)","v":51},"MP",{"$f":"IF(OR(D943=$M$15,D943=$M$20),SUM(IF((A943=$O$10:$O$29),IF(C943=$P$9,$P$10:$P$29,$Q$10:$Q$29),0))/100,1)","v":1}]
[1997,"Automovel-Alcool","Etanol",{"$f":"SUM(IF(B944=$L$10:$L$23,$M$10:$M$23,0))","v":8},1,{"$f":"IFERROR(ROUND(VLOOKUP(A944,'Dados de entrada'!$P$7:$Z$50,Dados_v2!D944+1,0)*H944,0),0)","v":12},"MP",{"$f":"IF(OR(D944=$M$15,D944=$M$20),SUM(IF((A944=$O$10:$O$29),IF(C944=$P$9,$P$10:$P$29,$Q$10:$Q$29),0))/100,1)","v":1}]
[1998,"Automovel-Alcool","Etanol",{"$f":"SUM(IF(B945=$L$10:$L$23,$M$10:$M$23,0))","v":8},1,{"$f":"IFERROR(ROUND(VLOOKUP(A945,'Dados de entrada'!$P$7:$Z$50,Dados_v2!D945+1,0)*H945,0),0)","v":7},"MP",{"$f":"IF(OR(D945=$M$15,D945=$M$20),SUM(IF((A945=$O$10:$O$29),IF(C945=$P$9,$P$10:$P$29,$Q$10:$Q$29),0))/100,1)","v":1}]
[1999,"Automovel-Alcool","Etanol",{"$f":"SUM(IF(B946=$L$10:$L$23,$M$10:$M$23,0))","v":8},1,{"$f":"IFERROR(ROUND(VLOOKUP(A946,'Dados de entrada'!$P$7:$Z$50,Dados_v2!D946+1,0)*H946,0),0)","v":14},"MP",{"$f":"IF(OR(D946=$M$15,D946=$M$20),SUM(IF((A946=$O$10:$O$29),IF(C946=$P$9,$P$10:$P$29,$Q$10:$Q$29),0))/100,1)","v":1}]
[2000,"Automovel-Alcool","Etanol",{"$f":"SUM(IF(B947=$L$10:$L$23,$M$10:$M$23,0))","v":8},1,{"$f":"IFERROR(ROUND(VLOOKUP(A947,'Dados de entrada'!$P$7:$Z$50,Dados_v2!D947+1,0)*H947,0),0)","v":73},"MP",{"$f":"IF(OR(D947=$M$15,D947=$M$20),SUM(IF((A947=$O$10:$O$29),IF(C947=$P$9,$P$10:$P$29,$Q$10:$Q$29),0))/100,1)","v":1}]
[2001,"Automovel-Alcool","Etanol",{"$f":"SUM(IF(B948=$L$10:$L$23,$M$10:$M$23,0))","v":8},1,{"$f":"IFERROR(ROUND(VLOOKUP(A948,'Dados de entrada'!$P$7:$Z$50,Dados_v2!D948+1,0)*H948,0),0)","v":85},"MP",{"$f":"IF(OR(D948=$M$15,D948=$M$20),SUM(IF((A948=$O$10:$O$29),IF(C948=$P$9,$P$10:$P$29,$Q$10:$Q$29),0))/100,1)","v":1}]
[2002,"Automovel-Alcool","Etanol",{"$f":"SUM(IF(B949=$L$10:$L$23,$M$10:$M$23,0))","v":8},1,{"$f":"IFERROR(ROUND(VLOOKUP(A949,'Dados de entrada'!$P$7:$Z$50,Dados_v2!D949+1,0)*H949,0),0)","v":147},"MP",{"$f":"IF(OR(D949=$M$15,D949=$M$20),SUM(IF((A949=$O$10:$O$29),IF(C949=$P$9,$P$10:$P$29,$Q$10:$Q$29),0))/100,1)","v":1}]
[2003,"Automovel-Alcool","Etanol",{"$f":"SUM(IF(B950=$L$10:$L$23,$M$10:$M$23,0))","v":8},1,{"$f":"IFERROR(ROUND(VLOOKUP(A950,'Dados de entrada'!$P$7:$Z$50,Dados_v2!D950+1,0)*H950,0),0)","v":198},"MP",{"$f":"IF(OR(D950=$M$15,D950=$M$20),SUM(IF((A950=$O$10:$O$29),IF(C950=$P$9,$P$10:$P$29,$Q$10:$Q$29),0))/100,1)","v":1}]
[2004,"Automovel-Alcool","Etanol",{"$f":"SUM(IF(B951=$L$10:$L$23,$M$10:$M$23,0))","v":8},1,{"$f":"IFERROR(ROUND(VLOOKUP(A951,'Dados de entrada'!$P$7:$Z$50,Dados_v2!D951+1,0)*H951,0),0)","v":83},"MP",{"$f":"IF(OR(D951=$M$15,D951=$M$20),SUM(IF((A951=$O$10:$O$29),IF(C951=$P$9,$P$10:$P$29,$Q$10:$Q$29),0))/100,1)","v":1}]
[2005,"Automovel-Alcool","Etanol",{"$f":"SUM(IF(B952=$L$10:$L$23,$M$10:$M$23,0))","v":8},1,{"$f":"IFERROR(ROUND(VLOOKUP(A952,'Dados de entrada'!$P$7:$Z$50,Dados_v2!D952+1,0)*H952,0),0)","v":85},"MP",{"$f":"IF(OR(D952=$M$15,D952=$M$20),SUM(IF((A952=$O$10:$O$29),IF(C952=$P$9,$P$10:$P$29,$Q$10:$Q$29),0))/100,1)","v":1}]
[2006,"Automovel-Alcool","Etanol",{"$f":"SUM(IF(B953=$L$10:$L$23,$M$10:$M$23,0))","v":8},1,{"$f":"IFERROR(ROUND(VLOOKUP(A953,'Dados de entrada'!$P$7:$Z$50,Dados_v2!D953+1,0)*H953,0),0)","v":77},"MP",{"$f":"IF(OR(D953=$M$15,D953=$M$20),SUM(IF((A953=$O$10:$O$29),IF(C953=$P$9,$P$10:$P$29,$Q$10:$Q$29),0))/100,1)","v":1}]
[2007,"Automovel-Alcool","Etanol",{"$f":"SUM(IF(B954=$L$10:$L$23,$M$10:$M$23,0))","v":8},1,{"$f":"IFERROR(ROUND(VLOOKUP(A954,'Dados de entrada'!$P$7:$Z$50,Dados_v2!D954+1,0)*H954,0),0)","v":190},"MP",{"$f":"IF(OR(D954=$M$15,D954=$M$20),SUM(IF((A954=$O$10:$O$29),IF(C954=$P$9,$P$10:$P$29,$Q$10:$Q$29),0))/100,1)","v":1}]
[2008,"Automovel-Alcool","Etanol",{"$f":"SUM(IF(B955=$L$10:$L$23,$M$10:$M$23,0))","v":8},1,{"$f":"IFERROR(ROUND(VLOOKUP(A955,'Dados de entrada'!$P$7:$Z$50,Dados_v2!D955+1,0)*H955,0),0)","v":254},"MP",{"$f":"IF(OR(D955=$M$15,D955=$M$20),SUM(IF((A955=$O$10:$O$29),IF(C955=$P$9,$P$10:$P$29,$Q$10:$Q$29),0))/100,1)","v":1}]
[2009,"Automovel-Alcool","Etanol",{"$f":"SUM(IF(B956=$L$10:$L$23,$M$10:$M$23,0))","v":8},1,{"$f":"IFERROR(ROUND(VLOOKUP(A956,'Dados de entrada'!$P$7:$Z$50,Dados_v2!D956+1,0)*H956,0),0)","v":134},"MP",{"$f":"IF(OR(D956=$M$15,D956=$M$20),SUM(IF((A956=$O$10:$O$29),IF(C956=$P$9,$P$10:$P$29,$Q$10:$Q$29),0))/100,1)","v":1}]
[2010,"Automovel-Alcool","Etanol",{"$f":"SUM(IF(B957=$L$10:$L$23,$M$10:$M$23,0))","v":8},1,{"$f":"IFERROR(ROUND(VLOOKUP(A957,'Dados de entrada'!$P$7:$Z$50,Dados_v2!D957+1,0)*H957,0),0)","v":197},"MP",{"$f":"IF(OR(D957=$M$15,D957=$M$20),SUM(IF((A957=$O$10:$O$29),IF(C957=$P$9,$P$10:$P$29,$Q$10:$Q$29),0))/100,1)","v":1}]
[2011,"Automovel-Alcool","Etanol",{"$f":"SUM(IF(B958=$L$10:$L$23,$M$10:$M$23,0))","v":8},1,{"$f":"IFERROR(ROUND(VLOOKUP(A958,'Dados de entrada'!$P$7:$Z$50,Dados_v2!D958+1,0)*H958,0),0)","v":242},"MP",{"$f":"IF(OR(D958=$M$15,D958=$M$20),SUM(IF((A958=$O$10:$O$29),IF(C958=$P$9,$P$10:$P$29,$Q$10:$Q$29),0))/100,1)","v":1}]
[2012,"Automovel-Alcool","Etanol",{"$f":"SUM(IF(B959=$L$10:$L$23,$M$10:$M$23,0))","v":8},1,{"$f":"IFERROR(ROUND(VLOOKUP(A959,'Dados de entrada'!$P$7:$Z$50,Dados_v2!D959+1,0)*H959,0),0)","v":392},"MP",{"$f":"IF(OR(D959=$M$15,D959=$M$20),SUM(IF((A959=$O$10:$O$29),IF(C959=$P$9,$P$10:$P$29,$Q$10:$Q$29),0))/100,1)","v":1}]
[2013,"Automovel-Alcool","Etanol",{"$f":"SUM(IF(B960=$L$10:$L$23,$M$10:$M$23,0))","v":8},1,{"$f":"IFERROR(ROUND(VLOOKUP(A960,'Dados de entrada'!$P$7:$Z$50,Dados_v2!D960+1,0)*H960,0),0)","v":492},"MP",{"$f":"IF(OR(D960=$M$15,D960=$M$20),SUM(IF((A960=$O$10:$O$29),IF(C960=$P$9,$P$10:$P$29,$Q$10:$Q$29),0))/100,1)","v":1}]
[2014,"Automovel-Alcool","Etanol",{"$f":"SUM(IF(B961=$L$10:$L$23,$M$10:$M$23,0))","v":8},1,{"$f":"IFERROR(ROUND(VLOOKUP(A961,'Dados de entrada'!$P$7:$Z$50,Dados_v2!D961+1,0)*H961,0),0)","v":461},"MP",{"$f":"IF(OR(D961=$M$15,D961=$M$20),SUM(IF((A961=$O$10:$O$29),IF(C961=$P$9,$P$10:$P$29,$Q$10:$Q$29),0))/100,1)","v":1}]
[2015,"Automovel-Alcool","Etanol",{"$f":"SUM(IF(B962=$L$10:$L$23,$M$10:$M$23,0))","v":8},1,{"$f":"IFERROR(ROUND(VLOOKUP(A962,'Dados de entrada'!$P$7:$Z$50,Dados_v2!D962+1,0)*H962,0),0)","v":519},"MP",{"$f":"IF(OR(D962=$M$15,D962=$M$20),SUM(IF((A962=$O$10:$O$29),IF(C962=$P$9,$P$10:$P$29,$Q$10:$Q$29),0))/100,1)","v":1}]
[2016,"Automovel-Alcool","Etanol",{"$f":"SUM(IF(B963=$L$10:$L$23,$M$10:$M$23,0))","v":8},1,{"$f":"IFERROR(ROUND(VLOOKUP(A963,'Dados de entrada'!$P$7:$Z$50,Dados_v2!D963+1,0)*H963,0),0)","v":449},"MP",{"$f":"IF(OR(D963=$M$15,D963=$M$20),SUM(IF((A963=$O$10:$O$29),IF(C963=$P$9,$P$10:$P$29,$Q$10:$Q$29),0))/100,1)","v":1}]
[2017,"Automovel-Alcool","Etanol",{"$f":"SUM(IF(B964=$L$10:$L$23,$M$10:$M$23,0))","v":8},1,{"$f":"IFERROR(ROUND(VLOOKUP(A964,'Dados de entrada'!$P$7:$Z$50,Dados_v2!D964+1,0)*H964,0),0)","v":275},"MP",{"$f":"IF(OR(D964=$M$15,D964=$M$20),SUM(IF((A964=$O$10:$O$29),IF(C964=$P$9,$P$10:$P$29,$Q$10:$Q$29),0))/100,1)","v":1}]
[2018,"Automovel-Alcool","Etanol",{"$f":"SUM(IF(B965=$L$10:$L$23,$M$10:$M$23,0))","v":8},1,{"$f":"IFERROR(ROUND(VLOOKUP(A965,'Dados de entrada'!$P$7:$Z$50,Dados_v2!D965+1,0)*H965,0),0)","v":494},"MP",{"$f":"IF(OR(D965=$M$15,D965=$M$20),SUM(IF((A965=$O$10:$O$29),IF(C965=$P$9,$P$10:$P$29,$Q$10:$Q$29),0))/100,1)","v":1}]
[2019,"Automovel-Alcool","Etanol",{"$f":"SUM(IF(B966=$L$10:$L$23,$M$10:$M$23,0))","v":8},1,{"$f":"IFERROR(ROUND(VLOOKUP(A966,'Dados de entrada'!$P$7:$Z$50,Dados_v2!D966+1,0)*H966,0),0)","v":361},"MP",{"$f":"IF(OR(D966=$M$15,D966=$M$20),SUM(IF((A966=$O$10:$O$29),IF(C966=$P$9,$P$10:$P$29,$Q$10:$Q$29),0))/100,1)","v":1}]
[2020,"Automovel-Alcool","Etanol",{"$f":"SUM(IF(B967=$L$10:$L$23,$M$10:$M$23,0))","v":8},1,{"$f":"IFERROR(ROUND(VLOOKUP(A967,'Dados de entrada'!$P$7:$Z$50,Dados_v2!D967+1,0)*H967,0),0)","v":510},"MP",{"$f":"IF(OR(D967=$M$15,D967=$M$20),SUM(IF((A967=$O$10:$O$29),IF(C967=$P$9,$P$10:$P$29,$Q$10:$Q$29),0))/100,1)","v":1}]
[2021,"Automovel-Alcool","Etanol",{"$f":"SUM(IF(B968=$L$10:$L$23,$M$10:$M$23,0))","v":8},1,{"$f":"IFERROR(ROUND(VLOOKUP(A968,'Dados de entrada'!$P$7:$Z$50,Dados_v2!D968+1,0)*H968,0),0)","v":150},"MP",{"$f":"IF(OR(D968=$M$15,D968=$M$20),SUM(IF((A968=$O$10:$O$29),IF(C968=$P$9,$P$10:$P$29,$Q$10:$Q$29),0))/100,1)","v":1}]
[2022,"Automovel-Alcool","Etanol",{"$f":"SUM(IF(B969=$L$10:$L$23,$M$10:$M$23,0))","v":8},1,{"$f":"IFERROR(ROUND(VLOOKUP(A969,'Dados de entrada'!$P$7:$Z$50,Dados_v2!D969+1,0)*H969,0),0)","v":232},"MP",{"$f":"IF(OR(D969=$M$15,D969=$M$20),SUM(IF((A969=$O$10:$O$29),IF(C969=$P$9,$P$10:$P$29,$Q$10:$Q$29),0))/100,1)","v":1}]
[2003,"Automovel-Flex","Gasolina",{"$f":"SUM(IF(B970=$L$10:$L$23,$M$10:$M$23,0))","v":9},1,{"$f":"IFERROR(ROUND(VLOOKUP(A970,'Dados de entrada'!$P$7:$Z$50,Dados_v2!D970+1,0)*H970,0),0)","v":11},"MP",{"$f":"IF(OR(D970=$M$15,D970=$M$20),SUM(IF((A970=$O$10:$O$29),IF(C970=$P$9,$P$10:$P$29,$Q$10:$Q$29),0))/100,1)","v":0.5},1.1000000000000001E-3]
[2004,"Automovel-Flex","Gasolina",{"$f":"SUM(IF(B971=$L$10:$L$23,$M$10:$M$23,0))","v":9},1,{"$f":"IFERROR(ROUND(VLOOKUP(A971,'Dados de entrada'!$P$7:$Z$50,Dados_v2!D971+1,0)*H971,0),0)","v":0},"MP",{"$f":"IF(OR(D971=$M$15,D971=$M$20),SUM(IF((A971=$O$10:$O$29),IF(C971=$P$9,$P$10:$P$29,$Q$10:$Q$29),0))/100,1)","v":0},1.1000000000000001E-3]
[2005,"Automovel-Flex","Gasolina",{"$f":"SUM(IF(B972=$L$10:$L$23,$M$10:$M$23,0))","v":9},1,{"$f":"IFERROR(ROUND(VLOOKUP(A972,'Dados de entrada'!$P$7:$Z$50,Dados_v2!D972+1,0)*H972,0),0)","v":0},"MP",{"$f":"IF(OR(D972=$M$15,D972=$M$20),SUM(IF((A972=$O$10:$O$29),IF(C972=$P$9,$P$10:$P$29,$Q$10:$Q$29),0))/100,1)","v":0},1.1000000000000001E-3]
[2006,"Automovel-Flex","Gasolina",{"$f":"SUM(IF(B973=$L$10:$L$23,$M$10:$M$23,0))","v":9},1,{"$f":"IFERROR(ROUND(VLOOKUP(A973,'Dados de entrada'!$P$7:$Z$50,Dados_v2!D973+1,0)*H973,0),0)","v":1283},"MP",{"$f":"IF(OR(D973=$M$15,D973=$M$20),SUM(IF((A973=$O$10:$O$29),IF(C973=$P$9,$P$10:$P$29,$Q$10:$Q$29),0))/100,1)","v":8.5000000000000006E-2},1.1000000000000001E-3]
[2007,"Automovel-Flex","Gasolina",{"$f":"SUM(IF(B974=$L$10:$L$23,$M$10:$M$23,0))","v":9},1,{"$f":"IFERROR(ROUND(VLOOKUP(A974,'Dados de entrada'!$P$7:$Z$50,Dados_v2!D974+1,0)*H974,0),0)","v":3355},"MP",{"$f":"IF(OR(D974=$M$15,D974=$M$20),SUM(IF((A974=$O$10:$O$29),IF(C974=$P$9,$P$10:$P$29,$Q$10:$Q$29),0))/100,1)","v":0.16},1.1000000000000001E-3]
[2008,"Automovel-Flex","Gasolina",{"$f":"SUM(IF(B975=$L$10:$L$23,$M$10:$M$23,0))","v":9},1,{"$f":"IFERROR(ROUND(VLOOKUP(A975,'Dados de entrada'!$P$7:$Z$50,Dados_v2!D975+1,0)*H975,0),0)","v":7217},"MP",{"$f":"IF(OR(D975=$M$15,D975=$M$20),SUM(IF((A975=$O$10:$O$29),IF(C975=$P$9,$P$10:$P$29,$Q$10:$Q$29),0))/100,1)","v":0.2},1.1000000000000001E-3]
[2009,"Automovel-Flex","Gasolina",{"$f":"SUM(IF(B976=$L$10:$L$23,$M$10:$M$23,0))","v":9},1,{"$f":"IFERROR(ROUND(VLOOKUP(A976,'Dados de entrada'!$P$7:$Z$50,Dados_v2!D976+1,0)*H976,0),0)","v":9731},"MP",{"$f":"IF(OR(D976=$M$15,D976=$M$20),SUM(IF((A976=$O$10:$O$29),IF(C976=$P$9,$P$10:$P$29,$Q$10:$Q$29),0))/100,1)","v":0.3},1.1000000000000001E-3]
[2010,"Automovel-Flex","Gasolina",{"$f":"SUM(IF(B977=$L$10:$L$23,$M$10:$M$23,0))","v":9},1,{"$f":"IFERROR(ROUND(VLOOKUP(A977,'Dados de entrada'!$P$7:$Z$50,Dados_v2!D977+1,0)*H977,0),0)","v":22085},"MP",{"$f":"IF(OR(D977=$M$15,D977=$M$20),SUM(IF((A977=$O$10:$O$29),IF(C977=$P$9,$P$10:$P$29,$Q$10:$Q$29),0))/100,1)","v":0.48},1.1000000000000001E-3]
[2011,"Automovel-Flex","Gasolina",{"$f":"SUM(IF(B978=$L$10:$L$23,$M$10:$M$23,0))","v":9},1,{"$f":"IFERROR(ROUND(VLOOKUP(A978,'Dados de entrada'!$P$7:$Z$50,Dados_v2!D978+1,0)*H978,0),0)","v":32974},"MP",{"$f":"IF(OR(D978=$M$15,D978=$M$20),SUM(IF((A978=$O$10:$O$29),IF(C978=$P$9,$P$10:$P$29,$Q$10:$Q$29),0))/100,1)","v":0.68},1.1000000000000001E-3]
[2012,"Automovel-Flex","Gasolina",{"$f":"SUM(IF(B979=$L$10:$L$23,$M$10:$M$23,0))","v":9},1,{"$f":"IFERROR(ROUND(VLOOKUP(A979,'Dados de entrada'!$P$7:$Z$50,Dados_v2!D979+1,0)*H979,0),0)","v":38500},"MP",{"$f":"IF(OR(D979=$M$15,D979=$M$20),SUM(IF((A979=$O$10:$O$29),IF(C979=$P$9,$P$10:$P$29,$Q$10:$Q$29),0))/100,1)","v":0.75},1.1000000000000001E-3]
[2013,"Automovel-Flex","Gasolina",{"$f":"SUM(IF(B980=$L$10:$L$23,$M$10:$M$23,0))","v":9},1,{"$f":"IFERROR(ROUND(VLOOKUP(A980,'Dados de entrada'!$P$7:$Z$50,Dados_v2!D980+1,0)*H980,0),0)","v":48092},"MP",{"$f":"IF(OR(D980=$M$15,D980=$M$20),SUM(IF((A980=$O$10:$O$29),IF(C980=$P$9,$P$10:$P$29,$Q$10:$Q$29),0))/100,1)","v":0.75},1.1000000000000001E-3]
[2014,"Automovel-Flex","Gasolina",{"$f":"SUM(IF(B981=$L$10:$L$23,$M$10:$M$23,0))","v":9},1,{"$f":"IFERROR(ROUND(VLOOKUP(A981,'Dados de entrada'!$P$7:$Z$50,Dados_v2!D981+1,0)*H981,0),0)","v":41738},"MP",{"$f":"IF(OR(D981=$M$15,D981=$M$20),SUM(IF((A981=$O$10:$O$29),IF(C981=$P$9,$P$10:$P$29,$Q$10:$Q$29),0))/100,1)","v":0.75},1.1000000000000001E-3]
[2015,"Automovel-Flex","Gasolina",{"$f":"SUM(IF(B982=$L$10:$L$23,$M$10:$M$23,0))","v":9},1,{"$f":"IFERROR(ROUND(VLOOKUP(A982,'Dados de entrada'!$P$7:$Z$50,Dados_v2!D982+1,0)*H982,0),0)","v":39767},"MP",{"$f":"IF(OR(D982=$M$15,D982=$M$20),SUM(IF((A982=$O$10:$O$29),IF(C982=$P$9,$P$10:$P$29,$Q$10:$Q$29),0))/100,1)","v":0.75},1.1000000000000001E-3]
[2016,"Automovel-Flex","Gasolina",{"$f":"SUM(IF(B983=$L$10:$L$23,$M$10:$M$23,0))","v":9},1,{"$f":"IFERROR(ROUND(VLOOKUP(A983,'Dados de entrada'!$P$7:$Z$50,Dados_v2!D983+1,0)*H983,0),0)","v":30062},"MP",{"$f":"IF(OR(D983=$M$15,D983=$M$20),SUM(IF((A983=$O$10:$O$29),IF(C983=$P$9,$P$10:$P$29,$Q$10:$Q$29),0))/100,1)","v":0.75},1.1000000000000001E-3]
[2017,"Automovel-Flex","Gasolina",{"$f":"SUM(IF(B984=$L$10:$L$23,$M$10:$M$23,0))","v":9},1,{"$f":"IFERROR(ROUND(VLOOKUP(A984,'Dados de entrada'!$P$7:$Z$50,Dados_v2!D984+1,0)*H984,0),0)","v":26135},"MP",{"$f":"IF(OR(D984=$M$15,D984=$M$20),SUM(IF((A984=$O$10:$O$29),IF(C984=$P$9,$P$10:$P$29,$Q$10:$Q$29),0))/100,1)","v":0.75},1.1000000000000001E-3]
[2018,"Automovel-Flex","Gasolina",{"$f":"SUM(IF(B985=$L$10:$L$23,$M$10:$M$23,0))","v":9},1,{"$f":"IFERROR(ROUND(VLOOKUP(A985,'Dados de entrada'!$P$7:$Z$50,Dados_v2!D985+1,0)*H985,0),0)","v":41519},"MP",{"$f":"IF(OR(D985=$M$15,D985=$M$20),SUM(IF((A985=$O$10:$O$29),IF(C985=$P$9,$P$10:$P$29,$Q$10:$Q$29),0))/100,1)","v":0.75},1.1000000000000001E-3]
[2019,"Automovel-Flex","Gasolina",{"$f":"SUM(IF(B986=$L$10:$L$23,$M$10:$M$23,0))","v":9},1,{"$f":"IFERROR(ROUND(VLOOKUP(A986,'Dados de entrada'!$P$7:$Z$50,Dados_v2!D986+1,0)*H986,0),0)","v":48492},"MP",{"$f":"IF(OR(D986=$M$15,D986=$M$20),SUM(IF((A986=$O$10:$O$29),IF(C986=$P$9,$P$10:$P$29,$Q$10:$Q$29),0))/100,1)","v":0.75},1.1000000000000001E-3]
[2020,"Automovel-Flex","Gasolina",{"$f":"SUM(IF(B987=$L$10:$L$23,$M$10:$M$23,0))","v":9},1,{"$f":"IFERROR(ROUND(VLOOKUP(A987,'Dados de entrada'!$P$7:$Z$50,Dados_v2!D987+1,0)*H987,0),0)","v":65058},"MP",{"$f":"IF(OR(D987=$M$15,D987=$M$20),SUM(IF((A987=$O$10:$O$29),IF(C987=$P$9,$P$10:$P$29,$Q$10:$Q$29),0))/100,1)","v":0.75},1.1000000000000001E-3]
[2021,"Automovel-Flex","Gasolina",{"$f":"SUM(IF(B988=$L$10:$L$23,$M$10:$M$23,0))","v":9},1,{"$f":"IFERROR(ROUND(VLOOKUP(A988,'Dados de entrada'!$P$7:$Z$50,Dados_v2!D988+1,0)*H988,0),0)","v":95462},"MP",{"$f":"IF(OR(D988=$M$15,D988=$M$20),SUM(IF((A988=$O$10:$O$29),IF(C988=$P$9,$P$10:$P$29,$Q$10:$Q$29),0))/100,1)","v":0.75},1.1000000000000001E-3]
[2022,"Automovel-Flex","Gasolina",{"$f":"SUM(IF(B989=$L$10:$L$23,$M$10:$M$23,0))","v":9},1,{"$f":"IFERROR(ROUND(VLOOKUP(A989,'Dados de entrada'!$P$7:$Z$50,Dados_v2!D989+1,0)*H989,0),0)","v":156757},"MP",{"$f":"IF(OR(D989=$M$15,D989=$M$20),SUM(IF((A989=$O$10:$O$29),IF(C989=$P$9,$P$10:$P$29,$Q$10:$Q$29),0))/100,1)","v":0.75},1.1000000000000001E-3]
[2003,"Automovel-Flex","Etanol",{"$f":"SUM(IF(B990=$L$10:$L$23,$M$10:$M$23,0))","v":9},1,{"$f":"IFERROR(ROUND(VLOOKUP(A990,'Dados de entrada'!$P$7:$Z$50,Dados_v2!D990+1,0)*H990,0),0)","v":11},"MP",{"$f":"IF(OR(D990=$M$15,D990=$M$20),SUM(IF((A990=$O$10:$O$29),IF(C990=$P$9,$P$10:$P$29,$Q$10:$Q$29),0))/100,1)","v":0.5}]
[2004,"Automovel-Flex","Etanol",{"$f":"SUM(IF(B991=$L$10:$L$23,$M$10:$M$23,0))","v":9},1,{"$f":"IFERROR(ROUND(VLOOKUP(A991,'Dados de entrada'!$P$7:$Z$50,Dados_v2!D991+1,0)*H991,0),0)","v":1663},"MP",{"$f":"IF(OR(D991=$M$15,D991=$M$20),SUM(IF((A991=$O$10:$O$29),IF(C991=$P$9,$P$10:$P$29,$Q$10:$Q$29),0))/100,1)","v":1}]
[2005,"Automovel-Flex","Etanol",{"$f":"SUM(IF(B992=$L$10:$L$23,$M$10:$M$23,0))","v":9},1,{"$f":"IFERROR(ROUND(VLOOKUP(A992,'Dados de entrada'!$P$7:$Z$50,Dados_v2!D992+1,0)*H992,0),0)","v":6460},"MP",{"$f":"IF(OR(D992=$M$15,D992=$M$20),SUM(IF((A992=$O$10:$O$29),IF(C992=$P$9,$P$10:$P$29,$Q$10:$Q$29),0))/100,1)","v":1}]
[2006,"Automovel-Flex","Etanol",{"$f":"SUM(IF(B993=$L$10:$L$23,$M$10:$M$23,0))","v":9},1,{"$f":"IFERROR(ROUND(VLOOKUP(A993,'Dados de entrada'!$P$7:$Z$50,Dados_v2!D993+1,0)*H993,0),0)","v":13811},"MP",{"$f":"IF(OR(D993=$M$15,D993=$M$20),SUM(IF((A993=$O$10:$O$29),IF(C993=$P$9,$P$10:$P$29,$Q$10:$Q$29),0))/100,1)","v":0.91500000000000004}]
[2007,"Automovel-Flex","Etanol",{"$f":"SUM(IF(B994=$L$10:$L$23,$M$10:$M$23,0))","v":9},1,{"$f":"IFERROR(ROUND(VLOOKUP(A994,'Dados de entrada'!$P$7:$Z$50,Dados_v2!D994+1,0)*H994,0),0)","v":17612},"MP",{"$f":"IF(OR(D994=$M$15,D994=$M$20),SUM(IF((A994=$O$10:$O$29),IF(C994=$P$9,$P$10:$P$29,$Q$10:$Q$29),0))/100,1)","v":0.84}]
[2008,"Automovel-Flex","Etanol",{"$f":"SUM(IF(B995=$L$10:$L$23,$M$10:$M$23,0))","v":9},1,{"$f":"IFERROR(ROUND(VLOOKUP(A995,'Dados de entrada'!$P$7:$Z$50,Dados_v2!D995+1,0)*H995,0),0)","v":28866},"MP",{"$f":"IF(OR(D995=$M$15,D995=$M$20),SUM(IF((A995=$O$10:$O$29),IF(C995=$P$9,$P$10:$P$29,$Q$10:$Q$29),0))/100,1)","v":0.8}]
[2009,"Automovel-Flex","Etanol",{"$f":"SUM(IF(B996=$L$10:$L$23,$M$10:$M$23,0))","v":9},1,{"$f":"IFERROR(ROUND(VLOOKUP(A996,'Dados de entrada'!$P$7:$Z$50,Dados_v2!D996+1,0)*H996,0),0)","v":22707},"MP",{"$f":"IF(OR(D996=$M$15,D996=$M$20),SUM(IF((A996=$O$10:$O$29),IF(C996=$P$9,$P$10:$P$29,$Q$10:$Q$29),0))/100,1)","v":0.7}]
[2010,"Automovel-Flex","Etanol",{"$f":"SUM(IF(B997=$L$10:$L$23,$M$10:$M$23,0))","v":9},1,{"$f":"IFERROR(ROUND(VLOOKUP(A997,'Dados de entrada'!$P$7:$Z$50,Dados_v2!D997+1,0)*H997,0),0)","v":23926},"MP",{"$f":"IF(OR(D997=$M$15,D997=$M$20),SUM(IF((A997=$O$10:$O$29),IF(C997=$P$9,$P$10:$P$29,$Q$10:$Q$29),0))/100,1)","v":0.52}]
[2011,"Automovel-Flex","Etanol",{"$f":"SUM(IF(B998=$L$10:$L$23,$M$10:$M$23,0))","v":9},1,{"$f":"IFERROR(ROUND(VLOOKUP(A998,'Dados de entrada'!$P$7:$Z$50,Dados_v2!D998+1,0)*H998,0),0)","v":15517},"MP",{"$f":"IF(OR(D998=$M$15,D998=$M$20),SUM(IF((A998=$O$10:$O$29),IF(C998=$P$9,$P$10:$P$29,$Q$10:$Q$29),0))/100,1)","v":0.32}]
[2012,"Automovel-Flex","Etanol",{"$f":"SUM(IF(B999=$L$10:$L$23,$M$10:$M$23,0))","v":9},1,{"$f":"IFERROR(ROUND(VLOOKUP(A999,'Dados de entrada'!$P$7:$Z$50,Dados_v2!D999+1,0)*H999,0),0)","v":12833},"MP",{"$f":"IF(OR(D999=$M$15,D999=$M$20),SUM(IF((A999=$O$10:$O$29),IF(C999=$P$9,$P$10:$P$29,$Q$10:$Q$29),0))/100,1)","v":0.25}]
[2013,"Automovel-Flex","Etanol",{"$f":"SUM(IF(B1000=$L$10:$L$23,$M$10:$M$23,0))","v":9},1,{"$f":"IFERROR(ROUND(VLOOKUP(A1000,'Dados de entrada'!$P$7:$Z$50,Dados_v2!D1000+1,0)*H1000,0),0)","v":16031},"MP",{"$f":"IF(OR(D1000=$M$15,D1000=$M$20),SUM(IF((A1000=$O$10:$O$29),IF(C1000=$P$9,$P$10:$P$29,$Q$10:$Q$29),0))/100,1)","v":0.25}]
[2014,"Automovel-Flex","Etanol",{"$f":"SUM(IF(B1001=$L$10:$L$23,$M$10:$M$23,0))","v":9},1,{"$f":"IFERROR(ROUND(VLOOKUP(A1001,'Dados de entrada'!$P$7:$Z$50,Dados_v2!D1001+1,0)*H1001,0),0)","v":13913},"MP",{"$f":"IF(OR(D1001=$M$15,D1001=$M$20),SUM(IF((A1001=$O$10:$O$29),IF(C1001=$P$9,$P$10:$P$29,$Q$10:$Q$29),0))/100,1)","v":0.25}]
[2015,"Automovel-Flex","Etanol",{"$f":"SUM(IF(B1002=$L$10:$L$23,$M$10:$M$23,0))","v":9},1,{"$f":"IFERROR(ROUND(VLOOKUP(A1002,'Dados de entrada'!$P$7:$Z$50,Dados_v2!D1002+1,0)*H1002,0),0)","v":13256},"MP",{"$f":"IF(OR(D1002=$M$15,D1002=$M$20),SUM(IF((A1002=$O$10:$O$29),IF(C1002=$P$9,$P$10:$P$29,$Q$10:$Q$29),0))/100,1)","v":0.25}]
[2016,"Automovel-Flex","Etanol",{"$f":"SUM(IF(B1003=$L$10:$L$23,$M$10:$M$23,0))","v":9},1,{"$f":"IFERROR(ROUND(VLOOKUP(A1003,'Dados de entrada'!$P$7:$Z$50,Dados_v2!D1003+1,0)*H1003,0),0)","v":10021},"MP",{"$f":"IF(OR(D1003=$M$15,D1003=$M$20),SUM(IF((A1003=$O$10:$O$29),IF(C1003=$P$9,$P$10:$P$29,$Q$10:$Q$29),0))/100,1)","v":0.25}]
[2017,"Automovel-Flex","Etanol",{"$f":"SUM(IF(B1004=$L$10:$L$23,$M$10:$M$23,0))","v":9},1,{"$f":"IFERROR(ROUND(VLOOKUP(A1004,'Dados de entrada'!$P$7:$Z$50,Dados_v2!D1004+1,0)*H1004,0),0)","v":8712},"MP",{"$f":"IF(OR(D1004=$M$15,D1004=$M$20),SUM(IF((A1004=$O$10:$O$29),IF(C1004=$P$9,$P$10:$P$29,$Q$10:$Q$29),0))/100,1)","v":0.25}]
[2018,"Automovel-Flex","Etanol",{"$f":"SUM(IF(B1005=$L$10:$L$23,$M$10:$M$23,0))","v":9},1,{"$f":"IFERROR(ROUND(VLOOKUP(A1005,'Dados de entrada'!$P$7:$Z$50,Dados_v2!D1005+1,0)*H1005,0),0)","v":13840},"MP",{"$f":"IF(OR(D1005=$M$15,D1005=$M$20),SUM(IF((A1005=$O$10:$O$29),IF(C1005=$P$9,$P$10:$P$29,$Q$10:$Q$29),0))/100,1)","v":0.25}]
[2019,"Automovel-Flex","Etanol",{"$f":"SUM(IF(B1006=$L$10:$L$23,$M$10:$M$23,0))","v":9},1,{"$f":"IFERROR(ROUND(VLOOKUP(A1006,'Dados de entrada'!$P$7:$Z$50,Dados_v2!D1006+1,0)*H1006,0),0)","v":16164},"MP",{"$f":"IF(OR(D1006=$M$15,D1006=$M$20),SUM(IF((A1006=$O$10:$O$29),IF(C1006=$P$9,$P$10:$P$29,$Q$10:$Q$29),0))/100,1)","v":0.25}]
[2020,"Automovel-Flex","Etanol",{"$f":"SUM(IF(B1007=$L$10:$L$23,$M$10:$M$23,0))","v":9},1,{"$f":"IFERROR(ROUND(VLOOKUP(A1007,'Dados de entrada'!$P$7:$Z$50,Dados_v2!D1007+1,0)*H1007,0),0)","v":21686},"MP",{"$f":"IF(OR(D1007=$M$15,D1007=$M$20),SUM(IF((A1007=$O$10:$O$29),IF(C1007=$P$9,$P$10:$P$29,$Q$10:$Q$29),0))/100,1)","v":0.25}]
[2021,"Automovel-Flex","Etanol",{"$f":"SUM(IF(B1008=$L$10:$L$23,$M$10:$M$23,0))","v":9},1,{"$f":"IFERROR(ROUND(VLOOKUP(A1008,'Dados de entrada'!$P$7:$Z$50,Dados_v2!D1008+1,0)*H1008,0),0)","v":31821},"MP",{"$f":"IF(OR(D1008=$M$15,D1008=$M$20),SUM(IF((A1008=$O$10:$O$29),IF(C1008=$P$9,$P$10:$P$29,$Q$10:$Q$29),0))/100,1)","v":0.25}]
[2022,"Automovel-Flex","Etanol",{"$f":"SUM(IF(B1009=$L$10:$L$23,$M$10:$M$23,0))","v":9},1,{"$f":"IFERROR(ROUND(VLOOKUP(A1009,'Dados de entrada'!$P$7:$Z$50,Dados_v2!D1009+1,0)*H1009,0),0)","v":52252},"MP",{"$f":"IF(OR(D1009=$M$15,D1009=$M$20),SUM(IF((A1009=$O$10:$O$29),IF(C1009=$P$9,$P$10:$P$29,$Q$10:$Q$29),0))/100,1)","v":0.25}]
[1983,"Automovel-Diesel","Diesel",{"$f":"SUM(IF(B1010=$L$10:$L$23,$M$10:$M$23,0))","v":10},1,{"$f":"IFERROR(ROUND(VLOOKUP(A1010,'Dados de entrada'!$P$7:$Z$50,Dados_v2!D1010+1,0)*H1010,0),0)","v":163},"MP",{"$f":"IF(OR(D1010=$M$15,D1010=$M$20),SUM(IF((A1010=$O$10:$O$29),IF(C1010=$P$9,$P$10:$P$29,$Q$10:$Q$29),0))/100,1)","v":1},7.6080845937625402E-2]
[1984,"Automovel-Diesel","Diesel",{"$f":"SUM(IF(B1011=$L$10:$L$23,$M$10:$M$23,0))","v":10},1,{"$f":"IFERROR(ROUND(VLOOKUP(A1011,'Dados de entrada'!$P$7:$Z$50,Dados_v2!D1011+1,0)*H1011,0),0)","v":186},"MP",{"$f":"IF(OR(D1011=$M$15,D1011=$M$20),SUM(IF((A1011=$O$10:$O$29),IF(C1011=$P$9,$P$10:$P$29,$Q$10:$Q$29),0))/100,1)","v":1},7.6080845937625402E-2]
[1985,"Automovel-Diesel","Diesel",{"$f":"SUM(IF(B1012=$L$10:$L$23,$M$10:$M$23,0))","v":10},1,{"$f":"IFERROR(ROUND(VLOOKUP(A1012,'Dados de entrada'!$P$7:$Z$50,Dados_v2!D1012+1,0)*H1012,0),0)","v":157},"MP",{"$f":"IF(OR(D1012=$M$15,D1012=$M$20),SUM(IF((A1012=$O$10:$O$29),IF(C1012=$P$9,$P$10:$P$29,$Q$10:$Q$29),0))/100,1)","v":1},7.6080845937625402E-2]
[1986,"Automovel-Diesel","Diesel",{"$f":"SUM(IF(B1013=$L$10:$L$23,$M$10:$M$23,0))","v":10},1,{"$f":"IFERROR(ROUND(VLOOKUP(A1013,'Dados de entrada'!$P$7:$Z$50,Dados_v2!D1013+1,0)*H1013,0),0)","v":254},"MP",{"$f":"IF(OR(D1013=$M$15,D1013=$M$20),SUM(IF((A1013=$O$10:$O$29),IF(C1013=$P$9,$P$10:$P$29,$Q$10:$Q$29),0))/100,1)","v":1},7.6080845937625402E-2]
[1987,"Automovel-Diesel","Diesel",{"$f":"SUM(IF(B1014=$L$10:$L$23,$M$10:$M$23,0))","v":10},1,{"$f":"IFERROR(ROUND(VLOOKUP(A1014,'Dados de entrada'!$P$7:$Z$50,Dados_v2!D1014+1,0)*H1014,0),0)","v":196},"MP",{"$f":"IF(OR(D1014=$M$15,D1014=$M$20),SUM(IF((A1014=$O$10:$O$29),IF(C1014=$P$9,$P$10:$P$29,$Q$10:$Q$29),0))/100,1)","v":1},7.6080845937625402E-2]
[1988,"Automovel-Diesel","Diesel",{"$f":"SUM(IF(B1015=$L$10:$L$23,$M$10:$M$23,0))","v":10},1,{"$f":"IFERROR(ROUND(VLOOKUP(A1015,'Dados de entrada'!$P$7:$Z$50,Dados_v2!D1015+1,0)*H1015,0),0)","v":274},"MP",{"$f":"IF(OR(D1015=$M$15,D1015=$M$20),SUM(IF((A1015=$O$10:$O$29),IF(C1015=$P$9,$P$10:$P$29,$Q$10:$Q$29),0))/100,1)","v":1},7.6080845937625402E-2]
[1989,"Automovel-Diesel","Diesel",{"$f":"SUM(IF(B1016=$L$10:$L$23,$M$10:$M$23,0))","v":10},1,{"$f":"IFERROR(ROUND(VLOOKUP(A1016,'Dados de entrada'!$P$7:$Z$50,Dados_v2!D1016+1,0)*H1016,0),0)","v":390},"MP",{"$f":"IF(OR(D1016=$M$15,D1016=$M$20),SUM(IF((A1016=$O$10:$O$29),IF(C1016=$P$9,$P$10:$P$29,$Q$10:$Q$29),0))/100,1)","v":1},7.6080845937625402E-2]
[1990,"Automovel-Diesel","Diesel",{"$f":"SUM(IF(B1017=$L$10:$L$23,$M$10:$M$23,0))","v":10},1,{"$f":"IFERROR(ROUND(VLOOKUP(A1017,'Dados de entrada'!$P$7:$Z$50,Dados_v2!D1017+1,0)*H1017,0),0)","v":341},"MP",{"$f":"IF(OR(D1017=$M$15,D1017=$M$20),SUM(IF((A1017=$O$10:$O$29),IF(C1017=$P$9,$P$10:$P$29,$Q$10:$Q$29),0))/100,1)","v":1},7.6080845937625402E-2]
[1991,"Automovel-Diesel","Diesel",{"$f":"SUM(IF(B1018=$L$10:$L$23,$M$10:$M$23,0))","v":10},1,{"$f":"IFERROR(ROUND(VLOOKUP(A1018,'Dados de entrada'!$P$7:$Z$50,Dados_v2!D1018+1,0)*H1018,0),0)","v":271},"MP",{"$f":"IF(OR(D1018=$M$15,D1018=$M$20),SUM(IF((A1018=$O$10:$O$29),IF(C1018=$P$9,$P$10:$P$29,$Q$10:$Q$29),0))/100,1)","v":1},7.6080845937625402E-2]
[1992,"Automovel-Diesel","Diesel",{"$f":"SUM(IF(B1019=$L$10:$L$23,$M$10:$M$23,0))","v":10},1,{"$f":"IFERROR(ROUND(VLOOKUP(A1019,'Dados de entrada'!$P$7:$Z$50,Dados_v2!D1019+1,0)*H1019,0),0)","v":289},"MP",{"$f":"IF(OR(D1019=$M$15,D1019=$M$20),SUM(IF((A1019=$O$10:$O$29),IF(C1019=$P$9,$P$10:$P$29,$Q$10:$Q$29),0))/100,1)","v":1},7.6080845937625402E-2]
[1993,"Automovel-Diesel","Diesel",{"$f":"SUM(IF(B1020=$L$10:$L$23,$M$10:$M$23,0))","v":10},1,{"$f":"IFERROR(ROUND(VLOOKUP(A1020,'Dados de entrada'!$P$7:$Z$50,Dados_v2!D1020+1,0)*H1020,0),0)","v":359},"MP",{"$f":"IF(OR(D1020=$M$15,D1020=$M$20),SUM(IF((A1020=$O$10:$O$29),IF(C1020=$P$9,$P$10:$P$29,$Q$10:$Q$29),0))/100,1)","v":1},7.6080845937625402E-2]
[1994,"Automovel-Diesel","Diesel",{"$f":"SUM(IF(B1021=$L$10:$L$23,$M$10:$M$23,0))","v":10},1,{"$f":"IFERROR(ROUND(VLOOKUP(A1021,'Dados de entrada'!$P$7:$Z$50,Dados_v2!D1021+1,0)*H1021,0),0)","v":491},"MP",{"$f":"IF(OR(D1021=$M$15,D1021=$M$20),SUM(IF((A1021=$O$10:$O$29),IF(C1021=$P$9,$P$10:$P$29,$Q$10:$Q$29),0))/100,1)","v":1},7.6080845937625402E-2]
[1995,"Automovel-Diesel","Diesel",{"$f":"SUM(IF(B1022=$L$10:$L$23,$M$10:$M$23,0))","v":10},1,{"$f":"IFERROR(ROUND(VLOOKUP(A1022,'Dados de entrada'!$P$7:$Z$50,Dados_v2!D1022+1,0)*H1022,0),0)","v":553},"MP",{"$f":"IF(OR(D1022=$M$15,D1022=$M$20),SUM(IF((A1022=$O$10:$O$29),IF(C1022=$P$9,$P$10:$P$29,$Q$10:$Q$29),0))/100,1)","v":1},7.6080845937625402E-2]
[1996,"Automovel-Diesel","Diesel",{"$f":"SUM(IF(B1023=$L$10:$L$23,$M$10:$M$23,0))","v":10},1,{"$f":"IFERROR(ROUND(VLOOKUP(A1023,'Dados de entrada'!$P$7:$Z$50,Dados_v2!D1023+1,0)*H1023,0),0)","v":209},"MP",{"$f":"IF(OR(D1023=$M$15,D1023=$M$20),SUM(IF((A1023=$O$10:$O$29),IF(C1023=$P$9,$P$10:$P$29,$Q$10:$Q$29),0))/100,1)","v":1},7.6080845937625402E-2]
[1997,"Automovel-Diesel","Diesel",{"$f":"SUM(IF(B1024=$L$10:$L$23,$M$10:$M$23,0))","v":10},1,{"$f":"IFERROR(ROUND(VLOOKUP(A1024,'Dados de entrada'!$P$7:$Z$50,Dados_v2!D1024+1,0)*H1024,0),0)","v":299},"MP",{"$f":"IF(OR(D1024=$M$15,D1024=$M$20),SUM(IF((A1024=$O$10:$O$29),IF(C1024=$P$9,$P$10:$P$29,$Q$10:$Q$29),0))/100,1)","v":1},7.6080845937625402E-2]
[1998,"Automovel-Diesel","Diesel",{"$f":"SUM(IF(B1025=$L$10:$L$23,$M$10:$M$23,0))","v":10},1,{"$f":"IFERROR(ROUND(VLOOKUP(A1025,'Dados de entrada'!$P$7:$Z$50,Dados_v2!D1025+1,0)*H1025,0),0)","v":409},"MP",{"$f":"IF(OR(D1025=$M$15,D1025=$M$20),SUM(IF((A1025=$O$10:$O$29),IF(C1025=$P$9,$P$10:$P$29,$Q$10:$Q$29),0))/100,1)","v":1},7.6080845937625402E-2]
[1999,"Automovel-Diesel","Diesel",{"$f":"SUM(IF(B1026=$L$10:$L$23,$M$10:$M$23,0))","v":10},1,{"$f":"IFERROR(ROUND(VLOOKUP(A1026,'Dados de entrada'!$P$7:$Z$50,Dados_v2!D1026+1,0)*H1026,0),0)","v":344},"MP",{"$f":"IF(OR(D1026=$M$15,D1026=$M$20),SUM(IF((A1026=$O$10:$O$29),IF(C1026=$P$9,$P$10:$P$29,$Q$10:$Q$29),0))/100,1)","v":1},7.6080845937625402E-2]
[2000,"Automovel-Diesel","Diesel",{"$f":"SUM(IF(B1027=$L$10:$L$23,$M$10:$M$23,0))","v":10},1,{"$f":"IFERROR(ROUND(VLOOKUP(A1027,'Dados de entrada'!$P$7:$Z$50,Dados_v2!D1027+1,0)*H1027,0),0)","v":529},"MP",{"$f":"IF(OR(D1027=$M$15,D1027=$M$20),SUM(IF((A1027=$O$10:$O$29),IF(C1027=$P$9,$P$10:$P$29,$Q$10:$Q$29),0))/100,1)","v":1},8.2497298695046295E-2]
[2001,"Automovel-Diesel","Diesel",{"$f":"SUM(IF(B1028=$L$10:$L$23,$M$10:$M$23,0))","v":10},1,{"$f":"IFERROR(ROUND(VLOOKUP(A1028,'Dados de entrada'!$P$7:$Z$50,Dados_v2!D1028+1,0)*H1028,0),0)","v":894},"MP",{"$f":"IF(OR(D1028=$M$15,D1028=$M$20),SUM(IF((A1028=$O$10:$O$29),IF(C1028=$P$9,$P$10:$P$29,$Q$10:$Q$29),0))/100,1)","v":1},8.2460302749790798E-2]
[2002,"Automovel-Diesel","Diesel",{"$f":"SUM(IF(B1029=$L$10:$L$23,$M$10:$M$23,0))","v":10},1,{"$f":"IFERROR(ROUND(VLOOKUP(A1029,'Dados de entrada'!$P$7:$Z$50,Dados_v2!D1029+1,0)*H1029,0),0)","v":532},"MP",{"$f":"IF(OR(D1029=$M$15,D1029=$M$20),SUM(IF((A1029=$O$10:$O$29),IF(C1029=$P$9,$P$10:$P$29,$Q$10:$Q$29),0))/100,1)","v":1},7.0746778737432306E-2]
[2003,"Automovel-Diesel","Diesel",{"$f":"SUM(IF(B1030=$L$10:$L$23,$M$10:$M$23,0))","v":10},1,{"$f":"IFERROR(ROUND(VLOOKUP(A1030,'Dados de entrada'!$P$7:$Z$50,Dados_v2!D1030+1,0)*H1030,0),0)","v":522},"MP",{"$f":"IF(OR(D1030=$M$15,D1030=$M$20),SUM(IF((A1030=$O$10:$O$29),IF(C1030=$P$9,$P$10:$P$29,$Q$10:$Q$29),0))/100,1)","v":1},7.30825859991968E-2]
[2004,"Automovel-Diesel","Diesel",{"$f":"SUM(IF(B1031=$L$10:$L$23,$M$10:$M$23,0))","v":10},1,{"$f":"IFERROR(ROUND(VLOOKUP(A1031,'Dados de entrada'!$P$7:$Z$50,Dados_v2!D1031+1,0)*H1031,0),0)","v":700},"MP",{"$f":"IF(OR(D1031=$M$15,D1031=$M$20),SUM(IF((A1031=$O$10:$O$29),IF(C1031=$P$9,$P$10:$P$29,$Q$10:$Q$29),0))/100,1)","v":1},5.3666448385772503E-2]
[2005,"Automovel-Diesel","Diesel",{"$f":"SUM(IF(B1032=$L$10:$L$23,$M$10:$M$23,0))","v":10},1,{"$f":"IFERROR(ROUND(VLOOKUP(A1032,'Dados de entrada'!$P$7:$Z$50,Dados_v2!D1032+1,0)*H1032,0),0)","v":776},"MP",{"$f":"IF(OR(D1032=$M$15,D1032=$M$20),SUM(IF((A1032=$O$10:$O$29),IF(C1032=$P$9,$P$10:$P$29,$Q$10:$Q$29),0))/100,1)","v":1},5.3648863887277798E-2]
[2006,"Automovel-Diesel","Diesel",{"$f":"SUM(IF(B1033=$L$10:$L$23,$M$10:$M$23,0))","v":10},1,{"$f":"IFERROR(ROUND(VLOOKUP(A1033,'Dados de entrada'!$P$7:$Z$50,Dados_v2!D1033+1,0)*H1033,0),0)","v":1095},"MP",{"$f":"IF(OR(D1033=$M$15,D1033=$M$20),SUM(IF((A1033=$O$10:$O$29),IF(C1033=$P$9,$P$10:$P$29,$Q$10:$Q$29),0))/100,1)","v":1},7.4276791018263399E-2]
[2007,"Automovel-Diesel","Diesel",{"$f":"SUM(IF(B1034=$L$10:$L$23,$M$10:$M$23,0))","v":10},1,{"$f":"IFERROR(ROUND(VLOOKUP(A1034,'Dados de entrada'!$P$7:$Z$50,Dados_v2!D1034+1,0)*H1034,0),0)","v":1000},"MP",{"$f":"IF(OR(D1034=$M$15,D1034=$M$20),SUM(IF((A1034=$O$10:$O$29),IF(C1034=$P$9,$P$10:$P$29,$Q$10:$Q$29),0))/100,1)","v":1},4.2000000000000003E-2]
[2008,"Automovel-Diesel","Diesel",{"$f":"SUM(IF(B1035=$L$10:$L$23,$M$10:$M$23,0))","v":10},1,{"$f":"IFERROR(ROUND(VLOOKUP(A1035,'Dados de entrada'!$P$7:$Z$50,Dados_v2!D1035+1,0)*H1035,0),0)","v":1612},"MP",{"$f":"IF(OR(D1035=$M$15,D1035=$M$20),SUM(IF((A1035=$O$10:$O$29),IF(C1035=$P$9,$P$10:$P$29,$Q$10:$Q$29),0))/100,1)","v":1},4.3999999999999997E-2]
[2009,"Automovel-Diesel","Diesel",{"$f":"SUM(IF(B1036=$L$10:$L$23,$M$10:$M$23,0))","v":10},1,{"$f":"IFERROR(ROUND(VLOOKUP(A1036,'Dados de entrada'!$P$7:$Z$50,Dados_v2!D1036+1,0)*H1036,0),0)","v":1582},"MP",{"$f":"IF(OR(D1036=$M$15,D1036=$M$20),SUM(IF((A1036=$O$10:$O$29),IF(C1036=$P$9,$P$10:$P$29,$Q$10:$Q$29),0))/100,1)","v":1},3.6975271484135298E-2]
[2010,"Automovel-Diesel","Diesel",{"$f":"SUM(IF(B1037=$L$10:$L$23,$M$10:$M$23,0))","v":10},1,{"$f":"IFERROR(ROUND(VLOOKUP(A1037,'Dados de entrada'!$P$7:$Z$50,Dados_v2!D1037+1,0)*H1037,0),0)","v":1717},"MP",{"$f":"IF(OR(D1037=$M$15,D1037=$M$20),SUM(IF((A1037=$O$10:$O$29),IF(C1037=$P$9,$P$10:$P$29,$Q$10:$Q$29),0))/100,1)","v":1},4.3802444767690997E-2]
[2011,"Automovel-Diesel","Diesel",{"$f":"SUM(IF(B1038=$L$10:$L$23,$M$10:$M$23,0))","v":10},1,{"$f":"IFERROR(ROUND(VLOOKUP(A1038,'Dados de entrada'!$P$7:$Z$50,Dados_v2!D1038+1,0)*H1038,0),0)","v":2451},"MP",{"$f":"IF(OR(D1038=$M$15,D1038=$M$20),SUM(IF((A1038=$O$10:$O$29),IF(C1038=$P$9,$P$10:$P$29,$Q$10:$Q$29),0))/100,1)","v":1},3.25734882596199E-2]
[2012,"Automovel-Diesel","Diesel",{"$f":"SUM(IF(B1039=$L$10:$L$23,$M$10:$M$23,0))","v":10},1,{"$f":"IFERROR(ROUND(VLOOKUP(A1039,'Dados de entrada'!$P$7:$Z$50,Dados_v2!D1039+1,0)*H1039,0),0)","v":2546},"MP",{"$f":"IF(OR(D1039=$M$15,D1039=$M$20),SUM(IF((A1039=$O$10:$O$29),IF(C1039=$P$9,$P$10:$P$29,$Q$10:$Q$29),0))/100,1)","v":1},3.25734882596199E-2]
[2013,"Automovel-Diesel","Diesel",{"$f":"SUM(IF(B1040=$L$10:$L$23,$M$10:$M$23,0))","v":10},1,{"$f":"IFERROR(ROUND(VLOOKUP(A1040,'Dados de entrada'!$P$7:$Z$50,Dados_v2!D1040+1,0)*H1040,0),0)","v":3295},"MP",{"$f":"IF(OR(D1040=$M$15,D1040=$M$20),SUM(IF((A1040=$O$10:$O$29),IF(C1040=$P$9,$P$10:$P$29,$Q$10:$Q$29),0))/100,1)","v":1},3.25734882596199E-2]
[2014,"Automovel-Diesel","Diesel",{"$f":"SUM(IF(B1041=$L$10:$L$23,$M$10:$M$23,0))","v":10},1,{"$f":"IFERROR(ROUND(VLOOKUP(A1041,'Dados de entrada'!$P$7:$Z$50,Dados_v2!D1041+1,0)*H1041,0),0)","v":2466},"MP",{"$f":"IF(OR(D1041=$M$15,D1041=$M$20),SUM(IF((A1041=$O$10:$O$29),IF(C1041=$P$9,$P$10:$P$29,$Q$10:$Q$29),0))/100,1)","v":1},3.25734882596199E-2]
[2015,"Automovel-Diesel","Diesel",{"$f":"SUM(IF(B1042=$L$10:$L$23,$M$10:$M$23,0))","v":10},1,{"$f":"IFERROR(ROUND(VLOOKUP(A1042,'Dados de entrada'!$P$7:$Z$50,Dados_v2!D1042+1,0)*H1042,0),0)","v":2216},"MP",{"$f":"IF(OR(D1042=$M$15,D1042=$M$20),SUM(IF((A1042=$O$10:$O$29),IF(C1042=$P$9,$P$10:$P$29,$Q$10:$Q$29),0))/100,1)","v":1},3.25734882596199E-2]
[2016,"Automovel-Diesel","Diesel",{"$f":"SUM(IF(B1043=$L$10:$L$23,$M$10:$M$23,0))","v":10},1,{"$f":"IFERROR(ROUND(VLOOKUP(A1043,'Dados de entrada'!$P$7:$Z$50,Dados_v2!D1043+1,0)*H1043,0),0)","v":1862},"MP",{"$f":"IF(OR(D1043=$M$15,D1043=$M$20),SUM(IF((A1043=$O$10:$O$29),IF(C1043=$P$9,$P$10:$P$29,$Q$10:$Q$29),0))/100,1)","v":1},3.25734882596199E-2]
[2017,"Automovel-Diesel","Diesel",{"$f":"SUM(IF(B1044=$L$10:$L$23,$M$10:$M$23,0))","v":10},1,{"$f":"IFERROR(ROUND(VLOOKUP(A1044,'Dados de entrada'!$P$7:$Z$50,Dados_v2!D1044+1,0)*H1044,0),0)","v":2583},"MP",{"$f":"IF(OR(D1044=$M$15,D1044=$M$20),SUM(IF((A1044=$O$10:$O$29),IF(C1044=$P$9,$P$10:$P$29,$Q$10:$Q$29),0))/100,1)","v":1},3.25734882596199E-2]
[2018,"Automovel-Diesel","Diesel",{"$f":"SUM(IF(B1045=$L$10:$L$23,$M$10:$M$23,0))","v":10},1,{"$f":"IFERROR(ROUND(VLOOKUP(A1045,'Dados de entrada'!$P$7:$Z$50,Dados_v2!D1045+1,0)*H1045,0),0)","v":3654},"MP",{"$f":"IF(OR(D1045=$M$15,D1045=$M$20),SUM(IF((A1045=$O$10:$O$29),IF(C1045=$P$9,$P$10:$P$29,$Q$10:$Q$29),0))/100,1)","v":1},3.25734882596199E-2]
[2019,"Automovel-Diesel","Diesel",{"$f":"SUM(IF(B1046=$L$10:$L$23,$M$10:$M$23,0))","v":10},1,{"$f":"IFERROR(ROUND(VLOOKUP(A1046,'Dados de entrada'!$P$7:$Z$50,Dados_v2!D1046+1,0)*H1046,0),0)","v":5965},"MP",{"$f":"IF(OR(D1046=$M$15,D1046=$M$20),SUM(IF((A1046=$O$10:$O$29),IF(C1046=$P$9,$P$10:$P$29,$Q$10:$Q$29),0))/100,1)","v":1},3.25734882596199E-2]
[2020,"Automovel-Diesel","Diesel",{"$f":"SUM(IF(B1047=$L$10:$L$23,$M$10:$M$23,0))","v":10},1,{"$f":"IFERROR(ROUND(VLOOKUP(A1047,'Dados de entrada'!$P$7:$Z$50,Dados_v2!D1047+1,0)*H1047,0),0)","v":7280},"MP",{"$f":"IF(OR(D1047=$M$15,D1047=$M$20),SUM(IF((A1047=$O$10:$O$29),IF(C1047=$P$9,$P$10:$P$29,$Q$10:$Q$29),0))/100,1)","v":1},3.25734882596199E-2]
[2021,"Automovel-Diesel","Diesel",{"$f":"SUM(IF(B1048=$L$10:$L$23,$M$10:$M$23,0))","v":10},1,{"$f":"IFERROR(ROUND(VLOOKUP(A1048,'Dados de entrada'!$P$7:$Z$50,Dados_v2!D1048+1,0)*H1048,0),0)","v":10740},"MP",{"$f":"IF(OR(D1048=$M$15,D1048=$M$20),SUM(IF((A1048=$O$10:$O$29),IF(C1048=$P$9,$P$10:$P$29,$Q$10:$Q$29),0))/100,1)","v":1},3.25734882596199E-2]
[2022,"Automovel-Diesel","Diesel",{"$f":"SUM(IF(B1049=$L$10:$L$23,$M$10:$M$23,0))","v":10},1,{"$f":"IFERROR(ROUND(VLOOKUP(A1049,'Dados de entrada'!$P$7:$Z$50,Dados_v2!D1049+1,0)*H1049,0),0)","v":20006},"MP",{"$f":"IF(OR(D1049=$M$15,D1049=$M$20),SUM(IF((A1049=$O$10:$O$29),IF(C1049=$P$9,$P$10:$P$29,$Q$10:$Q$29),0))/100,1)","v":1},5.0000000000000001E-4]

{"sheet":"Dados de entrada","index":4,"n_rows":1013,"n_cols":44,"rows_kept":1013,"cut":false,"hidden":false,"merged":[]}
[]
[]
[null,null,null,null,null,null,"Ferramentas",null,0,0,null,null,null,null,null,null,"Ferramentas",null,0,0]
[]
[]
[null,null,"Cód","Endereço","Coordenadas",null,"Cotagem de veículos",null,null,null,null,null,null,null,null,"Distribuição da idade da frota",null,null,null,null,null,null,null,null,null,null,null,null,null,null,null,null,null,null,null,null,null,null,null,null,null,"Emissões totais por ponto"]
[null,null,null,null,"X","Y","Automóveis","Motos","Ônibus","Caminhão",null,null,null,null,null,"Ano de Fabricação","Ônibus","Ônibus-Elétrico","Microônibus","Caminhão","Moto-Gasolina","Moto-Flex","Automóvel-Gasolina","Automóvel-Álcool","Automóvel-Flex","Automóvel-Diesel",null,null,null,null,null,null,null,null,null,null,null,null,null,null,null,"CO (g/km)","NOx (g/km)","MP (g/km)"]
[null,null,"SPL0023",null,-43.995637199999997,-19.900704900000001,7350,2274,384,147,null,null,null,null,null,1983,26,null,0,147,969,0,2057,2904,0,163,null,null,null,null,null,null,null,null,null,null,null,null,null,null,null,{"$f":"SUMPRODUCT($G8:$J8,TRANSPOSE(Dados_v2!N$4:N$7))","v":16704.129836410266},{"$f":"SUMPRODUCT($G8:$J8,TRANSPOSE(Dados_v2!O$4:O$7))","v":4589.9169167880655},{"$f":"SUMPRODUCT($G8:$J8,TRANSPOSE(Dados_v2!P$4:P$7))","v":119.10986477242881}]
[null,null,"SPL2411",null,-43.9352582,-19.947263700000001,44652,5253,1694,294,null,null,null,null,null,1984,27,null,1,159,633,0,849,3281,1,186,null,null,null,null,null,null,null,null,null,null,null,null,null,null,null,{"$f":"SUMPRODUCT($G9:$J9,TRANSPOSE(Dados_v2!N$4:N$7))","v":84219.280033489747},{"$f":"SUMPRODUCT($G9:$J9,TRANSPOSE(Dados_v2!O$4:O$7))","v":21505.993988695449},{"$f":"SUMPRODUCT($G9:$J9,TRANSPOSE(Dados_v2!P$4:P$7))","v":518.41821410369289}]
[null,null,"SPL2430",null,-43.972056000000002,-19.922920999999999,40868,4650,4027,700,null,null,null,null,null,1985,30,null,1,248,473,0,816,3376,2,157,null,"Total de veículos por tipologia",null,null,null,null,null,null,null,null,null,null,null,null,null,{"$f":"SUMPRODUCT($G10:$J10,TRANSPOSE(Dados_v2!N$4:N$7))","v":79837.293364229656},{"$f":"SUMPRODUCT($G10:$J10,TRANSPOSE(Dados_v2!O$4:O$7))","v":35893.288663784697},{"$f":"SUMPRODUCT($G10:$J10,TRANSPOSE(Dados_v2!P$4:P$7))","v":1068.7095945084795}]
[null,null,"SPL3253",null,-44.017564999999998,-19.991669000000002,20518,5710,2522,438,null,null,null,null,null,1986,58,null,4,444,765,0,1406,5821,0,254,null,"Automóveis",{"$f":"SUM(W51:Z51)","v":1471440},null,null,null,null,null,null,null,null,null,null,null,null,{"$f":"SUMPRODUCT($G11:$J11,TRANSPOSE(Dados_v2!N$4:N$7))","v":47099.527706397275},{"$f":"SUMPRODUCT($G11:$J11,TRANSPOSE(Dados_v2!O$4:O$7))","v":21610.069104203329},{"$f":"SUMPRODUCT($G11:$J11,TRANSPOSE(Dados_v2!P$4:P$7))","v":656.52409232810055}]
[null,null,"SPL3254",null,-43.987047799999999,-19.944541900000001,47762,7939,2812,489,null,null,null,null,null,1987,57,null,3,378,883,0,808,3387,0,196,null,"Motocicletas",{"$f":"SUM(U51:V51)","v":257401},null,null,null,null,null,null,null,null,null,null,null,null,{"$f":"SUMPRODUCT($G12:$J12,TRANSPOSE(Dados_v2!N$4:N$7))","v":95717.855470336654},{"$f":"SUMPRODUCT($G12:$J12,TRANSPOSE(Dados_v2!O$4:O$7))","v":29772.480626127752},{"$f":"SUMPRODUCT($G12:$J12,TRANSPOSE(Dados_v2!P$4:P$7))","v":794.52448169904403}]
[null,null,"SPL3255",null,-43.9830623,-19.928611400000001,7595,2412,199,235,null,null,null,null,null,1988,67,null,3,302,922,0,1012,4326,18,274,null,"Ônibus",{"$f":"SUM(Q51:S51)","v":13290},null,null,null,null,null,null,null,null,null,null,null,null,{"$f":"SUMPRODUCT($G13:$J13,TRANSPOSE(Dados_v2!N$4:N$7))","v":17192.33446092861},{"$f":"SUMPRODUCT($G13:$J13,TRANSPOSE(Dados_v2!O$4:O$7))","v":3789.298385269522},{"$f":"SUMPRODUCT($G13:$J13,TRANSPOSE(Dados_v2!P$4:P$7))","v":88.122127526254772}]
[null,null,"SPL3256",null,-43.967910500000002,-19.888414699999998,44116,6767,1741,303,null,null,"Automóveis",{"$f":"Dados_v2!N4","v":1.6162845596266386},null,1989,81,null,0,332,702,0,3130,4395,2,390,null,"Caminhões",{"$f":"SUM(T51)","v":34619},null,null,null,null,null,null,null,null,null,null,null,null,{"$f":"SUMPRODUCT($G14:$J14,TRANSPOSE(Dados_v2!N$4:N$7))","v":86281.972131402319},{"$f":"SUMPRODUCT($G14:$J14,TRANSPOSE(Dados_v2!O$4:O$7))","v":21837.967135217819},{"$f":"SUMPRODUCT($G14:$J14,TRANSPOSE(Dados_v2!P$4:P$7))","v":528.43791643668874}]
[null,null,"SPL3257",null,-43.951402000000002,-19.971215999999998,29575,4337,1262,484,null,null,"Motos",{"$f":"Dados_v2!N5","v":1.8960719581386585},null,1990,54,null,6,316,881,0,5837,988,13,341,null,null,null,null,null,null,null,null,null,null,null,null,null,null,null,{"$f":"SUMPRODUCT($G15:$J15,TRANSPOSE(Dados_v2!N$4:N$7))","v":57710.51457500222},{"$f":"SUMPRODUCT($G15:$J15,TRANSPOSE(Dados_v2!O$4:O$7))","v":15999.647989259642},{"$f":"SUMPRODUCT($G15:$J15,TRANSPOSE(Dados_v2!P$4:P$7))","v":405.14298519972306}]
[null,null,"SPL3258",null,-43.921536000000003,-19.893325000000001,25380,5008,1013,388,null,null,"Ônibus",{"$f":"Dados_v2!N6","v":1.1483093955122869},null,1991,50,null,3,273,631,0,6655,838,0,271,null,null,null,null,null,null,null,null,null,null,null,null,null,null,null,{"$f":"SUMPRODUCT($G16:$J16,TRANSPOSE(Dados_v2!N$4:N$7))","v":51869.633311408077},{"$f":"SUMPRODUCT($G16:$J16,TRANSPOSE(Dados_v2!O$4:O$7))","v":13347.860184839914},{"$f":"SUMPRODUCT($G16:$J16,TRANSPOSE(Dados_v2!P$4:P$7))","v":329.26815988329929}]
[null,null,"SPL3259",null,-43.951562000000003,-19.887463,34842,7880,1204,209,null,null,"Caminhões",{"$f":"Dados_v2!N7","v":0.48857062905064436},null,1992,97,null,0,258,524,0,5726,1103,0,289,null,null,null,null,null,null,null,null,null,null,null,null,null,null,null,{"$f":"SUMPRODUCT($G17:$J17,TRANSPOSE(Dados_v2!N$4:N$7))","v":72740.309430312351},{"$f":"SUMPRODUCT($G17:$J17,TRANSPOSE(Dados_v2!O$4:O$7))","v":16361.153223168427},{"$f":"SUMPRODUCT($G17:$J17,TRANSPOSE(Dados_v2!P$4:P$7))","v":376.2601377849835}]
[null,null,"SPL3260",null,-43.950531099999999,-19.888290999999999,38215,4677,1350,235,null,null,null,null,null,1993,71,null,10,189,316,0,8575,1489,1,359,null,null,null,null,null,null,null,null,null,null,null,null,null,null,null,{"$f":"SUMPRODUCT($G18:$J18,TRANSPOSE(Dados_v2!N$4:N$7))","v":72299.274776115009},{"$f":"SUMPRODUCT($G18:$J18,TRANSPOSE(Dados_v2!O$4:O$7))","v":17770.928305605794},{"$f":"SUMPRODUCT($G18:$J18,TRANSPOSE(Dados_v2!P$4:P$7))","v":419.81827544888432}]
[null,null,"SPL3261",null,-43.946916999999999,-19.898799,11234,5128,1389,241,null,null,null,null,null,1994,49,null,28,327,559,0,11036,1343,0,491,null,null,null,null,null,null,null,null,null,null,null,null,null,null,null,{"$f":"SUMPRODUCT($G19:$J19,TRANSPOSE(Dados_v2!N$4:N$7))","v":29593.145016148472},{"$f":"SUMPRODUCT($G19:$J19,TRANSPOSE(Dados_v2!O$4:O$7))","v":12070.866549726592},{"$f":"SUMPRODUCT($G19:$J19,TRANSPOSE(Dados_v2!P$4:P$7))","v":361.39188665489615}]
[null,null,"SPL3262",null,-43.940307500000003,-19.9556957,33772,2780,1715,602,null,null,null,null,null,1995,86,null,103,527,1134,0,18944,344,2,553,null,null,null,null,null,null,null,null,null,null,null,null,null,null,null,{"$f":"SUMPRODUCT($G20:$J20,TRANSPOSE(Dados_v2!N$4:N$7))","v":62119.712323328371},{"$f":"SUMPRODUCT($G20:$J20,TRANSPOSE(Dados_v2!O$4:O$7))","v":19867.290662323561},{"$f":"SUMPRODUCT($G20:$J20,TRANSPOSE(Dados_v2!P$4:P$7))","v":528.53481409616813}]
[null,null,"SPL3264",null,-43.949055999999999,-19.917736999999999,45895,7989,2538,683,null,null,null,null,null,1996,101,null,37,321,1365,0,17211,51,1,209,null,null,null,null,null,null,null,null,null,null,null,null,null,null,null,{"$f":"SUMPRODUCT($G21:$J21,TRANSPOSE(Dados_v2!N$4:N$7))","v":92575.201723086095},{"$f":"SUMPRODUCT($G21:$J21,TRANSPOSE(Dados_v2!O$4:O$7))","v":28259.120440280563},{"$f":"SUMPRODUCT($G21:$J21,TRANSPOSE(Dados_v2!P$4:P$7))","v":749.8069619531226}]
[null,null,"SPL3265",null,-43.949397099999999,-19.917889800000001,40549,3026,983,346,null,null,null,null,null,1997,89,null,218,613,2602,0,19715,12,0,299,null,null,null,null,null,null,null,null,null,null,null,null,null,null,null,{"$f":"SUMPRODUCT($G22:$J22,TRANSPOSE(Dados_v2!N$4:N$7))","v":72574.069927068253},{"$f":"SUMPRODUCT($G22:$J22,TRANSPOSE(Dados_v2!O$4:O$7))","v":16232.283348207839},{"$f":"SUMPRODUCT($G22:$J22,TRANSPOSE(Dados_v2!P$4:P$7))","v":356.2190101333839}]
[null,null,"SPL3266",null,-43.928483999999997,-19.901449,50023,13865,2003,704,null,null,"Automóveis",{"$f":"Dados_v2!O4","v":0.22220287763801855},null,1998,97,null,159,641,2838,0,16751,7,3,409,null,null,null,null,null,null,null,null,null,null,null,null,null,null,null,{"$f":"SUMPRODUCT($G23:$J23,TRANSPOSE(Dados_v2!N$4:N$7))","v":109784.45766785862},{"$f":"SUMPRODUCT($G23:$J23,TRANSPOSE(Dados_v2!O$4:O$7))","v":26544.59505940857},{"$f":"SUMPRODUCT($G23:$J23,TRANSPOSE(Dados_v2!P$4:P$7))","v":643.93446329165715}]
[null,null,"SPL3268",null,-43.928259799999999,-19.939372899999999,20237,4257,359,126,null,null,"Motos",{"$f":"Dados_v2!O5","v":9.3007042387364375E-2},null,1999,139,null,124,481,2267,0,15116,14,0,344,null,null,null,null,null,null,null,null,null,null,null,null,null,null,null,{"$f":"SUMPRODUCT($G24:$J24,TRANSPOSE(Dados_v2!N$4:N$7))","v":41254.131931209849},{"$f":"SUMPRODUCT($G24:$J24,TRANSPOSE(Dados_v2!O$4:O$7))","v":7426.4312120151781},{"$f":"SUMPRODUCT($G24:$J24,TRANSPOSE(Dados_v2!P$4:P$7))","v":143.67597479448636}]
[null,null,"SPL3269",null,-43.999321000000002,-19.873925,6287,970,201,71,null,null,"Ônibus",{"$f":"Dados_v2!O6","v":6.0530989192465361},null,2000,77,null,138,489,3136,0,15355,73,1,529,null,null,null,null,null,null,null,null,null,null,null,null,null,null,null,{"$f":"SUMPRODUCT($G25:$J25,TRANSPOSE(Dados_v2!N$4:N$7))","v":12266.269528927742},{"$f":"SUMPRODUCT($G25:$J25,TRANSPOSE(Dados_v2!O$4:O$7))","v":2907.1409841020409},{"$f":"SUMPRODUCT($G25:$J25,TRANSPOSE(Dados_v2!P$4:P$7))","v":67.835832769195434}]
[null,null,"SPL3271",null,-43.952756999999998,-19.927254000000001,47718,21369,3264,1147,null,null,"Caminhões",{"$f":"Dados_v2!O7","v":2.8628419508101572},null,2001,156,null,208,620,3541,0,18573,85,3,894,null,null,null,null,null,null,null,null,null,null,null,null,null,null,null,{"$f":"SUMPRODUCT($G26:$J26,TRANSPOSE(Dados_v2!N$4:N$7))","v":121951.50066820215},{"$f":"SUMPRODUCT($G26:$J26,TRANSPOSE(Dados_v2!O$4:O$7))","v":35631.538993906506},{"$f":"SUMPRODUCT($G26:$J26,TRANSPOSE(Dados_v2!P$4:P$7))","v":964.50128942660081}]
[null,null,"SPL3272",null,-43.993487999999999,-19.934742,34403,5207,1501,292,null,null,null,null,null,2002,91,null,45,509,4223,0,14698,147,3,532,null,null,null,null,null,null,null,null,null,null,null,null,null,null,null,{"$f":"SUMPRODUCT($G27:$J27,TRANSPOSE(Dados_v2!N$4:N$7))","v":67344.159417209972},{"$f":"SUMPRODUCT($G27:$J27,TRANSPOSE(Dados_v2!O$4:O$7))","v":18050.384596517375},{"$f":"SUMPRODUCT($G27:$J27,TRANSPOSE(Dados_v2!P$4:P$7))","v":449.75296860976385}]
[null,null,"SPL3273",null,-43.930651699999999,-19.8646028,41679,8627,3564,694,null,null,null,null,null,2003,103,null,57,456,5047,0,16345,198,22,522,null,null,null,null,null,null,null,null,null,null,null,null,null,null,null,{"$f":"SUMPRODUCT($G28:$J28,TRANSPOSE(Dados_v2!N$4:N$7))","v":88154.179645707816},{"$f":"SUMPRODUCT($G28:$J28,TRANSPOSE(Dados_v2!O$4:O$7))","v":33623.622353807674},{"$f":"SUMPRODUCT($G28:$J28,TRANSPOSE(Dados_v2!P$4:P$7))","v":967.58460988968329}]
[null,null,"SPL3274",null,-43.980853000000003,-19.930296800000001,44070,6711,1758,618,null,null,null,null,null,2004,131,null,84,686,4619,0,13063,83,1663,700,null,null,null,null,null,null,null,null,null,null,null,null,null,null,null,{"$f":"SUMPRODUCT($G29:$J29,TRANSPOSE(Dados_v2!N$4:N$7))","v":86274.864019878398},{"$f":"SUMPRODUCT($G29:$J29,TRANSPOSE(Dados_v2!O$4:O$7))","v":22827.235304605168},{"$f":"SUMPRODUCT($G29:$J29,TRANSPOSE(Dados_v2!P$4:P$7))","v":565.59804924206856}]
[null,null,"SPL3275",null,-43.970151899999998,-19.9311106,49021,8335,1957,687,null,null,null,null,null,2005,96,null,77,824,6828,0,11807,85,6460,776,null,null,null,null,null,null,null,null,null,null,null,null,null,null,null,{"$f":"SUMPRODUCT($G30:$J30,TRANSPOSE(Dados_v2!N$4:N$7))","v":97618.534677718519},{"$f":"SUMPRODUCT($G30:$J30,TRANSPOSE(Dados_v2!O$4:O$7))","v":25480.507968164038},{"$f":"SUMPRODUCT($G30:$J30,TRANSPOSE(Dados_v2!P$4:P$7))","v":629.42597752842391}]
[null,null,"SPL3276",null,-43.9313474,-19.864540300000002,35282,7543,1370,368,null,null,null,null,null,2006,156,null,125,852,7519,0,5134,77,15094,1095,null,null,null,null,null,null,null,null,null,null,null,null,null,null,null,{"$f":"SUMPRODUCT($G31:$J31,TRANSPOSE(Dados_v2!N$4:N$7))","v":73080.80047632943},{"$f":"SUMPRODUCT($G31:$J31,TRANSPOSE(Dados_v2!O$4:O$7))","v":17887.585406818354},{"$f":"SUMPRODUCT($G31:$J31,TRANSPOSE(Dados_v2!P$4:P$7))","v":431.03660371318421}]
[null,null,"SPL3277",null,-43.955369900000001,-19.963863400000001,34027,4445,1173,450,null,null,"Automóveis",{"$f":"Dados_v2!P4","v":2.5091890430374636E-3},null,2007,212,null,157,738,12449,0,6019,190,20967,1000,null,null,null,null,null,null,null,null,null,null,null,null,null,null,null,{"$f":"SUMPRODUCT($G32:$J32,TRANSPOSE(Dados_v2!N$4:N$7))","v":64992.178268350668},{"$f":"SUMPRODUCT($G32:$J32,TRANSPOSE(Dados_v2!O$4:O$7))","v":16362.877530941449},{"$f":"SUMPRODUCT($G32:$J32,TRANSPOSE(Dados_v2!P$4:P$7))","v":392.98962513621376}]
[null,null,"SPL3278",null,-44.013793999999997,-19.973559999999999,27888,6890,2804,985,null,null,"Motos",{"$f":"Dados_v2!P5","v":0},null,2008,332,null,267,1217,22881,2,5907,254,36083,1612,null,null,null,null,null,null,null,null,null,null,null,null,null,null,null,{"$f":"SUMPRODUCT($G33:$J33,TRANSPOSE(Dados_v2!N$4:N$7))","v":61839.981205074393},{"$f":"SUMPRODUCT($G33:$J33,TRANSPOSE(Dados_v2!O$4:O$7))","v":26630.401064733294},{"$f":"SUMPRODUCT($G33:$J33,TRANSPOSE(Dados_v2!P$4:P$7))","v":795.65236696448574}]
[null,null,"SPL3279",null,-43.948174000000002,-19.897164,38437,5624,896,282,null,null,"Ônibus",{"$f":"Dados_v2!P6","v":0.22142900036908983},null,2009,187,null,234,1418,7798,895,3888,134,32438,1582,null,null,null,null,null,null,null,null,null,null,null,null,null,null,null,{"$f":"SUMPRODUCT($G34:$J34,TRANSPOSE(Dados_v2!N$4:N$7))","v":73955.300446712223},{"$f":"SUMPRODUCT($G34:$J34,TRANSPOSE(Dados_v2!O$4:O$7))","v":15294.781675932416},{"$f":"SUMPRODUCT($G34:$J34,TRANSPOSE(Dados_v2!P$4:P$7))","v":324.84664238305913}]
[null,null,"SPL3280",null,-43.964354299999997,-19.850285800000002,56979,11459,2492,671,null,null,"Caminhões",{"$f":"Dados_v2!P7","v":0.10638496030185689},null,2010,303,null,148,1874,12526,2665,5853,197,46011,1717,null,null,null,null,null,null,null,null,null,null,null,null,null,null,null,{"$f":"SUMPRODUCT($G35:$J35,TRANSPOSE(Dados_v2!N$4:N$7))","v":117010.78439698672},{"$f":"SUMPRODUCT($G35:$J35,TRANSPOSE(Dados_v2!O$4:O$7))","v":30731.954919409454},{"$f":"SUMPRODUCT($G35:$J35,TRANSPOSE(Dados_v2!P$4:P$7))","v":766.15645976554947}]
[null,null,"SPL3281",null,-43.919865000000001,-19.849679999999999,26415,4289,1999,702,null,null,null,null,null,2011,420,null,408,2231,10202,4522,7341,242,48491,2451,null,null,null,null,null,null,null,null,null,null,null,null,null,null,null,{"$f":"SUMPRODUCT($G36:$J36,TRANSPOSE(Dados_v2!N$4:N$7))","v":53464.85633421698},{"$f":"SUMPRODUCT($G36:$J36,TRANSPOSE(Dados_v2!O$4:O$7))","v":20378.256006650219},{"$f":"SUMPRODUCT($G36:$J36,TRANSPOSE(Dados_v2!P$4:P$7))","v":583.5990424415487}]
[null,null,"SPL3282",null,-43.965398299999997,-19.9177699,37854,5089,2517,677,null,null,null,null,null,2012,472,null,369,1796,9318,4781,9155,392,51333,2546,null,null,null,null,null,null,null,null,null,null,null,null,null,null,null,{"$f":"SUMPRODUCT($G37:$J37,TRANSPOSE(Dados_v2!N$4:N$7))","v":74053.002979446115},{"$f":"SUMPRODUCT($G37:$J37,TRANSPOSE(Dados_v2!O$4:O$7))","v":26058.374549260858},{"$f":"SUMPRODUCT($G37:$J37,TRANSPOSE(Dados_v2!P$4:P$7))","v":724.34225408849636}]
[null,null,"SPL3283",null,-43.927084299999997,-19.937569799999999,10703,1227,402,141,null,null,null,null,null,2013,394,null,391,2092,5906,4566,4837,492,64123,3295,null,null,null,null,null,null,null,null,null,null,null,null,null,null,null,{"$f":"SUMPRODUCT($G38:$J38,TRANSPOSE(Dados_v2!N$4:N$7))","v":20156.082770012126},{"$f":"SUMPRODUCT($G38:$J38,TRANSPOSE(Dados_v2!O$4:O$7))","v":5329.363520970348},{"$f":"SUMPRODUCT($G38:$J38,TRANSPOSE(Dados_v2!P$4:P$7))","v":130.87058787856591}]
[null,null,"SPL3284",null,-43.935591000000002,-19.840201,41728,7056,3475,1221,null,null,null,null,null,2014,799,null,473,1273,5599,7138,5336,461,55650,2466,null,null,null,null,null,null,null,null,null,null,null,null,null,null,null,{"$f":"SUMPRODUCT($G39:$J39,TRANSPOSE(Dados_v2!N$4:N$7))","v":85409.925728202783},{"$f":"SUMPRODUCT($G39:$J39,TRANSPOSE(Dados_v2!O$4:O$7))","v":34458.388135485395},{"$f":"SUMPRODUCT($G39:$J39,TRANSPOSE(Dados_v2!P$4:P$7))","v":1004.0652531990218}]
[null,null,"SPL3285",null,-43.9541203,-19.9276552,9925,2121,3500,1230,null,null,null,null,null,2015,209,null,187,717,4403,7772,4590,519,53023,2216,null,null,null,null,null,null,null,null,null,null,null,null,null,null,null,{"$f":"SUMPRODUCT($G40:$J40,TRANSPOSE(Dados_v2!N$4:N$7))","v":24683.217635531779},{"$f":"SUMPRODUCT($G40:$J40,TRANSPOSE(Dados_v2!O$4:O$7))","v":27109.773314320304},{"$f":"SUMPRODUCT($G40:$J40,TRANSPOSE(Dados_v2!P$4:P$7))","v":930.75870371524513}]
[null,null,"SPL3286",null,-43.965558999999999,-19.849489599999998,38385,7570,1803,633,null,null,null,null,null,2016,272,null,168,570,2840,5014,3165,449,40082,1862,null,null,null,null,null,null,null,null,null,null,null,null,null,null,null,{"$f":"SUMPRODUCT($G41:$J41,TRANSPOSE(Dados_v2!N$4:N$7))","v":78774.014592675871},{"$f":"SUMPRODUCT($G41:$J41,TRANSPOSE(Dados_v2!O$4:O$7))","v":21959.237075272024},{"$f":"SUMPRODUCT($G41:$J41,TRANSPOSE(Dados_v2!P$4:P$7))","v":562.8933889535374}]
[null,null,"SPL3290",null,-43.939595300000001,-19.837233600000001,34007,6447,2933,789,null,null,null,null,null,2017,281,null,93,299,3672,4695,1866,275,34847,2583,null,null,null,null,null,null,null,null,null,null,null,null,null,null,null,{"$f":"SUMPRODUCT($G42:$J42,TRANSPOSE(Dados_v2!N$4:N$7))","v":70942.438616701533},{"$f":"SUMPRODUCT($G42:$J42,TRANSPOSE(Dados_v2!O$4:O$7))","v":28168.591091446739},{"$f":"SUMPRODUCT($G42:$J42,TRANSPOSE(Dados_v2!P$4:P$7))","v":818.71898354728057}]
[null,null,"SPL3292",null,-43.947625000000002,-19.819562000000001,12501,7610,4824,940,null,null,null,null,null,2018,188,null,173,699,4076,6148,2561,494,55358,3654,null,null,null,null,null,null,null,null,null,null,null,null,null,null,null,{"$f":"SUMPRODUCT($G43:$J43,TRANSPOSE(Dados_v2!N$4:N$7))","v":40632.981796586682},{"$f":"SUMPRODUCT($G43:$J43,TRANSPOSE(Dados_v2!O$4:O$7))","v":35376.76238612755},{"$f":"SUMPRODUCT($G43:$J43,TRANSPOSE(Dados_v2!P$4:P$7))","v":1199.5427326912461}]
[null,null,"SPL3295",null,-43.929243,-19.902055000000001,55306,9859,1364,367,null,null,null,null,null,2019,363,null,272,1163,4486,8330,2561,361,64656,5965,null,null,null,null,null,null,null,null,null,null,null,null,null,null,null,{"$f":"SUMPRODUCT($G44:$J44,TRANSPOSE(Dados_v2!N$4:N$7))","v":109829.20672634026},{"$f":"SUMPRODUCT($G44:$J44,TRANSPOSE(Dados_v2!O$4:O$7))","v":22513.198703344882},{"$f":"SUMPRODUCT($G44:$J44,TRANSPOSE(Dados_v2!P$4:P$7))","v":479.84564614844993}]
[null,null,"SPL3296",null,-43.963338100000001,-19.9636958,27664,5418,1141,222,null,null,null,null,null,2020,561,null,238,1472,3923,8031,2925,510,86744,7280,null,null,null,null,null,null,null,null,null,null,null,null,null,null,null,{"$f":"SUMPRODUCT($G45:$J45,TRANSPOSE(Dados_v2!N$4:N$7))","v":56404.497626635348},{"$f":"SUMPRODUCT($G45:$J45,TRANSPOSE(Dados_v2!O$4:O$7))","v":14193.069342573037},{"$f":"SUMPRODUCT($G45:$J45,TRANSPOSE(Dados_v2!P$4:P$7))","v":345.68215629473212}]
[null,null,"SPL3299",null,-43.941103599999998,-19.929055300000002,22407,4737,881,172,null,null,null,null,null,2021,175,null,412,2067,4248,7180,1564,150,127283,10740,null,null,null,null,null,null,null,null,null,null,null,null,null,null,null,{"$f":"SUMPRODUCT($G46:$J46,TRANSPOSE(Dados_v2!N$4:N$7))","v":46293.47571889995},{"$f":"SUMPRODUCT($G46:$J46,TRANSPOSE(Dados_v2!O$4:O$7))","v":11244.663202419571},{"$f":"SUMPRODUCT($G46:$J46,TRANSPOSE(Dados_v2!P$4:P$7))","v":269.60056138442798}]
[null,null,"SPL3300",null,-43.936725000000003,-19.913972000000001,52675,6287,3314,892,null,null,null,null,null,2022,239,null,470,4601,6938,11020,2879,232,209009,20006,null,null,null,null,null,null,null,null,null,null,null,null,null,null,null,{"$f":"SUMPRODUCT($G47:$J47,TRANSPOSE(Dados_v2!N$4:N$7))","v":101299.69591699181},{"$f":"SUMPRODUCT($G47:$J47,TRANSPOSE(Dados_v2!O$4:O$7))","v":34902.89669357767},{"$f":"SUMPRODUCT($G47:$J47,TRANSPOSE(Dados_v2!P$4:P$7))","v":960.88262465441835}]
[null,null,"SPL3301",null,-43.922157599999998,-19.9295212,29728,5895,1043,281,null,null,null,null,null,2023,null,null,null,null,null,null,null,null,null,null,null,null,null,null,null,null,null,null,null,null,null,null,null,null,null,{"$f":"SUMPRODUCT($G48:$J48,TRANSPOSE(Dados_v2!N$4:N$7))","v":60561.226628090655},{"$f":"SUMPRODUCT($G48:$J48,TRANSPOSE(Dados_v2!O$4:O$7))","v":14271.764422248321},{"$f":"SUMPRODUCT($G48:$J48,TRANSPOSE(Dados_v2!P$4:P$7))","v":335.43779310120021}]
[null,null,"SPL3302",null,-43.9121138,-19.918516100000002,36712,8249,1548,302,null,null,null,null,null,2024,null,null,null,null,null,null,null,null,null,null,null,null,null,null,null,null,null,null,null,null,null,null,null,null,null,{"$f":"SUMPRODUCT($G49:$J49,TRANSPOSE(Dados_v2!N$4:N$7))","v":76902.867609925263},{"$f":"SUMPRODUCT($G49:$J49,TRANSPOSE(Dados_v2!O$4:O$7))","v":19159.502532638609},{"$f":"SUMPRODUCT($G49:$J49,TRANSPOSE(Dados_v2!P$4:P$7))","v":467.01769873050318}]
[null,null,"SPL3303",null,-43.909329700000001,-19.9103259,27318,6586,1407,379,null,null,null,null,null,2025,null,null,null,null,null,null,null,null,null,null,null,null,null,null,null,null,null,null,null,null,null,null,null,null,null,{"$f":"SUMPRODUCT($G50:$J50,TRANSPOSE(Dados_v2!N$4:N$7))","v":58442.031104077694},{"$f":"SUMPRODUCT($G50:$J50,TRANSPOSE(Dados_v2!O$4:O$7))","v":16284.409871215499},{"$f":"SUMPRODUCT($G50:$J50,TRANSPOSE(Dados_v2!P$4:P$7))","v":420.41652975141056}]
[null,null,"SPL3304",null,-43.999951000000003,-19.875145,8898,1474,296,80,null,null,null,null,null,"Total",{"$f":"SUM(Q8:Q49)","v":7396},0,5894,34619,174642,82759,301066,39779,1049387,81208,null,null,null,null,null,null,null,null,null,null,null,null,null,null,null,{"$f":"SUMPRODUCT($G51:$J51,TRANSPOSE(Dados_v2!N$4:N$7))","v":17555.495309249898},{"$f":"SUMPRODUCT($G51:$J51,TRANSPOSE(Dados_v2!O$4:O$7))","v":4134.9982218638515},{"$f":"SUMPRODUCT($G51:$J51,TRANSPOSE(Dados_v2!P$4:P$7))","v":96.380545038346483}]
[null,null,"SPL3305",null,-44.0066068,-19.9468672,19307,6064,2684,523,null,null,null,null,null,null,null,null,null,null,null,null,null,null,null,null,null,null,null,null,null,null,null,null,null,null,null,null,null,null,null,{"$f":"SUMPRODUCT($G52:$J52,TRANSPOSE(Dados_v2!N$4:N$7))","v":46040.971203412802},{"$f":"SUMPRODUCT($G52:$J52,TRANSPOSE(Dados_v2!O$4:O$7))","v":22597.849503125617},{"$f":"SUMPRODUCT($G52:$J52,TRANSPOSE(Dados_v2!P$4:P$7))","v":698.39968408243249}]
[null,null,null,null,null,null,null,null,null,null,null,null,null,null,null,"Total (Cenário base)",{"$f":"SUM(Cenários!J5:J44)","v":7396},{"$f":"SUM(Cenários!K5:K44)","v":0},{"$f":"SUM(Cenários!L5:L44)","v":5894},{"$f":"SUM(Cenários!M5:M44)","v":34619},{"$f":"SUM(Cenários!N5:N44)","v":174642},{"$f":"SUM(Cenários!O5:O44)","v":82759},{"$f":"SUM(Cenários!P5:P44)","v":301066},{"$f":"SUM(Cenários!Q5:Q44)","v":39779},{"$f":"SUM(Cenários!R5:R44)","v":1049387},{"$f":"SUM(Cenários!S5:S44)","v":81208},null,null,null,null,null,null,null,null,null,null,null,null,null,null,null,{"$f":"SUMPRODUCT($G53:$J53,TRANSPOSE(Dados_v2!N$4:N$7))","v":0},{"$f":"SUMPRODUCT($G53:$J53,TRANSPOSE(Dados_v2!O$4:O$7))","v":0},{"$f":"SUMPRODUCT($G53:$J53,TRANSPOSE(Dados_v2!P$4:P$7))","v":0}]
[null,null,null,null,null,null,null,null,null,null,null,null,null,null,null,null,null,null,null,null,null,null,null,null,null,null,null,null,null,null,null,null,null,null,null,null,null,null,null,null,null,{"$f":"SUMPRODUCT($G54:$J54,TRANSPOSE(Dados_v2!N$4:N$7))","v":0},{"$f":"SUMPRODUCT($G54:$J54,TRANSPOSE(Dados_v2!O$4:O$7))","v":0},{"$f":"SUMPRODUCT($G54:$J54,TRANSPOSE(Dados_v2!P$4:P$7))","v":0}]
[null,null,null,null,null,null,null,null,null,null,null,null,null,null,null,null,null,null,null,null,null,null,null,null,null,null,null,null,null,null,null,null,null,null,null,null,null,null,null,null,null,{"$f":"SUMPRODUCT($G55:$J55,TRANSPOSE(Dados_v2!N$4:N$7))","v":0},{"$f":"SUMPRODUCT($G55:$J55,TRANSPOSE(Dados_v2!O$4:O$7))","v":0},{"$f":"SUMPRODUCT($G55:$J55,TRANSPOSE(Dados_v2!P$4:P$7))","v":0}]
[null,null,null,null,null,null,null,null,null,null,null,null,null,null,null,null,null,null,null,null,null,null,null,null,null,null,null,null,null,null,null,null,null,null,null,null,null,null,null,null,null,{"$f":"SUMPRODUCT($G56:$J56,TRANSPOSE(Dados_v2!N$4:N$7))","v":0},{"$f":"SUMPRODUCT($G56:$J56,TRANSPOSE(Dados_v2!O$4:O$7))","v":0},{"$f":"SUMPRODUCT($G56:$J56,TRANSPOSE(Dados_v2!P$4:P$7))","v":0}]
[null,null,null,null,null,null,null,null,null,null,null,null,null,null,null,null,null,null,null,null,null,null,null,null,null,null,null,null,null,null,null,null,null,null,null,null,null,null,null,null,null,{"$f":"SUMPRODUCT($G57:$J57,TRANSPOSE(Dados_v2!N$4:N$7))","v":0},{"$f":"SUMPRODUCT($G57:$J57,TRANSPOSE(Dados_v2!O$4:O$7))","v":0},{"$f":"SUMPRODUCT($G57:$J57,TRANSPOSE(Dados_v2!P$4:P$7))","v":0}]
[null,null,null,null,null,null,null,null,null,null,null,null,null,null,null,null,null,null,null,null,null,null,null,null,null,null,null,null,null,null,null,null,null,null,null,null,null,null,null,null,null,{"$f":"SUMPRODUCT($G58:$J58,TRANSPOSE(Dados_v2!N$4:N$7))","v":0},{"$f":"SUMPRODUCT($G58:$J58,TRANSPOSE(Dados_v2!O$4:O$7))","v":0},{"$f":"SUMPRODUCT($G58:$J58,TRANSPOSE(Dados_v2!P$4:P$7))","v":0}]
[null,null,null,null,null,null,null,null,null,null,null,null,null,null,null,null,null,null,null,null,null,null,null,null,null,null,null,null,null,null,null,null,null,null,null,null,null,null,null,null,null,{"$f":"SUMPRODUCT($G59:$J59,TRANSPOSE(Dados_v2!N$4:N$7))","v":0},{"$f":"SUMPRODUCT($G59:$J59,TRANSPOSE(Dados_v2!O$4:O$7))","v":0},{"$f":"SUMPRODUCT($G59:$J59,TRANSPOSE(Dados_v2!P$4:P$7))","v":0}]
[null,null,null,null,null,null,null,null,null,null,null,null,null,null,null,null,null,null,null,null,null,null,null,null,null,null,null,null,null,null,null,null,null,null,null,null,null,null,null,null,null,{"$f":"SUMPRODUCT($G60:$J60,TRANSPOSE(Dados_v2!N$4:N$7))","v":0},{"$f":"SUMPRODUCT($G60:$J60,TRANSPOSE(Dados_v2!O$4:O$7))","v":0},{"$f":"SUMPRODUCT($G60:$J60,TRANSPOSE(Dados_v2!P$4:P$7))","v":0}]
[null,null,null,null,null,null,null,null,null,null,null,null,null,null,null,null,null,null,null,null,null,null,null,null,null,null,null,null,null,null,null,null,null,null,null,null,null,null,null,null,null,{"$f":"SUMPRODUCT($G61:$J61,TRANSPOSE(Dados_v2!N$4:N$7))","v":0},{"$f":"SUMPRODUCT($G61:$J61,TRANSPOSE(Dados_v2!O$4:O$7))","v":0},{"$f":"SUMPRODUCT($G61:$J61,TRANSPOSE(Dados_v2!P$4:P$7))","v":0}]
[null,null,null,null,null,null,null,null,null,null,null,null,null,null,null,null,null,null,null,null,null,null,null,null,null,null,null,null,null,null,null,null,null,null,null,null,null,null,null,null,null,{"$f":"SUMPRODUCT($G62:$J62,TRANSPOSE(Dados_v2!N$4:N$7))","v":0},{"$f":"SUMPRODUCT($G62:$J62,TRANSPOSE(Dados_v2!O$4:O$7))","v":0},{"$f":"SUMPRODUCT($G62:$J62,TRANSPOSE(Dados_v2!P$4:P$7))","v":0}]
[null,null,null,null,null,null,null,null,null,null,null,null,null,null,null,null,null,null,null,null,null,null,null,null,null,null,null,null,null,null,null,null,null,null,null,null,null,null,null,null,null,{"$f":"SUMPRODUCT($G63:$J63,TRANSPOSE(Dados_v2!N$4:N$7))","v":0},{"$f":"SUMPRODUCT($G63:$J63,TRANSPOSE(Dados_v2!O$4:O$7))","v":0},{"$f":"SUMPRODUCT($G63:$J63,TRANSPOSE(Dados_v2!P$4:P$7))","v":0}]
[null,null,null,null,null,null,null,null,null,null,null,null,null,null,null,null,null,null,null,null,null,null,null,null,null,null,null,null,null,null,null,null,null,null,null,null,null,null,null,null,null,{"$f":"SUMPRODUCT($G64:$J64,TRANSPOSE(Dados_v2!N$4:N$7))","v":0},{"$f":"SUMPRODUCT($G64:$J64,TRANSPOSE(Dados_v2!O$4:O$7))","v":0},{"$f":"SUMPRODUCT($G64:$J64,TRANSPOSE(Dados_v2!P$4:P$7))","v":0}]
[null,null,null,null,null,null,null,null,null,null,null,null,null,null,null,null,null,null,null,null,null,null,null,null,null,null,null,null,null,null,null,null,null,null,null,null,null,null,null,null,null,{"$f":"SUMPRODUCT($G65:$J65,TRANSPOSE(Dados_v2!N$4:N$7))","v":0},{"$f":"SUMPRODUCT($G65:$J65,TRANSPOSE(Dados_v2!O$4:O$7))","v":0},{"$f":"SUMPRODUCT($G65:$J65,TRANSPOSE(Dados_v2!P$4:P$7))","v":0}]
[null,null,null,null,null,null,null,null,null,null,null,null,null,null,null,null,null,null,null,null,null,null,null,null,null,null,null,null,null,null,null,null,null,null,null,null,null,null,null,null,null,{"$f":"SUMPRODUCT($G66:$J66,TRANSPOSE(Dados_v2!N$4:N$7))","v":0},{"$f":"SUMPRODUCT($G66:$J66,TRANSPOSE(Dados_v2!O$4:O$7))","v":0},{"$f":"SUMPRODUCT($G66:$J66,TRANSPOSE(Dados_v2!P$4:P$7))","v":0}]
[null,null,null,null,null,null,null,null,null,null,null,null,null,null,null,null,null,null,null,null,null,null,null,null,null,null,null,null,null,null,null,null,null,null,null,null,null,null,null,null,null,{"$f":"SUMPRODUCT($G67:$J67,TRANSPOSE(Dados_v2!N$4:N$7))","v":0},{"$f":"SUMPRODUCT($G67:$J67,TRANSPOSE(Dados_v2!O$4:O$7))","v":0},{"$f":"SUMPRODUCT($G67:$J67,TRANSPOSE(Dados_v2!P$4:P$7))","v":0}]
[null,null,null,null,null,null,null,null,null,null,null,null,null,null,null,null,null,null,null,null,null,null,null,null,null,null,null,null,null,null,null,null,null,null,null,null,null,null,null,null,null,{"$f":"SUMPRODUCT($G68:$J68,TRANSPOSE(Dados_v2!N$4:N$7))","v":0},{"$f":"SUMPRODUCT($G68:$J68,TRANSPOSE(Dados_v2!O$4:O$7))","v":0},{"$f":"SUMPRODUCT($G68:$J68,TRANSPOSE(Dados_v2!P$4:P$7))","v":0}]
[null,null,null,null,null,null,null,null,null,null,null,null,null,null,null,null,null,null,null,null,null,null,null,null,null,null,null,null,null,null,null,null,null,null,null,null,null,null,null,null,null,{"$f":"SUMPRODUCT($G69:$J69,TRANSPOSE(Dados_v2!N$4:N$7))","v":0},{"$f":"SUMPRODUCT($G69:$J69,TRANSPOSE(Dados_v2!O$4:O$7))","v":0},{"$f":"SUMPRODUCT($G69:$J69,TRANSPOSE(Dados_v2!P$4:P$7))","v":0}]
[null,null,null,null,null,null,null,null,null,null,null,null,null,null,null,null,null,null,null,null,null,null,null,null,null,null,null,null,null,null,null,null,null,null,null,null,null,null,null,null,null,{"$f":"SUMPRODUCT($G70:$J70,TRANSPOSE(Dados_v2!N$4:N$7))","v":0},{"$f":"SUMPRODUCT($G70:$J70,TRANSPOSE(Dados_v2!O$4:O$7))","v":0},{"$f":"SUMPRODUCT($G70:$J70,TRANSPOSE(Dados_v2!P$4:P$7))","v":0}]
[null,null,null,null,null,null,null,null,null,null,null,null,null,null,null,null,null,null,null,null,null,null,null,null,null,null,null,null,null,null,null,null,null,null,null,null,null,null,null,null,null,{"$f":"SUMPRODUCT($G71:$J71,TRANSPOSE(Dados_v2!N$4:N$7))","v":0},{"$f":"SUMPRODUCT($G71:$J71,TRANSPOSE(Dados_v2!O$4:O$7))","v":0},{"$f":"SUMPRODUCT($G71:$J71,TRANSPOSE(Dados_v2!P$4:P$7))","v":0}]
[null,null,null,null,null,null,null,null,null,null,null,null,null,null,null,null,null,null,null,null,null,null,null,null,null,null,null,null,null,null,null,null,null,null,null,null,null,null,null,null,null,{"$f":"SUMPRODUCT($G72:$J72,TRANSPOSE(Dados_v2!N$4:N$7))","v":0},{"$f":"SUMPRODUCT($G72:$J72,TRANSPOSE(Dados_v2!O$4:O$7))","v":0},{"$f":"SUMPRODUCT($G72:$J72,TRANSPOSE(Dados_v2!P$4:P$7))","v":0}]
[null,null,null,null,null,null,null,null,null,null,null,null,null,null,null,null,null,null,null,null,null,null,null,null,null,null,null,null,null,null,null,null,null,null,null,null,null,null,null,null,null,{"$f":"SUMPRODUCT($G73:$J73,TRANSPOSE(Dados_v2!N$4:N$7))","v":0},{"$f":"SUMPRODUCT($G73:$J73,TRANSPOSE(Dados_v2!O$4:O$7))","v":0},{"$f":"SUMPRODUCT($G73:$J73,TRANSPOSE(Dados_v2!P$4:P$7))","v":0}]
[null,null,null,null,null,null,null,null,null,null,null,null,null,null,null,null,null,null,null,null,null,null,null,null,null,null,null,null,null,null,null,null,null,null,null,null,null,null,null,null,null,{"$f":"SUMPRODUCT($G74:$J74,TRANSPOSE(Dados_v2!N$4:N$7))","v":0},{"$f":"SUMPRODUCT($G74:$J74,TRANSPOSE(Dados_v2!O$4:O$7))","v":0},{"$f":"SUMPRODUCT($G74:$J74,TRANSPOSE(Dados_v2!P$4:P$7))","v":0}]
[null,null,null,null,null,null,null,null,null,null,null,null,null,null,null,null,null,null,null,null,null,null,null,null,null,null,null,null,null,null,null,null,null,null,null,null,null,null,null,null,null,{"$f":"SUMPRODUCT($G75:$J75,TRANSPOSE(Dados_v2!N$4:N$7))","v":0},{"$f":"SUMPRODUCT($G75:$J75,TRANSPOSE(Dados_v2!O$4:O$7))","v":0},{"$f":"SUMPRODUCT($G75:$J75,TRANSPOSE(Dados_v2!P$4:P$7))","v":0}]
[null,null,null,null,null,null,null,null,null,null,null,null,null,null,null,null,null,null,null,null,null,null,null,null,null,null,null,null,null,null,null,null,null,null,null,null,null,null,null,null,null,{"$f":"SUMPRODUCT($G76:$J76,TRANSPOSE(Dados_v2!N$4:N$7))","v":0},{"$f":"SUMPRODUCT($G76:$J76,TRANSPOSE(Dados_v2!O$4:O$7))","v":0},{"$f":"SUMPRODUCT($G76:$J76,TRANSPOSE(Dados_v2!P$4:P$7))","v":0}]
[null,null,null,null,null,null,null,null,null,null,null,null,null,null,null,null,null,null,null,null,null,null,null,null,null,null,null,null,null,null,null,null,null,null,null,null,null,null,null,null,null,{"$f":"SUMPRODUCT($G77:$J77,TRANSPOSE(Dados_v2!N$4:N$7))","v":0},{"$f":"SUMPRODUCT($G77:$J77,TRANSPOSE(Dados_v2!O$4:O$7))","v":0},{"$f":"SUMPRODUCT($G77:$J77,TRANSPOSE(Dados_v2!P$4:P$7))","v":0}]
[null,null,null,null,null,null,null,null,null,null,null,null,null,null,null,null,null,null,null,null,null,null,null,null,null,null,null,null,null,null,null,null,null,null,null,null,null,null,null,null,null,{"$f":"SUMPRODUCT($G78:$J78,TRANSPOSE(Dados_v2!N$4:N$7))","v":0},{"$f":"SUMPRODUCT($G78:$J78,TRANSPOSE(Dados_v2!O$4:O$7))","v":0},{"$f":"SUMPRODUCT($G78:$J78,TRANSPOSE(Dados_v2!P$4:P$7))","v":0}]
[null,null,null,null,null,null,null,null,null,null,null,null,null,null,null,null,null,null,null,null,null,null,null,null,null,null,null,null,null,null,null,null,null,null,null,null,null,null,null,null,null,{"$f":"SUMPRODUCT($G79:$J79,TRANSPOSE(Dados_v2!N$4:N$7))","v":0},{"$f":"SUMPRODUCT($G79:$J79,TRANSPOSE(Dados_v2!O$4:O$7))","v":0},{"$f":"SUMPRODUCT($G79:$J79,TRANSPOSE(Dados_v2!P$4:P$7))","v":0}]
[null,null,null,null,null,null,null,null,null,null,null,null,null,null,null,null,null,null,null,null,null,null,null,null,null,null,null,null,null,null,null,null,null,null,null,null,null,null,null,null,null,{"$f":"SUMPRODUCT($G80:$J80,TRANSPOSE(Dados_v2!N$4:N$7))","v":0},{"$f":"SUMPRODUCT($G80:$J80,TRANSPOSE(Dados_v2!O$4:O$7))","v":0},{"$f":"SUMPRODUCT($G80:$J80,TRANSPOSE(Dados_v2!P$4:P$7))","v":0}]
[null,null,null,null,null,null,null,null,null,null,null,null,null,null,null,null,null,null,null,null,null,null,null,null,null,null,null,null,null,null,null,null,null,null,null,null,null,null,null,null,null,{"$f":"SUMPRODUCT($G81:$J81,TRANSPOSE(Dados_v2!N$4:N$7))","v":0},{"$f":"SUMPRODUCT($G81:$J81,TRANSPOSE(Dados_v2!O$4:O$7))","v":0},{"$f":"SUMPRODUCT($G81:$J81,TRANSPOSE(Dados_v2!P$4:P$7))","v":0}]
[null,null,null,null,null,null,null,null,null,null,null,null,null,null,null,null,null,null,null,null,null,null,null,null,null,null,null,null,null,null,null,null,null,null,null,null,null,null,null,null,null,{"$f":"SUMPRODUCT($G82:$J82,TRANSPOSE(Dados_v2!N$4:N$7))","v":0},{"$f":"SUMPRODUCT($G82:$J82,TRANSPOSE(Dados_v2!O$4:O$7))","v":0},{"$f":"SUMPRODUCT($G82:$J82,TRANSPOSE(Dados_v2!P$4:P$7))","v":0}]
[null,null,null,null,null,null,null,null,null,null,null,null,null,null,null,null,null,null,null,null,null,null,null,null,null,null,null,null,null,null,null,null,null,null,null,null,null,null,null,null,null,{"$f":"SUMPRODUCT($G83:$J83,TRANSPOSE(Dados_v2!N$4:N$7))","v":0},{"$f":"SUMPRODUCT($G83:$J83,TRANSPOSE(Dados_v2!O$4:O$7))","v":0},{"$f":"SUMPRODUCT($G83:$J83,TRANSPOSE(Dados_v2!P$4:P$7))","v":0}]
[null,null,null,null,null,null,null,null,null,null,null,null,null,null,null,null,null,null,null,null,null,null,null,null,null,null,null,null,null,null,null,null,null,null,null,null,null,null,null,null,null,{"$f":"SUMPRODUCT($G84:$J84,TRANSPOSE(Dados_v2!N$4:N$7))","v":0},{"$f":"SUMPRODUCT($G84:$J84,TRANSPOSE(Dados_v2!O$4:O$7))","v":0},{"$f":"SUMPRODUCT($G84:$J84,TRANSPOSE(Dados_v2!P$4:P$7))","v":0}]
[null,null,null,null,null,null,null,null,null,null,null,null,null,null,null,null,null,null,null,null,null,null,null,null,null,null,null,null,null,null,null,null,null,null,null,null,null,null,null,null,null,{"$f":"SUMPRODUCT($G85:$J85,TRANSPOSE(Dados_v2!N$4:N$7))","v":0},{"$f":"SUMPRODUCT($G85:$J85,TRANSPOSE(Dados_v2!O$4:O$7))","v":0},{"$f":"SUMPRODUCT($G85:$J85,TRANSPOSE(Dados_v2!P$4:P$7))","v":0}]
[null,null,null,null,null,null,null,null,null,null,null,null,null,null,null,null,null,null,null,null,null,null,null,null,null,null,null,null,null,null,null,null,null,null,null,null,null,null,null,null,null,{"$f":"SUMPRODUCT($G86:$J86,TRANSPOSE(Dados_v2!N$4:N$7))","v":0},{"$f":"SUMPRODUCT($G86:$J86,TRANSPOSE(Dados_v2!O$4:O$7))","v":0},{"$f":"SUMPRODUCT($G86:$J86,TRANSPOSE(Dados_v2!P$4:P$7))","v":0}]
[null,null,null,null,null,null,null,null,null,null,null,null,null,null,null,null,null,null,null,null,null,null,null,null,null,null,null,null,null,null,null,null,null,null,null,null,null,null,null,null,null,{"$f":"SUMPRODUCT($G87:$J87,TRANSPOSE(Dados_v2!N$4:N$7))","v":0},{"$f":"SUMPRODUCT($G87:$J87,TRANSPOSE(Dados_v2!O$4:O$7))","v":0},{"$f":"SUMPRODUCT($G87:$J87,TRANSPOSE(Dados_v2!P$4:P$7))","v":0}]
[null,null,null,null,null,null,null,null,null,null,null,null,null,null,null,null,null,null,null,null,null,null,null,null,null,null,null,null,null,null,null,null,null,null,null,null,null,null,null,null,null,{"$f":"SUMPRODUCT($G88:$J88,TRANSPOSE(Dados_v2!N$4:N$7))","v":0},{"$f":"SUMPRODUCT($G88:$J88,TRANSPOSE(Dados_v2!O$4:O$7))","v":0},{"$f":"SUMPRODUCT($G88:$J88,TRANSPOSE(Dados_v2!P$4:P$7))","v":0}]
[null,null,null,null,null,null,null,null,null,null,null,null,null,null,null,null,null,null,null,null,null,null,null,null,null,null,null,null,null,null,null,null,null,null,null,null,null,null,null,null,null,{"$f":"SUMPRODUCT($G89:$J89,TRANSPOSE(Dados_v2!N$4:N$7))","v":0},{"$f":"SUMPRODUCT($G89:$J89,TRANSPOSE(Dados_v2!O$4:O$7))","v":0},{"$f":"SUMPRODUCT($G89:$J89,TRANSPOSE(Dados_v2!P$4:P$7))","v":0}]
[null,null,null,null,null,null,null,null,null,null,null,null,null,null,null,null,null,null,null,null,null,null,null,null,null,null,null,null,null,null,null,null,null,null,null,null,null,null,null,null,null,{"$f":"SUMPRODUCT($G90:$J90,TRANSPOSE(Dados_v2!N$4:N$7))","v":0},{"$f":"SUMPRODUCT($G90:$J90,TRANSPOSE(Dados_v2!O$4:O$7))","v":0},{"$f":"SUMPRODUCT($G90:$J90,TRANSPOSE(Dados_v2!P$4:P$7))","v":0}]
[null,null,null,null,null,null,null,null,null,null,null,null,null,null,null,null,null,null,null,null,null,null,null,null,null,null,null,null,null,null,null,null,null,null,null,null,null,null,null,null,null,{"$f":"SUMPRODUCT($G91:$J91,TRANSPOSE(Dados_v2!N$4:N$7))","v":0},{"$f":"SUMPRODUCT($G91:$J91,TRANSPOSE(Dados_v2!O$4:O$7))","v":0},{"$f":"SUMPRODUCT($G91:$J91,TRANSPOSE(Dados_v2!P$4:P$7))","v":0}]
[null,null,null,null,null,null,null,null,null,null,null,null,null,null,null,null,null,null,null,null,null,null,null,null,null,null,null,null,null,null,null,null,null,null,null,null,null,null,null,null,null,{"$f":"SUMPRODUCT($G92:$J92,TRANSPOSE(Dados_v2!N$4:N$7))","v":0},{"$f":"SUMPRODUCT($G92:$J92,TRANSPOSE(Dados_v2!O$4:O$7))","v":0},{"$f":"SUMPRODUCT($G92:$J92,TRANSPOSE(Dados_v2!P$4:P$7))","v":0}]
[null,null,null,null,null,null,null,null,null,null,null,null,null,null,null,null,null,null,null,null,null,null,null,null,null,null,null,null,null,null,null,null,null,null,null,null,null,null,null,null,null,{"$f":"SUMPRODUCT($G93:$J93,TRANSPOSE(Dados_v2!N$4:N$7))","v":0},{"$f":"SUMPRODUCT($G93:$J93,TRANSPOSE(Dados_v2!O$4:O$7))","v":0},{"$f":"SUMPRODUCT($G93:$J93,TRANSPOSE(Dados_v2!P$4:P$7))","v":0}]
[null,null,null,null,null,null,null,null,null,null,null,null,null,null,null,null,null,null,null,null,null,null,null,null,null,null,null,null,null,null,null,null,null,null,null,null,null,null,null,null,null,{"$f":"SUMPRODUCT($G94:$J94,TRANSPOSE(Dados_v2!N$4:N$7))","v":0},{"$f":"SUMPRODUCT($G94:$J94,TRANSPOSE(Dados_v2!O$4:O$7))","v":0},{"$f":"SUMPRODUCT($G94:$J94,TRANSPOSE(Dados_v2!P$4:P$7))","v":0}]
[null,null,null,null,null,null,null,null,null,null,null,null,null,null,null,null,null,null,null,null,null,null,null,null,null,null,null,null,null,null,null,null,null,null,null,null,null,null,null,null,null,{"$f":"SUMPRODUCT($G95:$J95,TRANSPOSE(Dados_v2!N$4:N$7))","v":0},{"$f":"SUMPRODUCT($G95:$J95,TRANSPOSE(Dados_v2!O$4:O$7))","v":0},{"$f":"SUMPRODUCT($G95:$J95,TRANSPOSE(Dados_v2!P$4:P$7))","v":0}]
[null,null,null,null,null,null,null,null,null,null,null,null,null,null,null,null,null,null,null,null,null,null,null,null,null,null,null,null,null,null,null,null,null,null,null,null,null,null,null,null,null,{"$f":"SUMPRODUCT($G96:$J96,TRANSPOSE(Dados_v2!N$4:N$7))","v":0},{"$f":"SUMPRODUCT($G96:$J96,TRANSPOSE(Dados_v2!O$4:O$7))","v":0},{"$f":"SUMPRODUCT($G96:$J96,TRANSPOSE(Dados_v2!P$4:P$7))","v":0}]
[null,null,null,null,null,null,null,null,null,null,null,null,null,null,null,null,null,null,null,null,null,null,null,null,null,null,null,null,null,null,null,null,null,null,null,null,null,null,null,null,null,{"$f":"SUMPRODUCT($G97:$J97,TRANSPOSE(Dados_v2!N$4:N$7))","v":0},{"$f":"SUMPRODUCT($G97:$J97,TRANSPOSE(Dados_v2!O$4:O$7))","v":0},{"$f":"SUMPRODUCT($G97:$J97,TRANSPOSE(Dados_v2!P$4:P$7))","v":0}]
[null,null,null,null,null,null,null,null,null,null,null,null,null,null,null,null,null,null,null,null,null,null,null,null,null,null,null,null,null,null,null,null,null,null,null,null,null,null,null,null,null,{"$f":"SUMPRODUCT($G98:$J98,TRANSPOSE(Dados_v2!N$4:N$7))","v":0},{"$f":"SUMPRODUCT($G98:$J98,TRANSPOSE(Dados_v2!O$4:O$7))","v":0},{"$f":"SUMPRODUCT($G98:$J98,TRANSPOSE(Dados_v2!P$4:P$7))","v":0}]
[null,null,null,null,null,null,null,null,null,null,null,null,null,null,null,null,null,null,null,null,null,null,null,null,null,null,null,null,null,null,null,null,null,null,null,null,null,null,null,null,null,{"$f":"SUMPRODUCT($G99:$J99,TRANSPOSE(Dados_v2!N$4:N$7))","v":0},{"$f":"SUMPRODUCT($G99:$J99,TRANSPOSE(Dados_v2!O$4:O$7))","v":0},{"$f":"SUMPRODUCT($G99:$J99,TRANSPOSE(Dados_v2!P$4:P$7))","v":0}]
[null,null,null,null,null,null,null,null,null,null,null,null,null,null,null,null,null,null,null,null,null,null,null,null,null,null,null,null,null,null,null,null,null,null,null,null,null,null,null,null,null,{"$f":"SUMPRODUCT($G100:$J100,TRANSPOSE(Dados_v2!N$4:N$7))","v":0},{"$f":"SUMPRODUCT($G100:$J100,TRANSPOSE(Dados_v2!O$4:O$7))","v":0},{"$f":"SUMPRODUCT($G100:$J100,TRANSPOSE(Dados_v2!P$4:P$7))","v":0}]
[null,null,null,null,null,null,null,null,null,null,null,null,null,null,null,null,null,null,null,null,null,null,null,null,null,null,null,null,null,null,null,null,null,null,null,null,null,null,null,null,null,{"$f":"SUMPRODUCT($G101:$J101,TRANSPOSE(Dados_v2!N$4:N$7))","v":0},{"$f":"SUMPRODUCT($G101:$J101,TRANSPOSE(Dados_v2!O$4:O$7))","v":0},{"$f":"SUMPRODUCT($G101:$J101,TRANSPOSE(Dados_v2!P$4:P$7))","v":0}]
[null,null,null,null,null,null,null,null,null,null,null,null,null,null,null,null,null,null,null,null,null,null,null,null,null,null,null,null,null,null,null,null,null,null,null,null,null,null,null,null,null,{"$f":"SUMPRODUCT($G102:$J102,TRANSPOSE(Dados_v2!N$4:N$7))","v":0},{"$f":"SUMPRODUCT($G102:$J102,TRANSPOSE(Dados_v2!O$4:O$7))","v":0},{"$f":"SUMPRODUCT($G102:$J102,TRANSPOSE(Dados_v2!P$4:P$7))","v":0}]
[null,null,null,null,null,null,null,null,null,null,null,null,null,null,null,null,null,null,null,null,null,null,null,null,null,null,null,null,null,null,null,null,null,null,null,null,null,null,null,null,null,{"$f":"SUMPRODUCT($G103:$J103,TRANSPOSE(Dados_v2!N$4:N$7))","v":0},{"$f":"SUMPRODUCT($G103:$J103,TRANSPOSE(Dados_v2!O$4:O$7))","v":0},{"$f":"SUMPRODUCT($G103:$J103,TRANSPOSE(Dados_v2!P$4:P$7))","v":0}]
[null,null,null,null,null,null,null,null,null,null,null,null,null,null,null,null,null,null,null,null,null,null,null,null,null,null,null,null,null,null,null,null,null,null,null,null,null,null,null,null,null,{"$f":"SUMPRODUCT($G104:$J104,TRANSPOSE(Dados_v2!N$4:N$7))","v":0},{"$f":"SUMPRODUCT($G104:$J104,TRANSPOSE(Dados_v2!O$4:O$7))","v":0},{"$f":"SUMPRODUCT($G104:$J104,TRANSPOSE(Dados_v2!P$4:P$7))","v":0}]
[null,null,null,null,null,null,null,null,null,null,null,null,null,null,null,null,null,null,null,null,null,null,null,null,null,null,null,null,null,null,null,null,null,null,null,null,null,null,null,null,null,{"$f":"SUMPRODUCT($G105:$J105,TRANSPOSE(Dados_v2!N$4:N$7))","v":0},{"$f":"SUMPRODUCT($G105:$J105,TRANSPOSE(Dados_v2!O$4:O$7))","v":0},{"$f":"SUMPRODUCT($G105:$J105,TRANSPOSE(Dados_v2!P$4:P$7))","v":0}]
[null,null,null,null,null,null,null,null,null,null,null,null,null,null,null,null,null,null,null,null,null,null,null,null,null,null,null,null,null,null,null,null,null,null,null,null,null,null,null,null,null,{"$f":"SUMPRODUCT($G106:$J106,TRANSPOSE(Dados_v2!N$4:N$7))","v":0},{"$f":"SUMPRODUCT($G106:$J106,TRANSPOSE(Dados_v2!O$4:O$7))","v":0},{"$f":"SUMPRODUCT($G106:$J106,TRANSPOSE(Dados_v2!P$4:P$7))","v":0}]
[null,null,null,null,null,null,null,null,null,null,null,null,null,null,null,null,null,null,null,null,null,null,null,null,null,null,null,null,null,null,null,null,null,null,null,null,null,null,null,null,null,{"$f":"SUMPRODUCT($G107:$J107,TRANSPOSE(Dados_v2!N$4:N$7))","v":0},{"$f":"SUMPRODUCT($G107:$J107,TRANSPOSE(Dados_v2!O$4:O$7))","v":0},{"$f":"SUMPRODUCT($G107:$J107,TRANSPOSE(Dados_v2!P$4:P$7))","v":0}]
[null,null,null,null,null,null,null,null,null,null,null,null,null,null,null,null,null,null,null,null,null,null,null,null,null,null,null,null,null,null,null,null,null,null,null,null,null,null,null,null,null,{"$f":"SUMPRODUCT($G108:$J108,TRANSPOSE(Dados_v2!N$4:N$7))","v":0},{"$f":"SUMPRODUCT($G108:$J108,TRANSPOSE(Dados_v2!O$4:O$7))","v":0},{"$f":"SUMPRODUCT($G108:$J108,TRANSPOSE(Dados_v2!P$4:P$7))","v":0}]
[null,null,null,null,null,null,null,null,null,null,null,null,null,null,null,null,null,null,null,null,null,null,null,null,null,null,null,null,null,null,null,null,null,null,null,null,null,null,null,null,null,{"$f":"SUMPRODUCT($G109:$J109,TRANSPOSE(Dados_v2!N$4:N$7))","v":0},{"$f":"SUMPRODUCT($G109:$J109,TRANSPOSE(Dados_v2!O$4:O$7))","v":0},{"$f":"SUMPRODUCT($G109:$J109,TRANSPOSE(Dados_v2!P$4:P$7))","v":0}]
[null,null,null,null,null,null,null,null,null,null,null,null,null,null,null,null,null,null,null,null,null,null,null,null,null,null,null,null,null,null,null,null,null,null,null,null,null,null,null,null,null,{"$f":"SUMPRODUCT($G110:$J110,TRANSPOSE(Dados_v2!N$4:N$7))","v":0},{"$f":"SUMPRODUCT($G110:$J110,TRANSPOSE(Dados_v2!O$4:O$7))","v":0},{"$f":"SUMPRODUCT($G110:$J110,TRANSPOSE(Dados_v2!P$4:P$7))","v":0}]
[null,null,null,null,null,null,null,null,null,null,null,null,null,null,null,null,null,null,null,null,null,null,null,null,null,null,null,null,null,null,null,null,null,null,null,null,null,null,null,null,null,{"$f":"SUMPRODUCT($G111:$J111,TRANSPOSE(Dados_v2!N$4:N$7))","v":0},{"$f":"SUMPRODUCT($G111:$J111,TRANSPOSE(Dados_v2!O$4:O$7))","v":0},{"$f":"SUMPRODUCT($G111:$J111,TRANSPOSE(Dados_v2!P$4:P$7))","v":0}]
[null,null,null,null,null,null,null,null,null,null,null,null,null,null,null,null,null,null,null,null,null,null,null,null,null,null,null,null,null,null,null,null,null,null,null,null,null,null,null,null,null,{"$f":"SUMPRODUCT($G112:$J112,TRANSPOSE(Dados_v2!N$4:N$7))","v":0},{"$f":"SUMPRODUCT($G112:$J112,TRANSPOSE(Dados_v2!O$4:O$7))","v":0},{"$f":"SUMPRODUCT($G112:$J112,TRANSPOSE(Dados_v2!P$4:P$7))","v":0}]
[null,null,null,null,null,null,null,null,null,null,null,null,null,null,null,null,null,null,null,null,null,null,null,null,null,null,null,null,null,null,null,null,null,null,null,null,null,null,null,null,null,{"$f":"SUMPRODUCT($G113:$J113,TRANSPOSE(Dados_v2!N$4:N$7))","v":0},{"$f":"SUMPRODUCT($G113:$J113,TRANSPOSE(Dados_v2!O$4:O$7))","v":0},{"$f":"SUMPRODUCT($G113:$J113,TRANSPOSE(Dados_v2!P$4:P$7))","v":0}]
[null,null,null,null,null,null,null,null,null,null,null,null,null,null,null,null,null,null,null,null,null,null,null,null,null,null,null,null,null,null,null,null,null,null,null,null,null,null,null,null,null,{"$f":"SUMPRODUCT($G114:$J114,TRANSPOSE(Dados_v2!N$4:N$7))","v":0},{"$f":"SUMPRODUCT($G114:$J114,TRANSPOSE(Dados_v2!O$4:O$7))","v":0},{"$f":"SUMPRODUCT($G114:$J114,TRANSPOSE(Dados_v2!P$4:P$7))","v":0}]
[null,null,null,null,null,null,null,null,null,null,null,null,null,null,null,null,null,null,null,null,null,null,null,null,null,null,null,null,null,null,null,null,null,null,null,null,null,null,null,null,null,{"$f":"SUMPRODUCT($G115:$J115,TRANSPOSE(Dados_v2!N$4:N$7))","v":0},{"$f":"SUMPRODUCT($G115:$J115,TRANSPOSE(Dados_v2!O$4:O$7))","v":0},{"$f":"SUMPRODUCT($G115:$J115,TRANSPOSE(Dados_v2!P$4:P$7))","v":0}]
[null,null,null,null,null,null,null,null,null,null,null,null,null,null,null,null,null,null,null,null,null,null,null,null,null,null,null,null,null,null,null,null,null,null,null,null,null,null,null,null,null,{"$f":"SUMPRODUCT($G116:$J116,TRANSPOSE(Dados_v2!N$4:N$7))","v":0},{"$f":"SUMPRODUCT($G116:$J116,TRANSPOSE(Dados_v2!O$4:O$7))","v":0},{"$f":"SUMPRODUCT($G116:$J116,TRANSPOSE(Dados_v2!P$4:P$7))","v":0}]
[null,null,null,null,null,null,null,null,null,null,null,null,null,null,null,null,null,null,null,null,null,null,null,null,null,null,null,null,null,null,null,null,null,null,null,null,null,null,null,null,null,{"$f":"SUMPRODUCT($G117:$J117,TRANSPOSE(Dados_v2!N$4:N$7))","v":0},{"$f":"SUMPRODUCT($G117:$J117,TRANSPOSE(Dados_v2!O$4:O$7))","v":0},{"$f":"SUMPRODUCT($G117:$J117,TRANSPOSE(Dados_v2!P$4:P$7))","v":0}]
[null,null,null,null,null,null,null,null,null,null,null,null,null,null,null,null,null,null,null,null,null,null,null,null,null,null,null,null,null,null,null,null,null,null,null,null,null,null,null,null,null,{"$f":"SUMPRODUCT($G118:$J118,TRANSPOSE(Dados_v2!N$4:N$7))","v":0},{"$f":"SUMPRODUCT($G118:$J118,TRANSPOSE(Dados_v2!O$4:O$7))","v":0},{"$f":"SUMPRODUCT($G118:$J118,TRANSPOSE(Dados_v2!P$4:P$7))","v":0}]
[null,null,null,null,null,null,null,null,null,null,null,null,null,null,null,null,null,null,null,null,null,null,null,null,null,null,null,null,null,null,null,null,null,null,null,null,null,null,null,null,null,{"$f":"SUMPRODUCT($G119:$J119,TRANSPOSE(Dados_v2!N$4:N$7))","v":0},{"$f":"SUMPRODUCT($G119:$J119,TRANSPOSE(Dados_v2!O$4:O$7))","v":0},{"$f":"SUMPRODUCT($G119:$J119,TRANSPOSE(Dados_v2!P$4:P$7))","v":0}]
[null,null,null,null,null,null,null,null,null,null,null,null,null,null,null,null,null,null,null,null,null,null,null,null,null,null,null,null,null,null,null,null,null,null,null,null,null,null,null,null,null,{"$f":"SUMPRODUCT($G120:$J120,TRANSPOSE(Dados_v2!N$4:N$7))","v":0},{"$f":"SUMPRODUCT($G120:$J120,TRANSPOSE(Dados_v2!O$4:O$7))","v":0},{"$f":"SUMPRODUCT($G120:$J120,TRANSPOSE(Dados_v2!P$4:P$7))","v":0}]
[null,null,null,null,null,null,null,null,null,null,null,null,null,null,null,null,null,null,null,null,null,null,null,null,null,null,null,null,null,null,null,null,null,null,null,null,null,null,null,null,null,{"$f":"SUMPRODUCT($G121:$J121,TRANSPOSE(Dados_v2!N$4:N$7))","v":0},{"$f":"SUMPRODUCT($G121:$J121,TRANSPOSE(Dados_v2!O$4:O$7))","v":0},{"$f":"SUMPRODUCT($G121:$J121,TRANSPOSE(Dados_v2!P$4:P$7))","v":0}]
[null,null,null,null,null,null,null,null,null,null,null,null,null,null,null,null,null,null,null,null,null,null,null,null,null,null,null,null,null,null,null,null,null,null,null,null,null,null,null,null,null,{"$f":"SUMPRODUCT($G122:$J122,TRANSPOSE(Dados_v2!N$4:N$7))","v":0},{"$f":"SUMPRODUCT($G122:$J122,TRANSPOSE(Dados_v2!O$4:O$7))","v":0},{"$f":"SUMPRODUCT($G122:$J122,TRANSPOSE(Dados_v2!P$4:P$7))","v":0}]
[null,null,null,null,null,null,null,null,null,null,null,null,null,null,null,null,null,null,null,null,null,null,null,null,null,null,null,null,null,null,null,null,null,null,null,null,null,null,null,null,null,{"$f":"SUMPRODUCT($G123:$J123,TRANSPOSE(Dados_v2!N$4:N$7))","v":0},{"$f":"SUMPRODUCT($G123:$J123,TRANSPOSE(Dados_v2!O$4:O$7))","v":0},{"$f":"SUMPRODUCT($G123:$J123,TRANSPOSE(Dados_v2!P$4:P$7))","v":0}]
[null,null,null,null,null,null,null,null,null,null,null,null,null,null,null,null,null,null,null,null,null,null,null,null,null,null,null,null,null,null,null,null,null,null,null,null,null,null,null,null,null,{"$f":"SUMPRODUCT($G124:$J124,TRANSPOSE(Dados_v2!N$4:N$7))","v":0},{"$f":"SUMPRODUCT($G124:$J124,TRANSPOSE(Dados_v2!O$4:O$7))","v":0},{"$f":"SUMPRODUCT($G124:$J124,TRANSPOSE(Dados_v2!P$4:P$7))","v":0}]
[null,null,null,null,null,null,null,null,null,null,null,null,null,null,null,null,null,null,null,null,null,null,null,null,null,null,null,null,null,null,null,null,null,null,null,null,null,null,null,null,null,{"$f":"SUMPRODUCT($G125:$J125,TRANSPOSE(Dados_v2!N$4:N$7))","v":0},{"$f":"SUMPRODUCT($G125:$J125,TRANSPOSE(Dados_v2!O$4:O$7))","v":0},{"$f":"SUMPRODUCT($G125:$J125,TRANSPOSE(Dados_v2!P$4:P$7))","v":0}]
[null,null,null,null,null,null,null,null,null,null,null,null,null,null,null,null,null,null,null,null,null,null,null,null,null,null,null,null,null,null,null,null,null,null,null,null,null,null,null,null,null,{"$f":"SUMPRODUCT($G126:$J126,TRANSPOSE(Dados_v2!N$4:N$7))","v":0},{"$f":"SUMPRODUCT($G126:$J126,TRANSPOSE(Dados_v2!O$4:O$7))","v":0},{"$f":"SUMPRODUCT($G126:$J126,TRANSPOSE(Dados_v2!P$4:P$7))","v":0}]
[null,null,null,null,null,null,null,null,null,null,null,null,null,null,null,null,null,null,null,null,null,null,null,null,null,null,null,null,null,null,null,null,null,null,null,null,null,null,null,null,null,{"$f":"SUMPRODUCT($G127:$J127,TRANSPOSE(Dados_v2!N$4:N$7))","v":0},{"$f":"SUMPRODUCT($G127:$J127,TRANSPOSE(Dados_v2!O$4:O$7))","v":0},{"$f":"SUMPRODUCT($G127:$J127,TRANSPOSE(Dados_v2!P$4:P$7))","v":0}]
[null,null,null,null,null,null,null,null,null,null,null,null,null,null,null,null,null,null,null,null,null,null,null,null,null,null,null,null,null,null,null,null,null,null,null,null,null,null,null,null,null,{"$f":"SUMPRODUCT($G128:$J128,TRANSPOSE(Dados_v2!N$4:N$7))","v":0},{"$f":"SUMPRODUCT($G128:$J128,TRANSPOSE(Dados_v2!O$4:O$7))","v":0},{"$f":"SUMPRODUCT($G128:$J128,TRANSPOSE(Dados_v2!P$4:P$7))","v":0}]
[null,null,null,null,null,null,null,null,null,null,null,null,null,null,null,null,null,null,null,null,null,null,null,null,null,null,null,null,null,null,null,null,null,null,null,null,null,null,null,null,null,{"$f":"SUMPRODUCT($G129:$J129,TRANSPOSE(Dados_v2!N$4:N$7))","v":0},{"$f":"SUMPRODUCT($G129:$J129,TRANSPOSE(Dados_v2!O$4:O$7))","v":0},{"$f":"SUMPRODUCT($G129:$J129,TRANSPOSE(Dados_v2!P$4:P$7))","v":0}]
[null,null,null,null,null,null,null,null,null,null,null,null,null,null,null,null,null,null,null,null,null,null,null,null,null,null,null,null,null,null,null,null,null,null,null,null,null,null,null,null,null,{"$f":"SUMPRODUCT($G130:$J130,TRANSPOSE(Dados_v2!N$4:N$7))","v":0},{"$f":"SUMPRODUCT($G130:$J130,TRANSPOSE(Dados_v2!O$4:O$7))","v":0},{"$f":"SUMPRODUCT($G130:$J130,TRANSPOSE(Dados_v2!P$4:P$7))","v":0}]
[null,null,null,null,null,null,null,null,null,null,null,null,null,null,null,null,null,null,null,null,null,null,null,null,null,null,null,null,null,null,null,null,null,null,null,null,null,null,null,null,null,{"$f":"SUMPRODUCT($G131:$J131,TRANSPOSE(Dados_v2!N$4:N$7))","v":0},{"$f":"SUMPRODUCT($G131:$J131,TRANSPOSE(Dados_v2!O$4:O$7))","v":0},{"$f":"SUMPRODUCT($G131:$J131,TRANSPOSE(Dados_v2!P$4:P$7))","v":0}]
[null,null,null,null,null,null,null,null,null,null,null,null,null,null,null,null,null,null,null,null,null,null,null,null,null,null,null,null,null,null,null,null,null,null,null,null,null,null,null,null,null,{"$f":"SUMPRODUCT($G132:$J132,TRANSPOSE(Dados_v2!N$4:N$7))","v":0},{"$f":"SUMPRODUCT($G132:$J132,TRANSPOSE(Dados_v2!O$4:O$7))","v":0},{"$f":"SUMPRODUCT($G132:$J132,TRANSPOSE(Dados_v2!P$4:P$7))","v":0}]
[null,null,null,null,null,null,null,null,null,null,null,null,null,null,null,null,null,null,null,null,null,null,null,null,null,null,null,null,null,null,null,null,null,null,null,null,null,null,null,null,null,{"$f":"SUMPRODUCT($G133:$J133,TRANSPOSE(Dados_v2!N$4:N$7))","v":0},{"$f":"SUMPRODUCT($G133:$J133,TRANSPOSE(Dados_v2!O$4:O$7))","v":0},{"$f":"SUMPRODUCT($G133:$J133,TRANSPOSE(Dados_v2!P$4:P$7))","v":0}]
[null,null,null,null,null,null,null,null,null,null,null,null,null,null,null,null,null,null,null,null,null,null,null,null,null,null,null,null,null,null,null,null,null,null,null,null,null,null,null,null,null,{"$f":"SUMPRODUCT($G134:$J134,TRANSPOSE(Dados_v2!N$4:N$7))","v":0},{"$f":"SUMPRODUCT($G134:$J134,TRANSPOSE(Dados_v2!O$4:O$7))","v":0},{"$f":"SUMPRODUCT($G134:$J134,TRANSPOSE(Dados_v2!P$4:P$7))","v":0}]
[null,null,null,null,null,null,null,null,null,null,null,null,null,null,null,null,null,null,null,null,null,null,null,null,null,null,null,null,null,null,null,null,null,null,null,null,null,null,null,null,null,{"$f":"SUMPRODUCT($G135:$J135,TRANSPOSE(Dados_v2!N$4:N$7))","v":0},{"$f":"SUMPRODUCT($G135:$J135,TRANSPOSE(Dados_v2!O$4:O$7))","v":0},{"$f":"SUMPRODUCT($G135:$J135,TRANSPOSE(Dados_v2!P$4:P$7))","v":0}]
[null,null,null,null,null,null,null,null,null,null,null,null,null,null,null,null,null,null,null,null,null,null,null,null,null,null,null,null,null,null,null,null,null,null,null,null,null,null,null,null,null,{"$f":"SUMPRODUCT($G136:$J136,TRANSPOSE(Dados_v2!N$4:N$7))","v":0},{"$f":"SUMPRODUCT($G136:$J136,TRANSPOSE(Dados_v2!O$4:O$7))","v":0},{"$f":"SUMPRODUCT($G136:$J136,TRANSPOSE(Dados_v2!P$4:P$7))","v":0}]
[null,null,null,null,null,null,null,null,null,null,null,null,null,null,null,null,null,null,null,null,null,null,null,null,null,null,null,null,null,null,null,null,null,null,null,null,null,null,null,null,null,{"$f":"SUMPRODUCT($G137:$J137,TRANSPOSE(Dados_v2!N$4:N$7))","v":0},{"$f":"SUMPRODUCT($G137:$J137,TRANSPOSE(Dados_v2!O$4:O$7))","v":0},{"$f":"SUMPRODUCT($G137:$J137,TRANSPOSE(Dados_v2!P$4:P$7))","v":0}]
[null,null,null,null,null,null,null,null,null,null,null,null,null,null,null,null,null,null,null,null,null,null,null,null,null,null,null,null,null,null,null,null,null,null,null,null,null,null,null,null,null,{"$f":"SUMPRODUCT($G138:$J138,TRANSPOSE(Dados_v2!N$4:N$7))","v":0},{"$f":"SUMPRODUCT($G138:$J138,TRANSPOSE(Dados_v2!O$4:O$7))","v":0},{"$f":"SUMPRODUCT($G138:$J138,TRANSPOSE(Dados_v2!P$4:P$7))","v":0}]
[null,null,null,null,null,null,null,null,null,null,null,null,null,null,null,null,null,null,null,null,null,null,null,null,null,null,null,null,null,null,null,null,null,null,null,null,null,null,null,null,null,{"$f":"SUMPRODUCT($G139:$J139,TRANSPOSE(Dados_v2!N$4:N$7))","v":0},{"$f":"SUMPRODUCT($G139:$J139,TRANSPOSE(Dados_v2!O$4:O$7))","v":0},{"$f":"SUMPRODUCT($G139:$J139,TRANSPOSE(Dados_v2!P$4:P$7))","v":0}]
[null,null,null,null,null,null,null,null,null,null,null,null,null,null,null,null,null,null,null,null,null,null,null,null,null,null,null,null,null,null,null,null,null,null,null,null,null,null,null,null,null,{"$f":"SUMPRODUCT($G140:$J140,TRANSPOSE(Dados_v2!N$4:N$7))","v":0},{"$f":"SUMPRODUCT($G140:$J140,TRANSPOSE(Dados_v2!O$4:O$7))","v":0},{"$f":"SUMPRODUCT($G140:$J140,TRANSPOSE(Dados_v2!P$4:P$7))","v":0}]
[null,null,null,null,null,null,null,null,null,null,null,null,null,null,null,null,null,null,null,null,null,null,null,null,null,null,null,null,null,null,null,null,null,null,null,null,null,null,null,null,null,{"$f":"SUMPRODUCT($G141:$J141,TRANSPOSE(Dados_v2!N$4:N$7))","v":0},{"$f":"SUMPRODUCT($G141:$J141,TRANSPOSE(Dados_v2!O$4:O$7))","v":0},{"$f":"SUMPRODUCT($G141:$J141,TRANSPOSE(Dados_v2!P$4:P$7))","v":0}]
[null,null,null,null,null,null,null,null,null,null,null,null,null,null,null,null,null,null,null,null,null,null,null,null,null,null,null,null,null,null,null,null,null,null,null,null,null,null,null,null,null,{"$f":"SUMPRODUCT($G142:$J142,TRANSPOSE(Dados_v2!N$4:N$7))","v":0},{"$f":"SUMPRODUCT($G142:$J142,TRANSPOSE(Dados_v2!O$4:O$7))","v":0},{"$f":"SUMPRODUCT($G142:$J142,TRANSPOSE(Dados_v2!P$4:P$7))","v":0}]
[null,null,null,null,null,null,null,null,null,null,null,null,null,null,null,null,null,null,null,null,null,null,null,null,null,null,null,null,null,null,null,null,null,null,null,null,null,null,null,null,null,{"$f":"SUMPRODUCT($G143:$J143,TRANSPOSE(Dados_v2!N$4:N$7))","v":0},{"$f":"SUMPRODUCT($G143:$J143,TRANSPOSE(Dados_v2!O$4:O$7))","v":0},{"$f":"SUMPRODUCT($G143:$J143,TRANSPOSE(Dados_v2!P$4:P$7))","v":0}]
[null,null,null,null,null,null,null,null,null,null,null,null,null,null,null,null,null,null,null,null,null,null,null,null,null,null,null,null,null,null,null,null,null,null,null,null,null,null,null,null,null,{"$f":"SUMPRODUCT($G144:$J144,TRANSPOSE(Dados_v2!N$4:N$7))","v":0},{"$f":"SUMPRODUCT($G144:$J144,TRANSPOSE(Dados_v2!O$4:O$7))","v":0},{"$f":"SUMPRODUCT($G144:$J144,TRANSPOSE(Dados_v2!P$4:P$7))","v":0}]
[null,null,null,null,null,null,null,null,null,null,null,null,null,null,null,null,null,null,null,null,null,null,null,null,null,null,null,null,null,null,null,null,null,null,null,null,null,null,null,null,null,{"$f":"SUMPRODUCT($G145:$J145,TRANSPOSE(Dados_v2!N$4:N$7))","v":0},{"$f":"SUMPRODUCT($G145:$J145,TRANSPOSE(Dados_v2!O$4:O$7))","v":0},{"$f":"SUMPRODUCT($G145:$J145,TRANSPOSE(Dados_v2!P$4:P$7))","v":0}]
[null,null,null,null,null,null,null,null,null,null,null,null,null,null,null,null,null,null,null,null,null,null,null,null,null,null,null,null,null,null,null,null,null,null,null,null,null,null,null,null,null,{"$f":"SUMPRODUCT($G146:$J146,TRANSPOSE(Dados_v2!N$4:N$7))","v":0},{"$f":"SUMPRODUCT($G146:$J146,TRANSPOSE(Dados_v2!O$4:O$7))","v":0},{"$f":"SUMPRODUCT($G146:$J146,TRANSPOSE(Dados_v2!P$4:P$7))","v":0}]
[null,null,null,null,null,null,null,null,null,null,null,null,null,null,null,null,null,null,null,null,null,null,null,null,null,null,null,null,null,null,null,null,null,null,null,null,null,null,null,null,null,{"$f":"SUMPRODUCT($G147:$J147,TRANSPOSE(Dados_v2!N$4:N$7))","v":0},{"$f":"SUMPRODUCT($G147:$J147,TRANSPOSE(Dados_v2!O$4:O$7))","v":0},{"$f":"SUMPRODUCT($G147:$J147,TRANSPOSE(Dados_v2!P$4:P$7))","v":0}]
[null,null,null,null,null,null,null,null,null,null,null,null,null,null,null,null,null,null,null,null,null,null,null,null,null,null,null,null,null,null,null,null,null,null,null,null,null,null,null,null,null,{"$f":"SUMPRODUCT($G148:$J148,TRANSPOSE(Dados_v2!N$4:N$7))","v":0},{"$f":"SUMPRODUCT($G148:$J148,TRANSPOSE(Dados_v2!O$4:O$7))","v":0},{"$f":"SUMPRODUCT($G148:$J148,TRANSPOSE(Dados_v2!P$4:P$7))","v":0}]
[null,null,null,null,null,null,null,null,null,null,null,null,null,null,null,null,null,null,null,null,null,null,null,null,null,null,null,null,null,null,null,null,null,null,null,null,null,null,null,null,null,{"$f":"SUMPRODUCT($G149:$J149,TRANSPOSE(Dados_v2!N$4:N$7))","v":0},{"$f":"SUMPRODUCT($G149:$J149,TRANSPOSE(Dados_v2!O$4:O$7))","v":0},{"$f":"SUMPRODUCT($G149:$J149,TRANSPOSE(Dados_v2!P$4:P$7))","v":0}]
[null,null,null,null,null,null,null,null,null,null,null,null,null,null,null,null,null,null,null,null,null,null,null,null,null,null,null,null,null,null,null,null,null,null,null,null,null,null,null,null,null,{"$f":"SUMPRODUCT($G150:$J150,TRANSPOSE(Dados_v2!N$4:N$7))","v":0},{"$f":"SUMPRODUCT($G150:$J150,TRANSPOSE(Dados_v2!O$4:O$7))","v":0},{"$f":"SUMPRODUCT($G150:$J150,TRANSPOSE(Dados_v2!P$4:P$7))","v":0}]
[null,null,null,null,null,null,null,null,null,null,null,null,null,null,null,null,null,null,null,null,null,null,null,null,null,null,null,null,null,null,null,null,null,null,null,null,null,null,null,null,null,{"$f":"SUMPRODUCT($G151:$J151,TRANSPOSE(Dados_v2!N$4:N$7))","v":0},{"$f":"SUMPRODUCT($G151:$J151,TRANSPOSE(Dados_v2!O$4:O$7))","v":0},{"$f":"SUMPRODUCT($G151:$J151,TRANSPOSE(Dados_v2!P$4:P$7))","v":0}]
[null,null,null,null,null,null,null,null,null,null,null,null,null,null,null,null,null,null,null,null,null,null,null,null,null,null,null,null,null,null,null,null,null,null,null,null,null,null,null,null,null,{"$f":"SUMPRODUCT($G152:$J152,TRANSPOSE(Dados_v2!N$4:N$7))","v":0},{"$f":"SUMPRODUCT($G152:$J152,TRANSPOSE(Dados_v2!O$4:O$7))","v":0},{"$f":"SUMPRODUCT($G152:$J152,TRANSPOSE(Dados_v2!P$4:P$7))","v":0}]
[null,null,null,null,null,null,null,null,null,null,null,null,null,null,null,null,null,null,null,null,null,null,null,null,null,null,null,null,null,null,null,null,null,null,null,null,null,null,null,null,null,{"$f":"SUMPRODUCT($G153:$J153,TRANSPOSE(Dados_v2!N$4:N$7))","v":0},{"$f":"SUMPRODUCT($G153:$J153,TRANSPOSE(Dados_v2!O$4:O$7))","v":0},{"$f":"SUMPRODUCT($G153:$J153,TRANSPOSE(Dados_v2!P$4:P$7))","v":0}]
[null,null,null,null,null,null,null,null,null,null,null,null,null,null,null,null,null,null,null,null,null,null,null,null,null,null,null,null,null,null,null,null,null,null,null,null,null,null,null,null,null,{"$f":"SUMPRODUCT($G154:$J154,TRANSPOSE(Dados_v2!N$4:N$7))","v":0},{"$f":"SUMPRODUCT($G154:$J154,TRANSPOSE(Dados_v2!O$4:O$7))","v":0},{"$f":"SUMPRODUCT($G154:$J154,TRANSPOSE(Dados_v2!P$4:P$7))","v":0}]
[null,null,null,null,null,null,null,null,null,null,null,null,null,null,null,null,null,null,null,null,null,null,null,null,null,null,null,null,null,null,null,null,null,null,null,null,null,null,null,null,null,{"$f":"SUMPRODUCT($G155:$J155,TRANSPOSE(Dados_v2!N$4:N$7))","v":0},{"$f":"SUMPRODUCT($G155:$J155,TRANSPOSE(Dados_v2!O$4:O$7))","v":0},{"$f":"SUMPRODUCT($G155:$J155,TRANSPOSE(Dados_v2!P$4:P$7))","v":0}]
[null,null,null,null,null,null,null,null,null,null,null,null,null,null,null,null,null,null,null,null,null,null,null,null,null,null,null,null,null,null,null,null,null,null,null,null,null,null,null,null,null,{"$f":"SUMPRODUCT($G156:$J156,TRANSPOSE(Dados_v2!N$4:N$7))","v":0},{"$f":"SUMPRODUCT($G156:$J156,TRANSPOSE(Dados_v2!O$4:O$7))","v":0},{"$f":"SUMPRODUCT($G156:$J156,TRANSPOSE(Dados_v2!P$4:P$7))","v":0}]
[null,null,null,null,null,null,null,null,null,null,null,null,null,null,null,null,null,null,null,null,null,null,null,null,null,null,null,null,null,null,null,null,null,null,null,null,null,null,null,null,null,{"$f":"SUMPRODUCT($G157:$J157,TRANSPOSE(Dados_v2!N$4:N$7))","v":0},{"$f":"SUMPRODUCT($G157:$J157,TRANSPOSE(Dados_v2!O$4:O$7))","v":0},{"$f":"SUMPRODUCT($G157:$J157,TRANSPOSE(Dados_v2!P$4:P$7))","v":0}]
[null,null,null,null,null,null,null,null,null,null,null,null,null,null,null,null,null,null,null,null,null,null,null,null,null,null,null,null,null,null,null,null,null,null,null,null,null,null,null,null,null,{"$f":"SUMPRODUCT($G158:$J158,TRANSPOSE(Dados_v2!N$4:N$7))","v":0},{"$f":"SUMPRODUCT($G158:$J158,TRANSPOSE(Dados_v2!O$4:O$7))","v":0},{"$f":"SUMPRODUCT($G158:$J158,TRANSPOSE(Dados_v2!P$4:P$7))","v":0}]
[null,null,null,null,null,null,null,null,null,null,null,null,null,null,null,null,null,null,null,null,null,null,null,null,null,null,null,null,null,null,null,null,null,null,null,null,null,null,null,null,null,{"$f":"SUMPRODUCT($G159:$J159,TRANSPOSE(Dados_v2!N$4:N$7))","v":0},{"$f":"SUMPRODUCT($G159:$J159,TRANSPOSE(Dados_v2!O$4:O$7))","v":0},{"$f":"SUMPRODUCT($G159:$J159,TRANSPOSE(Dados_v2!P$4:P$7))","v":0}]
[null,null,null,null,null,null,null,null,null,null,null,null,null,null,null,null,null,null,null,null,null,null,null,null,null,null,null,null,null,null,null,null,null,null,null,null,null,null,null,null,null,{"$f":"SUMPRODUCT($G160:$J160,TRANSPOSE(Dados_v2!N$4:N$7))","v":0},{"$f":"SUMPRODUCT($G160:$J160,TRANSPOSE(Dados_v2!O$4:O$7))","v":0},{"$f":"SUMPRODUCT($G160:$J160,TRANSPOSE(Dados_v2!P$4:P$7))","v":0}]
[null,null,null,null,null,null,null,null,null,null,null,null,null,null,null,null,null,null,null,null,null,null,null,null,null,null,null,null,null,null,null,null,null,null,null,null,null,null,null,null,null,{"$f":"SUMPRODUCT($G161:$J161,TRANSPOSE(Dados_v2!N$4:N$7))","v":0},{"$f":"SUMPRODUCT($G161:$J161,TRANSPOSE(Dados_v2!O$4:O$7))","v":0},{"$f":"SUMPRODUCT($G161:$J161,TRANSPOSE(Dados_v2!P$4:P$7))","v":0}]
[null,null,null,null,null,null,null,null,null,null,null,null,null,null,null,null,null,null,null,null,null,null,null,null,null,null,null,null,null,null,null,null,null,null,null,null,null,null,null,null,null,{"$f":"SUMPRODUCT($G162:$J162,TRANSPOSE(Dados_v2!N$4:N$7))","v":0},{"$f":"SUMPRODUCT($G162:$J162,TRANSPOSE(Dados_v2!O$4:O$7))","v":0},{"$f":"SUMPRODUCT($G162:$J162,TRANSPOSE(Dados_v2!P$4:P$7))","v":0}]
[null,null,null,null,null,null,null,null,null,null,null,null,null,null,null,null,null,null,null,null,null,null,null,null,null,null,null,null,null,null,null,null,null,null,null,null,null,null,null,null,null,{"$f":"SUMPRODUCT($G163:$J163,TRANSPOSE(Dados_v2!N$4:N$7))","v":0},{"$f":"SUMPRODUCT($G163:$J163,TRANSPOSE(Dados_v2!O$4:O$7))","v":0},{"$f":"SUMPRODUCT($G163:$J163,TRANSPOSE(Dados_v2!P$4:P$7))","v":0}]
[null,null,null,null,null,null,null,null,null,null,null,null,null,null,null,null,null,null,null,null,null,null,null,null,null,null,null,null,null,null,null,null,null,null,null,null,null,null,null,null,null,{"$f":"SUMPRODUCT($G164:$J164,TRANSPOSE(Dados_v2!N$4:N$7))","v":0},{"$f":"SUMPRODUCT($G164:$J164,TRANSPOSE(Dados_v2!O$4:O$7))","v":0},{"$f":"SUMPRODUCT($G164:$J164,TRANSPOSE(Dados_v2!P$4:P$7))","v":0}]
[null,null,null,null,null,null,null,null,null,null,null,null,null,null,null,null,null,null,null,null,null,null,null,null,null,null,null,null,null,null,null,null,null,null,null,null,null,null,null,null,null,{"$f":"SUMPRODUCT($G165:$J165,TRANSPOSE(Dados_v2!N$4:N$7))","v":0},{"$f":"SUMPRODUCT($G165:$J165,TRANSPOSE(Dados_v2!O$4:O$7))","v":0},{"$f":"SUMPRODUCT($G165:$J165,TRANSPOSE(Dados_v2!P$4:P$7))","v":0}]
[null,null,null,null,null,null,null,null,null,null,null,null,null,null,null,null,null,null,null,null,null,null,null,null,null,null,null,null,null,null,null,null,null,null,null,null,null,null,null,null,null,{"$f":"SUMPRODUCT($G166:$J166,TRANSPOSE(Dados_v2!N$4:N$7))","v":0},{"$f":"SUMPRODUCT($G166:$J166,TRANSPOSE(Dados_v2!O$4:O$7))","v":0},{"$f":"SUMPRODUCT($G166:$J166,TRANSPOSE(Dados_v2!P$4:P$7))","v":0}]
[null,null,null,null,null,null,null,null,null,null,null,null,null,null,null,null,null,null,null,null,null,null,null,null,null,null,null,null,null,null,null,null,null,null,null,null,null,null,null,null,null,{"$f":"SUMPRODUCT($G167:$J167,TRANSPOSE(Dados_v2!N$4:N$7))","v":0},{"$f":"SUMPRODUCT($G167:$J167,TRANSPOSE(Dados_v2!O$4:O$7))","v":0},{"$f":"SUMPRODUCT($G167:$J167,TRANSPOSE(Dados_v2!P$4:P$7))","v":0}]
[null,null,null,null,null,null,null,null,null,null,null,null,null,null,null,null,null,null,null,null,null,null,null,null,null,null,null,null,null,null,null,null,null,null,null,null,null,null,null,null,null,{"$f":"SUMPRODUCT($G168:$J168,TRANSPOSE(Dados_v2!N$4:N$7))","v":0},{"$f":"SUMPRODUCT($G168:$J168,TRANSPOSE(Dados_v2!O$4:O$7))","v":0},{"$f":"SUMPRODUCT($G168:$J168,TRANSPOSE(Dados_v2!P$4:P$7))","v":0}]
[null,null,null,null,null,null,null,null,null,null,null,null,null,null,null,null,null,null,null,null,null,null,null,null,null,null,null,null,null,null,null,null,null,null,null,null,null,null,null,null,null,{"$f":"SUMPRODUCT($G169:$J169,TRANSPOSE(Dados_v2!N$4:N$7))","v":0},{"$f":"SUMPRODUCT($G169:$J169,TRANSPOSE(Dados_v2!O$4:O$7))","v":0},{"$f":"SUMPRODUCT($G169:$J169,TRANSPOSE(Dados_v2!P$4:P$7))","v":0}]
[null,null,null,null,null,null,null,null,null,null,null,null,null,null,null,null,null,null,null,null,null,null,null,null,null,null,null,null,null,null,null,null,null,null,null,null,null,null,null,null,null,{"$f":"SUMPRODUCT($G170:$J170,TRANSPOSE(Dados_v2!N$4:N$7))","v":0},{"$f":"SUMPRODUCT($G170:$J170,TRANSPOSE(Dados_v2!O$4:O$7))","v":0},{"$f":"SUMPRODUCT($G170:$J170,TRANSPOSE(Dados_v2!P$4:P$7))","v":0}]
[null,null,null,null,null,null,null,null,null,null,null,null,null,null,null,null,null,null,null,null,null,null,null,null,null,null,null,null,null,null,null,null,null,null,null,null,null,null,null,null,null,{"$f":"SUMPRODUCT($G171:$J171,TRANSPOSE(Dados_v2!N$4:N$7))","v":0},{"$f":"SUMPRODUCT($G171:$J171,TRANSPOSE(Dados_v2!O$4:O$7))","v":0},{"$f":"SUMPRODUCT($G171:$J171,TRANSPOSE(Dados_v2!P$4:P$7))","v":0}]
[null,null,null,null,null,null,null,null,null,null,null,null,null,null,null,null,null,null,null,null,null,null,null,null,null,null,null,null,null,null,null,null,null,null,null,null,null,null,null,null,null,{"$f":"SUMPRODUCT($G172:$J172,TRANSPOSE(Dados_v2!N$4:N$7))","v":0},{"$f":"SUMPRODUCT($G172:$J172,TRANSPOSE(Dados_v2!O$4:O$7))","v":0},{"$f":"SUMPRODUCT($G172:$J172,TRANSPOSE(Dados_v2!P$4:P$7))","v":0}]
[null,null,null,null,null,null,null,null,null,null,null,null,null,null,null,null,null,null,null,null,null,null,null,null,null,null,null,null,null,null,null,null,null,null,null,null,null,null,null,null,null,{"$f":"SUMPRODUCT($G173:$J173,TRANSPOSE(Dados_v2!N$4:N$7))","v":0},{"$f":"SUMPRODUCT($G173:$J173,TRANSPOSE(Dados_v2!O$4:O$7))","v":0},{"$f":"SUMPRODUCT($G173:$J173,TRANSPOSE(Dados_v2!P$4:P$7))","v":0}]
[null,null,null,null,null,null,null,null,null,null,null,null,null,null,null,null,null,null,null,null,null,null,null,null,null,null,null,null,null,null,null,null,null,null,null,null,null,null,null,null,null,{"$f":"SUMPRODUCT($G174:$J174,TRANSPOSE(Dados_v2!N$4:N$7))","v":0},{"$f":"SUMPRODUCT($G174:$J174,TRANSPOSE(Dados_v2!O$4:O$7))","v":0},{"$f":"SUMPRODUCT($G174:$J174,TRANSPOSE(Dados_v2!P$4:P$7))","v":0}]
[null,null,null,null,null,null,null,null,null,null,null,null,null,null,null,null,null,null,null,null,null,null,null,null,null,null,null,null,null,null,null,null,null,null,null,null,null,null,null,null,null,{"$f":"SUMPRODUCT($G175:$J175,TRANSPOSE(Dados_v2!N$4:N$7))","v":0},{"$f":"SUMPRODUCT($G175:$J175,TRANSPOSE(Dados_v2!O$4:O$7))","v":0},{"$f":"SUMPRODUCT($G175:$J175,TRANSPOSE(Dados_v2!P$4:P$7))","v":0}]
[null,null,null,null,null,null,null,null,null,null,null,null,null,null,null,null,null,null,null,null,null,null,null,null,null,null,null,null,null,null,null,null,null,null,null,null,null,null,null,null,null,{"$f":"SUMPRODUCT($G176:$J176,TRANSPOSE(Dados_v2!N$4:N$7))","v":0},{"$f":"SUMPRODUCT($G176:$J176,TRANSPOSE(Dados_v2!O$4:O$7))","v":0},{"$f":"SUMPRODUCT($G176:$J176,TRANSPOSE(Dados_v2!P$4:P$7))","v":0}]
[null,null,null,null,null,null,null,null,null,null,null,null,null,null,null,null,null,null,null,null,null,null,null,null,null,null,null,null,null,null,null,null,null,null,null,null,null,null,null,null,null,{"$f":"SUMPRODUCT($G177:$J177,TRANSPOSE(Dados_v2!N$4:N$7))","v":0},{"$f":"SUMPRODUCT($G177:$J177,TRANSPOSE(Dados_v2!O$4:O$7))","v":0},{"$f":"SUMPRODUCT($G177:$J177,TRANSPOSE(Dados_v2!P$4:P$7))","v":0}]
[null,null,null,null,null,null,null,null,null,null,null,null,null,null,null,null,null,null,null,null,null,null,null,null,null,null,null,null,null,null,null,null,null,null,null,null,null,null,null,null,null,{"$f":"SUMPRODUCT($G178:$J178,TRANSPOSE(Dados_v2!N$4:N$7))","v":0},{"$f":"SUMPRODUCT($G178:$J178,TRANSPOSE(Dados_v2!O$4:O$7))","v":0},{"$f":"SUMPRODUCT($G178:$J178,TRANSPOSE(Dados_v2!P$4:P$7))","v":0}]
[null,null,null,null,null,null,null,null,null,null,null,null,null,null,null,null,null,null,null,null,null,null,null,null,null,null,null,null,null,null,null,null,null,null,null,null,null,null,null,null,null,{"$f":"SUMPRODUCT($G179:$J179,TRANSPOSE(Dados_v2!N$4:N$7))","v":0},{"$f":"SUMPRODUCT($G179:$J179,TRANSPOSE(Dados_v2!O$4:O$7))","v":0},{"$f":"SUMPRODUCT($G179:$J179,TRANSPOSE(Dados_v2!P$4:P$7))","v":0}]
[null,null,null,null,null,null,null,null,null,null,null,null,null,null,null,null,null,null,null,null,null,null,null,null,null,null,null,null,null,null,null,null,null,null,null,null,null,null,null,null,null,{"$f":"SUMPRODUCT($G180:$J180,TRANSPOSE(Dados_v2!N$4:N$7))","v":0},{"$f":"SUMPRODUCT($G180:$J180,TRANSPOSE(Dados_v2!O$4:O$7))","v":0},{"$f":"SUMPRODUCT($G180:$J180,TRANSPOSE(Dados_v2!P$4:P$7))","v":0}]
[null,null,null,null,null,null,null,null,null,null,null,null,null,null,null,null,null,null,null,null,null,null,null,null,null,null,null,null,null,null,null,null,null,null,null,null,null,null,null,null,null,{"$f":"SUMPRODUCT($G181:$J181,TRANSPOSE(Dados_v2!N$4:N$7))","v":0},{"$f":"SUMPRODUCT($G181:$J181,TRANSPOSE(Dados_v2!O$4:O$7))","v":0},{"$f":"SUMPRODUCT($G181:$J181,TRANSPOSE(Dados_v2!P$4:P$7))","v":0}]
[null,null,null,null,null,null,null,null,null,null,null,null,null,null,null,null,null,null,null,null,null,null,null,null,null,null,null,null,null,null,null,null,null,null,null,null,null,null,null,null,null,{"$f":"SUMPRODUCT($G182:$J182,TRANSPOSE(Dados_v2!N$4:N$7))","v":0},{"$f":"SUMPRODUCT($G182:$J182,TRANSPOSE(Dados_v2!O$4:O$7))","v":0},{"$f":"SUMPRODUCT($G182:$J182,TRANSPOSE(Dados_v2!P$4:P$7))","v":0}]
[null,null,null,null,null,null,null,null,null,null,null,null,null,null,null,null,null,null,null,null,null,null,null,null,null,null,null,null,null,null,null,null,null,null,null,null,null,null,null,null,null,{"$f":"SUMPRODUCT($G183:$J183,TRANSPOSE(Dados_v2!N$4:N$7))","v":0},{"$f":"SUMPRODUCT($G183:$J183,TRANSPOSE(Dados_v2!O$4:O$7))","v":0},{"$f":"SUMPRODUCT($G183:$J183,TRANSPOSE(Dados_v2!P$4:P$7))","v":0}]
[null,null,null,null,null,null,null,null,null,null,null,null,null,null,null,null,null,null,null,null,null,null,null,null,null,null,null,null,null,null,null,null,null,null,null,null,null,null,null,null,null,{"$f":"SUMPRODUCT($G184:$J184,TRANSPOSE(Dados_v2!N$4:N$7))","v":0},{"$f":"SUMPRODUCT($G184:$J184,TRANSPOSE(Dados_v2!O$4:O$7))","v":0},{"$f":"SUMPRODUCT($G184:$J184,TRANSPOSE(Dados_v2!P$4:P$7))","v":0}]
[null,null,null,null,null,null,null,null,null,null,null,null,null,null,null,null,null,null,null,null,null,null,null,null,null,null,null,null,null,null,null,null,null,null,null,null,null,null,null,null,null,{"$f":"SUMPRODUCT($G185:$J185,TRANSPOSE(Dados_v2!N$4:N$7))","v":0},{"$f":"SUMPRODUCT($G185:$J185,TRANSPOSE(Dados_v2!O$4:O$7))","v":0},{"$f":"SUMPRODUCT($G185:$J185,TRANSPOSE(Dados_v2!P$4:P$7))","v":0}]
[null,null,null,null,null,null,null,null,null,null,null,null,null,null,null,null,null,null,null,null,null,null,null,null,null,null,null,null,null,null,null,null,null,null,null,null,null,null,null,null,null,{"$f":"SUMPRODUCT($G186:$J186,TRANSPOSE(Dados_v2!N$4:N$7))","v":0},{"$f":"SUMPRODUCT($G186:$J186,TRANSPOSE(Dados_v2!O$4:O$7))","v":0},{"$f":"SUMPRODUCT($G186:$J186,TRANSPOSE(Dados_v2!P$4:P$7))","v":0}]
[null,null,null,null,null,null,null,null,null,null,null,null,null,null,null,null,null,null,null,null,null,null,null,null,null,null,null,null,null,null,null,null,null,null,null,null,null,null,null,null,null,{"$f":"SUMPRODUCT($G187:$J187,TRANSPOSE(Dados_v2!N$4:N$7))","v":0},{"$f":"SUMPRODUCT($G187:$J187,TRANSPOSE(Dados_v2!O$4:O$7))","v":0},{"$f":"SUMPRODUCT($G187:$J187,TRANSPOSE(Dados_v2!P$4:P$7))","v":0}]
[null,null,null,null,null,null,null,null,null,null,null,null,null,null,null,null,null,null,null,null,null,null,null,null,null,null,null,null,null,null,null,null,null,null,null,null,null,null,null,null,null,{"$f":"SUMPRODUCT($G188:$J188,TRANSPOSE(Dados_v2!N$4:N$7))","v":0},{"$f":"SUMPRODUCT($G188:$J188,TRANSPOSE(Dados_v2!O$4:O$7))","v":0},{"$f":"SUMPRODUCT($G188:$J188,TRANSPOSE(Dados_v2!P$4:P$7))","v":0}]
[null,null,null,null,null,null,null,null,null,null,null,null,null,null,null,null,null,null,null,null,null,null,null,null,null,null,null,null,null,null,null,null,null,null,null,null,null,null,null,null,null,{"$f":"SUMPRODUCT($G189:$J189,TRANSPOSE(Dados_v2!N$4:N$7))","v":0},{"$f":"SUMPRODUCT($G189:$J189,TRANSPOSE(Dados_v2!O$4:O$7))","v":0},{"$f":"SUMPRODUCT($G189:$J189,TRANSPOSE(Dados_v2!P$4:P$7))","v":0}]
[null,null,null,null,null,null,null,null,null,null,null,null,null,null,null,null,null,null,null,null,null,null,null,null,null,null,null,null,null,null,null,null,null,null,null,null,null,null,null,null,null,{"$f":"SUMPRODUCT($G190:$J190,TRANSPOSE(Dados_v2!N$4:N$7))","v":0},{"$f":"SUMPRODUCT($G190:$J190,TRANSPOSE(Dados_v2!O$4:O$7))","v":0},{"$f":"SUMPRODUCT($G190:$J190,TRANSPOSE(Dados_v2!P$4:P$7))","v":0}]
[null,null,null,null,null,null,null,null,null,null,null,null,null,null,null,null,null,null,null,null,null,null,null,null,null,null,null,null,null,null,null,null,null,null,null,null,null,null,null,null,null,{"$f":"SUMPRODUCT($G191:$J191,TRANSPOSE(Dados_v2!N$4:N$7))","v":0},{"$f":"SUMPRODUCT($G191:$J191,TRANSPOSE(Dados_v2!O$4:O$7))","v":0},{"$f":"SUMPRODUCT($G191:$J191,TRANSPOSE(Dados_v2!P$4:P$7))","v":0}]
[null,null,null,null,null,null,null,null,null,null,null,null,null,null,null,null,null,null,null,null,null,null,null,null,null,null,null,null,null,null,null,null,null,null,null,null,null,null,null,null,null,{"$f":"SUMPRODUCT($G192:$J192,TRANSPOSE(Dados_v2!N$4:N$7))","v":0},{"$f":"SUMPRODUCT($G192:$J192,TRANSPOSE(Dados_v2!O$4:O$7))","v":0},{"$f":"SUMPRODUCT($G192:$J192,TRANSPOSE(Dados_v2!P$4:P$7))","v":0}]
[null,null,null,null,null,null,null,null,null,null,null,null,null,null,null,null,null,null,null,null,null,null,null,null,null,null,null,null,null,null,null,null,null,null,null,null,null,null,null,null,null,{"$f":"SUMPRODUCT($G193:$J193,TRANSPOSE(Dados_v2!N$4:N$7))","v":0},{"$f":"SUMPRODUCT($G193:$J193,TRANSPOSE(Dados_v2!O$4:O$7))","v":0},{"$f":"SUMPRODUCT($G193:$J193,TRANSPOSE(Dados_v2!P$4:P$7))","v":0}]
[null,null,null,null,null,null,null,null,null,null,null,null,null,null,null,null,null,null,null,null,null,null,null,null,null,null,null,null,null,null,null,null,null,null,null,null,null,null,null,null,null,{"$f":"SUMPRODUCT($G194:$J194,TRANSPOSE(Dados_v2!N$4:N$7))","v":0},{"$f":"SUMPRODUCT($G194:$J194,TRANSPOSE(Dados_v2!O$4:O$7))","v":0},{"$f":"SUMPRODUCT($G194:$J194,TRANSPOSE(Dados_v2!P$4:P$7))","v":0}]
[null,null,null,null,null,null,null,null,null,null,null,null,null,null,null,null,null,null,null,null,null,null,null,null,null,null,null,null,null,null,null,null,null,null,null,null,null,null,null,null,null,{"$f":"SUMPRODUCT($G195:$J195,TRANSPOSE(Dados_v2!N$4:N$7))","v":0},{"$f":"SUMPRODUCT($G195:$J195,TRANSPOSE(Dados_v2!O$4:O$7))","v":0},{"$f":"SUMPRODUCT($G195:$J195,TRANSPOSE(Dados_v2!P$4:P$7))","v":0}]
[null,null,null,null,null,null,null,null,null,null,null,null,null,null,null,null,null,null,null,null,null,null,null,null,null,null,null,null,null,null,null,null,null,null,null,null,null,null,null,null,null,{"$f":"SUMPRODUCT($G196:$J196,TRANSPOSE(Dados_v2!N$4:N$7))","v":0},{"$f":"SUMPRODUCT($G196:$J196,TRANSPOSE(Dados_v2!O$4:O$7))","v":0},{"$f":"SUMPRODUCT($G196:$J196,TRANSPOSE(Dados_v2!P$4:P$7))","v":0}]
[null,null,null,null,null,null,null,null,null,null,null,null,null,null,null,null,null,null,null,null,null,null,null,null,null,null,null,null,null,null,null,null,null,null,null,null,null,null,null,null,null,{"$f":"SUMPRODUCT($G197:$J197,TRANSPOSE(Dados_v2!N$4:N$7))","v":0},{"$f":"SUMPRODUCT($G197:$J197,TRANSPOSE(Dados_v2!O$4:O$7))","v":0},{"$f":"SUMPRODUCT($G197:$J197,TRANSPOSE(Dados_v2!P$4:P$7))","v":0}]
[null,null,null,null,null,null,null,null,null,null,null,null,null,null,null,null,null,null,null,null,null,null,null,null,null,null,null,null,null,null,null,null,null,null,null,null,null,null,null,null,null,{"$f":"SUMPRODUCT($G198:$J198,TRANSPOSE(Dados_v2!N$4:N$7))","v":0},{"$f":"SUMPRODUCT($G198:$J198,TRANSPOSE(Dados_v2!O$4:O$7))","v":0},{"$f":"SUMPRODUCT($G198:$J198,TRANSPOSE(Dados_v2!P$4:P$7))","v":0}]
[null,null,null,null,null,null,null,null,null,null,null,null,null,null,null,null,null,null,null,null,null,null,null,null,null,null,null,null,null,null,null,null,null,null,null,null,null,null,null,null,null,{"$f":"SUMPRODUCT($G199:$J199,TRANSPOSE(Dados_v2!N$4:N$7))","v":0},{"$f":"SUMPRODUCT($G199:$J199,TRANSPOSE(Dados_v2!O$4:O$7))","v":0},{"$f":"SUMPRODUCT($G199:$J199,TRANSPOSE(Dados_v2!P$4:P$7))","v":0}]
[null,null,null,null,null,null,null,null,null,null,null,null,null,null,null,null,null,null,null,null,null,null,null,null,null,null,null,null,null,null,null,null,null,null,null,null,null,null,null,null,null,{"$f":"SUMPRODUCT($G200:$J200,TRANSPOSE(Dados_v2!N$4:N$7))","v":0},{"$f":"SUMPRODUCT($G200:$J200,TRANSPOSE(Dados_v2!O$4:O$7))","v":0},{"$f":"SUMPRODUCT($G200:$J200,TRANSPOSE(Dados_v2!P$4:P$7))","v":0}]
[null,null,null,null,null,null,null,null,null,null,null,null,null,null,null,null,null,null,null,null,null,null,null,null,null,null,null,null,null,null,null,null,null,null,null,null,null,null,null,null,null,{"$f":"SUMPRODUCT($G201:$J201,TRANSPOSE(Dados_v2!N$4:N$7))","v":0},{"$f":"SUMPRODUCT($G201:$J201,TRANSPOSE(Dados_v2!O$4:O$7))","v":0},{"$f":"SUMPRODUCT($G201:$J201,TRANSPOSE(Dados_v2!P$4:P$7))","v":0}]
[null,null,null,null,null,null,null,null,null,null,null,null,null,null,null,null,null,null,null,null,null,null,null,null,null,null,null,null,null,null,null,null,null,null,null,null,null,null,null,null,null,{"$f":"SUMPRODUCT($G202:$J202,TRANSPOSE(Dados_v2!N$4:N$7))","v":0},{"$f":"SUMPRODUCT($G202:$J202,TRANSPOSE(Dados_v2!O$4:O$7))","v":0},{"$f":"SUMPRODUCT($G202:$J202,TRANSPOSE(Dados_v2!P$4:P$7))","v":0}]
[null,null,null,null,null,null,null,null,null,null,null,null,null,null,null,null,null,null,null,null,null,null,null,null,null,null,null,null,null,null,null,null,null,null,null,null,null,null,null,null,null,{"$f":"SUMPRODUCT($G203:$J203,TRANSPOSE(Dados_v2!N$4:N$7))","v":0},{"$f":"SUMPRODUCT($G203:$J203,TRANSPOSE(Dados_v2!O$4:O$7))","v":0},{"$f":"SUMPRODUCT($G203:$J203,TRANSPOSE(Dados_v2!P$4:P$7))","v":0}]
[null,null,null,null,null,null,null,null,null,null,null,null,null,null,null,null,null,null,null,null,null,null,null,null,null,null,null,null,null,null,null,null,null,null,null,null,null,null,null,null,null,{"$f":"SUMPRODUCT($G204:$J204,TRANSPOSE(Dados_v2!N$4:N$7))","v":0},{"$f":"SUMPRODUCT($G204:$J204,TRANSPOSE(Dados_v2!O$4:O$7))","v":0},{"$f":"SUMPRODUCT($G204:$J204,TRANSPOSE(Dados_v2!P$4:P$7))","v":0}]
[null,null,null,null,null,null,null,null,null,null,null,null,null,null,null,null,null,null,null,null,null,null,null,null,null,null,null,null,null,null,null,null,null,null,null,null,null,null,null,null,null,{"$f":"SUMPRODUCT($G205:$J205,TRANSPOSE(Dados_v2!N$4:N$7))","v":0},{"$f":"SUMPRODUCT($G205:$J205,TRANSPOSE(Dados_v2!O$4:O$7))","v":0},{"$f":"SUMPRODUCT($G205:$J205,TRANSPOSE(Dados_v2!P$4:P$7))","v":0}]
[null,null,null,null,null,null,null,null,null,null,null,null,null,null,null,null,null,null,null,null,null,null,null,null,null,null,null,null,null,null,null,null,null,null,null,null,null,null,null,null,null,{"$f":"SUMPRODUCT($G206:$J206,TRANSPOSE(Dados_v2!N$4:N$7))","v":0},{"$f":"SUMPRODUCT($G206:$J206,TRANSPOSE(Dados_v2!O$4:O$7))","v":0},{"$f":"SUMPRODUCT($G206:$J206,TRANSPOSE(Dados_v2!P$4:P$7))","v":0}]
[null,null,null,null,null,null,null,null,null,null,null,null,null,null,null,null,null,null,null,null,null,null,null,null,null,null,null,null,null,null,null,null,null,null,null,null,null,null,null,null,null,{"$f":"SUMPRODUCT($G207:$J207,TRANSPOSE(Dados_v2!N$4:N$7))","v":0},{"$f":"SUMPRODUCT($G207:$J207,TRANSPOSE(Dados_v2!O$4:O$7))","v":0},{"$f":"SUMPRODUCT($G207:$J207,TRANSPOSE(Dados_v2!P$4:P$7))","v":0}]
[null,null,null,null,null,null,null,null,null,null,null,null,null,null,null,null,null,null,null,null,null,null,null,null,null,null,null,null,null,null,null,null,null,null,null,null,null,null,null,null,null,{"$f":"SUMPRODUCT($G208:$J208,TRANSPOSE(Dados_v2!N$4:N$7))","v":0},{"$f":"SUMPRODUCT($G208:$J208,TRANSPOSE(Dados_v2!O$4:O$7))","v":0},{"$f":"SUMPRODUCT($G208:$J208,TRANSPOSE(Dados_v2!P$4:P$7))","v":0}]
[null,null,null,null,null,null,null,null,null,null,null,null,null,null,null,null,null,null,null,null,null,null,null,null,null,null,null,null,null,null,null,null,null,null,null,null,null,null,null,null,null,{"$f":"SUMPRODUCT($G209:$J209,TRANSPOSE(Dados_v2!N$4:N$7))","v":0},{"$f":"SUMPRODUCT($G209:$J209,TRANSPOSE(Dados_v2!O$4:O$7))","v":0},{"$f":"SUMPRODUCT($G209:$J209,TRANSPOSE(Dados_v2!P$4:P$7))","v":0}]
[null,null,null,null,null,null,null,null,null,null,null,null,null,null,null,null,null,null,null,null,null,null,null,null,null,null,null,null,null,null,null,null,null,null,null,null,null,null,null,null,null,{"$f":"SUMPRODUCT($G210:$J210,TRANSPOSE(Dados_v2!N$4:N$7))","v":0},{"$f":"SUMPRODUCT($G210:$J210,TRANSPOSE(Dados_v2!O$4:O$7))","v":0},{"$f":"SUMPRODUCT($G210:$J210,TRANSPOSE(Dados_v2!P$4:P$7))","v":0}]
[null,null,null,null,null,null,null,null,null,null,null,null,null,null,null,null,null,null,null,null,null,null,null,null,null,null,null,null,null,null,null,null,null,null,null,null,null,null,null,null,null,{"$f":"SUMPRODUCT($G211:$J211,TRANSPOSE(Dados_v2!N$4:N$7))","v":0},{"$f":"SUMPRODUCT($G211:$J211,TRANSPOSE(Dados_v2!O$4:O$7))","v":0},{"$f":"SUMPRODUCT($G211:$J211,TRANSPOSE(Dados_v2!P$4:P$7))","v":0}]
[null,null,null,null,null,null,null,null,null,null,null,null,null,null,null,null,null,null,null,null,null,null,null,null,null,null,null,null,null,null,null,null,null,null,null,null,null,null,null,null,null,{"$f":"SUMPRODUCT($G212:$J212,TRANSPOSE(Dados_v2!N$4:N$7))","v":0},{"$f":"SUMPRODUCT($G212:$J212,TRANSPOSE(Dados_v2!O$4:O$7))","v":0},{"$f":"SUMPRODUCT($G212:$J212,TRANSPOSE(Dados_v2!P$4:P$7))","v":0}]
[null,null,null,null,null,null,null,null,null,null,null,null,null,null,null,null,null,null,null,null,null,null,null,null,null,null,null,null,null,null,null,null,null,null,null,null,null,null,null,null,null,{"$f":"SUMPRODUCT($G213:$J213,TRANSPOSE(Dados_v2!N$4:N$7))","v":0},{"$f":"SUMPRODUCT($G213:$J213,TRANSPOSE(Dados_v2!O$4:O$7))","v":0},{"$f":"SUMPRODUCT($G213:$J213,TRANSPOSE(Dados_v2!P$4:P$7))","v":0}]
[null,null,null,null,null,null,null,null,null,null,null,null,null,null,null,null,null,null,null,null,null,null,null,null,null,null,null,null,null,null,null,null,null,null,null,null,null,null,null,null,null,{"$f":"SUMPRODUCT($G214:$J214,TRANSPOSE(Dados_v2!N$4:N$7))","v":0},{"$f":"SUMPRODUCT($G214:$J214,TRANSPOSE(Dados_v2!O$4:O$7))","v":0},{"$f":"SUMPRODUCT($G214:$J214,TRANSPOSE(Dados_v2!P$4:P$7))","v":0}]
[null,null,null,null,null,null,null,null,null,null,null,null,null,null,null,null,null,null,null,null,null,null,null,null,null,null,null,null,null,null,null,null,null,null,null,null,null,null,null,null,null,{"$f":"SUMPRODUCT($G215:$J215,TRANSPOSE(Dados_v2!N$4:N$7))","v":0},{"$f":"SUMPRODUCT($G215:$J215,TRANSPOSE(Dados_v2!O$4:O$7))","v":0},{"$f":"SUMPRODUCT($G215:$J215,TRANSPOSE(Dados_v2!P$4:P$7))","v":0}]
[null,null,null,null,null,null,null,null,null,null,null,null,null,null,null,null,null,null,null,null,null,null,null,null,null,null,null,null,null,null,null,null,null,null,null,null,null,null,null,null,null,{"$f":"SUMPRODUCT($G216:$J216,TRANSPOSE(Dados_v2!N$4:N$7))","v":0},{"$f":"SUMPRODUCT($G216:$J216,TRANSPOSE(Dados_v2!O$4:O$7))","v":0},{"$f":"SUMPRODUCT($G216:$J216,TRANSPOSE(Dados_v2!P$4:P$7))","v":0}]
[null,null,null,null,null,null,null,null,null,null,null,null,null,null,null,null,null,null,null,null,null,null,null,null,null,null,null,null,null,null,null,null,null,null,null,null,null,null,null,null,null,{"$f":"SUMPRODUCT($G217:$J217,TRANSPOSE(Dados_v2!N$4:N$7))","v":0},{"$f":"SUMPRODUCT($G217:$J217,TRANSPOSE(Dados_v2!O$4:O$7))","v":0},{"$f":"SUMPRODUCT($G217:$J217,TRANSPOSE(Dados_v2!P$4:P$7))","v":0}]
[null,null,null,null,null,null,null,null,null,null,null,null,null,null,null,null,null,null,null,null,null,null,null,null,null,null,null,null,null,null,null,null,null,null,null,null,null,null,null,null,null,{"$f":"SUMPRODUCT($G218:$J218,TRANSPOSE(Dados_v2!N$4:N$7))","v":0},{"$f":"SUMPRODUCT($G218:$J218,TRANSPOSE(Dados_v2!O$4:O$7))","v":0},{"$f":"SUMPRODUCT($G218:$J218,TRANSPOSE(Dados_v2!P$4:P$7))","v":0}]
[null,null,null,null,null,null,null,null,null,null,null,null,null,null,null,null,null,null,null,null,null,null,null,null,null,null,null,null,null,null,null,null,null,null,null,null,null,null,null,null,null,{"$f":"SUMPRODUCT($G219:$J219,TRANSPOSE(Dados_v2!N$4:N$7))","v":0},{"$f":"SUMPRODUCT($G219:$J219,TRANSPOSE(Dados_v2!O$4:O$7))","v":0},{"$f":"SUMPRODUCT($G219:$J219,TRANSPOSE(Dados_v2!P$4:P$7))","v":0}]
[null,null,null,null,null,null,null,null,null,null,null,null,null,null,null,null,null,null,null,null,null,null,null,null,null,null,null,null,null,null,null,null,null,null,null,null,null,null,null,null,null,{"$f":"SUMPRODUCT($G220:$J220,TRANSPOSE(Dados_v2!N$4:N$7))","v":0},{"$f":"SUMPRODUCT($G220:$J220,TRANSPOSE(Dados_v2!O$4:O$7))","v":0},{"$f":"SUMPRODUCT($G220:$J220,TRANSPOSE(Dados_v2!P$4:P$7))","v":0}]
[null,null,null,null,null,null,null,null,null,null,null,null,null,null,null,null,null,null,null,null,null,null,null,null,null,null,null,null,null,null,null,null,null,null,null,null,null,null,null,null,null,{"$f":"SUMPRODUCT($G221:$J221,TRANSPOSE(Dados_v2!N$4:N$7))","v":0},{"$f":"SUMPRODUCT($G221:$J221,TRANSPOSE(Dados_v2!O$4:O$7))","v":0},{"$f":"SUMPRODUCT($G221:$J221,TRANSPOSE(Dados_v2!P$4:P$7))","v":0}]
[null,null,null,null,null,null,null,null,null,null,null,null,null,null,null,null,null,null,null,null,null,null,null,null,null,null,null,null,null,null,null,null,null,null,null,null,null,null,null,null,null,{"$f":"SUMPRODUCT($G222:$J222,TRANSPOSE(Dados_v2!N$4:N$7))","v":0},{"$f":"SUMPRODUCT($G222:$J222,TRANSPOSE(Dados_v2!O$4:O$7))","v":0},{"$f":"SUMPRODUCT($G222:$J222,TRANSPOSE(Dados_v2!P$4:P$7))","v":0}]
[null,null,null,null,null,null,null,null,null,null,null,null,null,null,null,null,null,null,null,null,null,null,null,null,null,null,null,null,null,null,null,null,null,null,null,null,null,null,null,null,null,{"$f":"SUMPRODUCT($G223:$J223,TRANSPOSE(Dados_v2!N$4:N$7))","v":0},{"$f":"SUMPRODUCT($G223:$J223,TRANSPOSE(Dados_v2!O$4:O$7))","v":0},{"$f":"SUMPRODUCT($G223:$J223,TRANSPOSE(Dados_v2!P$4:P$7))","v":0}]
[null,null,null,null,null,null,null,null,null,null,null,null,null,null,null,null,null,null,null,null,null,null,null,null,null,null,null,null,null,null,null,null,null,null,null,null,null,null,null,null,null,{"$f":"SUMPRODUCT($G224:$J224,TRANSPOSE(Dados_v2!N$4:N$7))","v":0},{"$f":"SUMPRODUCT($G224:$J224,TRANSPOSE(Dados_v2!O$4:O$7))","v":0},{"$f":"SUMPRODUCT($G224:$J224,TRANSPOSE(Dados_v2!P$4:P$7))","v":0}]
[null,null,null,null,null,null,null,null,null,null,null,null,null,null,null,null,null,null,null,null,null,null,null,null,null,null,null,null,null,null,null,null,null,null,null,null,null,null,null,null,null,{"$f":"SUMPRODUCT($G225:$J225,TRANSPOSE(Dados_v2!N$4:N$7))","v":0},{"$f":"SUMPRODUCT($G225:$J225,TRANSPOSE(Dados_v2!O$4:O$7))","v":0},{"$f":"SUMPRODUCT($G225:$J225,TRANSPOSE(Dados_v2!P$4:P$7))","v":0}]
[null,null,null,null,null,null,null,null,null,null,null,null,null,null,null,null,null,null,null,null,null,null,null,null,null,null,null,null,null,null,null,null,null,null,null,null,null,null,null,null,null,{"$f":"SUMPRODUCT($G226:$J226,TRANSPOSE(Dados_v2!N$4:N$7))","v":0},{"$f":"SUMPRODUCT($G226:$J226,TRANSPOSE(Dados_v2!O$4:O$7))","v":0},{"$f":"SUMPRODUCT($G226:$J226,TRANSPOSE(Dados_v2!P$4:P$7))","v":0}]
[null,null,null,null,null,null,null,null,null,null,null,null,null,null,null,null,null,null,null,null,null,null,null,null,null,null,null,null,null,null,null,null,null,null,null,null,null,null,null,null,null,{"$f":"SUMPRODUCT($G227:$J227,TRANSPOSE(Dados_v2!N$4:N$7))","v":0},{"$f":"SUMPRODUCT($G227:$J227,TRANSPOSE(Dados_v2!O$4:O$7))","v":0},{"$f":"SUMPRODUCT($G227:$J227,TRANSPOSE(Dados_v2!P$4:P$7))","v":0}]
[null,null,null,null,null,null,null,null,null,null,null,null,null,null,null,null,null,null,null,null,null,null,null,null,null,null,null,null,null,null,null,null,null,null,null,null,null,null,null,null,null,{"$f":"SUMPRODUCT($G228:$J228,TRANSPOSE(Dados_v2!N$4:N$7))","v":0},{"$f":"SUMPRODUCT($G228:$J228,TRANSPOSE(Dados_v2!O$4:O$7))","v":0},{"$f":"SUMPRODUCT($G228:$J228,TRANSPOSE(Dados_v2!P$4:P$7))","v":0}]
[null,null,null,null,null,null,null,null,null,null,null,null,null,null,null,null,null,null,null,null,null,null,null,null,null,null,null,null,null,null,null,null,null,null,null,null,null,null,null,null,null,{"$f":"SUMPRODUCT($G229:$J229,TRANSPOSE(Dados_v2!N$4:N$7))","v":0},{"$f":"SUMPRODUCT($G229:$J229,TRANSPOSE(Dados_v2!O$4:O$7))","v":0},{"$f":"SUMPRODUCT($G229:$J229,TRANSPOSE(Dados_v2!P$4:P$7))","v":0}]
[null,null,null,null,null,null,null,null,null,null,null,null,null,null,null,null,null,null,null,null,null,null,null,null,null,null,null,null,null,null,null,null,null,null,null,null,null,null,null,null,null,{"$f":"SUMPRODUCT($G230:$J230,TRANSPOSE(Dados_v2!N$4:N$7))","v":0},{"$f":"SUMPRODUCT($G230:$J230,TRANSPOSE(Dados_v2!O$4:O$7))","v":0},{"$f":"SUMPRODUCT($G230:$J230,TRANSPOSE(Dados_v2!P$4:P$7))","v":0}]
[null,null,null,null,null,null,null,null,null,null,null,null,null,null,null,null,null,null,null,null,null,null,null,null,null,null,null,null,null,null,null,null,null,null,null,null,null,null,null,null,null,{"$f":"SUMPRODUCT($G231:$J231,TRANSPOSE(Dados_v2!N$4:N$7))","v":0},{"$f":"SUMPRODUCT($G231:$J231,TRANSPOSE(Dados_v2!O$4:O$7))","v":0},{"$f":"SUMPRODUCT($G231:$J231,TRANSPOSE(Dados_v2!P$4:P$7))","v":0}]
[null,null,null,null,null,null,null,null,null,null,null,null,null,null,null,null,null,null,null,null,null,null,null,null,null,null,null,null,null,null,null,null,null,null,null,null,null,null,null,null,null,{"$f":"SUMPRODUCT($G232:$J232,TRANSPOSE(Dados_v2!N$4:N$7))","v":0},{"$f":"SUMPRODUCT($G232:$J232,TRANSPOSE(Dados_v2!O$4:O$7))","v":0},{"$f":"SUMPRODUCT($G232:$J232,TRANSPOSE(Dados_v2!P$4:P$7))","v":0}]
[null,null,null,null,null,null,null,null,null,null,null,null,null,null,null,null,null,null,null,null,null,null,null,null,null,null,null,null,null,null,null,null,null,null,null,null,null,null,null,null,null,{"$f":"SUMPRODUCT($G233:$J233,TRANSPOSE(Dados_v2!N$4:N$7))","v":0},{"$f":"SUMPRODUCT($G233:$J233,TRANSPOSE(Dados_v2!O$4:O$7))","v":0},{"$f":"SUMPRODUCT($G233:$J233,TRANSPOSE(Dados_v2!P$4:P$7))","v":0}]
[null,null,null,null,null,null,null,null,null,null,null,null,null,null,null,null,null,null,null,null,null,null,null,null,null,null,null,null,null,null,null,null,null,null,null,null,null,null,null,null,null,{"$f":"SUMPRODUCT($G234:$J234,TRANSPOSE(Dados_v2!N$4:N$7))","v":0},{"$f":"SUMPRODUCT($G234:$J234,TRANSPOSE(Dados_v2!O$4:O$7))","v":0},{"$f":"SUMPRODUCT($G234:$J234,TRANSPOSE(Dados_v2!P$4:P$7))","v":0}]
[null,null,null,null,null,null,null,null,null,null,null,null,null,null,null,null,null,null,null,null,null,null,null,null,null,null,null,null,null,null,null,null,null,null,null,null,null,null,null,null,null,{"$f":"SUMPRODUCT($G235:$J235,TRANSPOSE(Dados_v2!N$4:N$7))","v":0},{"$f":"SUMPRODUCT($G235:$J235,TRANSPOSE(Dados_v2!O$4:O$7))","v":0},{"$f":"SUMPRODUCT($G235:$J235,TRANSPOSE(Dados_v2!P$4:P$7))","v":0}]
[null,null,null,null,null,null,null,null,null,null,null,null,null,null,null,null,null,null,null,null,null,null,null,null,null,null,null,null,null,null,null,null,null,null,null,null,null,null,null,null,null,{"$f":"SUMPRODUCT($G236:$J236,TRANSPOSE(Dados_v2!N$4:N$7))","v":0},{"$f":"SUMPRODUCT($G236:$J236,TRANSPOSE(Dados_v2!O$4:O$7))","v":0},{"$f":"SUMPRODUCT($G236:$J236,TRANSPOSE(Dados_v2!P$4:P$7))","v":0}]
[null,null,null,null,null,null,null,null,null,null,null,null,null,null,null,null,null,null,null,null,null,null,null,null,null,null,null,null,null,null,null,null,null,null,null,null,null,null,null,null,null,{"$f":"SUMPRODUCT($G237:$J237,TRANSPOSE(Dados_v2!N$4:N$7))","v":0},{"$f":"SUMPRODUCT($G237:$J237,TRANSPOSE(Dados_v2!O$4:O$7))","v":0},{"$f":"SUMPRODUCT($G237:$J237,TRANSPOSE(Dados_v2!P$4:P$7))","v":0}]
[null,null,null,null,null,null,null,null,null,null,null,null,null,null,null,null,null,null,null,null,null,null,null,null,null,null,null,null,null,null,null,null,null,null,null,null,null,null,null,null,null,{"$f":"SUMPRODUCT($G238:$J238,TRANSPOSE(Dados_v2!N$4:N$7))","v":0},{"$f":"SUMPRODUCT($G238:$J238,TRANSPOSE(Dados_v2!O$4:O$7))","v":0},{"$f":"SUMPRODUCT($G238:$J238,TRANSPOSE(Dados_v2!P$4:P$7))","v":0}]
[null,null,null,null,null,null,null,null,null,null,null,null,null,null,null,null,null,null,null,null,null,null,null,null,null,null,null,null,null,null,null,null,null,null,null,null,null,null,null,null,null,{"$f":"SUMPRODUCT($G239:$J239,TRANSPOSE(Dados_v2!N$4:N$7))","v":0},{"$f":"SUMPRODUCT($G239:$J239,TRANSPOSE(Dados_v2!O$4:O$7))","v":0},{"$f":"SUMPRODUCT($G239:$J239,TRANSPOSE(Dados_v2!P$4:P$7))","v":0}]
[null,null,null,null,null,null,null,null,null,null,null,null,null,null,null,null,null,null,null,null,null,null,null,null,null,null,null,null,null,null,null,null,null,null,null,null,null,null,null,null,null,{"$f":"SUMPRODUCT($G240:$J240,TRANSPOSE(Dados_v2!N$4:N$7))","v":0},{"$f":"SUMPRODUCT($G240:$J240,TRANSPOSE(Dados_v2!O$4:O$7))","v":0},{"$f":"SUMPRODUCT($G240:$J240,TRANSPOSE(Dados_v2!P$4:P$7))","v":0}]
[null,null,null,null,null,null,null,null,null,null,null,null,null,null,null,null,null,null,null,null,null,null,null,null,null,null,null,null,null,null,null,null,null,null,null,null,null,null,null,null,null,{"$f":"SUMPRODUCT($G241:$J241,TRANSPOSE(Dados_v2!N$4:N$7))","v":0},{"$f":"SUMPRODUCT($G241:$J241,TRANSPOSE(Dados_v2!O$4:O$7))","v":0},{"$f":"SUMPRODUCT($G241:$J241,TRANSPOSE(Dados_v2!P$4:P$7))","v":0}]
[null,null,null,null,null,null,null,null,null,null,null,null,null,null,null,null,null,null,null,null,null,null,null,null,null,null,null,null,null,null,null,null,null,null,null,null,null,null,null,null,null,{"$f":"SUMPRODUCT($G242:$J242,TRANSPOSE(Dados_v2!N$4:N$7))","v":0},{"$f":"SUMPRODUCT($G242:$J242,TRANSPOSE(Dados_v2!O$4:O$7))","v":0},{"$f":"SUMPRODUCT($G242:$J242,TRANSPOSE(Dados_v2!P$4:P$7))","v":0}]
[null,null,null,null,null,null,null,null,null,null,null,null,null,null,null,null,null,null,null,null,null,null,null,null,null,null,null,null,null,null,null,null,null,null,null,null,null,null,null,null,null,{"$f":"SUMPRODUCT($G243:$J243,TRANSPOSE(Dados_v2!N$4:N$7))","v":0},{"$f":"SUMPRODUCT($G243:$J243,TRANSPOSE(Dados_v2!O$4:O$7))","v":0},{"$f":"SUMPRODUCT($G243:$J243,TRANSPOSE(Dados_v2!P$4:P$7))","v":0}]
[null,null,null,null,null,null,null,null,null,null,null,null,null,null,null,null,null,null,null,null,null,null,null,null,null,null,null,null,null,null,null,null,null,null,null,null,null,null,null,null,null,{"$f":"SUMPRODUCT($G244:$J244,TRANSPOSE(Dados_v2!N$4:N$7))","v":0},{"$f":"SUMPRODUCT($G244:$J244,TRANSPOSE(Dados_v2!O$4:O$7))","v":0},{"$f":"SUMPRODUCT($G244:$J244,TRANSPOSE(Dados_v2!P$4:P$7))","v":0}]
[null,null,null,null,null,null,null,null,null,null,null,null,null,null,null,null,null,null,null,null,null,null,null,null,null,null,null,null,null,null,null,null,null,null,null,null,null,null,null,null,null,{"$f":"SUMPRODUCT($G245:$J245,TRANSPOSE(Dados_v2!N$4:N$7))","v":0},{"$f":"SUMPRODUCT($G245:$J245,TRANSPOSE(Dados_v2!O$4:O$7))","v":0},{"$f":"SUMPRODUCT($G245:$J245,TRANSPOSE(Dados_v2!P$4:P$7))","v":0}]
[null,null,null,null,null,null,null,null,null,null,null,null,null,null,null,null,null,null,null,null,null,null,null,null,null,null,null,null,null,null,null,null,null,null,null,null,null,null,null,null,null,{"$f":"SUMPRODUCT($G246:$J246,TRANSPOSE(Dados_v2!N$4:N$7))","v":0},{"$f":"SUMPRODUCT($G246:$J246,TRANSPOSE(Dados_v2!O$4:O$7))","v":0},{"$f":"SUMPRODUCT($G246:$J246,TRANSPOSE(Dados_v2!P$4:P$7))","v":0}]
[null,null,null,null,null,null,null,null,null,null,null,null,null,null,null,null,null,null,null,null,null,null,null,null,null,null,null,null,null,null,null,null,null,null,null,null,null,null,null,null,null,{"$f":"SUMPRODUCT($G247:$J247,TRANSPOSE(Dados_v2!N$4:N$7))","v":0},{"$f":"SUMPRODUCT($G247:$J247,TRANSPOSE(Dados_v2!O$4:O$7))","v":0},{"$f":"SUMPRODUCT($G247:$J247,TRANSPOSE(Dados_v2!P$4:P$7))","v":0}]
[null,null,null,null,null,null,null,null,null,null,null,null,null,null,null,null,null,null,null,null,null,null,null,null,null,null,null,null,null,null,null,null,null,null,null,null,null,null,null,null,null,{"$f":"SUMPRODUCT($G248:$J248,TRANSPOSE(Dados_v2!N$4:N$7))","v":0},{"$f":"SUMPRODUCT($G248:$J248,TRANSPOSE(Dados_v2!O$4:O$7))","v":0},{"$f":"SUMPRODUCT($G248:$J248,TRANSPOSE(Dados_v2!P$4:P$7))","v":0}]
[null,null,null,null,null,null,null,null,null,null,null,null,null,null,null,null,null,null,null,null,null,null,null,null,null,null,null,null,null,null,null,null,null,null,null,null,null,null,null,null,null,{"$f":"SUMPRODUCT($G249:$J249,TRANSPOSE(Dados_v2!N$4:N$7))","v":0},{"$f":"SUMPRODUCT($G249:$J249,TRANSPOSE(Dados_v2!O$4:O$7))","v":0},{"$f":"SUMPRODUCT($G249:$J249,TRANSPOSE(Dados_v2!P$4:P$7))","v":0}]
[null,null,null,null,null,null,null,null,null,null,null,null,null,null,null,null,null,null,null,null,null,null,null,null,null,null,null,null,null,null,null,null,null,null,null,null,null,null,null,null,null,{"$f":"SUMPRODUCT($G250:$J250,TRANSPOSE(Dados_v2!N$4:N$7))","v":0},{"$f":"SUMPRODUCT($G250:$J250,TRANSPOSE(Dados_v2!O$4:O$7))","v":0},{"$f":"SUMPRODUCT($G250:$J250,TRANSPOSE(Dados_v2!P$4:P$7))","v":0}]
[null,null,null,null,null,null,null,null,null,null,null,null,null,null,null,null,null,null,null,null,null,null,null,null,null,null,null,null,null,null,null,null,null,null,null,null,null,null,null,null,null,{"$f":"SUMPRODUCT($G251:$J251,TRANSPOSE(Dados_v2!N$4:N$7))","v":0},{"$f":"SUMPRODUCT($G251:$J251,TRANSPOSE(Dados_v2!O$4:O$7))","v":0},{"$f":"SUMPRODUCT($G251:$J251,TRANSPOSE(Dados_v2!P$4:P$7))","v":0}]
[null,null,null,null,null,null,null,null,null,null,null,null,null,null,null,null,null,null,null,null,null,null,null,null,null,null,null,null,null,null,null,null,null,null,null,null,null,null,null,null,null,{"$f":"SUMPRODUCT($G252:$J252,TRANSPOSE(Dados_v2!N$4:N$7))","v":0},{"$f":"SUMPRODUCT($G252:$J252,TRANSPOSE(Dados_v2!O$4:O$7))","v":0},{"$f":"SUMPRODUCT($G252:$J252,TRANSPOSE(Dados_v2!P$4:P$7))","v":0}]
[null,null,null,null,null,null,null,null,null,null,null,null,null,null,null,null,null,null,null,null,null,null,null,null,null,null,null,null,null,null,null,null,null,null,null,null,null,null,null,null,null,{"$f":"SUMPRODUCT($G253:$J253,TRANSPOSE(Dados_v2!N$4:N$7))","v":0},{"$f":"SUMPRODUCT($G253:$J253,TRANSPOSE(Dados_v2!O$4:O$7))","v":0},{"$f":"SUMPRODUCT($G253:$J253,TRANSPOSE(Dados_v2!P$4:P$7))","v":0}]
[null,null,null,null,null,null,null,null,null,null,null,null,null,null,null,null,null,null,null,null,null,null,null,null,null,null,null,null,null,null,null,null,null,null,null,null,null,null,null,null,null,{"$f":"SUMPRODUCT($G254:$J254,TRANSPOSE(Dados_v2!N$4:N$7))","v":0},{"$f":"SUMPRODUCT($G254:$J254,TRANSPOSE(Dados_v2!O$4:O$7))","v":0},{"$f":"SUMPRODUCT($G254:$J254,TRANSPOSE(Dados_v2!P$4:P$7))","v":0}]
[null,null,null,null,null,null,null,null,null,null,null,null,null,null,null,null,null,null,null,null,null,null,null,null,null,null,null,null,null,null,null,null,null,null,null,null,null,null,null,null,null,{"$f":"SUMPRODUCT($G255:$J255,TRANSPOSE(Dados_v2!N$4:N$7))","v":0},{"$f":"SUMPRODUCT($G255:$J255,TRANSPOSE(Dados_v2!O$4:O$7))","v":0},{"$f":"SUMPRODUCT($G255:$J255,TRANSPOSE(Dados_v2!P$4:P$7))","v":0}]
[null,null,null,null,null,null,null,null,null,null,null,null,null,null,null,null,null,null,null,null,null,null,null,null,null,null,null,null,null,null,null,null,null,null,null,null,null,null,null,null,null,{"$f":"SUMPRODUCT($G256:$J256,TRANSPOSE(Dados_v2!N$4:N$7))","v":0},{"$f":"SUMPRODUCT($G256:$J256,TRANSPOSE(Dados_v2!O$4:O$7))","v":0},{"$f":"SUMPRODUCT($G256:$J256,TRANSPOSE(Dados_v2!P$4:P$7))","v":0}]
[null,null,null,null,null,null,null,null,null,null,null,null,null,null,null,null,null,null,null,null,null,null,null,null,null,null,null,null,null,null,null,null,null,null,null,null,null,null,null,null,null,{"$f":"SUMPRODUCT($G257:$J257,TRANSPOSE(Dados_v2!N$4:N$7))","v":0},{"$f":"SUMPRODUCT($G257:$J257,TRANSPOSE(Dados_v2!O$4:O$7))","v":0},{"$f":"SUMPRODUCT($G257:$J257,TRANSPOSE(Dados_v2!P$4:P$7))","v":0}]
[null,null,null,null,null,null,null,null,null,null,null,null,null,null,null,null,null,null,null,null,null,null,null,null,null,null,null,null,null,null,null,null,null,null,null,null,null,null,null,null,null,{"$f":"SUMPRODUCT($G258:$J258,TRANSPOSE(Dados_v2!N$4:N$7))","v":0},{"$f":"SUMPRODUCT($G258:$J258,TRANSPOSE(Dados_v2!O$4:O$7))","v":0},{"$f":"SUMPRODUCT($G258:$J258,TRANSPOSE(Dados_v2!P$4:P$7))","v":0}]
[null,null,null,null,null,null,null,null,null,null,null,null,null,null,null,null,null,null,null,null,null,null,null,null,null,null,null,null,null,null,null,null,null,null,null,null,null,null,null,null,null,{"$f":"SUMPRODUCT($G259:$J259,TRANSPOSE(Dados_v2!N$4:N$7))","v":0},{"$f":"SUMPRODUCT($G259:$J259,TRANSPOSE(Dados_v2!O$4:O$7))","v":0},{"$f":"SUMPRODUCT($G259:$J259,TRANSPOSE(Dados_v2!P$4:P$7))","v":0}]
[null,null,null,null,null,null,null,null,null,null,null,null,null,null,null,null,null,null,null,null,null,null,null,null,null,null,null,null,null,null,null,null,null,null,null,null,null,null,null,null,null,{"$f":"SUMPRODUCT($G260:$J260,TRANSPOSE(Dados_v2!N$4:N$7))","v":0},{"$f":"SUMPRODUCT($G260:$J260,TRANSPOSE(Dados_v2!O$4:O$7))","v":0},{"$f":"SUMPRODUCT($G260:$J260,TRANSPOSE(Dados_v2!P$4:P$7))","v":0}]
[null,null,null,null,null,null,null,null,null,null,null,null,null,null,null,null,null,null,null,null,null,null,null,null,null,null,null,null,null,null,null,null,null,null,null,null,null,null,null,null,null,{"$f":"SUMPRODUCT($G261:$J261,TRANSPOSE(Dados_v2!N$4:N$7))","v":0},{"$f":"SUMPRODUCT($G261:$J261,TRANSPOSE(Dados_v2!O$4:O$7))","v":0},{"$f":"SUMPRODUCT($G261:$J261,TRANSPOSE(Dados_v2!P$4:P$7))","v":0}]
[null,null,null,null,null,null,null,null,null,null,null,null,null,null,null,null,null,null,null,null,null,null,null,null,null,null,null,null,null,null,null,null,null,null,null,null,null,null,null,null,null,{"$f":"SUMPRODUCT($G262:$J262,TRANSPOSE(Dados_v2!N$4:N$7))","v":0},{"$f":"SUMPRODUCT($G262:$J262,TRANSPOSE(Dados_v2!O$4:O$7))","v":0},{"$f":"SUMPRODUCT($G262:$J262,TRANSPOSE(Dados_v2!P$4:P$7))","v":0}]
[null,null,null,null,null,null,null,null,null,null,null,null,null,null,null,null,null,null,null,null,null,null,null,null,null,null,null,null,null,null,null,null,null,null,null,null,null,null,null,null,null,{"$f":"SUMPRODUCT($G263:$J263,TRANSPOSE(Dados_v2!N$4:N$7))","v":0},{"$f":"SUMPRODUCT($G263:$J263,TRANSPOSE(Dados_v2!O$4:O$7))","v":0},{"$f":"SUMPRODUCT($G263:$J263,TRANSPOSE(Dados_v2!P$4:P$7))","v":0}]
[null,null,null,null,null,null,null,null,null,null,null,null,null,null,null,null,null,null,null,null,null,null,null,null,null,null,null,null,null,null,null,null,null,null,null,null,null,null,null,null,null,{"$f":"SUMPRODUCT($G264:$J264,TRANSPOSE(Dados_v2!N$4:N$7))","v":0},{"$f":"SUMPRODUCT($G264:$J264,TRANSPOSE(Dados_v2!O$4:O$7))","v":0},{"$f":"SUMPRODUCT($G264:$J264,TRANSPOSE(Dados_v2!P$4:P$7))","v":0}]
[null,null,null,null,null,null,null,null,null,null,null,null,null,null,null,null,null,null,null,null,null,null,null,null,null,null,null,null,null,null,null,null,null,null,null,null,null,null,null,null,null,{"$f":"SUMPRODUCT($G265:$J265,TRANSPOSE(Dados_v2!N$4:N$7))","v":0},{"$f":"SUMPRODUCT($G265:$J265,TRANSPOSE(Dados_v2!O$4:O$7))","v":0},{"$f":"SUMPRODUCT($G265:$J265,TRANSPOSE(Dados_v2!P$4:P$7))","v":0}]
[null,null,null,null,null,null,null,null,null,null,null,null,null,null,null,null,null,null,null,null,null,null,null,null,null,null,null,null,null,null,null,null,null,null,null,null,null,null,null,null,null,{"$f":"SUMPRODUCT($G266:$J266,TRANSPOSE(Dados_v2!N$4:N$7))","v":0},{"$f":"SUMPRODUCT($G266:$J266,TRANSPOSE(Dados_v2!O$4:O$7))","v":0},{"$f":"SUMPRODUCT($G266:$J266,TRANSPOSE(Dados_v2!P$4:P$7))","v":0}]
[null,null,null,null,null,null,null,null,null,null,null,null,null,null,null,null,null,null,null,null,null,null,null,null,null,null,null,null,null,null,null,null,null,null,null,null,null,null,null,null,null,{"$f":"SUMPRODUCT($G267:$J267,TRANSPOSE(Dados_v2!N$4:N$7))","v":0},{"$f":"SUMPRODUCT($G267:$J267,TRANSPOSE(Dados_v2!O$4:O$7))","v":0},{"$f":"SUMPRODUCT($G267:$J267,TRANSPOSE(Dados_v2!P$4:P$7))","v":0}]
[null,null,null,null,null,null,null,null,null,null,null,null,null,null,null,null,null,null,null,null,null,null,null,null,null,null,null,null,null,null,null,null,null,null,null,null,null,null,null,null,null,{"$f":"SUMPRODUCT($G268:$J268,TRANSPOSE(Dados_v2!N$4:N$7))","v":0},{"$f":"SUMPRODUCT($G268:$J268,TRANSPOSE(Dados_v2!O$4:O$7))","v":0},{"$f":"SUMPRODUCT($G268:$J268,TRANSPOSE(Dados_v2!P$4:P$7))","v":0}]
[null,null,null,null,null,null,null,null,null,null,null,null,null,null,null,null,null,null,null,null,null,null,null,null,null,null,null,null,null,null,null,null,null,null,null,null,null,null,null,null,null,{"$f":"SUMPRODUCT($G269:$J269,TRANSPOSE(Dados_v2!N$4:N$7))","v":0},{"$f":"SUMPRODUCT($G269:$J269,TRANSPOSE(Dados_v2!O$4:O$7))","v":0},{"$f":"SUMPRODUCT($G269:$J269,TRANSPOSE(Dados_v2!P$4:P$7))","v":0}]
[null,null,null,null,null,null,null,null,null,null,null,null,null,null,null,null,null,null,null,null,null,null,null,null,null,null,null,null,null,null,null,null,null,null,null,null,null,null,null,null,null,{"$f":"SUMPRODUCT($G270:$J270,TRANSPOSE(Dados_v2!N$4:N$7))","v":0},{"$f":"SUMPRODUCT($G270:$J270,TRANSPOSE(Dados_v2!O$4:O$7))","v":0},{"$f":"SUMPRODUCT($G270:$J270,TRANSPOSE(Dados_v2!P$4:P$7))","v":0}]
[null,null,null,null,null,null,null,null,null,null,null,null,null,null,null,null,null,null,null,null,null,null,null,null,null,null,null,null,null,null,null,null,null,null,null,null,null,null,null,null,null,{"$f":"SUMPRODUCT($G271:$J271,TRANSPOSE(Dados_v2!N$4:N$7))","v":0},{"$f":"SUMPRODUCT($G271:$J271,TRANSPOSE(Dados_v2!O$4:O$7))","v":0},{"$f":"SUMPRODUCT($G271:$J271,TRANSPOSE(Dados_v2!P$4:P$7))","v":0}]
[null,null,null,null,null,null,null,null,null,null,null,null,null,null,null,null,null,null,null,null,null,null,null,null,null,null,null,null,null,null,null,null,null,null,null,null,null,null,null,null,null,{"$f":"SUMPRODUCT($G272:$J272,TRANSPOSE(Dados_v2!N$4:N$7))","v":0},{"$f":"SUMPRODUCT($G272:$J272,TRANSPOSE(Dados_v2!O$4:O$7))","v":0},{"$f":"SUMPRODUCT($G272:$J272,TRANSPOSE(Dados_v2!P$4:P$7))","v":0}]
[null,null,null,null,null,null,null,null,null,null,null,null,null,null,null,null,null,null,null,null,null,null,null,null,null,null,null,null,null,null,null,null,null,null,null,null,null,null,null,null,null,{"$f":"SUMPRODUCT($G273:$J273,TRANSPOSE(Dados_v2!N$4:N$7))","v":0},{"$f":"SUMPRODUCT($G273:$J273,TRANSPOSE(Dados_v2!O$4:O$7))","v":0},{"$f":"SUMPRODUCT($G273:$J273,TRANSPOSE(Dados_v2!P$4:P$7))","v":0}]
[null,null,null,null,null,null,null,null,null,null,null,null,null,null,null,null,null,null,null,null,null,null,null,null,null,null,null,null,null,null,null,null,null,null,null,null,null,null,null,null,null,{"$f":"SUMPRODUCT($G274:$J274,TRANSPOSE(Dados_v2!N$4:N$7))","v":0},{"$f":"SUMPRODUCT($G274:$J274,TRANSPOSE(Dados_v2!O$4:O$7))","v":0},{"$f":"SUMPRODUCT($G274:$J274,TRANSPOSE(Dados_v2!P$4:P$7))","v":0}]
[null,null,null,null,null,null,null,null,null,null,null,null,null,null,null,null,null,null,null,null,null,null,null,null,null,null,null,null,null,null,null,null,null,null,null,null,null,null,null,null,null,{"$f":"SUMPRODUCT($G275:$J275,TRANSPOSE(Dados_v2!N$4:N$7))","v":0},{"$f":"SUMPRODUCT($G275:$J275,TRANSPOSE(Dados_v2!O$4:O$7))","v":0},{"$f":"SUMPRODUCT($G275:$J275,TRANSPOSE(Dados_v2!P$4:P$7))","v":0}]
[null,null,null,null,null,null,null,null,null,null,null,null,null,null,null,null,null,null,null,null,null,null,null,null,null,null,null,null,null,null,null,null,null,null,null,null,null,null,null,null,null,{"$f":"SUMPRODUCT($G276:$J276,TRANSPOSE(Dados_v2!N$4:N$7))","v":0},{"$f":"SUMPRODUCT($G276:$J276,TRANSPOSE(Dados_v2!O$4:O$7))","v":0},{"$f":"SUMPRODUCT($G276:$J276,TRANSPOSE(Dados_v2!P$4:P$7))","v":0}]
[null,null,null,null,null,null,null,null,null,null,null,null,null,null,null,null,null,null,null,null,null,null,null,null,null,null,null,null,null,null,null,null,null,null,null,null,null,null,null,null,null,{"$f":"SUMPRODUCT($G277:$J277,TRANSPOSE(Dados_v2!N$4:N$7))","v":0},{"$f":"SUMPRODUCT($G277:$J277,TRANSPOSE(Dados_v2!O$4:O$7))","v":0},{"$f":"SUMPRODUCT($G277:$J277,TRANSPOSE(Dados_v2!P$4:P$7))","v":0}]
[null,null,null,null,null,null,null,null,null,null,null,null,null,null,null,null,null,null,null,null,null,null,null,null,null,null,null,null,null,null,null,null,null,null,null,null,null,null,null,null,null,{"$f":"SUMPRODUCT($G278:$J278,TRANSPOSE(Dados_v2!N$4:N$7))","v":0},{"$f":"SUMPRODUCT($G278:$J278,TRANSPOSE(Dados_v2!O$4:O$7))","v":0},{"$f":"SUMPRODUCT($G278:$J278,TRANSPOSE(Dados_v2!P$4:P$7))","v":0}]
[null,null,null,null,null,null,null,null,null,null,null,null,null,null,null,null,null,null,null,null,null,null,null,null,null,null,null,null,null,null,null,null,null,null,null,null,null,null,null,null,null,{"$f":"SUMPRODUCT($G279:$J279,TRANSPOSE(Dados_v2!N$4:N$7))","v":0},{"$f":"SUMPRODUCT($G279:$J279,TRANSPOSE(Dados_v2!O$4:O$7))","v":0},{"$f":"SUMPRODUCT($G279:$J279,TRANSPOSE(Dados_v2!P$4:P$7))","v":0}]
[null,null,null,null,null,null,null,null,null,null,null,null,null,null,null,null,null,null,null,null,null,null,null,null,null,null,null,null,null,null,null,null,null,null,null,null,null,null,null,null,null,{"$f":"SUMPRODUCT($G280:$J280,TRANSPOSE(Dados_v2!N$4:N$7))","v":0},{"$f":"SUMPRODUCT($G280:$J280,TRANSPOSE(Dados_v2!O$4:O$7))","v":0},{"$f":"SUMPRODUCT($G280:$J280,TRANSPOSE(Dados_v2!P$4:P$7))","v":0}]
[null,null,null,null,null,null,null,null,null,null,null,null,null,null,null,null,null,null,null,null,null,null,null,null,null,null,null,null,null,null,null,null,null,null,null,null,null,null,null,null,null,{"$f":"SUMPRODUCT($G281:$J281,TRANSPOSE(Dados_v2!N$4:N$7))","v":0},{"$f":"SUMPRODUCT($G281:$J281,TRANSPOSE(Dados_v2!O$4:O$7))","v":0},{"$f":"SUMPRODUCT($G281:$J281,TRANSPOSE(Dados_v2!P$4:P$7))","v":0}]
[null,null,null,null,null,null,null,null,null,null,null,null,null,null,null,null,null,null,null,null,null,null,null,null,null,null,null,null,null,null,null,null,null,null,null,null,null,null,null,null,null,{"$f":"SUMPRODUCT($G282:$J282,TRANSPOSE(Dados_v2!N$4:N$7))","v":0},{"$f":"SUMPRODUCT($G282:$J282,TRANSPOSE(Dados_v2!O$4:O$7))","v":0},{"$f":"SUMPRODUCT($G282:$J282,TRANSPOSE(Dados_v2!P$4:P$7))","v":0}]
[null,null,null,null,null,null,null,null,null,null,null,null,null,null,null,null,null,null,null,null,null,null,null,null,null,null,null,null,null,null,null,null,null,null,null,null,null,null,null,null,null,{"$f":"SUMPRODUCT($G283:$J283,TRANSPOSE(Dados_v2!N$4:N$7))","v":0},{"$f":"SUMPRODUCT($G283:$J283,TRANSPOSE(Dados_v2!O$4:O$7))","v":0},{"$f":"SUMPRODUCT($G283:$J283,TRANSPOSE(Dados_v2!P$4:P$7))","v":0}]
[null,null,null,null,null,null,null,null,null,null,null,null,null,null,null,null,null,null,null,null,null,null,null,null,null,null,null,null,null,null,null,null,null,null,null,null,null,null,null,null,null,{"$f":"SUMPRODUCT($G284:$J284,TRANSPOSE(Dados_v2!N$4:N$7))","v":0},{"$f":"SUMPRODUCT($G284:$J284,TRANSPOSE(Dados_v2!O$4:O$7))","v":0},{"$f":"SUMPRODUCT($G284:$J284,TRANSPOSE(Dados_v2!P$4:P$7))","v":0}]
[null,null,null,null,null,null,null,null,null,null,null,null,null,null,null,null,null,null,null,null,null,null,null,null,null,null,null,null,null,null,null,null,null,null,null,null,null,null,null,null,null,{"$f":"SUMPRODUCT($G285:$J285,TRANSPOSE(Dados_v2!N$4:N$7))","v":0},{"$f":"SUMPRODUCT($G285:$J285,TRANSPOSE(Dados_v2!O$4:O$7))","v":0},{"$f":"SUMPRODUCT($G285:$J285,TRANSPOSE(Dados_v2!P$4:P$7))","v":0}]
[null,null,null,null,null,null,null,null,null,null,null,null,null,null,null,null,null,null,null,null,null,null,null,null,null,null,null,null,null,null,null,null,null,null,null,null,null,null,null,null,null,{"$f":"SUMPRODUCT($G286:$J286,TRANSPOSE(Dados_v2!N$4:N$7))","v":0},{"$f":"SUMPRODUCT($G286:$J286,TRANSPOSE(Dados_v2!O$4:O$7))","v":0},{"$f":"SUMPRODUCT($G286:$J286,TRANSPOSE(Dados_v2!P$4:P$7))","v":0}]
[null,null,null,null,null,null,null,null,null,null,null,null,null,null,null,null,null,null,null,null,null,null,null,null,null,null,null,null,null,null,null,null,null,null,null,null,null,null,null,null,null,{"$f":"SUMPRODUCT($G287:$J287,TRANSPOSE(Dados_v2!N$4:N$7))","v":0},{"$f":"SUMPRODUCT($G287:$J287,TRANSPOSE(Dados_v2!O$4:O$7))","v":0},{"$f":"SUMPRODUCT($G287:$J287,TRANSPOSE(Dados_v2!P$4:P$7))","v":0}]
[null,null,null,null,null,null,null,null,null,null,null,null,null,null,null,null,null,null,null,null,null,null,null,null,null,null,null,null,null,null,null,null,null,null,null,null,null,null,null,null,null,{"$f":"SUMPRODUCT($G288:$J288,TRANSPOSE(Dados_v2!N$4:N$7))","v":0},{"$f":"SUMPRODUCT($G288:$J288,TRANSPOSE(Dados_v2!O$4:O$7))","v":0},{"$f":"SUMPRODUCT($G288:$J288,TRANSPOSE(Dados_v2!P$4:P$7))","v":0}]
[null,null,null,null,null,null,null,null,null,null,null,null,null,null,null,null,null,null,null,null,null,null,null,null,null,null,null,null,null,null,null,null,null,null,null,null,null,null,null,null,null,{"$f":"SUMPRODUCT($G289:$J289,TRANSPOSE(Dados_v2!N$4:N$7))","v":0},{"$f":"SUMPRODUCT($G289:$J289,TRANSPOSE(Dados_v2!O$4:O$7))","v":0},{"$f":"SUMPRODUCT($G289:$J289,TRANSPOSE(Dados_v2!P$4:P$7))","v":0}]
[null,null,null,null,null,null,null,null,null,null,null,null,null,null,null,null,null,null,null,null,null,null,null,null,null,null,null,null,null,null,null,null,null,null,null,null,null,null,null,null,null,{"$f":"SUMPRODUCT($G290:$J290,TRANSPOSE(Dados_v2!N$4:N$7))","v":0},{"$f":"SUMPRODUCT($G290:$J290,TRANSPOSE(Dados_v2!O$4:O$7))","v":0},{"$f":"SUMPRODUCT($G290:$J290,TRANSPOSE(Dados_v2!P$4:P$7))","v":0}]
[null,null,null,null,null,null,null,null,null,null,null,null,null,null,null,null,null,null,null,null,null,null,null,null,null,null,null,null,null,null,null,null,null,null,null,null,null,null,null,null,null,{"$f":"SUMPRODUCT($G291:$J291,TRANSPOSE(Dados_v2!N$4:N$7))","v":0},{"$f":"SUMPRODUCT($G291:$J291,TRANSPOSE(Dados_v2!O$4:O$7))","v":0},{"$f":"SUMPRODUCT($G291:$J291,TRANSPOSE(Dados_v2!P$4:P$7))","v":0}]
[null,null,null,null,null,null,null,null,null,null,null,null,null,null,null,null,null,null,null,null,null,null,null,null,null,null,null,null,null,null,null,null,null,null,null,null,null,null,null,null,null,{"$f":"SUMPRODUCT($G292:$J292,TRANSPOSE(Dados_v2!N$4:N$7))","v":0},{"$f":"SUMPRODUCT($G292:$J292,TRANSPOSE(Dados_v2!O$4:O$7))","v":0},{"$f":"SUMPRODUCT($G292:$J292,TRANSPOSE(Dados_v2!P$4:P$7))","v":0}]
[null,null,null,null,null,null,null,null,null,null,null,null,null,null,null,null,null,null,null,null,null,null,null,null,null,null,null,null,null,null,null,null,null,null,null,null,null,null,null,null,null,{"$f":"SUMPRODUCT($G293:$J293,TRANSPOSE(Dados_v2!N$4:N$7))","v":0},{"$f":"SUMPRODUCT($G293:$J293,TRANSPOSE(Dados_v2!O$4:O$7))","v":0},{"$f":"SUMPRODUCT($G293:$J293,TRANSPOSE(Dados_v2!P$4:P$7))","v":0}]
[null,null,null,null,null,null,null,null,null,null,null,null,null,null,null,null,null,null,null,null,null,null,null,null,null,null,null,null,null,null,null,null,null,null,null,null,null,null,null,null,null,{"$f":"SUMPRODUCT($G294:$J294,TRANSPOSE(Dados_v2!N$4:N$7))","v":0},{"$f":"SUMPRODUCT($G294:$J294,TRANSPOSE(Dados_v2!O$4:O$7))","v":0},{"$f":"SUMPRODUCT($G294:$J294,TRANSPOSE(Dados_v2!P$4:P$7))","v":0}]
[null,null,null,null,null,null,null,null,null,null,null,null,null,null,null,null,null,null,null,null,null,null,null,null,null,null,null,null,null,null,null,null,null,null,null,null,null,null,null,null,null,{"$f":"SUMPRODUCT($G295:$J295,TRANSPOSE(Dados_v2!N$4:N$7))","v":0},{"$f":"SUMPRODUCT($G295:$J295,TRANSPOSE(Dados_v2!O$4:O$7))","v":0},{"$f":"SUMPRODUCT($G295:$J295,TRANSPOSE(Dados_v2!P$4:P$7))","v":0}]
[null,null,null,null,null,null,null,null,null,null,null,null,null,null,null,null,null,null,null,null,null,null,null,null,null,null,null,null,null,null,null,null,null,null,null,null,null,null,null,null,null,{"$f":"SUMPRODUCT($G296:$J296,TRANSPOSE(Dados_v2!N$4:N$7))","v":0},{"$f":"SUMPRODUCT($G296:$J296,TRANSPOSE(Dados_v2!O$4:O$7))","v":0},{"$f":"SUMPRODUCT($G296:$J296,TRANSPOSE(Dados_v2!P$4:P$7))","v":0}]
[null,null,null,null,null,null,null,null,null,null,null,null,null,null,null,null,null,null,null,null,null,null,null,null,null,null,null,null,null,null,null,null,null,null,null,null,null,null,null,null,null,{"$f":"SUMPRODUCT($G297:$J297,TRANSPOSE(Dados_v2!N$4:N$7))","v":0},{"$f":"SUMPRODUCT($G297:$J297,TRANSPOSE(Dados_v2!O$4:O$7))","v":0},{"$f":"SUMPRODUCT($G297:$J297,TRANSPOSE(Dados_v2!P$4:P$7))","v":0}]
[null,null,null,null,null,null,null,null,null,null,null,null,null,null,null,null,null,null,null,null,null,null,null,null,null,null,null,null,null,null,null,null,null,null,null,null,null,null,null,null,null,{"$f":"SUMPRODUCT($G298:$J298,TRANSPOSE(Dados_v2!N$4:N$7))","v":0},{"$f":"SUMPRODUCT($G298:$J298,TRANSPOSE(Dados_v2!O$4:O$7))","v":0},{"$f":"SUMPRODUCT($G298:$J298,TRANSPOSE(Dados_v2!P$4:P$7))","v":0}]
[null,null,null,null,null,null,null,null,null,null,null,null,null,null,null,null,null,null,null,null,null,null,null,null,null,null,null,null,null,null,null,null,null,null,null,null,null,null,null,null,null,{"$f":"SUMPRODUCT($G299:$J299,TRANSPOSE(Dados_v2!N$4:N$7))","v":0},{"$f":"SUMPRODUCT($G299:$J299,TRANSPOSE(Dados_v2!O$4:O$7))","v":0},{"$f":"SUMPRODUCT($G299:$J299,TRANSPOSE(Dados_v2!P$4:P$7))","v":0}]
[null,null,null,null,null,null,null,null,null,null,null,null,null,null,null,null,null,null,null,null,null,null,null,null,null,null,null,null,null,null,null,null,null,null,null,null,null,null,null,null,null,{"$f":"SUMPRODUCT($G300:$J300,TRANSPOSE(Dados_v2!N$4:N$7))","v":0},{"$f":"SUMPRODUCT($G300:$J300,TRANSPOSE(Dados_v2!O$4:O$7))","v":0},{"$f":"SUMPRODUCT($G300:$J300,TRANSPOSE(Dados_v2!P$4:P$7))","v":0}]
[null,null,null,null,null,null,null,null,null,null,null,null,null,null,null,null,null,null,null,null,null,null,null,null,null,null,null,null,null,null,null,null,null,null,null,null,null,null,null,null,null,{"$f":"SUMPRODUCT($G301:$J301,TRANSPOSE(Dados_v2!N$4:N$7))","v":0},{"$f":"SUMPRODUCT($G301:$J301,TRANSPOSE(Dados_v2!O$4:O$7))","v":0},{"$f":"SUMPRODUCT($G301:$J301,TRANSPOSE(Dados_v2!P$4:P$7))","v":0}]
[null,null,null,null,null,null,null,null,null,null,null,null,null,null,null,null,null,null,null,null,null,null,null,null,null,null,null,null,null,null,null,null,null,null,null,null,null,null,null,null,null,{"$f":"SUMPRODUCT($G302:$J302,TRANSPOSE(Dados_v2!N$4:N$7))","v":0},{"$f":"SUMPRODUCT($G302:$J302,TRANSPOSE(Dados_v2!O$4:O$7))","v":0},{"$f":"SUMPRODUCT($G302:$J302,TRANSPOSE(Dados_v2!P$4:P$7))","v":0}]
[null,null,null,null,null,null,null,null,null,null,null,null,null,null,null,null,null,null,null,null,null,null,null,null,null,null,null,null,null,null,null,null,null,null,null,null,null,null,null,null,null,{"$f":"SUMPRODUCT($G303:$J303,TRANSPOSE(Dados_v2!N$4:N$7))","v":0},{"$f":"SUMPRODUCT($G303:$J303,TRANSPOSE(Dados_v2!O$4:O$7))","v":0},{"$f":"SUMPRODUCT($G303:$J303,TRANSPOSE(Dados_v2!P$4:P$7))","v":0}]
[null,null,null,null,null,null,null,null,null,null,null,null,null,null,null,null,null,null,null,null,null,null,null,null,null,null,null,null,null,null,null,null,null,null,null,null,null,null,null,null,null,{"$f":"SUMPRODUCT($G304:$J304,TRANSPOSE(Dados_v2!N$4:N$7))","v":0},{"$f":"SUMPRODUCT($G304:$J304,TRANSPOSE(Dados_v2!O$4:O$7))","v":0},{"$f":"SUMPRODUCT($G304:$J304,TRANSPOSE(Dados_v2!P$4:P$7))","v":0}]
[null,null,null,null,null,null,null,null,null,null,null,null,null,null,null,null,null,null,null,null,null,null,null,null,null,null,null,null,null,null,null,null,null,null,null,null,null,null,null,null,null,{"$f":"SUMPRODUCT($G305:$J305,TRANSPOSE(Dados_v2!N$4:N$7))","v":0},{"$f":"SUMPRODUCT($G305:$J305,TRANSPOSE(Dados_v2!O$4:O$7))","v":0},{"$f":"SUMPRODUCT($G305:$J305,TRANSPOSE(Dados_v2!P$4:P$7))","v":0}]
[null,null,null,null,null,null,null,null,null,null,null,null,null,null,null,null,null,null,null,null,null,null,null,null,null,null,null,null,null,null,null,null,null,null,null,null,null,null,null,null,null,{"$f":"SUMPRODUCT($G306:$J306,TRANSPOSE(Dados_v2!N$4:N$7))","v":0},{"$f":"SUMPRODUCT($G306:$J306,TRANSPOSE(Dados_v2!O$4:O$7))","v":0},{"$f":"SUMPRODUCT($G306:$J306,TRANSPOSE(Dados_v2!P$4:P$7))","v":0}]
[null,null,null,null,null,null,null,null,null,null,null,null,null,null,null,null,null,null,null,null,null,null,null,null,null,null,null,null,null,null,null,null,null,null,null,null,null,null,null,null,null,{"$f":"SUMPRODUCT($G307:$J307,TRANSPOSE(Dados_v2!N$4:N$7))","v":0},{"$f":"SUMPRODUCT($G307:$J307,TRANSPOSE(Dados_v2!O$4:O$7))","v":0},{"$f":"SUMPRODUCT($G307:$J307,TRANSPOSE(Dados_v2!P$4:P$7))","v":0}]
[null,null,null,null,null,null,null,null,null,null,null,null,null,null,null,null,null,null,null,null,null,null,null,null,null,null,null,null,null,null,null,null,null,null,null,null,null,null,null,null,null,{"$f":"SUMPRODUCT($G308:$J308,TRANSPOSE(Dados_v2!N$4:N$7))","v":0},{"$f":"SUMPRODUCT($G308:$J308,TRANSPOSE(Dados_v2!O$4:O$7))","v":0},{"$f":"SUMPRODUCT($G308:$J308,TRANSPOSE(Dados_v2!P$4:P$7))","v":0}]
[null,null,null,null,null,null,null,null,null,null,null,null,null,null,null,null,null,null,null,null,null,null,null,null,null,null,null,null,null,null,null,null,null,null,null,null,null,null,null,null,null,{"$f":"SUMPRODUCT($G309:$J309,TRANSPOSE(Dados_v2!N$4:N$7))","v":0},{"$f":"SUMPRODUCT($G309:$J309,TRANSPOSE(Dados_v2!O$4:O$7))","v":0},{"$f":"SUMPRODUCT($G309:$J309,TRANSPOSE(Dados_v2!P$4:P$7))","v":0}]
[null,null,null,null,null,null,null,null,null,null,null,null,null,null,null,null,null,null,null,null,null,null,null,null,null,null,null,null,null,null,null,null,null,null,null,null,null,null,null,null,null,{"$f":"SUMPRODUCT($G310:$J310,TRANSPOSE(Dados_v2!N$4:N$7))","v":0},{"$f":"SUMPRODUCT($G310:$J310,TRANSPOSE(Dados_v2!O$4:O$7))","v":0},{"$f":"SUMPRODUCT($G310:$J310,TRANSPOSE(Dados_v2!P$4:P$7))","v":0}]
[null,null,null,null,null,null,null,null,null,null,null,null,null,null,null,null,null,null,null,null,null,null,null,null,null,null,null,null,null,null,null,null,null,null,null,null,null,null,null,null,null,{"$f":"SUMPRODUCT($G311:$J311,TRANSPOSE(Dados_v2!N$4:N$7))","v":0},{"$f":"SUMPRODUCT($G311:$J311,TRANSPOSE(Dados_v2!O$4:O$7))","v":0},{"$f":"SUMPRODUCT($G311:$J311,TRANSPOSE(Dados_v2!P$4:P$7))","v":0}]
[null,null,null,null,null,null,null,null,null,null,null,null,null,null,null,null,null,null,null,null,null,null,null,null,null,null,null,null,null,null,null,null,null,null,null,null,null,null,null,null,null,{"$f":"SUMPRODUCT($G312:$J312,TRANSPOSE(Dados_v2!N$4:N$7))","v":0},{"$f":"SUMPRODUCT($G312:$J312,TRANSPOSE(Dados_v2!O$4:O$7))","v":0},{"$f":"SUMPRODUCT($G312:$J312,TRANSPOSE(Dados_v2!P$4:P$7))","v":0}]
[null,null,null,null,null,null,null,null,null,null,null,null,null,null,null,null,null,null,null,null,null,null,null,null,null,null,null,null,null,null,null,null,null,null,null,null,null,null,null,null,null,{"$f":"SUMPRODUCT($G313:$J313,TRANSPOSE(Dados_v2!N$4:N$7))","v":0},{"$f":"SUMPRODUCT($G313:$J313,TRANSPOSE(Dados_v2!O$4:O$7))","v":0},{"$f":"SUMPRODUCT($G313:$J313,TRANSPOSE(Dados_v2!P$4:P$7))","v":0}]
[null,null,null,null,null,null,null,null,null,null,null,null,null,null,null,null,null,null,null,null,null,null,null,null,null,null,null,null,null,null,null,null,null,null,null,null,null,null,null,null,null,{"$f":"SUMPRODUCT($G314:$J314,TRANSPOSE(Dados_v2!N$4:N$7))","v":0},{"$f":"SUMPRODUCT($G314:$J314,TRANSPOSE(Dados_v2!O$4:O$7))","v":0},{"$f":"SUMPRODUCT($G314:$J314,TRANSPOSE(Dados_v2!P$4:P$7))","v":0}]
[null,null,null,null,null,null,null,null,null,null,null,null,null,null,null,null,null,null,null,null,null,null,null,null,null,null,null,null,null,null,null,null,null,null,null,null,null,null,null,null,null,{"$f":"SUMPRODUCT($G315:$J315,TRANSPOSE(Dados_v2!N$4:N$7))","v":0},{"$f":"SUMPRODUCT($G315:$J315,TRANSPOSE(Dados_v2!O$4:O$7))","v":0},{"$f":"SUMPRODUCT($G315:$J315,TRANSPOSE(Dados_v2!P$4:P$7))","v":0}]
[null,null,null,null,null,null,null,null,null,null,null,null,null,null,null,null,null,null,null,null,null,null,null,null,null,null,null,null,null,null,null,null,null,null,null,null,null,null,null,null,null,{"$f":"SUMPRODUCT($G316:$J316,TRANSPOSE(Dados_v2!N$4:N$7))","v":0},{"$f":"SUMPRODUCT($G316:$J316,TRANSPOSE(Dados_v2!O$4:O$7))","v":0},{"$f":"SUMPRODUCT($G316:$J316,TRANSPOSE(Dados_v2!P$4:P$7))","v":0}]
[null,null,null,null,null,null,null,null,null,null,null,null,null,null,null,null,null,null,null,null,null,null,null,null,null,null,null,null,null,null,null,null,null,null,null,null,null,null,null,null,null,{"$f":"SUMPRODUCT($G317:$J317,TRANSPOSE(Dados_v2!N$4:N$7))","v":0},{"$f":"SUMPRODUCT($G317:$J317,TRANSPOSE(Dados_v2!O$4:O$7))","v":0},{"$f":"SUMPRODUCT($G317:$J317,TRANSPOSE(Dados_v2!P$4:P$7))","v":0}]
[null,null,null,null,null,null,null,null,null,null,null,null,null,null,null,null,null,null,null,null,null,null,null,null,null,null,null,null,null,null,null,null,null,null,null,null,null,null,null,null,null,{"$f":"SUMPRODUCT($G318:$J318,TRANSPOSE(Dados_v2!N$4:N$7))","v":0},{"$f":"SUMPRODUCT($G318:$J318,TRANSPOSE(Dados_v2!O$4:O$7))","v":0},{"$f":"SUMPRODUCT($G318:$J318,TRANSPOSE(Dados_v2!P$4:P$7))","v":0}]
[null,null,null,null,null,null,null,null,null,null,null,null,null,null,null,null,null,null,null,null,null,null,null,null,null,null,null,null,null,null,null,null,null,null,null,null,null,null,null,null,null,{"$f":"SUMPRODUCT($G319:$J319,TRANSPOSE(Dados_v2!N$4:N$7))","v":0},{"$f":"SUMPRODUCT($G319:$J319,TRANSPOSE(Dados_v2!O$4:O$7))","v":0},{"$f":"SUMPRODUCT($G319:$J319,TRANSPOSE(Dados_v2!P$4:P$7))","v":0}]
[null,null,null,null,null,null,null,null,null,null,null,null,null,null,null,null,null,null,null,null,null,null,null,null,null,null,null,null,null,null,null,null,null,null,null,null,null,null,null,null,null,{"$f":"SUMPRODUCT($G320:$J320,TRANSPOSE(Dados_v2!N$4:N$7))","v":0},{"$f":"SUMPRODUCT($G320:$J320,TRANSPOSE(Dados_v2!O$4:O$7))","v":0},{"$f":"SUMPRODUCT($G320:$J320,TRANSPOSE(Dados_v2!P$4:P$7))","v":0}]
[null,null,null,null,null,null,null,null,null,null,null,null,null,null,null,null,null,null,null,null,null,null,null,null,null,null,null,null,null,null,null,null,null,null,null,null,null,null,null,null,null,{"$f":"SUMPRODUCT($G321:$J321,TRANSPOSE(Dados_v2!N$4:N$7))","v":0},{"$f":"SUMPRODUCT($G321:$J321,TRANSPOSE(Dados_v2!O$4:O$7))","v":0},{"$f":"SUMPRODUCT($G321:$J321,TRANSPOSE(Dados_v2!P$4:P$7))","v":0}]
[null,null,null,null,null,null,null,null,null,null,null,null,null,null,null,null,null,null,null,null,null,null,null,null,null,null,null,null,null,null,null,null,null,null,null,null,null,null,null,null,null,{"$f":"SUMPRODUCT($G322:$J322,TRANSPOSE(Dados_v2!N$4:N$7))","v":0},{"$f":"SUMPRODUCT($G322:$J322,TRANSPOSE(Dados_v2!O$4:O$7))","v":0},{"$f":"SUMPRODUCT($G322:$J322,TRANSPOSE(Dados_v2!P$4:P$7))","v":0}]
[null,null,null,null,null,null,null,null,null,null,null,null,null,null,null,null,null,null,null,null,null,null,null,null,null,null,null,null,null,null,null,null,null,null,null,null,null,null,null,null,null,{"$f":"SUMPRODUCT($G323:$J323,TRANSPOSE(Dados_v2!N$4:N$7))","v":0},{"$f":"SUMPRODUCT($G323:$J323,TRANSPOSE(Dados_v2!O$4:O$7))","v":0},{"$f":"SUMPRODUCT($G323:$J323,TRANSPOSE(Dados_v2!P$4:P$7))","v":0}]
[null,null,null,null,null,null,null,null,null,null,null,null,null,null,null,null,null,null,null,null,null,null,null,null,null,null,null,null,null,null,null,null,null,null,null,null,null,null,null,null,null,{"$f":"SUMPRODUCT($G324:$J324,TRANSPOSE(Dados_v2!N$4:N$7))","v":0},{"$f":"SUMPRODUCT($G324:$J324,TRANSPOSE(Dados_v2!O$4:O$7))","v":0},{"$f":"SUMPRODUCT($G324:$J324,TRANSPOSE(Dados_v2!P$4:P$7))","v":0}]
[null,null,null,null,null,null,null,null,null,null,null,null,null,null,null,null,null,null,null,null,null,null,null,null,null,null,null,null,null,null,null,null,null,null,null,null,null,null,null,null,null,{"$f":"SUMPRODUCT($G325:$J325,TRANSPOSE(Dados_v2!N$4:N$7))","v":0},{"$f":"SUMPRODUCT($G325:$J325,TRANSPOSE(Dados_v2!O$4:O$7))","v":0},{"$f":"SUMPRODUCT($G325:$J325,TRANSPOSE(Dados_v2!P$4:P$7))","v":0}]
[null,null,null,null,null,null,null,null,null,null,null,null,null,null,null,null,null,null,null,null,null,null,null,null,null,null,null,null,null,null,null,null,null,null,null,null,null,null,null,null,null,{"$f":"SUMPRODUCT($G326:$J326,TRANSPOSE(Dados_v2!N$4:N$7))","v":0},{"$f":"SUMPRODUCT($G326:$J326,TRANSPOSE(Dados_v2!O$4:O$7))","v":0},{"$f":"SUMPRODUCT($G326:$J326,TRANSPOSE(Dados_v2!P$4:P$7))","v":0}]
[null,null,null,null,null,null,null,null,null,null,null,null,null,null,null,null,null,null,null,null,null,null,null,null,null,null,null,null,null,null,null,null,null,null,null,null,null,null,null,null,null,{"$f":"SUMPRODUCT($G327:$J327,TRANSPOSE(Dados_v2!N$4:N$7))","v":0},{"$f":"SUMPRODUCT($G327:$J327,TRANSPOSE(Dados_v2!O$4:O$7))","v":0},{"$f":"SUMPRODUCT($G327:$J327,TRANSPOSE(Dados_v2!P$4:P$7))","v":0}]
[null,null,null,null,null,null,null,null,null,null,null,null,null,null,null,null,null,null,null,null,null,null,null,null,null,null,null,null,null,null,null,null,null,null,null,null,null,null,null,null,null,{"$f":"SUMPRODUCT($G328:$J328,TRANSPOSE(Dados_v2!N$4:N$7))","v":0},{"$f":"SUMPRODUCT($G328:$J328,TRANSPOSE(Dados_v2!O$4:O$7))","v":0},{"$f":"SUMPRODUCT($G328:$J328,TRANSPOSE(Dados_v2!P$4:P$7))","v":0}]
[null,null,null,null,null,null,null,null,null,null,null,null,null,null,null,null,null,null,null,null,null,null,null,null,null,null,null,null,null,null,null,null,null,null,null,null,null,null,null,null,null,{"$f":"SUMPRODUCT($G329:$J329,TRANSPOSE(Dados_v2!N$4:N$7))","v":0},{"$f":"SUMPRODUCT($G329:$J329,TRANSPOSE(Dados_v2!O$4:O$7))","v":0},{"$f":"SUMPRODUCT($G329:$J329,TRANSPOSE(Dados_v2!P$4:P$7))","v":0}]
[null,null,null,null,null,null,null,null,null,null,null,null,null,null,null,null,null,null,null,null,null,null,null,null,null,null,null,null,null,null,null,null,null,null,null,null,null,null,null,null,null,{"$f":"SUMPRODUCT($G330:$J330,TRANSPOSE(Dados_v2!N$4:N$7))","v":0},{"$f":"SUMPRODUCT($G330:$J330,TRANSPOSE(Dados_v2!O$4:O$7))","v":0},{"$f":"SUMPRODUCT($G330:$J330,TRANSPOSE(Dados_v2!P$4:P$7))","v":0}]
[null,null,null,null,null,null,null,null,null,null,null,null,null,null,null,null,null,null,null,null,null,null,null,null,null,null,null,null,null,null,null,null,null,null,null,null,null,null,null,null,null,{"$f":"SUMPRODUCT($G331:$J331,TRANSPOSE(Dados_v2!N$4:N$7))","v":0},{"$f":"SUMPRODUCT($G331:$J331,TRANSPOSE(Dados_v2!O$4:O$7))","v":0},{"$f":"SUMPRODUCT($G331:$J331,TRANSPOSE(Dados_v2!P$4:P$7))","v":0}]
[null,null,null,null,null,null,null,null,null,null,null,null,null,null,null,null,null,null,null,null,null,null,null,null,null,null,null,null,null,null,null,null,null,null,null,null,null,null,null,null,null,{"$f":"SUMPRODUCT($G332:$J332,TRANSPOSE(Dados_v2!N$4:N$7))","v":0},{"$f":"SUMPRODUCT($G332:$J332,TRANSPOSE(Dados_v2!O$4:O$7))","v":0},{"$f":"SUMPRODUCT($G332:$J332,TRANSPOSE(Dados_v2!P$4:P$7))","v":0}]
[null,null,null,null,null,null,null,null,null,null,null,null,null,null,null,null,null,null,null,null,null,null,null,null,null,null,null,null,null,null,null,null,null,null,null,null,null,null,null,null,null,{"$f":"SUMPRODUCT($G333:$J333,TRANSPOSE(Dados_v2!N$4:N$7))","v":0},{"$f":"SUMPRODUCT($G333:$J333,TRANSPOSE(Dados_v2!O$4:O$7))","v":0},{"$f":"SUMPRODUCT($G333:$J333,TRANSPOSE(Dados_v2!P$4:P$7))","v":0}]
[null,null,null,null,null,null,null,null,null,null,null,null,null,null,null,null,null,null,null,null,null,null,null,null,null,null,null,null,null,null,null,null,null,null,null,null,null,null,null,null,null,{"$f":"SUMPRODUCT($G334:$J334,TRANSPOSE(Dados_v2!N$4:N$7))","v":0},{"$f":"SUMPRODUCT($G334:$J334,TRANSPOSE(Dados_v2!O$4:O$7))","v":0},{"$f":"SUMPRODUCT($G334:$J334,TRANSPOSE(Dados_v2!P$4:P$7))","v":0}]
[null,null,null,null,null,null,null,null,null,null,null,null,null,null,null,null,null,null,null,null,null,null,null,null,null,null,null,null,null,null,null,null,null,null,null,null,null,null,null,null,null,{"$f":"SUMPRODUCT($G335:$J335,TRANSPOSE(Dados_v2!N$4:N$7))","v":0},{"$f":"SUMPRODUCT($G335:$J335,TRANSPOSE(Dados_v2!O$4:O$7))","v":0},{"$f":"SUMPRODUCT($G335:$J335,TRANSPOSE(Dados_v2!P$4:P$7))","v":0}]
[null,null,null,null,null,null,null,null,null,null,null,null,null,null,null,null,null,null,null,null,null,null,null,null,null,null,null,null,null,null,null,null,null,null,null,null,null,null,null,null,null,{"$f":"SUMPRODUCT($G336:$J336,TRANSPOSE(Dados_v2!N$4:N$7))","v":0},{"$f":"SUMPRODUCT($G336:$J336,TRANSPOSE(Dados_v2!O$4:O$7))","v":0},{"$f":"SUMPRODUCT($G336:$J336,TRANSPOSE(Dados_v2!P$4:P$7))","v":0}]
[null,null,null,null,null,null,null,null,null,null,null,null,null,null,null,null,null,null,null,null,null,null,null,null,null,null,null,null,null,null,null,null,null,null,null,null,null,null,null,null,null,{"$f":"SUMPRODUCT($G337:$J337,TRANSPOSE(Dados_v2!N$4:N$7))","v":0},{"$f":"SUMPRODUCT($G337:$J337,TRANSPOSE(Dados_v2!O$4:O$7))","v":0},{"$f":"SUMPRODUCT($G337:$J337,TRANSPOSE(Dados_v2!P$4:P$7))","v":0}]
[null,null,null,null,null,null,null,null,null,null,null,null,null,null,null,null,null,null,null,null,null,null,null,null,null,null,null,null,null,null,null,null,null,null,null,null,null,null,null,null,null,{"$f":"SUMPRODUCT($G338:$J338,TRANSPOSE(Dados_v2!N$4:N$7))","v":0},{"$f":"SUMPRODUCT($G338:$J338,TRANSPOSE(Dados_v2!O$4:O$7))","v":0},{"$f":"SUMPRODUCT($G338:$J338,TRANSPOSE(Dados_v2!P$4:P$7))","v":0}]
[null,null,null,null,null,null,null,null,null,null,null,null,null,null,null,null,null,null,null,null,null,null,null,null,null,null,null,null,null,null,null,null,null,null,null,null,null,null,null,null,null,{"$f":"SUMPRODUCT($G339:$J339,TRANSPOSE(Dados_v2!N$4:N$7))","v":0},{"$f":"SUMPRODUCT($G339:$J339,TRANSPOSE(Dados_v2!O$4:O$7))","v":0},{"$f":"SUMPRODUCT($G339:$J339,TRANSPOSE(Dados_v2!P$4:P$7))","v":0}]
[null,null,null,null,null,null,null,null,null,null,null,null,null,null,null,null,null,null,null,null,null,null,null,null,null,null,null,null,null,null,null,null,null,null,null,null,null,null,null,null,null,{"$f":"SUMPRODUCT($G340:$J340,TRANSPOSE(Dados_v2!N$4:N$7))","v":0},{"$f":"SUMPRODUCT($G340:$J340,TRANSPOSE(Dados_v2!O$4:O$7))","v":0},{"$f":"SUMPRODUCT($G340:$J340,TRANSPOSE(Dados_v2!P$4:P$7))","v":0}]
[null,null,null,null,null,null,null,null,null,null,null,null,null,null,null,null,null,null,null,null,null,null,null,null,null,null,null,null,null,null,null,null,null,null,null,null,null,null,null,null,null,{"$f":"SUMPRODUCT($G341:$J341,TRANSPOSE(Dados_v2!N$4:N$7))","v":0},{"$f":"SUMPRODUCT($G341:$J341,TRANSPOSE(Dados_v2!O$4:O$7))","v":0},{"$f":"SUMPRODUCT($G341:$J341,TRANSPOSE(Dados_v2!P$4:P$7))","v":0}]
[null,null,null,null,null,null,null,null,null,null,null,null,null,null,null,null,null,null,null,null,null,null,null,null,null,null,null,null,null,null,null,null,null,null,null,null,null,null,null,null,null,{"$f":"SUMPRODUCT($G342:$J342,TRANSPOSE(Dados_v2!N$4:N$7))","v":0},{"$f":"SUMPRODUCT($G342:$J342,TRANSPOSE(Dados_v2!O$4:O$7))","v":0},{"$f":"SUMPRODUCT($G342:$J342,TRANSPOSE(Dados_v2!P$4:P$7))","v":0}]
[null,null,null,null,null,null,null,null,null,null,null,null,null,null,null,null,null,null,null,null,null,null,null,null,null,null,null,null,null,null,null,null,null,null,null,null,null,null,null,null,null,{"$f":"SUMPRODUCT($G343:$J343,TRANSPOSE(Dados_v2!N$4:N$7))","v":0},{"$f":"SUMPRODUCT($G343:$J343,TRANSPOSE(Dados_v2!O$4:O$7))","v":0},{"$f":"SUMPRODUCT($G343:$J343,TRANSPOSE(Dados_v2!P$4:P$7))","v":0}]
[null,null,null,null,null,null,null,null,null,null,null,null,null,null,null,null,null,null,null,null,null,null,null,null,null,null,null,null,null,null,null,null,null,null,null,null,null,null,null,null,null,{"$f":"SUMPRODUCT($G344:$J344,TRANSPOSE(Dados_v2!N$4:N$7))","v":0},{"$f":"SUMPRODUCT($G344:$J344,TRANSPOSE(Dados_v2!O$4:O$7))","v":0},{"$f":"SUMPRODUCT($G344:$J344,TRANSPOSE(Dados_v2!P$4:P$7))","v":0}]
[null,null,null,null,null,null,null,null,null,null,null,null,null,null,null,null,null,null,null,null,null,null,null,null,null,null,null,null,null,null,null,null,null,null,null,null,null,null,null,null,null,{"$f":"SUMPRODUCT($G345:$J345,TRANSPOSE(Dados_v2!N$4:N$7))","v":0},{"$f":"SUMPRODUCT($G345:$J345,TRANSPOSE(Dados_v2!O$4:O$7))","v":0},{"$f":"SUMPRODUCT($G345:$J345,TRANSPOSE(Dados_v2!P$4:P$7))","v":0}]
[null,null,null,null,null,null,null,null,null,null,null,null,null,null,null,null,null,null,null,null,null,null,null,null,null,null,null,null,null,null,null,null,null,null,null,null,null,null,null,null,null,{"$f":"SUMPRODUCT($G346:$J346,TRANSPOSE(Dados_v2!N$4:N$7))","v":0},{"$f":"SUMPRODUCT($G346:$J346,TRANSPOSE(Dados_v2!O$4:O$7))","v":0},{"$f":"SUMPRODUCT($G346:$J346,TRANSPOSE(Dados_v2!P$4:P$7))","v":0}]
[null,null,null,null,null,null,null,null,null,null,null,null,null,null,null,null,null,null,null,null,null,null,null,null,null,null,null,null,null,null,null,null,null,null,null,null,null,null,null,null,null,{"$f":"SUMPRODUCT($G347:$J347,TRANSPOSE(Dados_v2!N$4:N$7))","v":0},{"$f":"SUMPRODUCT($G347:$J347,TRANSPOSE(Dados_v2!O$4:O$7))","v":0},{"$f":"SUMPRODUCT($G347:$J347,TRANSPOSE(Dados_v2!P$4:P$7))","v":0}]
[null,null,null,null,null,null,null,null,null,null,null,null,null,null,null,null,null,null,null,null,null,null,null,null,null,null,null,null,null,null,null,null,null,null,null,null,null,null,null,null,null,{"$f":"SUMPRODUCT($G348:$J348,TRANSPOSE(Dados_v2!N$4:N$7))","v":0},{"$f":"SUMPRODUCT($G348:$J348,TRANSPOSE(Dados_v2!O$4:O$7))","v":0},{"$f":"SUMPRODUCT($G348:$J348,TRANSPOSE(Dados_v2!P$4:P$7))","v":0}]
[null,null,null,null,null,null,null,null,null,null,null,null,null,null,null,null,null,null,null,null,null,null,null,null,null,null,null,null,null,null,null,null,null,null,null,null,null,null,null,null,null,{"$f":"SUMPRODUCT($G349:$J349,TRANSPOSE(Dados_v2!N$4:N$7))","v":0},{"$f":"SUMPRODUCT($G349:$J349,TRANSPOSE(Dados_v2!O$4:O$7))","v":0},{"$f":"SUMPRODUCT($G349:$J349,TRANSPOSE(Dados_v2!P$4:P$7))","v":0}]
[null,null,null,null,null,null,null,null,null,null,null,null,null,null,null,null,null,null,null,null,null,null,null,null,null,null,null,null,null,null,null,null,null,null,null,null,null,null,null,null,null,{"$f":"SUMPRODUCT($G350:$J350,TRANSPOSE(Dados_v2!N$4:N$7))","v":0},{"$f":"SUMPRODUCT($G350:$J350,TRANSPOSE(Dados_v2!O$4:O$7))","v":0},{"$f":"SUMPRODUCT($G350:$J350,TRANSPOSE(Dados_v2!P$4:P$7))","v":0}]
[null,null,null,null,null,null,null,null,null,null,null,null,null,null,null,null,null,null,null,null,null,null,null,null,null,null,null,null,null,null,null,null,null,null,null,null,null,null,null,null,null,{"$f":"SUMPRODUCT($G351:$J351,TRANSPOSE(Dados_v2!N$4:N$7))","v":0},{"$f":"SUMPRODUCT($G351:$J351,TRANSPOSE(Dados_v2!O$4:O$7))","v":0},{"$f":"SUMPRODUCT($G351:$J351,TRANSPOSE(Dados_v2!P$4:P$7))","v":0}]
[null,null,null,null,null,null,null,null,null,null,null,null,null,null,null,null,null,null,null,null,null,null,null,null,null,null,null,null,null,null,null,null,null,null,null,null,null,null,null,null,null,{"$f":"SUMPRODUCT($G352:$J352,TRANSPOSE(Dados_v2!N$4:N$7))","v":0},{"$f":"SUMPRODUCT($G352:$J352,TRANSPOSE(Dados_v2!O$4:O$7))","v":0},{"$f":"SUMPRODUCT($G352:$J352,TRANSPOSE(Dados_v2!P$4:P$7))","v":0}]
[null,null,null,null,null,null,null,null,null,null,null,null,null,null,null,null,null,null,null,null,null,null,null,null,null,null,null,null,null,null,null,null,null,null,null,null,null,null,null,null,null,{"$f":"SUMPRODUCT($G353:$J353,TRANSPOSE(Dados_v2!N$4:N$7))","v":0},{"$f":"SUMPRODUCT($G353:$J353,TRANSPOSE(Dados_v2!O$4:O$7))","v":0},{"$f":"SUMPRODUCT($G353:$J353,TRANSPOSE(Dados_v2!P$4:P$7))","v":0}]
[null,null,null,null,null,null,null,null,null,null,null,null,null,null,null,null,null,null,null,null,null,null,null,null,null,null,null,null,null,null,null,null,null,null,null,null,null,null,null,null,null,{"$f":"SUMPRODUCT($G354:$J354,TRANSPOSE(Dados_v2!N$4:N$7))","v":0},{"$f":"SUMPRODUCT($G354:$J354,TRANSPOSE(Dados_v2!O$4:O$7))","v":0},{"$f":"SUMPRODUCT($G354:$J354,TRANSPOSE(Dados_v2!P$4:P$7))","v":0}]
[null,null,null,null,null,null,null,null,null,null,null,null,null,null,null,null,null,null,null,null,null,null,null,null,null,null,null,null,null,null,null,null,null,null,null,null,null,null,null,null,null,{"$f":"SUMPRODUCT($G355:$J355,TRANSPOSE(Dados_v2!N$4:N$7))","v":0},{"$f":"SUMPRODUCT($G355:$J355,TRANSPOSE(Dados_v2!O$4:O$7))","v":0},{"$f":"SUMPRODUCT($G355:$J355,TRANSPOSE(Dados_v2!P$4:P$7))","v":0}]
[null,null,null,null,null,null,null,null,null,null,null,null,null,null,null,null,null,null,null,null,null,null,null,null,null,null,null,null,null,null,null,null,null,null,null,null,null,null,null,null,null,{"$f":"SUMPRODUCT($G356:$J356,TRANSPOSE(Dados_v2!N$4:N$7))","v":0},{"$f":"SUMPRODUCT($G356:$J356,TRANSPOSE(Dados_v2!O$4:O$7))","v":0},{"$f":"SUMPRODUCT($G356:$J356,TRANSPOSE(Dados_v2!P$4:P$7))","v":0}]
[null,null,null,null,null,null,null,null,null,null,null,null,null,null,null,null,null,null,null,null,null,null,null,null,null,null,null,null,null,null,null,null,null,null,null,null,null,null,null,null,null,{"$f":"SUMPRODUCT($G357:$J357,TRANSPOSE(Dados_v2!N$4:N$7))","v":0},{"$f":"SUMPRODUCT($G357:$J357,TRANSPOSE(Dados_v2!O$4:O$7))","v":0},{"$f":"SUMPRODUCT($G357:$J357,TRANSPOSE(Dados_v2!P$4:P$7))","v":0}]
[null,null,null,null,null,null,null,null,null,null,null,null,null,null,null,null,null,null,null,null,null,null,null,null,null,null,null,null,null,null,null,null,null,null,null,null,null,null,null,null,null,{"$f":"SUMPRODUCT($G358:$J358,TRANSPOSE(Dados_v2!N$4:N$7))","v":0},{"$f":"SUMPRODUCT($G358:$J358,TRANSPOSE(Dados_v2!O$4:O$7))","v":0},{"$f":"SUMPRODUCT($G358:$J358,TRANSPOSE(Dados_v2!P$4:P$7))","v":0}]
[null,null,null,null,null,null,null,null,null,null,null,null,null,null,null,null,null,null,null,null,null,null,null,null,null,null,null,null,null,null,null,null,null,null,null,null,null,null,null,null,null,{"$f":"SUMPRODUCT($G359:$J359,TRANSPOSE(Dados_v2!N$4:N$7))","v":0},{"$f":"SUMPRODUCT($G359:$J359,TRANSPOSE(Dados_v2!O$4:O$7))","v":0},{"$f":"SUMPRODUCT($G359:$J359,TRANSPOSE(Dados_v2!P$4:P$7))","v":0}]
[null,null,null,null,null,null,null,null,null,null,null,null,null,null,null,null,null,null,null,null,null,null,null,null,null,null,null,null,null,null,null,null,null,null,null,null,null,null,null,null,null,{"$f":"SUMPRODUCT($G360:$J360,TRANSPOSE(Dados_v2!N$4:N$7))","v":0},{"$f":"SUMPRODUCT($G360:$J360,TRANSPOSE(Dados_v2!O$4:O$7))","v":0},{"$f":"SUMPRODUCT($G360:$J360,TRANSPOSE(Dados_v2!P$4:P$7))","v":0}]
[null,null,null,null,null,null,null,null,null,null,null,null,null,null,null,null,null,null,null,null,null,null,null,null,null,null,null,null,null,null,null,null,null,null,null,null,null,null,null,null,null,{"$f":"SUMPRODUCT($G361:$J361,TRANSPOSE(Dados_v2!N$4:N$7))","v":0},{"$f":"SUMPRODUCT($G361:$J361,TRANSPOSE(Dados_v2!O$4:O$7))","v":0},{"$f":"SUMPRODUCT($G361:$J361,TRANSPOSE(Dados_v2!P$4:P$7))","v":0}]
[null,null,null,null,null,null,null,null,null,null,null,null,null,null,null,null,null,null,null,null,null,null,null,null,null,null,null,null,null,null,null,null,null,null,null,null,null,null,null,null,null,{"$f":"SUMPRODUCT($G362:$J362,TRANSPOSE(Dados_v2!N$4:N$7))","v":0},{"$f":"SUMPRODUCT($G362:$J362,TRANSPOSE(Dados_v2!O$4:O$7))","v":0},{"$f":"SUMPRODUCT($G362:$J362,TRANSPOSE(Dados_v2!P$4:P$7))","v":0}]
[null,null,null,null,null,null,null,null,null,null,null,null,null,null,null,null,null,null,null,null,null,null,null,null,null,null,null,null,null,null,null,null,null,null,null,null,null,null,null,null,null,{"$f":"SUMPRODUCT($G363:$J363,TRANSPOSE(Dados_v2!N$4:N$7))","v":0},{"$f":"SUMPRODUCT($G363:$J363,TRANSPOSE(Dados_v2!O$4:O$7))","v":0},{"$f":"SUMPRODUCT($G363:$J363,TRANSPOSE(Dados_v2!P$4:P$7))","v":0}]
[null,null,null,null,null,null,null,null,null,null,null,null,null,null,null,null,null,null,null,null,null,null,null,null,null,null,null,null,null,null,null,null,null,null,null,null,null,null,null,null,null,{"$f":"SUMPRODUCT($G364:$J364,TRANSPOSE(Dados_v2!N$4:N$7))","v":0},{"$f":"SUMPRODUCT($G364:$J364,TRANSPOSE(Dados_v2!O$4:O$7))","v":0},{"$f":"SUMPRODUCT($G364:$J364,TRANSPOSE(Dados_v2!P$4:P$7))","v":0}]
[null,null,null,null,null,null,null,null,null,null,null,null,null,null,null,null,null,null,null,null,null,null,null,null,null,null,null,null,null,null,null,null,null,null,null,null,null,null,null,null,null,{"$f":"SUMPRODUCT($G365:$J365,TRANSPOSE(Dados_v2!N$4:N$7))","v":0},{"$f":"SUMPRODUCT($G365:$J365,TRANSPOSE(Dados_v2!O$4:O$7))","v":0},{"$f":"SUMPRODUCT($G365:$J365,TRANSPOSE(Dados_v2!P$4:P$7))","v":0}]
[null,null,null,null,null,null,null,null,null,null,null,null,null,null,null,null,null,null,null,null,null,null,null,null,null,null,null,null,null,null,null,null,null,null,null,null,null,null,null,null,null,{"$f":"SUMPRODUCT($G366:$J366,TRANSPOSE(Dados_v2!N$4:N$7))","v":0},{"$f":"SUMPRODUCT($G366:$J366,TRANSPOSE(Dados_v2!O$4:O$7))","v":0},{"$f":"SUMPRODUCT($G366:$J366,TRANSPOSE(Dados_v2!P$4:P$7))","v":0}]
[null,null,null,null,null,null,null,null,null,null,null,null,null,null,null,null,null,null,null,null,null,null,null,null,null,null,null,null,null,null,null,null,null,null,null,null,null,null,null,null,null,{"$f":"SUMPRODUCT($G367:$J367,TRANSPOSE(Dados_v2!N$4:N$7))","v":0},{"$f":"SUMPRODUCT($G367:$J367,TRANSPOSE(Dados_v2!O$4:O$7))","v":0},{"$f":"SUMPRODUCT($G367:$J367,TRANSPOSE(Dados_v2!P$4:P$7))","v":0}]
[null,null,null,null,null,null,null,null,null,null,null,null,null,null,null,null,null,null,null,null,null,null,null,null,null,null,null,null,null,null,null,null,null,null,null,null,null,null,null,null,null,{"$f":"SUMPRODUCT($G368:$J368,TRANSPOSE(Dados_v2!N$4:N$7))","v":0},{"$f":"SUMPRODUCT($G368:$J368,TRANSPOSE(Dados_v2!O$4:O$7))","v":0},{"$f":"SUMPRODUCT($G368:$J368,TRANSPOSE(Dados_v2!P$4:P$7))","v":0}]
[null,null,null,null,null,null,null,null,null,null,null,null,null,null,null,null,null,null,null,null,null,null,null,null,null,null,null,null,null,null,null,null,null,null,null,null,null,null,null,null,null,{"$f":"SUMPRODUCT($G369:$J369,TRANSPOSE(Dados_v2!N$4:N$7))","v":0},{"$f":"SUMPRODUCT($G369:$J369,TRANSPOSE(Dados_v2!O$4:O$7))","v":0},{"$f":"SUMPRODUCT($G369:$J369,TRANSPOSE(Dados_v2!P$4:P$7))","v":0}]
[null,null,null,null,null,null,null,null,null,null,null,null,null,null,null,null,null,null,null,null,null,null,null,null,null,null,null,null,null,null,null,null,null,null,null,null,null,null,null,null,null,{"$f":"SUMPRODUCT($G370:$J370,TRANSPOSE(Dados_v2!N$4:N$7))","v":0},{"$f":"SUMPRODUCT($G370:$J370,TRANSPOSE(Dados_v2!O$4:O$7))","v":0},{"$f":"SUMPRODUCT($G370:$J370,TRANSPOSE(Dados_v2!P$4:P$7))","v":0}]
[null,null,null,null,null,null,null,null,null,null,null,null,null,null,null,null,null,null,null,null,null,null,null,null,null,null,null,null,null,null,null,null,null,null,null,null,null,null,null,null,null,{"$f":"SUMPRODUCT($G371:$J371,TRANSPOSE(Dados_v2!N$4:N$7))","v":0},{"$f":"SUMPRODUCT($G371:$J371,TRANSPOSE(Dados_v2!O$4:O$7))","v":0},{"$f":"SUMPRODUCT($G371:$J371,TRANSPOSE(Dados_v2!P$4:P$7))","v":0}]
[null,null,null,null,null,null,null,null,null,null,null,null,null,null,null,null,null,null,null,null,null,null,null,null,null,null,null,null,null,null,null,null,null,null,null,null,null,null,null,null,null,{"$f":"SUMPRODUCT($G372:$J372,TRANSPOSE(Dados_v2!N$4:N$7))","v":0},{"$f":"SUMPRODUCT($G372:$J372,TRANSPOSE(Dados_v2!O$4:O$7))","v":0},{"$f":"SUMPRODUCT($G372:$J372,TRANSPOSE(Dados_v2!P$4:P$7))","v":0}]
[null,null,null,null,null,null,null,null,null,null,null,null,null,null,null,null,null,null,null,null,null,null,null,null,null,null,null,null,null,null,null,null,null,null,null,null,null,null,null,null,null,{"$f":"SUMPRODUCT($G373:$J373,TRANSPOSE(Dados_v2!N$4:N$7))","v":0},{"$f":"SUMPRODUCT($G373:$J373,TRANSPOSE(Dados_v2!O$4:O$7))","v":0},{"$f":"SUMPRODUCT($G373:$J373,TRANSPOSE(Dados_v2!P$4:P$7))","v":0}]
[null,null,null,null,null,null,null,null,null,null,null,null,null,null,null,null,null,null,null,null,null,null,null,null,null,null,null,null,null,null,null,null,null,null,null,null,null,null,null,null,null,{"$f":"SUMPRODUCT($G374:$J374,TRANSPOSE(Dados_v2!N$4:N$7))","v":0},{"$f":"SUMPRODUCT($G374:$J374,TRANSPOSE(Dados_v2!O$4:O$7))","v":0},{"$f":"SUMPRODUCT($G374:$J374,TRANSPOSE(Dados_v2!P$4:P$7))","v":0}]
[null,null,null,null,null,null,null,null,null,null,null,null,null,null,null,null,null,null,null,null,null,null,null,null,null,null,null,null,null,null,null,null,null,null,null,null,null,null,null,null,null,{"$f":"SUMPRODUCT($G375:$J375,TRANSPOSE(Dados_v2!N$4:N$7))","v":0},{"$f":"SUMPRODUCT($G375:$J375,TRANSPOSE(Dados_v2!O$4:O$7))","v":0},{"$f":"SUMPRODUCT($G375:$J375,TRANSPOSE(Dados_v2!P$4:P$7))","v":0}]
[null,null,null,null,null,null,null,null,null,null,null,null,null,null,null,null,null,null,null,null,null,null,null,null,null,null,null,null,null,null,null,null,null,null,null,null,null,null,null,null,null,{"$f":"SUMPRODUCT($G376:$J376,TRANSPOSE(Dados_v2!N$4:N$7))","v":0},{"$f":"SUMPRODUCT($G376:$J376,TRANSPOSE(Dados_v2!O$4:O$7))","v":0},{"$f":"SUMPRODUCT($G376:$J376,TRANSPOSE(Dados_v2!P$4:P$7))","v":0}]
[null,null,null,null,null,null,null,null,null,null,null,null,null,null,null,null,null,null,null,null,null,null,null,null,null,null,null,null,null,null,null,null,null,null,null,null,null,null,null,null,null,{"$f":"SUMPRODUCT($G377:$J377,TRANSPOSE(Dados_v2!N$4:N$7))","v":0},{"$f":"SUMPRODUCT($G377:$J377,TRANSPOSE(Dados_v2!O$4:O$7))","v":0},{"$f":"SUMPRODUCT($G377:$J377,TRANSPOSE(Dados_v2!P$4:P$7))","v":0}]
[null,null,null,null,null,null,null,null,null,null,null,null,null,null,null,null,null,null,null,null,null,null,null,null,null,null,null,null,null,null,null,null,null,null,null,null,null,null,null,null,null,{"$f":"SUMPRODUCT($G378:$J378,TRANSPOSE(Dados_v2!N$4:N$7))","v":0},{"$f":"SUMPRODUCT($G378:$J378,TRANSPOSE(Dados_v2!O$4:O$7))","v":0},{"$f":"SUMPRODUCT($G378:$J378,TRANSPOSE(Dados_v2!P$4:P$7))","v":0}]
[null,null,null,null,null,null,null,null,null,null,null,null,null,null,null,null,null,null,null,null,null,null,null,null,null,null,null,null,null,null,null,null,null,null,null,null,null,null,null,null,null,{"$f":"SUMPRODUCT($G379:$J379,TRANSPOSE(Dados_v2!N$4:N$7))","v":0},{"$f":"SUMPRODUCT($G379:$J379,TRANSPOSE(Dados_v2!O$4:O$7))","v":0},{"$f":"SUMPRODUCT($G379:$J379,TRANSPOSE(Dados_v2!P$4:P$7))","v":0}]
[null,null,null,null,null,null,null,null,null,null,null,null,null,null,null,null,null,null,null,null,null,null,null,null,null,null,null,null,null,null,null,null,null,null,null,null,null,null,null,null,null,{"$f":"SUMPRODUCT($G380:$J380,TRANSPOSE(Dados_v2!N$4:N$7))","v":0},{"$f":"SUMPRODUCT($G380:$J380,TRANSPOSE(Dados_v2!O$4:O$7))","v":0},{"$f":"SUMPRODUCT($G380:$J380,TRANSPOSE(Dados_v2!P$4:P$7))","v":0}]
[null,null,null,null,null,null,null,null,null,null,null,null,null,null,null,null,null,null,null,null,null,null,null,null,null,null,null,null,null,null,null,null,null,null,null,null,null,null,null,null,null,{"$f":"SUMPRODUCT($G381:$J381,TRANSPOSE(Dados_v2!N$4:N$7))","v":0},{"$f":"SUMPRODUCT($G381:$J381,TRANSPOSE(Dados_v2!O$4:O$7))","v":0},{"$f":"SUMPRODUCT($G381:$J381,TRANSPOSE(Dados_v2!P$4:P$7))","v":0}]
[null,null,null,null,null,null,null,null,null,null,null,null,null,null,null,null,null,null,null,null,null,null,null,null,null,null,null,null,null,null,null,null,null,null,null,null,null,null,null,null,null,{"$f":"SUMPRODUCT($G382:$J382,TRANSPOSE(Dados_v2!N$4:N$7))","v":0},{"$f":"SUMPRODUCT($G382:$J382,TRANSPOSE(Dados_v2!O$4:O$7))","v":0},{"$f":"SUMPRODUCT($G382:$J382,TRANSPOSE(Dados_v2!P$4:P$7))","v":0}]
[null,null,null,null,null,null,null,null,null,null,null,null,null,null,null,null,null,null,null,null,null,null,null,null,null,null,null,null,null,null,null,null,null,null,null,null,null,null,null,null,null,{"$f":"SUMPRODUCT($G383:$J383,TRANSPOSE(Dados_v2!N$4:N$7))","v":0},{"$f":"SUMPRODUCT($G383:$J383,TRANSPOSE(Dados_v2!O$4:O$7))","v":0},{"$f":"SUMPRODUCT($G383:$J383,TRANSPOSE(Dados_v2!P$4:P$7))","v":0}]
[null,null,null,null,null,null,null,null,null,null,null,null,null,null,null,null,null,null,null,null,null,null,null,null,null,null,null,null,null,null,null,null,null,null,null,null,null,null,null,null,null,{"$f":"SUMPRODUCT($G384:$J384,TRANSPOSE(Dados_v2!N$4:N$7))","v":0},{"$f":"SUMPRODUCT($G384:$J384,TRANSPOSE(Dados_v2!O$4:O$7))","v":0},{"$f":"SUMPRODUCT($G384:$J384,TRANSPOSE(Dados_v2!P$4:P$7))","v":0}]
[null,null,null,null,null,null,null,null,null,null,null,null,null,null,null,null,null,null,null,null,null,null,null,null,null,null,null,null,null,null,null,null,null,null,null,null,null,null,null,null,null,{"$f":"SUMPRODUCT($G385:$J385,TRANSPOSE(Dados_v2!N$4:N$7))","v":0},{"$f":"SUMPRODUCT($G385:$J385,TRANSPOSE(Dados_v2!O$4:O$7))","v":0},{"$f":"SUMPRODUCT($G385:$J385,TRANSPOSE(Dados_v2!P$4:P$7))","v":0}]
[null,null,null,null,null,null,null,null,null,null,null,null,null,null,null,null,null,null,null,null,null,null,null,null,null,null,null,null,null,null,null,null,null,null,null,null,null,null,null,null,null,{"$f":"SUMPRODUCT($G386:$J386,TRANSPOSE(Dados_v2!N$4:N$7))","v":0},{"$f":"SUMPRODUCT($G386:$J386,TRANSPOSE(Dados_v2!O$4:O$7))","v":0},{"$f":"SUMPRODUCT($G386:$J386,TRANSPOSE(Dados_v2!P$4:P$7))","v":0}]
[null,null,null,null,null,null,null,null,null,null,null,null,null,null,null,null,null,null,null,null,null,null,null,null,null,null,null,null,null,null,null,null,null,null,null,null,null,null,null,null,null,{"$f":"SUMPRODUCT($G387:$J387,TRANSPOSE(Dados_v2!N$4:N$7))","v":0},{"$f":"SUMPRODUCT($G387:$J387,TRANSPOSE(Dados_v2!O$4:O$7))","v":0},{"$f":"SUMPRODUCT($G387:$J387,TRANSPOSE(Dados_v2!P$4:P$7))","v":0}]
[null,null,null,null,null,null,null,null,null,null,null,null,null,null,null,null,null,null,null,null,null,null,null,null,null,null,null,null,null,null,null,null,null,null,null,null,null,null,null,null,null,{"$f":"SUMPRODUCT($G388:$J388,TRANSPOSE(Dados_v2!N$4:N$7))","v":0},{"$f":"SUMPRODUCT($G388:$J388,TRANSPOSE(Dados_v2!O$4:O$7))","v":0},{"$f":"SUMPRODUCT($G388:$J388,TRANSPOSE(Dados_v2!P$4:P$7))","v":0}]
[null,null,null,null,null,null,null,null,null,null,null,null,null,null,null,null,null,null,null,null,null,null,null,null,null,null,null,null,null,null,null,null,null,null,null,null,null,null,null,null,null,{"$f":"SUMPRODUCT($G389:$J389,TRANSPOSE(Dados_v2!N$4:N$7))","v":0},{"$f":"SUMPRODUCT($G389:$J389,TRANSPOSE(Dados_v2!O$4:O$7))","v":0},{"$f":"SUMPRODUCT($G389:$J389,TRANSPOSE(Dados_v2!P$4:P$7))","v":0}]
[null,null,null,null,null,null,null,null,null,null,null,null,null,null,null,null,null,null,null,null,null,null,null,null,null,null,null,null,null,null,null,null,null,null,null,null,null,null,null,null,null,{"$f":"SUMPRODUCT($G390:$J390,TRANSPOSE(Dados_v2!N$4:N$7))","v":0},{"$f":"SUMPRODUCT($G390:$J390,TRANSPOSE(Dados_v2!O$4:O$7))","v":0},{"$f":"SUMPRODUCT($G390:$J390,TRANSPOSE(Dados_v2!P$4:P$7))","v":0}]
[null,null,null,null,null,null,null,null,null,null,null,null,null,null,null,null,null,null,null,null,null,null,null,null,null,null,null,null,null,null,null,null,null,null,null,null,null,null,null,null,null,{"$f":"SUMPRODUCT($G391:$J391,TRANSPOSE(Dados_v2!N$4:N$7))","v":0},{"$f":"SUMPRODUCT($G391:$J391,TRANSPOSE(Dados_v2!O$4:O$7))","v":0},{"$f":"SUMPRODUCT($G391:$J391,TRANSPOSE(Dados_v2!P$4:P$7))","v":0}]
[null,null,null,null,null,null,null,null,null,null,null,null,null,null,null,null,null,null,null,null,null,null,null,null,null,null,null,null,null,null,null,null,null,null,null,null,null,null,null,null,null,{"$f":"SUMPRODUCT($G392:$J392,TRANSPOSE(Dados_v2!N$4:N$7))","v":0},{"$f":"SUMPRODUCT($G392:$J392,TRANSPOSE(Dados_v2!O$4:O$7))","v":0},{"$f":"SUMPRODUCT($G392:$J392,TRANSPOSE(Dados_v2!P$4:P$7))","v":0}]
[null,null,null,null,null,null,null,null,null,null,null,null,null,null,null,null,null,null,null,null,null,null,null,null,null,null,null,null,null,null,null,null,null,null,null,null,null,null,null,null,null,{"$f":"SUMPRODUCT($G393:$J393,TRANSPOSE(Dados_v2!N$4:N$7))","v":0},{"$f":"SUMPRODUCT($G393:$J393,TRANSPOSE(Dados_v2!O$4:O$7))","v":0},{"$f":"SUMPRODUCT($G393:$J393,TRANSPOSE(Dados_v2!P$4:P$7))","v":0}]
[null,null,null,null,null,null,null,null,null,null,null,null,null,null,null,null,null,null,null,null,null,null,null,null,null,null,null,null,null,null,null,null,null,null,null,null,null,null,null,null,null,{"$f":"SUMPRODUCT($G394:$J394,TRANSPOSE(Dados_v2!N$4:N$7))","v":0},{"$f":"SUMPRODUCT($G394:$J394,TRANSPOSE(Dados_v2!O$4:O$7))","v":0},{"$f":"SUMPRODUCT($G394:$J394,TRANSPOSE(Dados_v2!P$4:P$7))","v":0}]
[null,null,null,null,null,null,null,null,null,null,null,null,null,null,null,null,null,null,null,null,null,null,null,null,null,null,null,null,null,null,null,null,null,null,null,null,null,null,null,null,null,{"$f":"SUMPRODUCT($G395:$J395,TRANSPOSE(Dados_v2!N$4:N$7))","v":0},{"$f":"SUMPRODUCT($G395:$J395,TRANSPOSE(Dados_v2!O$4:O$7))","v":0},{"$f":"SUMPRODUCT($G395:$J395,TRANSPOSE(Dados_v2!P$4:P$7))","v":0}]
[null,null,null,null,null,null,null,null,null,null,null,null,null,null,null,null,null,null,null,null,null,null,null,null,null,null,null,null,null,null,null,null,null,null,null,null,null,null,null,null,null,{"$f":"SUMPRODUCT($G396:$J396,TRANSPOSE(Dados_v2!N$4:N$7))","v":0},{"$f":"SUMPRODUCT($G396:$J396,TRANSPOSE(Dados_v2!O$4:O$7))","v":0},{"$f":"SUMPRODUCT($G396:$J396,TRANSPOSE(Dados_v2!P$4:P$7))","v":0}]
[null,null,null,null,null,null,null,null,null,null,null,null,null,null,null,null,null,null,null,null,null,null,null,null,null,null,null,null,null,null,null,null,null,null,null,null,null,null,null,null,null,{"$f":"SUMPRODUCT($G397:$J397,TRANSPOSE(Dados_v2!N$4:N$7))","v":0},{"$f":"SUMPRODUCT($G397:$J397,TRANSPOSE(Dados_v2!O$4:O$7))","v":0},{"$f":"SUMPRODUCT($G397:$J397,TRANSPOSE(Dados_v2!P$4:P$7))","v":0}]
[null,null,null,null,null,null,null,null,null,null,null,null,null,null,null,null,null,null,null,null,null,null,null,null,null,null,null,null,null,null,null,null,null,null,null,null,null,null,null,null,null,{"$f":"SUMPRODUCT($G398:$J398,TRANSPOSE(Dados_v2!N$4:N$7))","v":0},{"$f":"SUMPRODUCT($G398:$J398,TRANSPOSE(Dados_v2!O$4:O$7))","v":0},{"$f":"SUMPRODUCT($G398:$J398,TRANSPOSE(Dados_v2!P$4:P$7))","v":0}]
[null,null,null,null,null,null,null,null,null,null,null,null,null,null,null,null,null,null,null,null,null,null,null,null,null,null,null,null,null,null,null,null,null,null,null,null,null,null,null,null,null,{"$f":"SUMPRODUCT($G399:$J399,TRANSPOSE(Dados_v2!N$4:N$7))","v":0},{"$f":"SUMPRODUCT($G399:$J399,TRANSPOSE(Dados_v2!O$4:O$7))","v":0},{"$f":"SUMPRODUCT($G399:$J399,TRANSPOSE(Dados_v2!P$4:P$7))","v":0}]
[null,null,null,null,null,null,null,null,null,null,null,null,null,null,null,null,null,null,null,null,null,null,null,null,null,null,null,null,null,null,null,null,null,null,null,null,null,null,null,null,null,{"$f":"SUMPRODUCT($G400:$J400,TRANSPOSE(Dados_v2!N$4:N$7))","v":0},{"$f":"SUMPRODUCT($G400:$J400,TRANSPOSE(Dados_v2!O$4:O$7))","v":0},{"$f":"SUMPRODUCT($G400:$J400,TRANSPOSE(Dados_v2!P$4:P$7))","v":0}]
[null,null,null,null,null,null,null,null,null,null,null,null,null,null,null,null,null,null,null,null,null,null,null,null,null,null,null,null,null,null,null,null,null,null,null,null,null,null,null,null,null,{"$f":"SUMPRODUCT($G401:$J401,TRANSPOSE(Dados_v2!N$4:N$7))","v":0},{"$f":"SUMPRODUCT($G401:$J401,TRANSPOSE(Dados_v2!O$4:O$7))","v":0},{"$f":"SUMPRODUCT($G401:$J401,TRANSPOSE(Dados_v2!P$4:P$7))","v":0}]
[null,null,null,null,null,null,null,null,null,null,null,null,null,null,null,null,null,null,null,null,null,null,null,null,null,null,null,null,null,null,null,null,null,null,null,null,null,null,null,null,null,{"$f":"SUMPRODUCT($G402:$J402,TRANSPOSE(Dados_v2!N$4:N$7))","v":0},{"$f":"SUMPRODUCT($G402:$J402,TRANSPOSE(Dados_v2!O$4:O$7))","v":0},{"$f":"SUMPRODUCT($G402:$J402,TRANSPOSE(Dados_v2!P$4:P$7))","v":0}]
[null,null,null,null,null,null,null,null,null,null,null,null,null,null,null,null,null,null,null,null,null,null,null,null,null,null,null,null,null,null,null,null,null,null,null,null,null,null,null,null,null,{"$f":"SUMPRODUCT($G403:$J403,TRANSPOSE(Dados_v2!N$4:N$7))","v":0},{"$f":"SUMPRODUCT($G403:$J403,TRANSPOSE(Dados_v2!O$4:O$7))","v":0},{"$f":"SUMPRODUCT($G403:$J403,TRANSPOSE(Dados_v2!P$4:P$7))","v":0}]
[null,null,null,null,null,null,null,null,null,null,null,null,null,null,null,null,null,null,null,null,null,null,null,null,null,null,null,null,null,null,null,null,null,null,null,null,null,null,null,null,null,{"$f":"SUMPRODUCT($G404:$J404,TRANSPOSE(Dados_v2!N$4:N$7))","v":0},{"$f":"SUMPRODUCT($G404:$J404,TRANSPOSE(Dados_v2!O$4:O$7))","v":0},{"$f":"SUMPRODUCT($G404:$J404,TRANSPOSE(Dados_v2!P$4:P$7))","v":0}]
[null,null,null,null,null,null,null,null,null,null,null,null,null,null,null,null,null,null,null,null,null,null,null,null,null,null,null,null,null,null,null,null,null,null,null,null,null,null,null,null,null,{"$f":"SUMPRODUCT($G405:$J405,TRANSPOSE(Dados_v2!N$4:N$7))","v":0},{"$f":"SUMPRODUCT($G405:$J405,TRANSPOSE(Dados_v2!O$4:O$7))","v":0},{"$f":"SUMPRODUCT($G405:$J405,TRANSPOSE(Dados_v2!P$4:P$7))","v":0}]
[null,null,null,null,null,null,null,null,null,null,null,null,null,null,null,null,null,null,null,null,null,null,null,null,null,null,null,null,null,null,null,null,null,null,null,null,null,null,null,null,null,{"$f":"SUMPRODUCT($G406:$J406,TRANSPOSE(Dados_v2!N$4:N$7))","v":0},{"$f":"SUMPRODUCT($G406:$J406,TRANSPOSE(Dados_v2!O$4:O$7))","v":0},{"$f":"SUMPRODUCT($G406:$J406,TRANSPOSE(Dados_v2!P$4:P$7))","v":0}]
[null,null,null,null,null,null,null,null,null,null,null,null,null,null,null,null,null,null,null,null,null,null,null,null,null,null,null,null,null,null,null,null,null,null,null,null,null,null,null,null,null,{"$f":"SUMPRODUCT($G407:$J407,TRANSPOSE(Dados_v2!N$4:N$7))","v":0},{"$f":"SUMPRODUCT($G407:$J407,TRANSPOSE(Dados_v2!O$4:O$7))","v":0},{"$f":"SUMPRODUCT($G407:$J407,TRANSPOSE(Dados_v2!P$4:P$7))","v":0}]
[null,null,null,null,null,null,null,null,null,null,null,null,null,null,null,null,null,null,null,null,null,null,null,null,null,null,null,null,null,null,null,null,null,null,null,null,null,null,null,null,null,{"$f":"SUMPRODUCT($G408:$J408,TRANSPOSE(Dados_v2!N$4:N$7))","v":0},{"$f":"SUMPRODUCT($G408:$J408,TRANSPOSE(Dados_v2!O$4:O$7))","v":0},{"$f":"SUMPRODUCT($G408:$J408,TRANSPOSE(Dados_v2!P$4:P$7))","v":0}]
[null,null,null,null,null,null,null,null,null,null,null,null,null,null,null,null,null,null,null,null,null,null,null,null,null,null,null,null,null,null,null,null,null,null,null,null,null,null,null,null,null,{"$f":"SUMPRODUCT($G409:$J409,TRANSPOSE(Dados_v2!N$4:N$7))","v":0},{"$f":"SUMPRODUCT($G409:$J409,TRANSPOSE(Dados_v2!O$4:O$7))","v":0},{"$f":"SUMPRODUCT($G409:$J409,TRANSPOSE(Dados_v2!P$4:P$7))","v":0}]
[null,null,null,null,null,null,null,null,null,null,null,null,null,null,null,null,null,null,null,null,null,null,null,null,null,null,null,null,null,null,null,null,null,null,null,null,null,null,null,null,null,{"$f":"SUMPRODUCT($G410:$J410,TRANSPOSE(Dados_v2!N$4:N$7))","v":0},{"$f":"SUMPRODUCT($G410:$J410,TRANSPOSE(Dados_v2!O$4:O$7))","v":0},{"$f":"SUMPRODUCT($G410:$J410,TRANSPOSE(Dados_v2!P$4:P$7))","v":0}]
[null,null,null,null,null,null,null,null,null,null,null,null,null,null,null,null,null,null,null,null,null,null,null,null,null,null,null,null,null,null,null,null,null,null,null,null,null,null,null,null,null,{"$f":"SUMPRODUCT($G411:$J411,TRANSPOSE(Dados_v2!N$4:N$7))","v":0},{"$f":"SUMPRODUCT($G411:$J411,TRANSPOSE(Dados_v2!O$4:O$7))","v":0},{"$f":"SUMPRODUCT($G411:$J411,TRANSPOSE(Dados_v2!P$4:P$7))","v":0}]
[null,null,null,null,null,null,null,null,null,null,null,null,null,null,null,null,null,null,null,null,null,null,null,null,null,null,null,null,null,null,null,null,null,null,null,null,null,null,null,null,null,{"$f":"SUMPRODUCT($G412:$J412,TRANSPOSE(Dados_v2!N$4:N$7))","v":0},{"$f":"SUMPRODUCT($G412:$J412,TRANSPOSE(Dados_v2!O$4:O$7))","v":0},{"$f":"SUMPRODUCT($G412:$J412,TRANSPOSE(Dados_v2!P$4:P$7))","v":0}]
[null,null,null,null,null,null,null,null,null,null,null,null,null,null,null,null,null,null,null,null,null,null,null,null,null,null,null,null,null,null,null,null,null,null,null,null,null,null,null,null,null,{"$f":"SUMPRODUCT($G413:$J413,TRANSPOSE(Dados_v2!N$4:N$7))","v":0},{"$f":"SUMPRODUCT($G413:$J413,TRANSPOSE(Dados_v2!O$4:O$7))","v":0},{"$f":"SUMPRODUCT($G413:$J413,TRANSPOSE(Dados_v2!P$4:P$7))","v":0}]
[null,null,null,null,null,null,null,null,null,null,null,null,null,null,null,null,null,null,null,null,null,null,null,null,null,null,null,null,null,null,null,null,null,null,null,null,null,null,null,null,null,{"$f":"SUMPRODUCT($G414:$J414,TRANSPOSE(Dados_v2!N$4:N$7))","v":0},{"$f":"SUMPRODUCT($G414:$J414,TRANSPOSE(Dados_v2!O$4:O$7))","v":0},{"$f":"SUMPRODUCT($G414:$J414,TRANSPOSE(Dados_v2!P$4:P$7))","v":0}]
[null,null,null,null,null,null,null,null,null,null,null,null,null,null,null,null,null,null,null,null,null,null,null,null,null,null,null,null,null,null,null,null,null,null,null,null,null,null,null,null,null,{"$f":"SUMPRODUCT($G415:$J415,TRANSPOSE(Dados_v2!N$4:N$7))","v":0},{"$f":"SUMPRODUCT($G415:$J415,TRANSPOSE(Dados_v2!O$4:O$7))","v":0},{"$f":"SUMPRODUCT($G415:$J415,TRANSPOSE(Dados_v2!P$4:P$7))","v":0}]
[null,null,null,null,null,null,null,null,null,null,null,null,null,null,null,null,null,null,null,null,null,null,null,null,null,null,null,null,null,null,null,null,null,null,null,null,null,null,null,null,null,{"$f":"SUMPRODUCT($G416:$J416,TRANSPOSE(Dados_v2!N$4:N$7))","v":0},{"$f":"SUMPRODUCT($G416:$J416,TRANSPOSE(Dados_v2!O$4:O$7))","v":0},{"$f":"SUMPRODUCT($G416:$J416,TRANSPOSE(Dados_v2!P$4:P$7))","v":0}]
[null,null,null,null,null,null,null,null,null,null,null,null,null,null,null,null,null,null,null,null,null,null,null,null,null,null,null,null,null,null,null,null,null,null,null,null,null,null,null,null,null,{"$f":"SUMPRODUCT($G417:$J417,TRANSPOSE(Dados_v2!N$4:N$7))","v":0},{"$f":"SUMPRODUCT($G417:$J417,TRANSPOSE(Dados_v2!O$4:O$7))","v":0},{"$f":"SUMPRODUCT($G417:$J417,TRANSPOSE(Dados_v2!P$4:P$7))","v":0}]
[null,null,null,null,null,null,null,null,null,null,null,null,null,null,null,null,null,null,null,null,null,null,null,null,null,null,null,null,null,null,null,null,null,null,null,null,null,null,null,null,null,{"$f":"SUMPRODUCT($G418:$J418,TRANSPOSE(Dados_v2!N$4:N$7))","v":0},{"$f":"SUMPRODUCT($G418:$J418,TRANSPOSE(Dados_v2!O$4:O$7))","v":0},{"$f":"SUMPRODUCT($G418:$J418,TRANSPOSE(Dados_v2!P$4:P$7))","v":0}]
[null,null,null,null,null,null,null,null,null,null,null,null,null,null,null,null,null,null,null,null,null,null,null,null,null,null,null,null,null,null,null,null,null,null,null,null,null,null,null,null,null,{"$f":"SUMPRODUCT($G419:$J419,TRANSPOSE(Dados_v2!N$4:N$7))","v":0},{"$f":"SUMPRODUCT($G419:$J419,TRANSPOSE(Dados_v2!O$4:O$7))","v":0},{"$f":"SUMPRODUCT($G419:$J419,TRANSPOSE(Dados_v2!P$4:P$7))","v":0}]
[null,null,null,null,null,null,null,null,null,null,null,null,null,null,null,null,null,null,null,null,null,null,null,null,null,null,null,null,null,null,null,null,null,null,null,null,null,null,null,null,null,{"$f":"SUMPRODUCT($G420:$J420,TRANSPOSE(Dados_v2!N$4:N$7))","v":0},{"$f":"SUMPRODUCT($G420:$J420,TRANSPOSE(Dados_v2!O$4:O$7))","v":0},{"$f":"SUMPRODUCT($G420:$J420,TRANSPOSE(Dados_v2!P$4:P$7))","v":0}]
[null,null,null,null,null,null,null,null,null,null,null,null,null,null,null,null,null,null,null,null,null,null,null,null,null,null,null,null,null,null,null,null,null,null,null,null,null,null,null,null,null,{"$f":"SUMPRODUCT($G421:$J421,TRANSPOSE(Dados_v2!N$4:N$7))","v":0},{"$f":"SUMPRODUCT($G421:$J421,TRANSPOSE(Dados_v2!O$4:O$7))","v":0},{"$f":"SUMPRODUCT($G421:$J421,TRANSPOSE(Dados_v2!P$4:P$7))","v":0}]
[null,null,null,null,null,null,null,null,null,null,null,null,null,null,null,null,null,null,null,null,null,null,null,null,null,null,null,null,null,null,null,null,null,null,null,null,null,null,null,null,null,{"$f":"SUMPRODUCT($G422:$J422,TRANSPOSE(Dados_v2!N$4:N$7))","v":0},{"$f":"SUMPRODUCT($G422:$J422,TRANSPOSE(Dados_v2!O$4:O$7))","v":0},{"$f":"SUMPRODUCT($G422:$J422,TRANSPOSE(Dados_v2!P$4:P$7))","v":0}]
[null,null,null,null,null,null,null,null,null,null,null,null,null,null,null,null,null,null,null,null,null,null,null,null,null,null,null,null,null,null,null,null,null,null,null,null,null,null,null,null,null,{"$f":"SUMPRODUCT($G423:$J423,TRANSPOSE(Dados_v2!N$4:N$7))","v":0},{"$f":"SUMPRODUCT($G423:$J423,TRANSPOSE(Dados_v2!O$4:O$7))","v":0},{"$f":"SUMPRODUCT($G423:$J423,TRANSPOSE(Dados_v2!P$4:P$7))","v":0}]
[null,null,null,null,null,null,null,null,null,null,null,null,null,null,null,null,null,null,null,null,null,null,null,null,null,null,null,null,null,null,null,null,null,null,null,null,null,null,null,null,null,{"$f":"SUMPRODUCT($G424:$J424,TRANSPOSE(Dados_v2!N$4:N$7))","v":0},{"$f":"SUMPRODUCT($G424:$J424,TRANSPOSE(Dados_v2!O$4:O$7))","v":0},{"$f":"SUMPRODUCT($G424:$J424,TRANSPOSE(Dados_v2!P$4:P$7))","v":0}]
[null,null,null,null,null,null,null,null,null,null,null,null,null,null,null,null,null,null,null,null,null,null,null,null,null,null,null,null,null,null,null,null,null,null,null,null,null,null,null,null,null,{"$f":"SUMPRODUCT($G425:$J425,TRANSPOSE(Dados_v2!N$4:N$7))","v":0},{"$f":"SUMPRODUCT($G425:$J425,TRANSPOSE(Dados_v2!O$4:O$7))","v":0},{"$f":"SUMPRODUCT($G425:$J425,TRANSPOSE(Dados_v2!P$4:P$7))","v":0}]
[null,null,null,null,null,null,null,null,null,null,null,null,null,null,null,null,null,null,null,null,null,null,null,null,null,null,null,null,null,null,null,null,null,null,null,null,null,null,null,null,null,{"$f":"SUMPRODUCT($G426:$J426,TRANSPOSE(Dados_v2!N$4:N$7))","v":0},{"$f":"SUMPRODUCT($G426:$J426,TRANSPOSE(Dados_v2!O$4:O$7))","v":0},{"$f":"SUMPRODUCT($G426:$J426,TRANSPOSE(Dados_v2!P$4:P$7))","v":0}]
[null,null,null,null,null,null,null,null,null,null,null,null,null,null,null,null,null,null,null,null,null,null,null,null,null,null,null,null,null,null,null,null,null,null,null,null,null,null,null,null,null,{"$f":"SUMPRODUCT($G427:$J427,TRANSPOSE(Dados_v2!N$4:N$7))","v":0},{"$f":"SUMPRODUCT($G427:$J427,TRANSPOSE(Dados_v2!O$4:O$7))","v":0},{"$f":"SUMPRODUCT($G427:$J427,TRANSPOSE(Dados_v2!P$4:P$7))","v":0}]
[null,null,null,null,null,null,null,null,null,null,null,null,null,null,null,null,null,null,null,null,null,null,null,null,null,null,null,null,null,null,null,null,null,null,null,null,null,null,null,null,null,{"$f":"SUMPRODUCT($G428:$J428,TRANSPOSE(Dados_v2!N$4:N$7))","v":0},{"$f":"SUMPRODUCT($G428:$J428,TRANSPOSE(Dados_v2!O$4:O$7))","v":0},{"$f":"SUMPRODUCT($G428:$J428,TRANSPOSE(Dados_v2!P$4:P$7))","v":0}]
[null,null,null,null,null,null,null,null,null,null,null,null,null,null,null,null,null,null,null,null,null,null,null,null,null,null,null,null,null,null,null,null,null,null,null,null,null,null,null,null,null,{"$f":"SUMPRODUCT($G429:$J429,TRANSPOSE(Dados_v2!N$4:N$7))","v":0},{"$f":"SUMPRODUCT($G429:$J429,TRANSPOSE(Dados_v2!O$4:O$7))","v":0},{"$f":"SUMPRODUCT($G429:$J429,TRANSPOSE(Dados_v2!P$4:P$7))","v":0}]
[null,null,null,null,null,null,null,null,null,null,null,null,null,null,null,null,null,null,null,null,null,null,null,null,null,null,null,null,null,null,null,null,null,null,null,null,null,null,null,null,null,{"$f":"SUMPRODUCT($G430:$J430,TRANSPOSE(Dados_v2!N$4:N$7))","v":0},{"$f":"SUMPRODUCT($G430:$J430,TRANSPOSE(Dados_v2!O$4:O$7))","v":0},{"$f":"SUMPRODUCT($G430:$J430,TRANSPOSE(Dados_v2!P$4:P$7))","v":0}]
[null,null,null,null,null,null,null,null,null,null,null,null,null,null,null,null,null,null,null,null,null,null,null,null,null,null,null,null,null,null,null,null,null,null,null,null,null,null,null,null,null,{"$f":"SUMPRODUCT($G431:$J431,TRANSPOSE(Dados_v2!N$4:N$7))","v":0},{"$f":"SUMPRODUCT($G431:$J431,TRANSPOSE(Dados_v2!O$4:O$7))","v":0},{"$f":"SUMPRODUCT($G431:$J431,TRANSPOSE(Dados_v2!P$4:P$7))","v":0}]
[null,null,null,null,null,null,null,null,null,null,null,null,null,null,null,null,null,null,null,null,null,null,null,null,null,null,null,null,null,null,null,null,null,null,null,null,null,null,null,null,null,{"$f":"SUMPRODUCT($G432:$J432,TRANSPOSE(Dados_v2!N$4:N$7))","v":0},{"$f":"SUMPRODUCT($G432:$J432,TRANSPOSE(Dados_v2!O$4:O$7))","v":0},{"$f":"SUMPRODUCT($G432:$J432,TRANSPOSE(Dados_v2!P$4:P$7))","v":0}]
[null,null,null,null,null,null,null,null,null,null,null,null,null,null,null,null,null,null,null,null,null,null,null,null,null,null,null,null,null,null,null,null,null,null,null,null,null,null,null,null,null,{"$f":"SUMPRODUCT($G433:$J433,TRANSPOSE(Dados_v2!N$4:N$7))","v":0},{"$f":"SUMPRODUCT($G433:$J433,TRANSPOSE(Dados_v2!O$4:O$7))","v":0},{"$f":"SUMPRODUCT($G433:$J433,TRANSPOSE(Dados_v2!P$4:P$7))","v":0}]
[null,null,null,null,null,null,null,null,null,null,null,null,null,null,null,null,null,null,null,null,null,null,null,null,null,null,null,null,null,null,null,null,null,null,null,null,null,null,null,null,null,{"$f":"SUMPRODUCT($G434:$J434,TRANSPOSE(Dados_v2!N$4:N$7))","v":0},{"$f":"SUMPRODUCT($G434:$J434,TRANSPOSE(Dados_v2!O$4:O$7))","v":0},{"$f":"SUMPRODUCT($G434:$J434,TRANSPOSE(Dados_v2!P$4:P$7))","v":0}]
[null,null,null,null,null,null,null,null,null,null,null,null,null,null,null,null,null,null,null,null,null,null,null,null,null,null,null,null,null,null,null,null,null,null,null,null,null,null,null,null,null,{"$f":"SUMPRODUCT($G435:$J435,TRANSPOSE(Dados_v2!N$4:N$7))","v":0},{"$f":"SUMPRODUCT($G435:$J435,TRANSPOSE(Dados_v2!O$4:O$7))","v":0},{"$f":"SUMPRODUCT($G435:$J435,TRANSPOSE(Dados_v2!P$4:P$7))","v":0}]
[null,null,null,null,null,null,null,null,null,null,null,null,null,null,null,null,null,null,null,null,null,null,null,null,null,null,null,null,null,null,null,null,null,null,null,null,null,null,null,null,null,{"$f":"SUMPRODUCT($G436:$J436,TRANSPOSE(Dados_v2!N$4:N$7))","v":0},{"$f":"SUMPRODUCT($G436:$J436,TRANSPOSE(Dados_v2!O$4:O$7))","v":0},{"$f":"SUMPRODUCT($G436:$J436,TRANSPOSE(Dados_v2!P$4:P$7))","v":0}]
[null,null,null,null,null,null,null,null,null,null,null,null,null,null,null,null,null,null,null,null,null,null,null,null,null,null,null,null,null,null,null,null,null,null,null,null,null,null,null,null,null,{"$f":"SUMPRODUCT($G437:$J437,TRANSPOSE(Dados_v2!N$4:N$7))","v":0},{"$f":"SUMPRODUCT($G437:$J437,TRANSPOSE(Dados_v2!O$4:O$7))","v":0},{"$f":"SUMPRODUCT($G437:$J437,TRANSPOSE(Dados_v2!P$4:P$7))","v":0}]
[null,null,null,null,null,null,null,null,null,null,null,null,null,null,null,null,null,null,null,null,null,null,null,null,null,null,null,null,null,null,null,null,null,null,null,null,null,null,null,null,null,{"$f":"SUMPRODUCT($G438:$J438,TRANSPOSE(Dados_v2!N$4:N$7))","v":0},{"$f":"SUMPRODUCT($G438:$J438,TRANSPOSE(Dados_v2!O$4:O$7))","v":0},{"$f":"SUMPRODUCT($G438:$J438,TRANSPOSE(Dados_v2!P$4:P$7))","v":0}]
[null,null,null,null,null,null,null,null,null,null,null,null,null,null,null,null,null,null,null,null,null,null,null,null,null,null,null,null,null,null,null,null,null,null,null,null,null,null,null,null,null,{"$f":"SUMPRODUCT($G439:$J439,TRANSPOSE(Dados_v2!N$4:N$7))","v":0},{"$f":"SUMPRODUCT($G439:$J439,TRANSPOSE(Dados_v2!O$4:O$7))","v":0},{"$f":"SUMPRODUCT($G439:$J439,TRANSPOSE(Dados_v2!P$4:P$7))","v":0}]
[null,null,null,null,null,null,null,null,null,null,null,null,null,null,null,null,null,null,null,null,null,null,null,null,null,null,null,null,null,null,null,null,null,null,null,null,null,null,null,null,null,{"$f":"SUMPRODUCT($G440:$J440,TRANSPOSE(Dados_v2!N$4:N$7))","v":0},{"$f":"SUMPRODUCT($G440:$J440,TRANSPOSE(Dados_v2!O$4:O$7))","v":0},{"$f":"SUMPRODUCT($G440:$J440,TRANSPOSE(Dados_v2!P$4:P$7))","v":0}]
[null,null,null,null,null,null,null,null,null,null,null,null,null,null,null,null,null,null,null,null,null,null,null,null,null,null,null,null,null,null,null,null,null,null,null,null,null,null,null,null,null,{"$f":"SUMPRODUCT($G441:$J441,TRANSPOSE(Dados_v2!N$4:N$7))","v":0},{"$f":"SUMPRODUCT($G441:$J441,TRANSPOSE(Dados_v2!O$4:O$7))","v":0},{"$f":"SUMPRODUCT($G441:$J441,TRANSPOSE(Dados_v2!P$4:P$7))","v":0}]
[null,null,null,null,null,null,null,null,null,null,null,null,null,null,null,null,null,null,null,null,null,null,null,null,null,null,null,null,null,null,null,null,null,null,null,null,null,null,null,null,null,{"$f":"SUMPRODUCT($G442:$J442,TRANSPOSE(Dados_v2!N$4:N$7))","v":0},{"$f":"SUMPRODUCT($G442:$J442,TRANSPOSE(Dados_v2!O$4:O$7))","v":0},{"$f":"SUMPRODUCT($G442:$J442,TRANSPOSE(Dados_v2!P$4:P$7))","v":0}]
[null,null,null,null,null,null,null,null,null,null,null,null,null,null,null,null,null,null,null,null,null,null,null,null,null,null,null,null,null,null,null,null,null,null,null,null,null,null,null,null,null,{"$f":"SUMPRODUCT($G443:$J443,TRANSPOSE(Dados_v2!N$4:N$7))","v":0},{"$f":"SUMPRODUCT($G443:$J443,TRANSPOSE(Dados_v2!O$4:O$7))","v":0},{"$f":"SUMPRODUCT($G443:$J443,TRANSPOSE(Dados_v2!P$4:P$7))","v":0}]
[null,null,null,null,null,null,null,null,null,null,null,null,null,null,null,null,null,null,null,null,null,null,null,null,null,null,null,null,null,null,null,null,null,null,null,null,null,null,null,null,null,{"$f":"SUMPRODUCT($G444:$J444,TRANSPOSE(Dados_v2!N$4:N$7))","v":0},{"$f":"SUMPRODUCT($G444:$J444,TRANSPOSE(Dados_v2!O$4:O$7))","v":0},{"$f":"SUMPRODUCT($G444:$J444,TRANSPOSE(Dados_v2!P$4:P$7))","v":0}]
[null,null,null,null,null,null,null,null,null,null,null,null,null,null,null,null,null,null,null,null,null,null,null,null,null,null,null,null,null,null,null,null,null,null,null,null,null,null,null,null,null,{"$f":"SUMPRODUCT($G445:$J445,TRANSPOSE(Dados_v2!N$4:N$7))","v":0},{"$f":"SUMPRODUCT($G445:$J445,TRANSPOSE(Dados_v2!O$4:O$7))","v":0},{"$f":"SUMPRODUCT($G445:$J445,TRANSPOSE(Dados_v2!P$4:P$7))","v":0}]
[null,null,null,null,null,null,null,null,null,null,null,null,null,null,null,null,null,null,null,null,null,null,null,null,null,null,null,null,null,null,null,null,null,null,null,null,null,null,null,null,null,{"$f":"SUMPRODUCT($G446:$J446,TRANSPOSE(Dados_v2!N$4:N$7))","v":0},{"$f":"SUMPRODUCT($G446:$J446,TRANSPOSE(Dados_v2!O$4:O$7))","v":0},{"$f":"SUMPRODUCT($G446:$J446,TRANSPOSE(Dados_v2!P$4:P$7))","v":0}]
[null,null,null,null,null,null,null,null,null,null,null,null,null,null,null,null,null,null,null,null,null,null,null,null,null,null,null,null,null,null,null,null,null,null,null,null,null,null,null,null,null,{"$f":"SUMPRODUCT($G447:$J447,TRANSPOSE(Dados_v2!N$4:N$7))","v":0},{"$f":"SUMPRODUCT($G447:$J447,TRANSPOSE(Dados_v2!O$4:O$7))","v":0},{"$f":"SUMPRODUCT($G447:$J447,TRANSPOSE(Dados_v2!P$4:P$7))","v":0}]
[null,null,null,null,null,null,null,null,null,null,null,null,null,null,null,null,null,null,null,null,null,null,null,null,null,null,null,null,null,null,null,null,null,null,null,null,null,null,null,null,null,{"$f":"SUMPRODUCT($G448:$J448,TRANSPOSE(Dados_v2!N$4:N$7))","v":0},{"$f":"SUMPRODUCT($G448:$J448,TRANSPOSE(Dados_v2!O$4:O$7))","v":0},{"$f":"SUMPRODUCT($G448:$J448,TRANSPOSE(Dados_v2!P$4:P$7))","v":0}]
[null,null,null,null,null,null,null,null,null,null,null,null,null,null,null,null,null,null,null,null,null,null,null,null,null,null,null,null,null,null,null,null,null,null,null,null,null,null,null,null,null,{"$f":"SUMPRODUCT($G449:$J449,TRANSPOSE(Dados_v2!N$4:N$7))","v":0},{"$f":"SUMPRODUCT($G449:$J449,TRANSPOSE(Dados_v2!O$4:O$7))","v":0},{"$f":"SUMPRODUCT($G449:$J449,TRANSPOSE(Dados_v2!P$4:P$7))","v":0}]
[null,null,null,null,null,null,null,null,null,null,null,null,null,null,null,null,null,null,null,null,null,null,null,null,null,null,null,null,null,null,null,null,null,null,null,null,null,null,null,null,null,{"$f":"SUMPRODUCT($G450:$J450,TRANSPOSE(Dados_v2!N$4:N$7))","v":0},{"$f":"SUMPRODUCT($G450:$J450,TRANSPOSE(Dados_v2!O$4:O$7))","v":0},{"$f":"SUMPRODUCT($G450:$J450,TRANSPOSE(Dados_v2!P$4:P$7))","v":0}]
[null,null,null,null,null,null,null,null,null,null,null,null,null,null,null,null,null,null,null,null,null,null,null,null,null,null,null,null,null,null,null,null,null,null,null,null,null,null,null,null,null,{"$f":"SUMPRODUCT($G451:$J451,TRANSPOSE(Dados_v2!N$4:N$7))","v":0},{"$f":"SUMPRODUCT($G451:$J451,TRANSPOSE(Dados_v2!O$4:O$7))","v":0},{"$f":"SUMPRODUCT($G451:$J451,TRANSPOSE(Dados_v2!P$4:P$7))","v":0}]
[null,null,null,null,null,null,null,null,null,null,null,null,null,null,null,null,null,null,null,null,null,null,null,null,null,null,null,null,null,null,null,null,null,null,null,null,null,null,null,null,null,{"$f":"SUMPRODUCT($G452:$J452,TRANSPOSE(Dados_v2!N$4:N$7))","v":0},{"$f":"SUMPRODUCT($G452:$J452,TRANSPOSE(Dados_v2!O$4:O$7))","v":0},{"$f":"SUMPRODUCT($G452:$J452,TRANSPOSE(Dados_v2!P$4:P$7))","v":0}]
[null,null,null,null,null,null,null,null,null,null,null,null,null,null,null,null,null,null,null,null,null,null,null,null,null,null,null,null,null,null,null,null,null,null,null,null,null,null,null,null,null,{"$f":"SUMPRODUCT($G453:$J453,TRANSPOSE(Dados_v2!N$4:N$7))","v":0},{"$f":"SUMPRODUCT($G453:$J453,TRANSPOSE(Dados_v2!O$4:O$7))","v":0},{"$f":"SUMPRODUCT($G453:$J453,TRANSPOSE(Dados_v2!P$4:P$7))","v":0}]
[null,null,null,null,null,null,null,null,null,null,null,null,null,null,null,null,null,null,null,null,null,null,null,null,null,null,null,null,null,null,null,null,null,null,null,null,null,null,null,null,null,{"$f":"SUMPRODUCT($G454:$J454,TRANSPOSE(Dados_v2!N$4:N$7))","v":0},{"$f":"SUMPRODUCT($G454:$J454,TRANSPOSE(Dados_v2!O$4:O$7))","v":0},{"$f":"SUMPRODUCT($G454:$J454,TRANSPOSE(Dados_v2!P$4:P$7))","v":0}]
[null,null,null,null,null,null,null,null,null,null,null,null,null,null,null,null,null,null,null,null,null,null,null,null,null,null,null,null,null,null,null,null,null,null,null,null,null,null,null,null,null,{"$f":"SUMPRODUCT($G455:$J455,TRANSPOSE(Dados_v2!N$4:N$7))","v":0},{"$f":"SUMPRODUCT($G455:$J455,TRANSPOSE(Dados_v2!O$4:O$7))","v":0},{"$f":"SUMPRODUCT($G455:$J455,TRANSPOSE(Dados_v2!P$4:P$7))","v":0}]
[null,null,null,null,null,null,null,null,null,null,null,null,null,null,null,null,null,null,null,null,null,null,null,null,null,null,null,null,null,null,null,null,null,null,null,null,null,null,null,null,null,{"$f":"SUMPRODUCT($G456:$J456,TRANSPOSE(Dados_v2!N$4:N$7))","v":0},{"$f":"SUMPRODUCT($G456:$J456,TRANSPOSE(Dados_v2!O$4:O$7))","v":0},{"$f":"SUMPRODUCT($G456:$J456,TRANSPOSE(Dados_v2!P$4:P$7))","v":0}]
[null,null,null,null,null,null,null,null,null,null,null,null,null,null,null,null,null,null,null,null,null,null,null,null,null,null,null,null,null,null,null,null,null,null,null,null,null,null,null,null,null,{"$f":"SUMPRODUCT($G457:$J457,TRANSPOSE(Dados_v2!N$4:N$7))","v":0},{"$f":"SUMPRODUCT($G457:$J457,TRANSPOSE(Dados_v2!O$4:O$7))","v":0},{"$f":"SUMPRODUCT($G457:$J457,TRANSPOSE(Dados_v2!P$4:P$7))","v":0}]
[null,null,null,null,null,null,null,null,null,null,null,null,null,null,null,null,null,null,null,null,null,null,null,null,null,null,null,null,null,null,null,null,null,null,null,null,null,null,null,null,null,{"$f":"SUMPRODUCT($G458:$J458,TRANSPOSE(Dados_v2!N$4:N$7))","v":0},{"$f":"SUMPRODUCT($G458:$J458,TRANSPOSE(Dados_v2!O$4:O$7))","v":0},{"$f":"SUMPRODUCT($G458:$J458,TRANSPOSE(Dados_v2!P$4:P$7))","v":0}]
[null,null,null,null,null,null,null,null,null,null,null,null,null,null,null,null,null,null,null,null,null,null,null,null,null,null,null,null,null,null,null,null,null,null,null,null,null,null,null,null,null,{"$f":"SUMPRODUCT($G459:$J459,TRANSPOSE(Dados_v2!N$4:N$7))","v":0},{"$f":"SUMPRODUCT($G459:$J459,TRANSPOSE(Dados_v2!O$4:O$7))","v":0},{"$f":"SUMPRODUCT($G459:$J459,TRANSPOSE(Dados_v2!P$4:P$7))","v":0}]
[null,null,null,null,null,null,null,null,null,null,null,null,null,null,null,null,null,null,null,null,null,null,null,null,null,null,null,null,null,null,null,null,null,null,null,null,null,null,null,null,null,{"$f":"SUMPRODUCT($G460:$J460,TRANSPOSE(Dados_v2!N$4:N$7))","v":0},{"$f":"SUMPRODUCT($G460:$J460,TRANSPOSE(Dados_v2!O$4:O$7))","v":0},{"$f":"SUMPRODUCT($G460:$J460,TRANSPOSE(Dados_v2!P$4:P$7))","v":0}]
[null,null,null,null,null,null,null,null,null,null,null,null,null,null,null,null,null,null,null,null,null,null,null,null,null,null,null,null,null,null,null,null,null,null,null,null,null,null,null,null,null,{"$f":"SUMPRODUCT($G461:$J461,TRANSPOSE(Dados_v2!N$4:N$7))","v":0},{"$f":"SUMPRODUCT($G461:$J461,TRANSPOSE(Dados_v2!O$4:O$7))","v":0},{"$f":"SUMPRODUCT($G461:$J461,TRANSPOSE(Dados_v2!P$4:P$7))","v":0}]
[null,null,null,null,null,null,null,null,null,null,null,null,null,null,null,null,null,null,null,null,null,null,null,null,null,null,null,null,null,null,null,null,null,null,null,null,null,null,null,null,null,{"$f":"SUMPRODUCT($G462:$J462,TRANSPOSE(Dados_v2!N$4:N$7))","v":0},{"$f":"SUMPRODUCT($G462:$J462,TRANSPOSE(Dados_v2!O$4:O$7))","v":0},{"$f":"SUMPRODUCT($G462:$J462,TRANSPOSE(Dados_v2!P$4:P$7))","v":0}]
[null,null,null,null,null,null,null,null,null,null,null,null,null,null,null,null,null,null,null,null,null,null,null,null,null,null,null,null,null,null,null,null,null,null,null,null,null,null,null,null,null,{"$f":"SUMPRODUCT($G463:$J463,TRANSPOSE(Dados_v2!N$4:N$7))","v":0},{"$f":"SUMPRODUCT($G463:$J463,TRANSPOSE(Dados_v2!O$4:O$7))","v":0},{"$f":"SUMPRODUCT($G463:$J463,TRANSPOSE(Dados_v2!P$4:P$7))","v":0}]
[null,null,null,null,null,null,null,null,null,null,null,null,null,null,null,null,null,null,null,null,null,null,null,null,null,null,null,null,null,null,null,null,null,null,null,null,null,null,null,null,null,{"$f":"SUMPRODUCT($G464:$J464,TRANSPOSE(Dados_v2!N$4:N$7))","v":0},{"$f":"SUMPRODUCT($G464:$J464,TRANSPOSE(Dados_v2!O$4:O$7))","v":0},{"$f":"SUMPRODUCT($G464:$J464,TRANSPOSE(Dados_v2!P$4:P$7))","v":0}]
[null,null,null,null,null,null,null,null,null,null,null,null,null,null,null,null,null,null,null,null,null,null,null,null,null,null,null,null,null,null,null,null,null,null,null,null,null,null,null,null,null,{"$f":"SUMPRODUCT($G465:$J465,TRANSPOSE(Dados_v2!N$4:N$7))","v":0},{"$f":"SUMPRODUCT($G465:$J465,TRANSPOSE(Dados_v2!O$4:O$7))","v":0},{"$f":"SUMPRODUCT($G465:$J465,TRANSPOSE(Dados_v2!P$4:P$7))","v":0}]
[null,null,null,null,null,null,null,null,null,null,null,null,null,null,null,null,null,null,null,null,null,null,null,null,null,null,null,null,null,null,null,null,null,null,null,null,null,null,null,null,null,{"$f":"SUMPRODUCT($G466:$J466,TRANSPOSE(Dados_v2!N$4:N$7))","v":0},{"$f":"SUMPRODUCT($G466:$J466,TRANSPOSE(Dados_v2!O$4:O$7))","v":0},{"$f":"SUMPRODUCT($G466:$J466,TRANSPOSE(Dados_v2!P$4:P$7))","v":0}]
[null,null,null,null,null,null,null,null,null,null,null,null,null,null,null,null,null,null,null,null,null,null,null,null,null,null,null,null,null,null,null,null,null,null,null,null,null,null,null,null,null,{"$f":"SUMPRODUCT($G467:$J467,TRANSPOSE(Dados_v2!N$4:N$7))","v":0},{"$f":"SUMPRODUCT($G467:$J467,TRANSPOSE(Dados_v2!O$4:O$7))","v":0},{"$f":"SUMPRODUCT($G467:$J467,TRANSPOSE(Dados_v2!P$4:P$7))","v":0}]
[null,null,null,null,null,null,null,null,null,null,null,null,null,null,null,null,null,null,null,null,null,null,null,null,null,null,null,null,null,null,null,null,null,null,null,null,null,null,null,null,null,{"$f":"SUMPRODUCT($G468:$J468,TRANSPOSE(Dados_v2!N$4:N$7))","v":0},{"$f":"SUMPRODUCT($G468:$J468,TRANSPOSE(Dados_v2!O$4:O$7))","v":0},{"$f":"SUMPRODUCT($G468:$J468,TRANSPOSE(Dados_v2!P$4:P$7))","v":0}]
[null,null,null,null,null,null,null,null,null,null,null,null,null,null,null,null,null,null,null,null,null,null,null,null,null,null,null,null,null,null,null,null,null,null,null,null,null,null,null,null,null,{"$f":"SUMPRODUCT($G469:$J469,TRANSPOSE(Dados_v2!N$4:N$7))","v":0},{"$f":"SUMPRODUCT($G469:$J469,TRANSPOSE(Dados_v2!O$4:O$7))","v":0},{"$f":"SUMPRODUCT($G469:$J469,TRANSPOSE(Dados_v2!P$4:P$7))","v":0}]
[null,null,null,null,null,null,null,null,null,null,null,null,null,null,null,null,null,null,null,null,null,null,null,null,null,null,null,null,null,null,null,null,null,null,null,null,null,null,null,null,null,{"$f":"SUMPRODUCT($G470:$J470,TRANSPOSE(Dados_v2!N$4:N$7))","v":0},{"$f":"SUMPRODUCT($G470:$J470,TRANSPOSE(Dados_v2!O$4:O$7))","v":0},{"$f":"SUMPRODUCT($G470:$J470,TRANSPOSE(Dados_v2!P$4:P$7))","v":0}]
[null,null,null,null,null,null,null,null,null,null,null,null,null,null,null,null,null,null,null,null,null,null,null,null,null,null,null,null,null,null,null,null,null,null,null,null,null,null,null,null,null,{"$f":"SUMPRODUCT($G471:$J471,TRANSPOSE(Dados_v2!N$4:N$7))","v":0},{"$f":"SUMPRODUCT($G471:$J471,TRANSPOSE(Dados_v2!O$4:O$7))","v":0},{"$f":"SUMPRODUCT($G471:$J471,TRANSPOSE(Dados_v2!P$4:P$7))","v":0}]
[null,null,null,null,null,null,null,null,null,null,null,null,null,null,null,null,null,null,null,null,null,null,null,null,null,null,null,null,null,null,null,null,null,null,null,null,null,null,null,null,null,{"$f":"SUMPRODUCT($G472:$J472,TRANSPOSE(Dados_v2!N$4:N$7))","v":0},{"$f":"SUMPRODUCT($G472:$J472,TRANSPOSE(Dados_v2!O$4:O$7))","v":0},{"$f":"SUMPRODUCT($G472:$J472,TRANSPOSE(Dados_v2!P$4:P$7))","v":0}]
[null,null,null,null,null,null,null,null,null,null,null,null,null,null,null,null,null,null,null,null,null,null,null,null,null,null,null,null,null,null,null,null,null,null,null,null,null,null,null,null,null,{"$f":"SUMPRODUCT($G473:$J473,TRANSPOSE(Dados_v2!N$4:N$7))","v":0},{"$f":"SUMPRODUCT($G473:$J473,TRANSPOSE(Dados_v2!O$4:O$7))","v":0},{"$f":"SUMPRODUCT($G473:$J473,TRANSPOSE(Dados_v2!P$4:P$7))","v":0}]
[null,null,null,null,null,null,null,null,null,null,null,null,null,null,null,null,null,null,null,null,null,null,null,null,null,null,null,null,null,null,null,null,null,null,null,null,null,null,null,null,null,{"$f":"SUMPRODUCT($G474:$J474,TRANSPOSE(Dados_v2!N$4:N$7))","v":0},{"$f":"SUMPRODUCT($G474:$J474,TRANSPOSE(Dados_v2!O$4:O$7))","v":0},{"$f":"SUMPRODUCT($G474:$J474,TRANSPOSE(Dados_v2!P$4:P$7))","v":0}]
[null,null,null,null,null,null,null,null,null,null,null,null,null,null,null,null,null,null,null,null,null,null,null,null,null,null,null,null,null,null,null,null,null,null,null,null,null,null,null,null,null,{"$f":"SUMPRODUCT($G475:$J475,TRANSPOSE(Dados_v2!N$4:N$7))","v":0},{"$f":"SUMPRODUCT($G475:$J475,TRANSPOSE(Dados_v2!O$4:O$7))","v":0},{"$f":"SUMPRODUCT($G475:$J475,TRANSPOSE(Dados_v2!P$4:P$7))","v":0}]
[null,null,null,null,null,null,null,null,null,null,null,null,null,null,null,null,null,null,null,null,null,null,null,null,null,null,null,null,null,null,null,null,null,null,null,null,null,null,null,null,null,{"$f":"SUMPRODUCT($G476:$J476,TRANSPOSE(Dados_v2!N$4:N$7))","v":0},{"$f":"SUMPRODUCT($G476:$J476,TRANSPOSE(Dados_v2!O$4:O$7))","v":0},{"$f":"SUMPRODUCT($G476:$J476,TRANSPOSE(Dados_v2!P$4:P$7))","v":0}]
[null,null,null,null,null,null,null,null,null,null,null,null,null,null,null,null,null,null,null,null,null,null,null,null,null,null,null,null,null,null,null,null,null,null,null,null,null,null,null,null,null,{"$f":"SUMPRODUCT($G477:$J477,TRANSPOSE(Dados_v2!N$4:N$7))","v":0},{"$f":"SUMPRODUCT($G477:$J477,TRANSPOSE(Dados_v2!O$4:O$7))","v":0},{"$f":"SUMPRODUCT($G477:$J477,TRANSPOSE(Dados_v2!P$4:P$7))","v":0}]
[null,null,null,null,null,null,null,null,null,null,null,null,null,null,null,null,null,null,null,null,null,null,null,null,null,null,null,null,null,null,null,null,null,null,null,null,null,null,null,null,null,{"$f":"SUMPRODUCT($G478:$J478,TRANSPOSE(Dados_v2!N$4:N$7))","v":0},{"$f":"SUMPRODUCT($G478:$J478,TRANSPOSE(Dados_v2!O$4:O$7))","v":0},{"$f":"SUMPRODUCT($G478:$J478,TRANSPOSE(Dados_v2!P$4:P$7))","v":0}]
[null,null,null,null,null,null,null,null,null,null,null,null,null,null,null,null,null,null,null,null,null,null,null,null,null,null,null,null,null,null,null,null,null,null,null,null,null,null,null,null,null,{"$f":"SUMPRODUCT($G479:$J479,TRANSPOSE(Dados_v2!N$4:N$7))","v":0},{"$f":"SUMPRODUCT($G479:$J479,TRANSPOSE(Dados_v2!O$4:O$7))","v":0},{"$f":"SUMPRODUCT($G479:$J479,TRANSPOSE(Dados_v2!P$4:P$7))","v":0}]
[null,null,null,null,null,null,null,null,null,null,null,null,null,null,null,null,null,null,null,null,null,null,null,null,null,null,null,null,null,null,null,null,null,null,null,null,null,null,null,null,null,{"$f":"SUMPRODUCT($G480:$J480,TRANSPOSE(Dados_v2!N$4:N$7))","v":0},{"$f":"SUMPRODUCT($G480:$J480,TRANSPOSE(Dados_v2!O$4:O$7))","v":0},{"$f":"SUMPRODUCT($G480:$J480,TRANSPOSE(Dados_v2!P$4:P$7))","v":0}]
[null,null,null,null,null,null,null,null,null,null,null,null,null,null,null,null,null,null,null,null,null,null,null,null,null,null,null,null,null,null,null,null,null,null,null,null,null,null,null,null,null,{"$f":"SUMPRODUCT($G481:$J481,TRANSPOSE(Dados_v2!N$4:N$7))","v":0},{"$f":"SUMPRODUCT($G481:$J481,TRANSPOSE(Dados_v2!O$4:O$7))","v":0},{"$f":"SUMPRODUCT($G481:$J481,TRANSPOSE(Dados_v2!P$4:P$7))","v":0}]
[null,null,null,null,null,null,null,null,null,null,null,null,null,null,null,null,null,null,null,null,null,null,null,null,null,null,null,null,null,null,null,null,null,null,null,null,null,null,null,null,null,{"$f":"SUMPRODUCT($G482:$J482,TRANSPOSE(Dados_v2!N$4:N$7))","v":0},{"$f":"SUMPRODUCT($G482:$J482,TRANSPOSE(Dados_v2!O$4:O$7))","v":0},{"$f":"SUMPRODUCT($G482:$J482,TRANSPOSE(Dados_v2!P$4:P$7))","v":0}]
[null,null,null,null,null,null,null,null,null,null,null,null,null,null,null,null,null,null,null,null,null,null,null,null,null,null,null,null,null,null,null,null,null,null,null,null,null,null,null,null,null,{"$f":"SUMPRODUCT($G483:$J483,TRANSPOSE(Dados_v2!N$4:N$7))","v":0},{"$f":"SUMPRODUCT($G483:$J483,TRANSPOSE(Dados_v2!O$4:O$7))","v":0},{"$f":"SUMPRODUCT($G483:$J483,TRANSPOSE(Dados_v2!P$4:P$7))","v":0}]
[null,null,null,null,null,null,null,null,null,null,null,null,null,null,null,null,null,null,null,null,null,null,null,null,null,null,null,null,null,null,null,null,null,null,null,null,null,null,null,null,null,{"$f":"SUMPRODUCT($G484:$J484,TRANSPOSE(Dados_v2!N$4:N$7))","v":0},{"$f":"SUMPRODUCT($G484:$J484,TRANSPOSE(Dados_v2!O$4:O$7))","v":0},{"$f":"SUMPRODUCT($G484:$J484,TRANSPOSE(Dados_v2!P$4:P$7))","v":0}]
[null,null,null,null,null,null,null,null,null,null,null,null,null,null,null,null,null,null,null,null,null,null,null,null,null,null,null,null,null,null,null,null,null,null,null,null,null,null,null,null,null,{"$f":"SUMPRODUCT($G485:$J485,TRANSPOSE(Dados_v2!N$4:N$7))","v":0},{"$f":"SUMPRODUCT($G485:$J485,TRANSPOSE(Dados_v2!O$4:O$7))","v":0},{"$f":"SUMPRODUCT($G485:$J485,TRANSPOSE(Dados_v2!P$4:P$7))","v":0}]
[null,null,null,null,null,null,null,null,null,null,null,null,null,null,null,null,null,null,null,null,null,null,null,null,null,null,null,null,null,null,null,null,null,null,null,null,null,null,null,null,null,{"$f":"SUMPRODUCT($G486:$J486,TRANSPOSE(Dados_v2!N$4:N$7))","v":0},{"$f":"SUMPRODUCT($G486:$J486,TRANSPOSE(Dados_v2!O$4:O$7))","v":0},{"$f":"SUMPRODUCT($G486:$J486,TRANSPOSE(Dados_v2!P$4:P$7))","v":0}]
[null,null,null,null,null,null,null,null,null,null,null,null,null,null,null,null,null,null,null,null,null,null,null,null,null,null,null,null,null,null,null,null,null,null,null,null,null,null,null,null,null,{"$f":"SUMPRODUCT($G487:$J487,TRANSPOSE(Dados_v2!N$4:N$7))","v":0},{"$f":"SUMPRODUCT($G487:$J487,TRANSPOSE(Dados_v2!O$4:O$7))","v":0},{"$f":"SUMPRODUCT($G487:$J487,TRANSPOSE(Dados_v2!P$4:P$7))","v":0}]
[null,null,null,null,null,null,null,null,null,null,null,null,null,null,null,null,null,null,null,null,null,null,null,null,null,null,null,null,null,null,null,null,null,null,null,null,null,null,null,null,null,{"$f":"SUMPRODUCT($G488:$J488,TRANSPOSE(Dados_v2!N$4:N$7))","v":0},{"$f":"SUMPRODUCT($G488:$J488,TRANSPOSE(Dados_v2!O$4:O$7))","v":0},{"$f":"SUMPRODUCT($G488:$J488,TRANSPOSE(Dados_v2!P$4:P$7))","v":0}]
[null,null,null,null,null,null,null,null,null,null,null,null,null,null,null,null,null,null,null,null,null,null,null,null,null,null,null,null,null,null,null,null,null,null,null,null,null,null,null,null,null,{"$f":"SUMPRODUCT($G489:$J489,TRANSPOSE(Dados_v2!N$4:N$7))","v":0},{"$f":"SUMPRODUCT($G489:$J489,TRANSPOSE(Dados_v2!O$4:O$7))","v":0},{"$f":"SUMPRODUCT($G489:$J489,TRANSPOSE(Dados_v2!P$4:P$7))","v":0}]
[null,null,null,null,null,null,null,null,null,null,null,null,null,null,null,null,null,null,null,null,null,null,null,null,null,null,null,null,null,null,null,null,null,null,null,null,null,null,null,null,null,{"$f":"SUMPRODUCT($G490:$J490,TRANSPOSE(Dados_v2!N$4:N$7))","v":0},{"$f":"SUMPRODUCT($G490:$J490,TRANSPOSE(Dados_v2!O$4:O$7))","v":0},{"$f":"SUMPRODUCT($G490:$J490,TRANSPOSE(Dados_v2!P$4:P$7))","v":0}]
[null,null,null,null,null,null,null,null,null,null,null,null,null,null,null,null,null,null,null,null,null,null,null,null,null,null,null,null,null,null,null,null,null,null,null,null,null,null,null,null,null,{"$f":"SUMPRODUCT($G491:$J491,TRANSPOSE(Dados_v2!N$4:N$7))","v":0},{"$f":"SUMPRODUCT($G491:$J491,TRANSPOSE(Dados_v2!O$4:O$7))","v":0},{"$f":"SUMPRODUCT($G491:$J491,TRANSPOSE(Dados_v2!P$4:P$7))","v":0}]
[null,null,null,null,null,null,null,null,null,null,null,null,null,null,null,null,null,null,null,null,null,null,null,null,null,null,null,null,null,null,null,null,null,null,null,null,null,null,null,null,null,{"$f":"SUMPRODUCT($G492:$J492,TRANSPOSE(Dados_v2!N$4:N$7))","v":0},{"$f":"SUMPRODUCT($G492:$J492,TRANSPOSE(Dados_v2!O$4:O$7))","v":0},{"$f":"SUMPRODUCT($G492:$J492,TRANSPOSE(Dados_v2!P$4:P$7))","v":0}]
[null,null,null,null,null,null,null,null,null,null,null,null,null,null,null,null,null,null,null,null,null,null,null,null,null,null,null,null,null,null,null,null,null,null,null,null,null,null,null,null,null,{"$f":"SUMPRODUCT($G493:$J493,TRANSPOSE(Dados_v2!N$4:N$7))","v":0},{"$f":"SUMPRODUCT($G493:$J493,TRANSPOSE(Dados_v2!O$4:O$7))","v":0},{"$f":"SUMPRODUCT($G493:$J493,TRANSPOSE(Dados_v2!P$4:P$7))","v":0}]
[null,null,null,null,null,null,null,null,null,null,null,null,null,null,null,null,null,null,null,null,null,null,null,null,null,null,null,null,null,null,null,null,null,null,null,null,null,null,null,null,null,{"$f":"SUMPRODUCT($G494:$J494,TRANSPOSE(Dados_v2!N$4:N$7))","v":0},{"$f":"SUMPRODUCT($G494:$J494,TRANSPOSE(Dados_v2!O$4:O$7))","v":0},{"$f":"SUMPRODUCT($G494:$J494,TRANSPOSE(Dados_v2!P$4:P$7))","v":0}]
[null,null,null,null,null,null,null,null,null,null,null,null,null,null,null,null,null,null,null,null,null,null,null,null,null,null,null,null,null,null,null,null,null,null,null,null,null,null,null,null,null,{"$f":"SUMPRODUCT($G495:$J495,TRANSPOSE(Dados_v2!N$4:N$7))","v":0},{"$f":"SUMPRODUCT($G495:$J495,TRANSPOSE(Dados_v2!O$4:O$7))","v":0},{"$f":"SUMPRODUCT($G495:$J495,TRANSPOSE(Dados_v2!P$4:P$7))","v":0}]
[null,null,null,null,null,null,null,null,null,null,null,null,null,null,null,null,null,null,null,null,null,null,null,null,null,null,null,null,null,null,null,null,null,null,null,null,null,null,null,null,null,{"$f":"SUMPRODUCT($G496:$J496,TRANSPOSE(Dados_v2!N$4:N$7))","v":0},{"$f":"SUMPRODUCT($G496:$J496,TRANSPOSE(Dados_v2!O$4:O$7))","v":0},{"$f":"SUMPRODUCT($G496:$J496,TRANSPOSE(Dados_v2!P$4:P$7))","v":0}]
[null,null,null,null,null,null,null,null,null,null,null,null,null,null,null,null,null,null,null,null,null,null,null,null,null,null,null,null,null,null,null,null,null,null,null,null,null,null,null,null,null,{"$f":"SUMPRODUCT($G497:$J497,TRANSPOSE(Dados_v2!N$4:N$7))","v":0},{"$f":"SUMPRODUCT($G497:$J497,TRANSPOSE(Dados_v2!O$4:O$7))","v":0},{"$f":"SUMPRODUCT($G497:$J497,TRANSPOSE(Dados_v2!P$4:P$7))","v":0}]
[null,null,null,null,null,null,null,null,null,null,null,null,null,null,null,null,null,null,null,null,null,null,null,null,null,null,null,null,null,null,null,null,null,null,null,null,null,null,null,null,null,{"$f":"SUMPRODUCT($G498:$J498,TRANSPOSE(Dados_v2!N$4:N$7))","v":0},{"$f":"SUMPRODUCT($G498:$J498,TRANSPOSE(Dados_v2!O$4:O$7))","v":0},{"$f":"SUMPRODUCT($G498:$J498,TRANSPOSE(Dados_v2!P$4:P$7))","v":0}]
[null,null,null,null,null,null,null,null,null,null,null,null,null,null,null,null,null,null,null,null,null,null,null,null,null,null,null,null,null,null,null,null,null,null,null,null,null,null,null,null,null,{"$f":"SUMPRODUCT($G499:$J499,TRANSPOSE(Dados_v2!N$4:N$7))","v":0},{"$f":"SUMPRODUCT($G499:$J499,TRANSPOSE(Dados_v2!O$4:O$7))","v":0},{"$f":"SUMPRODUCT($G499:$J499,TRANSPOSE(Dados_v2!P$4:P$7))","v":0}]
[null,null,null,null,null,null,null,null,null,null,null,null,null,null,null,null,null,null,null,null,null,null,null,null,null,null,null,null,null,null,null,null,null,null,null,null,null,null,null,null,null,{"$f":"SUMPRODUCT($G500:$J500,TRANSPOSE(Dados_v2!N$4:N$7))","v":0},{"$f":"SUMPRODUCT($G500:$J500,TRANSPOSE(Dados_v2!O$4:O$7))","v":0},{"$f":"SUMPRODUCT($G500:$J500,TRANSPOSE(Dados_v2!P$4:P$7))","v":0}]
[null,null,null,null,null,null,null,null,null,null,null,null,null,null,null,null,null,null,null,null,null,null,null,null,null,null,null,null,null,null,null,null,null,null,null,null,null,null,null,null,null,{"$f":"SUMPRODUCT($G501:$J501,TRANSPOSE(Dados_v2!N$4:N$7))","v":0},{"$f":"SUMPRODUCT($G501:$J501,TRANSPOSE(Dados_v2!O$4:O$7))","v":0},{"$f":"SUMPRODUCT($G501:$J501,TRANSPOSE(Dados_v2!P$4:P$7))","v":0}]
[null,null,null,null,null,null,null,null,null,null,null,null,null,null,null,null,null,null,null,null,null,null,null,null,null,null,null,null,null,null,null,null,null,null,null,null,null,null,null,null,null,{"$f":"SUMPRODUCT($G502:$J502,TRANSPOSE(Dados_v2!N$4:N$7))","v":0},{"$f":"SUMPRODUCT($G502:$J502,TRANSPOSE(Dados_v2!O$4:O$7))","v":0},{"$f":"SUMPRODUCT($G502:$J502,TRANSPOSE(Dados_v2!P$4:P$7))","v":0}]
[null,null,null,null,null,null,null,null,null,null,null,null,null,null,null,null,null,null,null,null,null,null,null,null,null,null,null,null,null,null,null,null,null,null,null,null,null,null,null,null,null,{"$f":"SUMPRODUCT($G503:$J503,TRANSPOSE(Dados_v2!N$4:N$7))","v":0},{"$f":"SUMPRODUCT($G503:$J503,TRANSPOSE(Dados_v2!O$4:O$7))","v":0},{"$f":"SUMPRODUCT($G503:$J503,TRANSPOSE(Dados_v2!P$4:P$7))","v":0}]
[null,null,null,null,null,null,null,null,null,null,null,null,null,null,null,null,null,null,null,null,null,null,null,null,null,null,null,null,null,null,null,null,null,null,null,null,null,null,null,null,null,{"$f":"SUMPRODUCT($G504:$J504,TRANSPOSE(Dados_v2!N$4:N$7))","v":0},{"$f":"SUMPRODUCT($G504:$J504,TRANSPOSE(Dados_v2!O$4:O$7))","v":0},{"$f":"SUMPRODUCT($G504:$J504,TRANSPOSE(Dados_v2!P$4:P$7))","v":0}]
[null,null,null,null,null,null,null,null,null,null,null,null,null,null,null,null,null,null,null,null,null,null,null,null,null,null,null,null,null,null,null,null,null,null,null,null,null,null,null,null,null,{"$f":"SUMPRODUCT($G505:$J505,TRANSPOSE(Dados_v2!N$4:N$7))","v":0},{"$f":"SUMPRODUCT($G505:$J505,TRANSPOSE(Dados_v2!O$4:O$7))","v":0},{"$f":"SUMPRODUCT($G505:$J505,TRANSPOSE(Dados_v2!P$4:P$7))","v":0}]
[null,null,null,null,null,null,null,null,null,null,null,null,null,null,null,null,null,null,null,null,null,null,null,null,null,null,null,null,null,null,null,null,null,null,null,null,null,null,null,null,null,{"$f":"SUMPRODUCT($G506:$J506,TRANSPOSE(Dados_v2!N$4:N$7))","v":0},{"$f":"SUMPRODUCT($G506:$J506,TRANSPOSE(Dados_v2!O$4:O$7))","v":0},{"$f":"SUMPRODUCT($G506:$J506,TRANSPOSE(Dados_v2!P$4:P$7))","v":0}]
[null,null,null,null,null,null,null,null,null,null,null,null,null,null,null,null,null,null,null,null,null,null,null,null,null,null,null,null,null,null,null,null,null,null,null,null,null,null,null,null,null,{"$f":"SUMPRODUCT($G507:$J507,TRANSPOSE(Dados_v2!N$4:N$7))","v":0},{"$f":"SUMPRODUCT($G507:$J507,TRANSPOSE(Dados_v2!O$4:O$7))","v":0},{"$f":"SUMPRODUCT($G507:$J507,TRANSPOSE(Dados_v2!P$4:P$7))","v":0}]
[null,null,null,null,null,null,null,null,null,null,null,null,null,null,null,null,null,null,null,null,null,null,null,null,null,null,null,null,null,null,null,null,null,null,null,null,null,null,null,null,null,{"$f":"SUMPRODUCT($G508:$J508,TRANSPOSE(Dados_v2!N$4:N$7))","v":0},{"$f":"SUMPRODUCT($G508:$J508,TRANSPOSE(Dados_v2!O$4:O$7))","v":0},{"$f":"SUMPRODUCT($G508:$J508,TRANSPOSE(Dados_v2!P$4:P$7))","v":0}]
[null,null,null,null,null,null,null,null,null,null,null,null,null,null,null,null,null,null,null,null,null,null,null,null,null,null,null,null,null,null,null,null,null,null,null,null,null,null,null,null,null,{"$f":"SUMPRODUCT($G509:$J509,TRANSPOSE(Dados_v2!N$4:N$7))","v":0},{"$f":"SUMPRODUCT($G509:$J509,TRANSPOSE(Dados_v2!O$4:O$7))","v":0},{"$f":"SUMPRODUCT($G509:$J509,TRANSPOSE(Dados_v2!P$4:P$7))","v":0}]
[null,null,null,null,null,null,null,null,null,null,null,null,null,null,null,null,null,null,null,null,null,null,null,null,null,null,null,null,null,null,null,null,null,null,null,null,null,null,null,null,null,{"$f":"SUMPRODUCT($G510:$J510,TRANSPOSE(Dados_v2!N$4:N$7))","v":0},{"$f":"SUMPRODUCT($G510:$J510,TRANSPOSE(Dados_v2!O$4:O$7))","v":0},{"$f":"SUMPRODUCT($G510:$J510,TRANSPOSE(Dados_v2!P$4:P$7))","v":0}]
[null,null,null,null,null,null,null,null,null,null,null,null,null,null,null,null,null,null,null,null,null,null,null,null,null,null,null,null,null,null,null,null,null,null,null,null,null,null,null,null,null,{"$f":"SUMPRODUCT($G511:$J511,TRANSPOSE(Dados_v2!N$4:N$7))","v":0},{"$f":"SUMPRODUCT($G511:$J511,TRANSPOSE(Dados_v2!O$4:O$7))","v":0},{"$f":"SUMPRODUCT($G511:$J511,TRANSPOSE(Dados_v2!P$4:P$7))","v":0}]
[null,null,null,null,null,null,null,null,null,null,null,null,null,null,null,null,null,null,null,null,null,null,null,null,null,null,null,null,null,null,null,null,null,null,null,null,null,null,null,null,null,{"$f":"SUMPRODUCT($G512:$J512,TRANSPOSE(Dados_v2!N$4:N$7))","v":0},{"$f":"SUMPRODUCT($G512:$J512,TRANSPOSE(Dados_v2!O$4:O$7))","v":0},{"$f":"SUMPRODUCT($G512:$J512,TRANSPOSE(Dados_v2!P$4:P$7))","v":0}]
[null,null,null,null,null,null,null,null,null,null,null,null,null,null,null,null,null,null,null,null,null,null,null,null,null,null,null,null,null,null,null,null,null,null,null,null,null,null,null,null,null,{"$f":"SUMPRODUCT($G513:$J513,TRANSPOSE(Dados_v2!N$4:N$7))","v":0},{"$f":"SUMPRODUCT($G513:$J513,TRANSPOSE(Dados_v2!O$4:O$7))","v":0},{"$f":"SUMPRODUCT($G513:$J513,TRANSPOSE(Dados_v2!P$4:P$7))","v":0}]
[null,null,null,null,null,null,null,null,null,null,null,null,null,null,null,null,null,null,null,null,null,null,null,null,null,null,null,null,null,null,null,null,null,null,null,null,null,null,null,null,null,{"$f":"SUMPRODUCT($G514:$J514,TRANSPOSE(Dados_v2!N$4:N$7))","v":0},{"$f":"SUMPRODUCT($G514:$J514,TRANSPOSE(Dados_v2!O$4:O$7))","v":0},{"$f":"SUMPRODUCT($G514:$J514,TRANSPOSE(Dados_v2!P$4:P$7))","v":0}]
[null,null,null,null,null,null,null,null,null,null,null,null,null,null,null,null,null,null,null,null,null,null,null,null,null,null,null,null,null,null,null,null,null,null,null,null,null,null,null,null,null,{"$f":"SUMPRODUCT($G515:$J515,TRANSPOSE(Dados_v2!N$4:N$7))","v":0},{"$f":"SUMPRODUCT($G515:$J515,TRANSPOSE(Dados_v2!O$4:O$7))","v":0},{"$f":"SUMPRODUCT($G515:$J515,TRANSPOSE(Dados_v2!P$4:P$7))","v":0}]
[null,null,null,null,null,null,null,null,null,null,null,null,null,null,null,null,null,null,null,null,null,null,null,null,null,null,null,null,null,null,null,null,null,null,null,null,null,null,null,null,null,{"$f":"SUMPRODUCT($G516:$J516,TRANSPOSE(Dados_v2!N$4:N$7))","v":0},{"$f":"SUMPRODUCT($G516:$J516,TRANSPOSE(Dados_v2!O$4:O$7))","v":0},{"$f":"SUMPRODUCT($G516:$J516,TRANSPOSE(Dados_v2!P$4:P$7))","v":0}]
[null,null,null,null,null,null,null,null,null,null,null,null,null,null,null,null,null,null,null,null,null,null,null,null,null,null,null,null,null,null,null,null,null,null,null,null,null,null,null,null,null,{"$f":"SUMPRODUCT($G517:$J517,TRANSPOSE(Dados_v2!N$4:N$7))","v":0},{"$f":"SUMPRODUCT($G517:$J517,TRANSPOSE(Dados_v2!O$4:O$7))","v":0},{"$f":"SUMPRODUCT($G517:$J517,TRANSPOSE(Dados_v2!P$4:P$7))","v":0}]
[null,null,null,null,null,null,null,null,null,null,null,null,null,null,null,null,null,null,null,null,null,null,null,null,null,null,null,null,null,null,null,null,null,null,null,null,null,null,null,null,null,{"$f":"SUMPRODUCT($G518:$J518,TRANSPOSE(Dados_v2!N$4:N$7))","v":0},{"$f":"SUMPRODUCT($G518:$J518,TRANSPOSE(Dados_v2!O$4:O$7))","v":0},{"$f":"SUMPRODUCT($G518:$J518,TRANSPOSE(Dados_v2!P$4:P$7))","v":0}]
[null,null,null,null,null,null,null,null,null,null,null,null,null,null,null,null,null,null,null,null,null,null,null,null,null,null,null,null,null,null,null,null,null,null,null,null,null,null,null,null,null,{"$f":"SUMPRODUCT($G519:$J519,TRANSPOSE(Dados_v2!N$4:N$7))","v":0},{"$f":"SUMPRODUCT($G519:$J519,TRANSPOSE(Dados_v2!O$4:O$7))","v":0},{"$f":"SUMPRODUCT($G519:$J519,TRANSPOSE(Dados_v2!P$4:P$7))","v":0}]
[null,null,null,null,null,null,null,null,null,null,null,null,null,null,null,null,null,null,null,null,null,null,null,null,null,null,null,null,null,null,null,null,null,null,null,null,null,null,null,null,null,{"$f":"SUMPRODUCT($G520:$J520,TRANSPOSE(Dados_v2!N$4:N$7))","v":0},{"$f":"SUMPRODUCT($G520:$J520,TRANSPOSE(Dados_v2!O$4:O$7))","v":0},{"$f":"SUMPRODUCT($G520:$J520,TRANSPOSE(Dados_v2!P$4:P$7))","v":0}]
[null,null,null,null,null,null,null,null,null,null,null,null,null,null,null,null,null,null,null,null,null,null,null,null,null,null,null,null,null,null,null,null,null,null,null,null,null,null,null,null,null,{"$f":"SUMPRODUCT($G521:$J521,TRANSPOSE(Dados_v2!N$4:N$7))","v":0},{"$f":"SUMPRODUCT($G521:$J521,TRANSPOSE(Dados_v2!O$4:O$7))","v":0},{"$f":"SUMPRODUCT($G521:$J521,TRANSPOSE(Dados_v2!P$4:P$7))","v":0}]
[null,null,null,null,null,null,null,null,null,null,null,null,null,null,null,null,null,null,null,null,null,null,null,null,null,null,null,null,null,null,null,null,null,null,null,null,null,null,null,null,null,{"$f":"SUMPRODUCT($G522:$J522,TRANSPOSE(Dados_v2!N$4:N$7))","v":0},{"$f":"SUMPRODUCT($G522:$J522,TRANSPOSE(Dados_v2!O$4:O$7))","v":0},{"$f":"SUMPRODUCT($G522:$J522,TRANSPOSE(Dados_v2!P$4:P$7))","v":0}]
[null,null,null,null,null,null,null,null,null,null,null,null,null,null,null,null,null,null,null,null,null,null,null,null,null,null,null,null,null,null,null,null,null,null,null,null,null,null,null,null,null,{"$f":"SUMPRODUCT($G523:$J523,TRANSPOSE(Dados_v2!N$4:N$7))","v":0},{"$f":"SUMPRODUCT($G523:$J523,TRANSPOSE(Dados_v2!O$4:O$7))","v":0},{"$f":"SUMPRODUCT($G523:$J523,TRANSPOSE(Dados_v2!P$4:P$7))","v":0}]
[null,null,null,null,null,null,null,null,null,null,null,null,null,null,null,null,null,null,null,null,null,null,null,null,null,null,null,null,null,null,null,null,null,null,null,null,null,null,null,null,null,{"$f":"SUMPRODUCT($G524:$J524,TRANSPOSE(Dados_v2!N$4:N$7))","v":0},{"$f":"SUMPRODUCT($G524:$J524,TRANSPOSE(Dados_v2!O$4:O$7))","v":0},{"$f":"SUMPRODUCT($G524:$J524,TRANSPOSE(Dados_v2!P$4:P$7))","v":0}]
[null,null,null,null,null,null,null,null,null,null,null,null,null,null,null,null,null,null,null,null,null,null,null,null,null,null,null,null,null,null,null,null,null,null,null,null,null,null,null,null,null,{"$f":"SUMPRODUCT($G525:$J525,TRANSPOSE(Dados_v2!N$4:N$7))","v":0},{"$f":"SUMPRODUCT($G525:$J525,TRANSPOSE(Dados_v2!O$4:O$7))","v":0},{"$f":"SUMPRODUCT($G525:$J525,TRANSPOSE(Dados_v2!P$4:P$7))","v":0}]
[null,null,null,null,null,null,null,null,null,null,null,null,null,null,null,null,null,null,null,null,null,null,null,null,null,null,null,null,null,null,null,null,null,null,null,null,null,null,null,null,null,{"$f":"SUMPRODUCT($G526:$J526,TRANSPOSE(Dados_v2!N$4:N$7))","v":0},{"$f":"SUMPRODUCT($G526:$J526,TRANSPOSE(Dados_v2!O$4:O$7))","v":0},{"$f":"SUMPRODUCT($G526:$J526,TRANSPOSE(Dados_v2!P$4:P$7))","v":0}]
[null,null,null,null,null,null,null,null,null,null,null,null,null,null,null,null,null,null,null,null,null,null,null,null,null,null,null,null,null,null,null,null,null,null,null,null,null,null,null,null,null,{"$f":"SUMPRODUCT($G527:$J527,TRANSPOSE(Dados_v2!N$4:N$7))","v":0},{"$f":"SUMPRODUCT($G527:$J527,TRANSPOSE(Dados_v2!O$4:O$7))","v":0},{"$f":"SUMPRODUCT($G527:$J527,TRANSPOSE(Dados_v2!P$4:P$7))","v":0}]
[null,null,null,null,null,null,null,null,null,null,null,null,null,null,null,null,null,null,null,null,null,null,null,null,null,null,null,null,null,null,null,null,null,null,null,null,null,null,null,null,null,{"$f":"SUMPRODUCT($G528:$J528,TRANSPOSE(Dados_v2!N$4:N$7))","v":0},{"$f":"SUMPRODUCT($G528:$J528,TRANSPOSE(Dados_v2!O$4:O$7))","v":0},{"$f":"SUMPRODUCT($G528:$J528,TRANSPOSE(Dados_v2!P$4:P$7))","v":0}]
[null,null,null,null,null,null,null,null,null,null,null,null,null,null,null,null,null,null,null,null,null,null,null,null,null,null,null,null,null,null,null,null,null,null,null,null,null,null,null,null,null,{"$f":"SUMPRODUCT($G529:$J529,TRANSPOSE(Dados_v2!N$4:N$7))","v":0},{"$f":"SUMPRODUCT($G529:$J529,TRANSPOSE(Dados_v2!O$4:O$7))","v":0},{"$f":"SUMPRODUCT($G529:$J529,TRANSPOSE(Dados_v2!P$4:P$7))","v":0}]
[null,null,null,null,null,null,null,null,null,null,null,null,null,null,null,null,null,null,null,null,null,null,null,null,null,null,null,null,null,null,null,null,null,null,null,null,null,null,null,null,null,{"$f":"SUMPRODUCT($G530:$J530,TRANSPOSE(Dados_v2!N$4:N$7))","v":0},{"$f":"SUMPRODUCT($G530:$J530,TRANSPOSE(Dados_v2!O$4:O$7))","v":0},{"$f":"SUMPRODUCT($G530:$J530,TRANSPOSE(Dados_v2!P$4:P$7))","v":0}]
[null,null,null,null,null,null,null,null,null,null,null,null,null,null,null,null,null,null,null,null,null,null,null,null,null,null,null,null,null,null,null,null,null,null,null,null,null,null,null,null,null,{"$f":"SUMPRODUCT($G531:$J531,TRANSPOSE(Dados_v2!N$4:N$7))","v":0},{"$f":"SUMPRODUCT($G531:$J531,TRANSPOSE(Dados_v2!O$4:O$7))","v":0},{"$f":"SUMPRODUCT($G531:$J531,TRANSPOSE(Dados_v2!P$4:P$7))","v":0}]
[null,null,null,null,null,null,null,null,null,null,null,null,null,null,null,null,null,null,null,null,null,null,null,null,null,null,null,null,null,null,null,null,null,null,null,null,null,null,null,null,null,{"$f":"SUMPRODUCT($G532:$J532,TRANSPOSE(Dados_v2!N$4:N$7))","v":0},{"$f":"SUMPRODUCT($G532:$J532,TRANSPOSE(Dados_v2!O$4:O$7))","v":0},{"$f":"SUMPRODUCT($G532:$J532,TRANSPOSE(Dados_v2!P$4:P$7))","v":0}]
[null,null,null,null,null,null,null,null,null,null,null,null,null,null,null,null,null,null,null,null,null,null,null,null,null,null,null,null,null,null,null,null,null,null,null,null,null,null,null,null,null,{"$f":"SUMPRODUCT($G533:$J533,TRANSPOSE(Dados_v2!N$4:N$7))","v":0},{"$f":"SUMPRODUCT($G533:$J533,TRANSPOSE(Dados_v2!O$4:O$7))","v":0},{"$f":"SUMPRODUCT($G533:$J533,TRANSPOSE(Dados_v2!P$4:P$7))","v":0}]
[null,null,null,null,null,null,null,null,null,null,null,null,null,null,null,null,null,null,null,null,null,null,null,null,null,null,null,null,null,null,null,null,null,null,null,null,null,null,null,null,null,{"$f":"SUMPRODUCT($G534:$J534,TRANSPOSE(Dados_v2!N$4:N$7))","v":0},{"$f":"SUMPRODUCT($G534:$J534,TRANSPOSE(Dados_v2!O$4:O$7))","v":0},{"$f":"SUMPRODUCT($G534:$J534,TRANSPOSE(Dados_v2!P$4:P$7))","v":0}]
[null,null,null,null,null,null,null,null,null,null,null,null,null,null,null,null,null,null,null,null,null,null,null,null,null,null,null,null,null,null,null,null,null,null,null,null,null,null,null,null,null,{"$f":"SUMPRODUCT($G535:$J535,TRANSPOSE(Dados_v2!N$4:N$7))","v":0},{"$f":"SUMPRODUCT($G535:$J535,TRANSPOSE(Dados_v2!O$4:O$7))","v":0},{"$f":"SUMPRODUCT($G535:$J535,TRANSPOSE(Dados_v2!P$4:P$7))","v":0}]
[null,null,null,null,null,null,null,null,null,null,null,null,null,null,null,null,null,null,null,null,null,null,null,null,null,null,null,null,null,null,null,null,null,null,null,null,null,null,null,null,null,{"$f":"SUMPRODUCT($G536:$J536,TRANSPOSE(Dados_v2!N$4:N$7))","v":0},{"$f":"SUMPRODUCT($G536:$J536,TRANSPOSE(Dados_v2!O$4:O$7))","v":0},{"$f":"SUMPRODUCT($G536:$J536,TRANSPOSE(Dados_v2!P$4:P$7))","v":0}]
[null,null,null,null,null,null,null,null,null,null,null,null,null,null,null,null,null,null,null,null,null,null,null,null,null,null,null,null,null,null,null,null,null,null,null,null,null,null,null,null,null,{"$f":"SUMPRODUCT($G537:$J537,TRANSPOSE(Dados_v2!N$4:N$7))","v":0},{"$f":"SUMPRODUCT($G537:$J537,TRANSPOSE(Dados_v2!O$4:O$7))","v":0},{"$f":"SUMPRODUCT($G537:$J537,TRANSPOSE(Dados_v2!P$4:P$7))","v":0}]
[null,null,null,null,null,null,null,null,null,null,null,null,null,null,null,null,null,null,null,null,null,null,null,null,null,null,null,null,null,null,null,null,null,null,null,null,null,null,null,null,null,{"$f":"SUMPRODUCT($G538:$J538,TRANSPOSE(Dados_v2!N$4:N$7))","v":0},{"$f":"SUMPRODUCT($G538:$J538,TRANSPOSE(Dados_v2!O$4:O$7))","v":0},{"$f":"SUMPRODUCT($G538:$J538,TRANSPOSE(Dados_v2!P$4:P$7))","v":0}]
[null,null,null,null,null,null,null,null,null,null,null,null,null,null,null,null,null,null,null,null,null,null,null,null,null,null,null,null,null,null,null,null,null,null,null,null,null,null,null,null,null,{"$f":"SUMPRODUCT($G539:$J539,TRANSPOSE(Dados_v2!N$4:N$7))","v":0},{"$f":"SUMPRODUCT($G539:$J539,TRANSPOSE(Dados_v2!O$4:O$7))","v":0},{"$f":"SUMPRODUCT($G539:$J539,TRANSPOSE(Dados_v2!P$4:P$7))","v":0}]
[null,null,null,null,null,null,null,null,null,null,null,null,null,null,null,null,null,null,null,null,null,null,null,null,null,null,null,null,null,null,null,null,null,null,null,null,null,null,null,null,null,{"$f":"SUMPRODUCT($G540:$J540,TRANSPOSE(Dados_v2!N$4:N$7))","v":0},{"$f":"SUMPRODUCT($G540:$J540,TRANSPOSE(Dados_v2!O$4:O$7))","v":0},{"$f":"SUMPRODUCT($G540:$J540,TRANSPOSE(Dados_v2!P$4:P$7))","v":0}]
[null,null,null,null,null,null,null,null,null,null,null,null,null,null,null,null,null,null,null,null,null,null,null,null,null,null,null,null,null,null,null,null,null,null,null,null,null,null,null,null,null,{"$f":"SUMPRODUCT($G541:$J541,TRANSPOSE(Dados_v2!N$4:N$7))","v":0},{"$f":"SUMPRODUCT($G541:$J541,TRANSPOSE(Dados_v2!O$4:O$7))","v":0},{"$f":"SUMPRODUCT($G541:$J541,TRANSPOSE(Dados_v2!P$4:P$7))","v":0}]
[null,null,null,null,null,null,null,null,null,null,null,null,null,null,null,null,null,null,null,null,null,null,null,null,null,null,null,null,null,null,null,null,null,null,null,null,null,null,null,null,null,{"$f":"SUMPRODUCT($G542:$J542,TRANSPOSE(Dados_v2!N$4:N$7))","v":0},{"$f":"SUMPRODUCT($G542:$J542,TRANSPOSE(Dados_v2!O$4:O$7))","v":0},{"$f":"SUMPRODUCT($G542:$J542,TRANSPOSE(Dados_v2!P$4:P$7))","v":0}]
[null,null,null,null,null,null,null,null,null,null,null,null,null,null,null,null,null,null,null,null,null,null,null,null,null,null,null,null,null,null,null,null,null,null,null,null,null,null,null,null,null,{"$f":"SUMPRODUCT($G543:$J543,TRANSPOSE(Dados_v2!N$4:N$7))","v":0},{"$f":"SUMPRODUCT($G543:$J543,TRANSPOSE(Dados_v2!O$4:O$7))","v":0},{"$f":"SUMPRODUCT($G543:$J543,TRANSPOSE(Dados_v2!P$4:P$7))","v":0}]
[null,null,null,null,null,null,null,null,null,null,null,null,null,null,null,null,null,null,null,null,null,null,null,null,null,null,null,null,null,null,null,null,null,null,null,null,null,null,null,null,null,{"$f":"SUMPRODUCT($G544:$J544,TRANSPOSE(Dados_v2!N$4:N$7))","v":0},{"$f":"SUMPRODUCT($G544:$J544,TRANSPOSE(Dados_v2!O$4:O$7))","v":0},{"$f":"SUMPRODUCT($G544:$J544,TRANSPOSE(Dados_v2!P$4:P$7))","v":0}]
[null,null,null,null,null,null,null,null,null,null,null,null,null,null,null,null,null,null,null,null,null,null,null,null,null,null,null,null,null,null,null,null,null,null,null,null,null,null,null,null,null,{"$f":"SUMPRODUCT($G545:$J545,TRANSPOSE(Dados_v2!N$4:N$7))","v":0},{"$f":"SUMPRODUCT($G545:$J545,TRANSPOSE(Dados_v2!O$4:O$7))","v":0},{"$f":"SUMPRODUCT($G545:$J545,TRANSPOSE(Dados_v2!P$4:P$7))","v":0}]
[null,null,null,null,null,null,null,null,null,null,null,null,null,null,null,null,null,null,null,null,null,null,null,null,null,null,null,null,null,null,null,null,null,null,null,null,null,null,null,null,null,{"$f":"SUMPRODUCT($G546:$J546,TRANSPOSE(Dados_v2!N$4:N$7))","v":0},{"$f":"SUMPRODUCT($G546:$J546,TRANSPOSE(Dados_v2!O$4:O$7))","v":0},{"$f":"SUMPRODUCT($G546:$J546,TRANSPOSE(Dados_v2!P$4:P$7))","v":0}]
[null,null,null,null,null,null,null,null,null,null,null,null,null,null,null,null,null,null,null,null,null,null,null,null,null,null,null,null,null,null,null,null,null,null,null,null,null,null,null,null,null,{"$f":"SUMPRODUCT($G547:$J547,TRANSPOSE(Dados_v2!N$4:N$7))","v":0},{"$f":"SUMPRODUCT($G547:$J547,TRANSPOSE(Dados_v2!O$4:O$7))","v":0},{"$f":"SUMPRODUCT($G547:$J547,TRANSPOSE(Dados_v2!P$4:P$7))","v":0}]
[null,null,null,null,null,null,null,null,null,null,null,null,null,null,null,null,null,null,null,null,null,null,null,null,null,null,null,null,null,null,null,null,null,null,null,null,null,null,null,null,null,{"$f":"SUMPRODUCT($G548:$J548,TRANSPOSE(Dados_v2!N$4:N$7))","v":0},{"$f":"SUMPRODUCT($G548:$J548,TRANSPOSE(Dados_v2!O$4:O$7))","v":0},{"$f":"SUMPRODUCT($G548:$J548,TRANSPOSE(Dados_v2!P$4:P$7))","v":0}]
[null,null,null,null,null,null,null,null,null,null,null,null,null,null,null,null,null,null,null,null,null,null,null,null,null,null,null,null,null,null,null,null,null,null,null,null,null,null,null,null,null,{"$f":"SUMPRODUCT($G549:$J549,TRANSPOSE(Dados_v2!N$4:N$7))","v":0},{"$f":"SUMPRODUCT($G549:$J549,TRANSPOSE(Dados_v2!O$4:O$7))","v":0},{"$f":"SUMPRODUCT($G549:$J549,TRANSPOSE(Dados_v2!P$4:P$7))","v":0}]
[null,null,null,null,null,null,null,null,null,null,null,null,null,null,null,null,null,null,null,null,null,null,null,null,null,null,null,null,null,null,null,null,null,null,null,null,null,null,null,null,null,{"$f":"SUMPRODUCT($G550:$J550,TRANSPOSE(Dados_v2!N$4:N$7))","v":0},{"$f":"SUMPRODUCT($G550:$J550,TRANSPOSE(Dados_v2!O$4:O$7))","v":0},{"$f":"SUMPRODUCT($G550:$J550,TRANSPOSE(Dados_v2!P$4:P$7))","v":0}]
[null,null,null,null,null,null,null,null,null,null,null,null,null,null,null,null,null,null,null,null,null,null,null,null,null,null,null,null,null,null,null,null,null,null,null,null,null,null,null,null,null,{"$f":"SUMPRODUCT($G551:$J551,TRANSPOSE(Dados_v2!N$4:N$7))","v":0},{"$f":"SUMPRODUCT($G551:$J551,TRANSPOSE(Dados_v2!O$4:O$7))","v":0},{"$f":"SUMPRODUCT($G551:$J551,TRANSPOSE(Dados_v2!P$4:P$7))","v":0}]
[null,null,null,null,null,null,null,null,null,null,null,null,null,null,null,null,null,null,null,null,null,null,null,null,null,null,null,null,null,null,null,null,null,null,null,null,null,null,null,null,null,{"$f":"SUMPRODUCT($G552:$J552,TRANSPOSE(Dados_v2!N$4:N$7))","v":0},{"$f":"SUMPRODUCT($G552:$J552,TRANSPOSE(Dados_v2!O$4:O$7))","v":0},{"$f":"SUMPRODUCT($G552:$J552,TRANSPOSE(Dados_v2!P$4:P$7))","v":0}]
[null,null,null,null,null,null,null,null,null,null,null,null,null,null,null,null,null,null,null,null,null,null,null,null,null,null,null,null,null,null,null,null,null,null,null,null,null,null,null,null,null,{"$f":"SUMPRODUCT($G553:$J553,TRANSPOSE(Dados_v2!N$4:N$7))","v":0},{"$f":"SUMPRODUCT($G553:$J553,TRANSPOSE(Dados_v2!O$4:O$7))","v":0},{"$f":"SUMPRODUCT($G553:$J553,TRANSPOSE(Dados_v2!P$4:P$7))","v":0}]
[null,null,null,null,null,null,null,null,null,null,null,null,null,null,null,null,null,null,null,null,null,null,null,null,null,null,null,null,null,null,null,null,null,null,null,null,null,null,null,null,null,{"$f":"SUMPRODUCT($G554:$J554,TRANSPOSE(Dados_v2!N$4:N$7))","v":0},{"$f":"SUMPRODUCT($G554:$J554,TRANSPOSE(Dados_v2!O$4:O$7))","v":0},{"$f":"SUMPRODUCT($G554:$J554,TRANSPOSE(Dados_v2!P$4:P$7))","v":0}]
[null,null,null,null,null,null,null,null,null,null,null,null,null,null,null,null,null,null,null,null,null,null,null,null,null,null,null,null,null,null,null,null,null,null,null,null,null,null,null,null,null,{"$f":"SUMPRODUCT($G555:$J555,TRANSPOSE(Dados_v2!N$4:N$7))","v":0},{"$f":"SUMPRODUCT($G555:$J555,TRANSPOSE(Dados_v2!O$4:O$7))","v":0},{"$f":"SUMPRODUCT($G555:$J555,TRANSPOSE(Dados_v2!P$4:P$7))","v":0}]
[null,null,null,null,null,null,null,null,null,null,null,null,null,null,null,null,null,null,null,null,null,null,null,null,null,null,null,null,null,null,null,null,null,null,null,null,null,null,null,null,null,{"$f":"SUMPRODUCT($G556:$J556,TRANSPOSE(Dados_v2!N$4:N$7))","v":0},{"$f":"SUMPRODUCT($G556:$J556,TRANSPOSE(Dados_v2!O$4:O$7))","v":0},{"$f":"SUMPRODUCT($G556:$J556,TRANSPOSE(Dados_v2!P$4:P$7))","v":0}]
[null,null,null,null,null,null,null,null,null,null,null,null,null,null,null,null,null,null,null,null,null,null,null,null,null,null,null,null,null,null,null,null,null,null,null,null,null,null,null,null,null,{"$f":"SUMPRODUCT($G557:$J557,TRANSPOSE(Dados_v2!N$4:N$7))","v":0},{"$f":"SUMPRODUCT($G557:$J557,TRANSPOSE(Dados_v2!O$4:O$7))","v":0},{"$f":"SUMPRODUCT($G557:$J557,TRANSPOSE(Dados_v2!P$4:P$7))","v":0}]
[null,null,null,null,null,null,null,null,null,null,null,null,null,null,null,null,null,null,null,null,null,null,null,null,null,null,null,null,null,null,null,null,null,null,null,null,null,null,null,null,null,{"$f":"SUMPRODUCT($G558:$J558,TRANSPOSE(Dados_v2!N$4:N$7))","v":0},{"$f":"SUMPRODUCT($G558:$J558,TRANSPOSE(Dados_v2!O$4:O$7))","v":0},{"$f":"SUMPRODUCT($G558:$J558,TRANSPOSE(Dados_v2!P$4:P$7))","v":0}]
[null,null,null,null,null,null,null,null,null,null,null,null,null,null,null,null,null,null,null,null,null,null,null,null,null,null,null,null,null,null,null,null,null,null,null,null,null,null,null,null,null,{"$f":"SUMPRODUCT($G559:$J559,TRANSPOSE(Dados_v2!N$4:N$7))","v":0},{"$f":"SUMPRODUCT($G559:$J559,TRANSPOSE(Dados_v2!O$4:O$7))","v":0},{"$f":"SUMPRODUCT($G559:$J559,TRANSPOSE(Dados_v2!P$4:P$7))","v":0}]
[null,null,null,null,null,null,null,null,null,null,null,null,null,null,null,null,null,null,null,null,null,null,null,null,null,null,null,null,null,null,null,null,null,null,null,null,null,null,null,null,null,{"$f":"SUMPRODUCT($G560:$J560,TRANSPOSE(Dados_v2!N$4:N$7))","v":0},{"$f":"SUMPRODUCT($G560:$J560,TRANSPOSE(Dados_v2!O$4:O$7))","v":0},{"$f":"SUMPRODUCT($G560:$J560,TRANSPOSE(Dados_v2!P$4:P$7))","v":0}]
[null,null,null,null,null,null,null,null,null,null,null,null,null,null,null,null,null,null,null,null,null,null,null,null,null,null,null,null,null,null,null,null,null,null,null,null,null,null,null,null,null,{"$f":"SUMPRODUCT($G561:$J561,TRANSPOSE(Dados_v2!N$4:N$7))","v":0},{"$f":"SUMPRODUCT($G561:$J561,TRANSPOSE(Dados_v2!O$4:O$7))","v":0},{"$f":"SUMPRODUCT($G561:$J561,TRANSPOSE(Dados_v2!P$4:P$7))","v":0}]
[null,null,null,null,null,null,null,null,null,null,null,null,null,null,null,null,null,null,null,null,null,null,null,null,null,null,null,null,null,null,null,null,null,null,null,null,null,null,null,null,null,{"$f":"SUMPRODUCT($G562:$J562,TRANSPOSE(Dados_v2!N$4:N$7))","v":0},{"$f":"SUMPRODUCT($G562:$J562,TRANSPOSE(Dados_v2!O$4:O$7))","v":0},{"$f":"SUMPRODUCT($G562:$J562,TRANSPOSE(Dados_v2!P$4:P$7))","v":0}]
[null,null,null,null,null,null,null,null,null,null,null,null,null,null,null,null,null,null,null,null,null,null,null,null,null,null,null,null,null,null,null,null,null,null,null,null,null,null,null,null,null,{"$f":"SUMPRODUCT($G563:$J563,TRANSPOSE(Dados_v2!N$4:N$7))","v":0},{"$f":"SUMPRODUCT($G563:$J563,TRANSPOSE(Dados_v2!O$4:O$7))","v":0},{"$f":"SUMPRODUCT($G563:$J563,TRANSPOSE(Dados_v2!P$4:P$7))","v":0}]
[null,null,null,null,null,null,null,null,null,null,null,null,null,null,null,null,null,null,null,null,null,null,null,null,null,null,null,null,null,null,null,null,null,null,null,null,null,null,null,null,null,{"$f":"SUMPRODUCT($G564:$J564,TRANSPOSE(Dados_v2!N$4:N$7))","v":0},{"$f":"SUMPRODUCT($G564:$J564,TRANSPOSE(Dados_v2!O$4:O$7))","v":0},{"$f":"SUMPRODUCT($G564:$J564,TRANSPOSE(Dados_v2!P$4:P$7))","v":0}]
[null,null,null,null,null,null,null,null,null,null,null,null,null,null,null,null,null,null,null,null,null,null,null,null,null,null,null,null,null,null,null,null,null,null,null,null,null,null,null,null,null,{"$f":"SUMPRODUCT($G565:$J565,TRANSPOSE(Dados_v2!N$4:N$7))","v":0},{"$f":"SUMPRODUCT($G565:$J565,TRANSPOSE(Dados_v2!O$4:O$7))","v":0},{"$f":"SUMPRODUCT($G565:$J565,TRANSPOSE(Dados_v2!P$4:P$7))","v":0}]
[null,null,null,null,null,null,null,null,null,null,null,null,null,null,null,null,null,null,null,null,null,null,null,null,null,null,null,null,null,null,null,null,null,null,null,null,null,null,null,null,null,{"$f":"SUMPRODUCT($G566:$J566,TRANSPOSE(Dados_v2!N$4:N$7))","v":0},{"$f":"SUMPRODUCT($G566:$J566,TRANSPOSE(Dados_v2!O$4:O$7))","v":0},{"$f":"SUMPRODUCT($G566:$J566,TRANSPOSE(Dados_v2!P$4:P$7))","v":0}]
[null,null,null,null,null,null,null,null,null,null,null,null,null,null,null,null,null,null,null,null,null,null,null,null,null,null,null,null,null,null,null,null,null,null,null,null,null,null,null,null,null,{"$f":"SUMPRODUCT($G567:$J567,TRANSPOSE(Dados_v2!N$4:N$7))","v":0},{"$f":"SUMPRODUCT($G567:$J567,TRANSPOSE(Dados_v2!O$4:O$7))","v":0},{"$f":"SUMPRODUCT($G567:$J567,TRANSPOSE(Dados_v2!P$4:P$7))","v":0}]
[null,null,null,null,null,null,null,null,null,null,null,null,null,null,null,null,null,null,null,null,null,null,null,null,null,null,null,null,null,null,null,null,null,null,null,null,null,null,null,null,null,{"$f":"SUMPRODUCT($G568:$J568,TRANSPOSE(Dados_v2!N$4:N$7))","v":0},{"$f":"SUMPRODUCT($G568:$J568,TRANSPOSE(Dados_v2!O$4:O$7))","v":0},{"$f":"SUMPRODUCT($G568:$J568,TRANSPOSE(Dados_v2!P$4:P$7))","v":0}]
[null,null,null,null,null,null,null,null,null,null,null,null,null,null,null,null,null,null,null,null,null,null,null,null,null,null,null,null,null,null,null,null,null,null,null,null,null,null,null,null,null,{"$f":"SUMPRODUCT($G569:$J569,TRANSPOSE(Dados_v2!N$4:N$7))","v":0},{"$f":"SUMPRODUCT($G569:$J569,TRANSPOSE(Dados_v2!O$4:O$7))","v":0},{"$f":"SUMPRODUCT($G569:$J569,TRANSPOSE(Dados_v2!P$4:P$7))","v":0}]
[null,null,null,null,null,null,null,null,null,null,null,null,null,null,null,null,null,null,null,null,null,null,null,null,null,null,null,null,null,null,null,null,null,null,null,null,null,null,null,null,null,{"$f":"SUMPRODUCT($G570:$J570,TRANSPOSE(Dados_v2!N$4:N$7))","v":0},{"$f":"SUMPRODUCT($G570:$J570,TRANSPOSE(Dados_v2!O$4:O$7))","v":0},{"$f":"SUMPRODUCT($G570:$J570,TRANSPOSE(Dados_v2!P$4:P$7))","v":0}]
[null,null,null,null,null,null,null,null,null,null,null,null,null,null,null,null,null,null,null,null,null,null,null,null,null,null,null,null,null,null,null,null,null,null,null,null,null,null,null,null,null,{"$f":"SUMPRODUCT($G571:$J571,TRANSPOSE(Dados_v2!N$4:N$7))","v":0},{"$f":"SUMPRODUCT($G571:$J571,TRANSPOSE(Dados_v2!O$4:O$7))","v":0},{"$f":"SUMPRODUCT($G571:$J571,TRANSPOSE(Dados_v2!P$4:P$7))","v":0}]
[null,null,null,null,null,null,null,null,null,null,null,null,null,null,null,null,null,null,null,null,null,null,null,null,null,null,null,null,null,null,null,null,null,null,null,null,null,null,null,null,null,{"$f":"SUMPRODUCT($G572:$J572,TRANSPOSE(Dados_v2!N$4:N$7))","v":0},{"$f":"SUMPRODUCT($G572:$J572,TRANSPOSE(Dados_v2!O$4:O$7))","v":0},{"$f":"SUMPRODUCT($G572:$J572,TRANSPOSE(Dados_v2!P$4:P$7))","v":0}]
[null,null,null,null,null,null,null,null,null,null,null,null,null,null,null,null,null,null,null,null,null,null,null,null,null,null,null,null,null,null,null,null,null,null,null,null,null,null,null,null,null,{"$f":"SUMPRODUCT($G573:$J573,TRANSPOSE(Dados_v2!N$4:N$7))","v":0},{"$f":"SUMPRODUCT($G573:$J573,TRANSPOSE(Dados_v2!O$4:O$7))","v":0},{"$f":"SUMPRODUCT($G573:$J573,TRANSPOSE(Dados_v2!P$4:P$7))","v":0}]
[null,null,null,null,null,null,null,null,null,null,null,null,null,null,null,null,null,null,null,null,null,null,null,null,null,null,null,null,null,null,null,null,null,null,null,null,null,null,null,null,null,{"$f":"SUMPRODUCT($G574:$J574,TRANSPOSE(Dados_v2!N$4:N$7))","v":0},{"$f":"SUMPRODUCT($G574:$J574,TRANSPOSE(Dados_v2!O$4:O$7))","v":0},{"$f":"SUMPRODUCT($G574:$J574,TRANSPOSE(Dados_v2!P$4:P$7))","v":0}]
[null,null,null,null,null,null,null,null,null,null,null,null,null,null,null,null,null,null,null,null,null,null,null,null,null,null,null,null,null,null,null,null,null,null,null,null,null,null,null,null,null,{"$f":"SUMPRODUCT($G575:$J575,TRANSPOSE(Dados_v2!N$4:N$7))","v":0},{"$f":"SUMPRODUCT($G575:$J575,TRANSPOSE(Dados_v2!O$4:O$7))","v":0},{"$f":"SUMPRODUCT($G575:$J575,TRANSPOSE(Dados_v2!P$4:P$7))","v":0}]
[null,null,null,null,null,null,null,null,null,null,null,null,null,null,null,null,null,null,null,null,null,null,null,null,null,null,null,null,null,null,null,null,null,null,null,null,null,null,null,null,null,{"$f":"SUMPRODUCT($G576:$J576,TRANSPOSE(Dados_v2!N$4:N$7))","v":0},{"$f":"SUMPRODUCT($G576:$J576,TRANSPOSE(Dados_v2!O$4:O$7))","v":0},{"$f":"SUMPRODUCT($G576:$J576,TRANSPOSE(Dados_v2!P$4:P$7))","v":0}]
[null,null,null,null,null,null,null,null,null,null,null,null,null,null,null,null,null,null,null,null,null,null,null,null,null,null,null,null,null,null,null,null,null,null,null,null,null,null,null,null,null,{"$f":"SUMPRODUCT($G577:$J577,TRANSPOSE(Dados_v2!N$4:N$7))","v":0},{"$f":"SUMPRODUCT($G577:$J577,TRANSPOSE(Dados_v2!O$4:O$7))","v":0},{"$f":"SUMPRODUCT($G577:$J577,TRANSPOSE(Dados_v2!P$4:P$7))","v":0}]
[null,null,null,null,null,null,null,null,null,null,null,null,null,null,null,null,null,null,null,null,null,null,null,null,null,null,null,null,null,null,null,null,null,null,null,null,null,null,null,null,null,{"$f":"SUMPRODUCT($G578:$J578,TRANSPOSE(Dados_v2!N$4:N$7))","v":0},{"$f":"SUMPRODUCT($G578:$J578,TRANSPOSE(Dados_v2!O$4:O$7))","v":0},{"$f":"SUMPRODUCT($G578:$J578,TRANSPOSE(Dados_v2!P$4:P$7))","v":0}]
[null,null,null,null,null,null,null,null,null,null,null,null,null,null,null,null,null,null,null,null,null,null,null,null,null,null,null,null,null,null,null,null,null,null,null,null,null,null,null,null,null,{"$f":"SUMPRODUCT($G579:$J579,TRANSPOSE(Dados_v2!N$4:N$7))","v":0},{"$f":"SUMPRODUCT($G579:$J579,TRANSPOSE(Dados_v2!O$4:O$7))","v":0},{"$f":"SUMPRODUCT($G579:$J579,TRANSPOSE(Dados_v2!P$4:P$7))","v":0}]
[null,null,null,null,null,null,null,null,null,null,null,null,null,null,null,null,null,null,null,null,null,null,null,null,null,null,null,null,null,null,null,null,null,null,null,null,null,null,null,null,null,{"$f":"SUMPRODUCT($G580:$J580,TRANSPOSE(Dados_v2!N$4:N$7))","v":0},{"$f":"SUMPRODUCT($G580:$J580,TRANSPOSE(Dados_v2!O$4:O$7))","v":0},{"$f":"SUMPRODUCT($G580:$J580,TRANSPOSE(Dados_v2!P$4:P$7))","v":0}]
[null,null,null,null,null,null,null,null,null,null,null,null,null,null,null,null,null,null,null,null,null,null,null,null,null,null,null,null,null,null,null,null,null,null,null,null,null,null,null,null,null,{"$f":"SUMPRODUCT($G581:$J581,TRANSPOSE(Dados_v2!N$4:N$7))","v":0},{"$f":"SUMPRODUCT($G581:$J581,TRANSPOSE(Dados_v2!O$4:O$7))","v":0},{"$f":"SUMPRODUCT($G581:$J581,TRANSPOSE(Dados_v2!P$4:P$7))","v":0}]
[null,null,null,null,null,null,null,null,null,null,null,null,null,null,null,null,null,null,null,null,null,null,null,null,null,null,null,null,null,null,null,null,null,null,null,null,null,null,null,null,null,{"$f":"SUMPRODUCT($G582:$J582,TRANSPOSE(Dados_v2!N$4:N$7))","v":0},{"$f":"SUMPRODUCT($G582:$J582,TRANSPOSE(Dados_v2!O$4:O$7))","v":0},{"$f":"SUMPRODUCT($G582:$J582,TRANSPOSE(Dados_v2!P$4:P$7))","v":0}]
[null,null,null,null,null,null,null,null,null,null,null,null,null,null,null,null,null,null,null,null,null,null,null,null,null,null,null,null,null,null,null,null,null,null,null,null,null,null,null,null,null,{"$f":"SUMPRODUCT($G583:$J583,TRANSPOSE(Dados_v2!N$4:N$7))","v":0},{"$f":"SUMPRODUCT($G583:$J583,TRANSPOSE(Dados_v2!O$4:O$7))","v":0},{"$f":"SUMPRODUCT($G583:$J583,TRANSPOSE(Dados_v2!P$4:P$7))","v":0}]
[null,null,null,null,null,null,null,null,null,null,null,null,null,null,null,null,null,null,null,null,null,null,null,null,null,null,null,null,null,null,null,null,null,null,null,null,null,null,null,null,null,{"$f":"SUMPRODUCT($G584:$J584,TRANSPOSE(Dados_v2!N$4:N$7))","v":0},{"$f":"SUMPRODUCT($G584:$J584,TRANSPOSE(Dados_v2!O$4:O$7))","v":0},{"$f":"SUMPRODUCT($G584:$J584,TRANSPOSE(Dados_v2!P$4:P$7))","v":0}]
[null,null,null,null,null,null,null,null,null,null,null,null,null,null,null,null,null,null,null,null,null,null,null,null,null,null,null,null,null,null,null,null,null,null,null,null,null,null,null,null,null,{"$f":"SUMPRODUCT($G585:$J585,TRANSPOSE(Dados_v2!N$4:N$7))","v":0},{"$f":"SUMPRODUCT($G585:$J585,TRANSPOSE(Dados_v2!O$4:O$7))","v":0},{"$f":"SUMPRODUCT($G585:$J585,TRANSPOSE(Dados_v2!P$4:P$7))","v":0}]
[null,null,null,null,null,null,null,null,null,null,null,null,null,null,null,null,null,null,null,null,null,null,null,null,null,null,null,null,null,null,null,null,null,null,null,null,null,null,null,null,null,{"$f":"SUMPRODUCT($G586:$J586,TRANSPOSE(Dados_v2!N$4:N$7))","v":0},{"$f":"SUMPRODUCT($G586:$J586,TRANSPOSE(Dados_v2!O$4:O$7))","v":0},{"$f":"SUMPRODUCT($G586:$J586,TRANSPOSE(Dados_v2!P$4:P$7))","v":0}]
[null,null,null,null,null,null,null,null,null,null,null,null,null,null,null,null,null,null,null,null,null,null,null,null,null,null,null,null,null,null,null,null,null,null,null,null,null,null,null,null,null,{"$f":"SUMPRODUCT($G587:$J587,TRANSPOSE(Dados_v2!N$4:N$7))","v":0},{"$f":"SUMPRODUCT($G587:$J587,TRANSPOSE(Dados_v2!O$4:O$7))","v":0},{"$f":"SUMPRODUCT($G587:$J587,TRANSPOSE(Dados_v2!P$4:P$7))","v":0}]
[null,null,null,null,null,null,null,null,null,null,null,null,null,null,null,null,null,null,null,null,null,null,null,null,null,null,null,null,null,null,null,null,null,null,null,null,null,null,null,null,null,{"$f":"SUMPRODUCT($G588:$J588,TRANSPOSE(Dados_v2!N$4:N$7))","v":0},{"$f":"SUMPRODUCT($G588:$J588,TRANSPOSE(Dados_v2!O$4:O$7))","v":0},{"$f":"SUMPRODUCT($G588:$J588,TRANSPOSE(Dados_v2!P$4:P$7))","v":0}]
[null,null,null,null,null,null,null,null,null,null,null,null,null,null,null,null,null,null,null,null,null,null,null,null,null,null,null,null,null,null,null,null,null,null,null,null,null,null,null,null,null,{"$f":"SUMPRODUCT($G589:$J589,TRANSPOSE(Dados_v2!N$4:N$7))","v":0},{"$f":"SUMPRODUCT($G589:$J589,TRANSPOSE(Dados_v2!O$4:O$7))","v":0},{"$f":"SUMPRODUCT($G589:$J589,TRANSPOSE(Dados_v2!P$4:P$7))","v":0}]
[null,null,null,null,null,null,null,null,null,null,null,null,null,null,null,null,null,null,null,null,null,null,null,null,null,null,null,null,null,null,null,null,null,null,null,null,null,null,null,null,null,{"$f":"SUMPRODUCT($G590:$J590,TRANSPOSE(Dados_v2!N$4:N$7))","v":0},{"$f":"SUMPRODUCT($G590:$J590,TRANSPOSE(Dados_v2!O$4:O$7))","v":0},{"$f":"SUMPRODUCT($G590:$J590,TRANSPOSE(Dados_v2!P$4:P$7))","v":0}]
[null,null,null,null,null,null,null,null,null,null,null,null,null,null,null,null,null,null,null,null,null,null,null,null,null,null,null,null,null,null,null,null,null,null,null,null,null,null,null,null,null,{"$f":"SUMPRODUCT($G591:$J591,TRANSPOSE(Dados_v2!N$4:N$7))","v":0},{"$f":"SUMPRODUCT($G591:$J591,TRANSPOSE(Dados_v2!O$4:O$7))","v":0},{"$f":"SUMPRODUCT($G591:$J591,TRANSPOSE(Dados_v2!P$4:P$7))","v":0}]
[null,null,null,null,null,null,null,null,null,null,null,null,null,null,null,null,null,null,null,null,null,null,null,null,null,null,null,null,null,null,null,null,null,null,null,null,null,null,null,null,null,{"$f":"SUMPRODUCT($G592:$J592,TRANSPOSE(Dados_v2!N$4:N$7))","v":0},{"$f":"SUMPRODUCT($G592:$J592,TRANSPOSE(Dados_v2!O$4:O$7))","v":0},{"$f":"SUMPRODUCT($G592:$J592,TRANSPOSE(Dados_v2!P$4:P$7))","v":0}]
[null,null,null,null,null,null,null,null,null,null,null,null,null,null,null,null,null,null,null,null,null,null,null,null,null,null,null,null,null,null,null,null,null,null,null,null,null,null,null,null,null,{"$f":"SUMPRODUCT($G593:$J593,TRANSPOSE(Dados_v2!N$4:N$7))","v":0},{"$f":"SUMPRODUCT($G593:$J593,TRANSPOSE(Dados_v2!O$4:O$7))","v":0},{"$f":"SUMPRODUCT($G593:$J593,TRANSPOSE(Dados_v2!P$4:P$7))","v":0}]
[null,null,null,null,null,null,null,null,null,null,null,null,null,null,null,null,null,null,null,null,null,null,null,null,null,null,null,null,null,null,null,null,null,null,null,null,null,null,null,null,null,{"$f":"SUMPRODUCT($G594:$J594,TRANSPOSE(Dados_v2!N$4:N$7))","v":0},{"$f":"SUMPRODUCT($G594:$J594,TRANSPOSE(Dados_v2!O$4:O$7))","v":0},{"$f":"SUMPRODUCT($G594:$J594,TRANSPOSE(Dados_v2!P$4:P$7))","v":0}]
[null,null,null,null,null,null,null,null,null,null,null,null,null,null,null,null,null,null,null,null,null,null,null,null,null,null,null,null,null,null,null,null,null,null,null,null,null,null,null,null,null,{"$f":"SUMPRODUCT($G595:$J595,TRANSPOSE(Dados_v2!N$4:N$7))","v":0},{"$f":"SUMPRODUCT($G595:$J595,TRANSPOSE(Dados_v2!O$4:O$7))","v":0},{"$f":"SUMPRODUCT($G595:$J595,TRANSPOSE(Dados_v2!P$4:P$7))","v":0}]
[null,null,null,null,null,null,null,null,null,null,null,null,null,null,null,null,null,null,null,null,null,null,null,null,null,null,null,null,null,null,null,null,null,null,null,null,null,null,null,null,null,{"$f":"SUMPRODUCT($G596:$J596,TRANSPOSE(Dados_v2!N$4:N$7))","v":0},{"$f":"SUMPRODUCT($G596:$J596,TRANSPOSE(Dados_v2!O$4:O$7))","v":0},{"$f":"SUMPRODUCT($G596:$J596,TRANSPOSE(Dados_v2!P$4:P$7))","v":0}]
[null,null,null,null,null,null,null,null,null,null,null,null,null,null,null,null,null,null,null,null,null,null,null,null,null,null,null,null,null,null,null,null,null,null,null,null,null,null,null,null,null,{"$f":"SUMPRODUCT($G597:$J597,TRANSPOSE(Dados_v2!N$4:N$7))","v":0},{"$f":"SUMPRODUCT($G597:$J597,TRANSPOSE(Dados_v2!O$4:O$7))","v":0},{"$f":"SUMPRODUCT($G597:$J597,TRANSPOSE(Dados_v2!P$4:P$7))","v":0}]
[null,null,null,null,null,null,null,null,null,null,null,null,null,null,null,null,null,null,null,null,null,null,null,null,null,null,null,null,null,null,null,null,null,null,null,null,null,null,null,null,null,{"$f":"SUMPRODUCT($G598:$J598,TRANSPOSE(Dados_v2!N$4:N$7))","v":0},{"$f":"SUMPRODUCT($G598:$J598,TRANSPOSE(Dados_v2!O$4:O$7))","v":0},{"$f":"SUMPRODUCT($G598:$J598,TRANSPOSE(Dados_v2!P$4:P$7))","v":0}]
[null,null,null,null,null,null,null,null,null,null,null,null,null,null,null,null,null,null,null,null,null,null,null,null,null,null,null,null,null,null,null,null,null,null,null,null,null,null,null,null,null,{"$f":"SUMPRODUCT($G599:$J599,TRANSPOSE(Dados_v2!N$4:N$7))","v":0},{"$f":"SUMPRODUCT($G599:$J599,TRANSPOSE(Dados_v2!O$4:O$7))","v":0},{"$f":"SUMPRODUCT($G599:$J599,TRANSPOSE(Dados_v2!P$4:P$7))","v":0}]
[null,null,null,null,null,null,null,null,null,null,null,null,null,null,null,null,null,null,null,null,null,null,null,null,null,null,null,null,null,null,null,null,null,null,null,null,null,null,null,null,null,{"$f":"SUMPRODUCT($G600:$J600,TRANSPOSE(Dados_v2!N$4:N$7))","v":0},{"$f":"SUMPRODUCT($G600:$J600,TRANSPOSE(Dados_v2!O$4:O$7))","v":0},{"$f":"SUMPRODUCT($G600:$J600,TRANSPOSE(Dados_v2!P$4:P$7))","v":0}]
[null,null,null,null,null,null,null,null,null,null,null,null,null,null,null,null,null,null,null,null,null,null,null,null,null,null,null,null,null,null,null,null,null,null,null,null,null,null,null,null,null,{"$f":"SUMPRODUCT($G601:$J601,TRANSPOSE(Dados_v2!N$4:N$7))","v":0},{"$f":"SUMPRODUCT($G601:$J601,TRANSPOSE(Dados_v2!O$4:O$7))","v":0},{"$f":"SUMPRODUCT($G601:$J601,TRANSPOSE(Dados_v2!P$4:P$7))","v":0}]
[null,null,null,null,null,null,null,null,null,null,null,null,null,null,null,null,null,null,null,null,null,null,null,null,null,null,null,null,null,null,null,null,null,null,null,null,null,null,null,null,null,{"$f":"SUMPRODUCT($G602:$J602,TRANSPOSE(Dados_v2!N$4:N$7))","v":0},{"$f":"SUMPRODUCT($G602:$J602,TRANSPOSE(Dados_v2!O$4:O$7))","v":0},{"$f":"SUMPRODUCT($G602:$J602,TRANSPOSE(Dados_v2!P$4:P$7))","v":0}]
[null,null,null,null,null,null,null,null,null,null,null,null,null,null,null,null,null,null,null,null,null,null,null,null,null,null,null,null,null,null,null,null,null,null,null,null,null,null,null,null,null,{"$f":"SUMPRODUCT($G603:$J603,TRANSPOSE(Dados_v2!N$4:N$7))","v":0},{"$f":"SUMPRODUCT($G603:$J603,TRANSPOSE(Dados_v2!O$4:O$7))","v":0},{"$f":"SUMPRODUCT($G603:$J603,TRANSPOSE(Dados_v2!P$4:P$7))","v":0}]
[null,null,null,null,null,null,null,null,null,null,null,null,null,null,null,null,null,null,null,null,null,null,null,null,null,null,null,null,null,null,null,null,null,null,null,null,null,null,null,null,null,{"$f":"SUMPRODUCT($G604:$J604,TRANSPOSE(Dados_v2!N$4:N$7))","v":0},{"$f":"SUMPRODUCT($G604:$J604,TRANSPOSE(Dados_v2!O$4:O$7))","v":0},{"$f":"SUMPRODUCT($G604:$J604,TRANSPOSE(Dados_v2!P$4:P$7))","v":0}]
[null,null,null,null,null,null,null,null,null,null,null,null,null,null,null,null,null,null,null,null,null,null,null,null,null,null,null,null,null,null,null,null,null,null,null,null,null,null,null,null,null,{"$f":"SUMPRODUCT($G605:$J605,TRANSPOSE(Dados_v2!N$4:N$7))","v":0},{"$f":"SUMPRODUCT($G605:$J605,TRANSPOSE(Dados_v2!O$4:O$7))","v":0},{"$f":"SUMPRODUCT($G605:$J605,TRANSPOSE(Dados_v2!P$4:P$7))","v":0}]
[null,null,null,null,null,null,null,null,null,null,null,null,null,null,null,null,null,null,null,null,null,null,null,null,null,null,null,null,null,null,null,null,null,null,null,null,null,null,null,null,null,{"$f":"SUMPRODUCT($G606:$J606,TRANSPOSE(Dados_v2!N$4:N$7))","v":0},{"$f":"SUMPRODUCT($G606:$J606,TRANSPOSE(Dados_v2!O$4:O$7))","v":0},{"$f":"SUMPRODUCT($G606:$J606,TRANSPOSE(Dados_v2!P$4:P$7))","v":0}]
[null,null,null,null,null,null,null,null,null,null,null,null,null,null,null,null,null,null,null,null,null,null,null,null,null,null,null,null,null,null,null,null,null,null,null,null,null,null,null,null,null,{"$f":"SUMPRODUCT($G607:$J607,TRANSPOSE(Dados_v2!N$4:N$7))","v":0},{"$f":"SUMPRODUCT($G607:$J607,TRANSPOSE(Dados_v2!O$4:O$7))","v":0},{"$f":"SUMPRODUCT($G607:$J607,TRANSPOSE(Dados_v2!P$4:P$7))","v":0}]
[null,null,null,null,null,null,null,null,null,null,null,null,null,null,null,null,null,null,null,null,null,null,null,null,null,null,null,null,null,null,null,null,null,null,null,null,null,null,null,null,null,{"$f":"SUMPRODUCT($G608:$J608,TRANSPOSE(Dados_v2!N$4:N$7))","v":0},{"$f":"SUMPRODUCT($G608:$J608,TRANSPOSE(Dados_v2!O$4:O$7))","v":0},{"$f":"SUMPRODUCT($G608:$J608,TRANSPOSE(Dados_v2!P$4:P$7))","v":0}]
[null,null,null,null,null,null,null,null,null,null,null,null,null,null,null,null,null,null,null,null,null,null,null,null,null,null,null,null,null,null,null,null,null,null,null,null,null,null,null,null,null,{"$f":"SUMPRODUCT($G609:$J609,TRANSPOSE(Dados_v2!N$4:N$7))","v":0},{"$f":"SUMPRODUCT($G609:$J609,TRANSPOSE(Dados_v2!O$4:O$7))","v":0},{"$f":"SUMPRODUCT($G609:$J609,TRANSPOSE(Dados_v2!P$4:P$7))","v":0}]
[null,null,null,null,null,null,null,null,null,null,null,null,null,null,null,null,null,null,null,null,null,null,null,null,null,null,null,null,null,null,null,null,null,null,null,null,null,null,null,null,null,{"$f":"SUMPRODUCT($G610:$J610,TRANSPOSE(Dados_v2!N$4:N$7))","v":0},{"$f":"SUMPRODUCT($G610:$J610,TRANSPOSE(Dados_v2!O$4:O$7))","v":0},{"$f":"SUMPRODUCT($G610:$J610,TRANSPOSE(Dados_v2!P$4:P$7))","v":0}]
[null,null,null,null,null,null,null,null,null,null,null,null,null,null,null,null,null,null,null,null,null,null,null,null,null,null,null,null,null,null,null,null,null,null,null,null,null,null,null,null,null,{"$f":"SUMPRODUCT($G611:$J611,TRANSPOSE(Dados_v2!N$4:N$7))","v":0},{"$f":"SUMPRODUCT($G611:$J611,TRANSPOSE(Dados_v2!O$4:O$7))","v":0},{"$f":"SUMPRODUCT($G611:$J611,TRANSPOSE(Dados_v2!P$4:P$7))","v":0}]
[null,null,null,null,null,null,null,null,null,null,null,null,null,null,null,null,null,null,null,null,null,null,null,null,null,null,null,null,null,null,null,null,null,null,null,null,null,null,null,null,null,{"$f":"SUMPRODUCT($G612:$J612,TRANSPOSE(Dados_v2!N$4:N$7))","v":0},{"$f":"SUMPRODUCT($G612:$J612,TRANSPOSE(Dados_v2!O$4:O$7))","v":0},{"$f":"SUMPRODUCT($G612:$J612,TRANSPOSE(Dados_v2!P$4:P$7))","v":0}]
[null,null,null,null,null,null,null,null,null,null,null,null,null,null,null,null,null,null,null,null,null,null,null,null,null,null,null,null,null,null,null,null,null,null,null,null,null,null,null,null,null,{"$f":"SUMPRODUCT($G613:$J613,TRANSPOSE(Dados_v2!N$4:N$7))","v":0},{"$f":"SUMPRODUCT($G613:$J613,TRANSPOSE(Dados_v2!O$4:O$7))","v":0},{"$f":"SUMPRODUCT($G613:$J613,TRANSPOSE(Dados_v2!P$4:P$7))","v":0}]
[null,null,null,null,null,null,null,null,null,null,null,null,null,null,null,null,null,null,null,null,null,null,null,null,null,null,null,null,null,null,null,null,null,null,null,null,null,null,null,null,null,{"$f":"SUMPRODUCT($G614:$J614,TRANSPOSE(Dados_v2!N$4:N$7))","v":0},{"$f":"SUMPRODUCT($G614:$J614,TRANSPOSE(Dados_v2!O$4:O$7))","v":0},{"$f":"SUMPRODUCT($G614:$J614,TRANSPOSE(Dados_v2!P$4:P$7))","v":0}]
[null,null,null,null,null,null,null,null,null,null,null,null,null,null,null,null,null,null,null,null,null,null,null,null,null,null,null,null,null,null,null,null,null,null,null,null,null,null,null,null,null,{"$f":"SUMPRODUCT($G615:$J615,TRANSPOSE(Dados_v2!N$4:N$7))","v":0},{"$f":"SUMPRODUCT($G615:$J615,TRANSPOSE(Dados_v2!O$4:O$7))","v":0},{"$f":"SUMPRODUCT($G615:$J615,TRANSPOSE(Dados_v2!P$4:P$7))","v":0}]
[null,null,null,null,null,null,null,null,null,null,null,null,null,null,null,null,null,null,null,null,null,null,null,null,null,null,null,null,null,null,null,null,null,null,null,null,null,null,null,null,null,{"$f":"SUMPRODUCT($G616:$J616,TRANSPOSE(Dados_v2!N$4:N$7))","v":0},{"$f":"SUMPRODUCT($G616:$J616,TRANSPOSE(Dados_v2!O$4:O$7))","v":0},{"$f":"SUMPRODUCT($G616:$J616,TRANSPOSE(Dados_v2!P$4:P$7))","v":0}]
[null,null,null,null,null,null,null,null,null,null,null,null,null,null,null,null,null,null,null,null,null,null,null,null,null,null,null,null,null,null,null,null,null,null,null,null,null,null,null,null,null,{"$f":"SUMPRODUCT($G617:$J617,TRANSPOSE(Dados_v2!N$4:N$7))","v":0},{"$f":"SUMPRODUCT($G617:$J617,TRANSPOSE(Dados_v2!O$4:O$7))","v":0},{"$f":"SUMPRODUCT($G617:$J617,TRANSPOSE(Dados_v2!P$4:P$7))","v":0}]
[null,null,null,null,null,null,null,null,null,null,null,null,null,null,null,null,null,null,null,null,null,null,null,null,null,null,null,null,null,null,null,null,null,null,null,null,null,null,null,null,null,{"$f":"SUMPRODUCT($G618:$J618,TRANSPOSE(Dados_v2!N$4:N$7))","v":0},{"$f":"SUMPRODUCT($G618:$J618,TRANSPOSE(Dados_v2!O$4:O$7))","v":0},{"$f":"SUMPRODUCT($G618:$J618,TRANSPOSE(Dados_v2!P$4:P$7))","v":0}]
[null,null,null,null,null,null,null,null,null,null,null,null,null,null,null,null,null,null,null,null,null,null,null,null,null,null,null,null,null,null,null,null,null,null,null,null,null,null,null,null,null,{"$f":"SUMPRODUCT($G619:$J619,TRANSPOSE(Dados_v2!N$4:N$7))","v":0},{"$f":"SUMPRODUCT($G619:$J619,TRANSPOSE(Dados_v2!O$4:O$7))","v":0},{"$f":"SUMPRODUCT($G619:$J619,TRANSPOSE(Dados_v2!P$4:P$7))","v":0}]
[null,null,null,null,null,null,null,null,null,null,null,null,null,null,null,null,null,null,null,null,null,null,null,null,null,null,null,null,null,null,null,null,null,null,null,null,null,null,null,null,null,{"$f":"SUMPRODUCT($G620:$J620,TRANSPOSE(Dados_v2!N$4:N$7))","v":0},{"$f":"SUMPRODUCT($G620:$J620,TRANSPOSE(Dados_v2!O$4:O$7))","v":0},{"$f":"SUMPRODUCT($G620:$J620,TRANSPOSE(Dados_v2!P$4:P$7))","v":0}]
[null,null,null,null,null,null,null,null,null,null,null,null,null,null,null,null,null,null,null,null,null,null,null,null,null,null,null,null,null,null,null,null,null,null,null,null,null,null,null,null,null,{"$f":"SUMPRODUCT($G621:$J621,TRANSPOSE(Dados_v2!N$4:N$7))","v":0},{"$f":"SUMPRODUCT($G621:$J621,TRANSPOSE(Dados_v2!O$4:O$7))","v":0},{"$f":"SUMPRODUCT($G621:$J621,TRANSPOSE(Dados_v2!P$4:P$7))","v":0}]
[null,null,null,null,null,null,null,null,null,null,null,null,null,null,null,null,null,null,null,null,null,null,null,null,null,null,null,null,null,null,null,null,null,null,null,null,null,null,null,null,null,{"$f":"SUMPRODUCT($G622:$J622,TRANSPOSE(Dados_v2!N$4:N$7))","v":0},{"$f":"SUMPRODUCT($G622:$J622,TRANSPOSE(Dados_v2!O$4:O$7))","v":0},{"$f":"SUMPRODUCT($G622:$J622,TRANSPOSE(Dados_v2!P$4:P$7))","v":0}]
[null,null,null,null,null,null,null,null,null,null,null,null,null,null,null,null,null,null,null,null,null,null,null,null,null,null,null,null,null,null,null,null,null,null,null,null,null,null,null,null,null,{"$f":"SUMPRODUCT($G623:$J623,TRANSPOSE(Dados_v2!N$4:N$7))","v":0},{"$f":"SUMPRODUCT($G623:$J623,TRANSPOSE(Dados_v2!O$4:O$7))","v":0},{"$f":"SUMPRODUCT($G623:$J623,TRANSPOSE(Dados_v2!P$4:P$7))","v":0}]
[null,null,null,null,null,null,null,null,null,null,null,null,null,null,null,null,null,null,null,null,null,null,null,null,null,null,null,null,null,null,null,null,null,null,null,null,null,null,null,null,null,{"$f":"SUMPRODUCT($G624:$J624,TRANSPOSE(Dados_v2!N$4:N$7))","v":0},{"$f":"SUMPRODUCT($G624:$J624,TRANSPOSE(Dados_v2!O$4:O$7))","v":0},{"$f":"SUMPRODUCT($G624:$J624,TRANSPOSE(Dados_v2!P$4:P$7))","v":0}]
[null,null,null,null,null,null,null,null,null,null,null,null,null,null,null,null,null,null,null,null,null,null,null,null,null,null,null,null,null,null,null,null,null,null,null,null,null,null,null,null,null,{"$f":"SUMPRODUCT($G625:$J625,TRANSPOSE(Dados_v2!N$4:N$7))","v":0},{"$f":"SUMPRODUCT($G625:$J625,TRANSPOSE(Dados_v2!O$4:O$7))","v":0},{"$f":"SUMPRODUCT($G625:$J625,TRANSPOSE(Dados_v2!P$4:P$7))","v":0}]
[null,null,null,null,null,null,null,null,null,null,null,null,null,null,null,null,null,null,null,null,null,null,null,null,null,null,null,null,null,null,null,null,null,null,null,null,null,null,null,null,null,{"$f":"SUMPRODUCT($G626:$J626,TRANSPOSE(Dados_v2!N$4:N$7))","v":0},{"$f":"SUMPRODUCT($G626:$J626,TRANSPOSE(Dados_v2!O$4:O$7))","v":0},{"$f":"SUMPRODUCT($G626:$J626,TRANSPOSE(Dados_v2!P$4:P$7))","v":0}]
[null,null,null,null,null,null,null,null,null,null,null,null,null,null,null,null,null,null,null,null,null,null,null,null,null,null,null,null,null,null,null,null,null,null,null,null,null,null,null,null,null,{"$f":"SUMPRODUCT($G627:$J627,TRANSPOSE(Dados_v2!N$4:N$7))","v":0},{"$f":"SUMPRODUCT($G627:$J627,TRANSPOSE(Dados_v2!O$4:O$7))","v":0},{"$f":"SUMPRODUCT($G627:$J627,TRANSPOSE(Dados_v2!P$4:P$7))","v":0}]
[null,null,null,null,null,null,null,null,null,null,null,null,null,null,null,null,null,null,null,null,null,null,null,null,null,null,null,null,null,null,null,null,null,null,null,null,null,null,null,null,null,{"$f":"SUMPRODUCT($G628:$J628,TRANSPOSE(Dados_v2!N$4:N$7))","v":0},{"$f":"SUMPRODUCT($G628:$J628,TRANSPOSE(Dados_v2!O$4:O$7))","v":0},{"$f":"SUMPRODUCT($G628:$J628,TRANSPOSE(Dados_v2!P$4:P$7))","v":0}]
[null,null,null,null,null,null,null,null,null,null,null,null,null,null,null,null,null,null,null,null,null,null,null,null,null,null,null,null,null,null,null,null,null,null,null,null,null,null,null,null,null,{"$f":"SUMPRODUCT($G629:$J629,TRANSPOSE(Dados_v2!N$4:N$7))","v":0},{"$f":"SUMPRODUCT($G629:$J629,TRANSPOSE(Dados_v2!O$4:O$7))","v":0},{"$f":"SUMPRODUCT($G629:$J629,TRANSPOSE(Dados_v2!P$4:P$7))","v":0}]
[null,null,null,null,null,null,null,null,null,null,null,null,null,null,null,null,null,null,null,null,null,null,null,null,null,null,null,null,null,null,null,null,null,null,null,null,null,null,null,null,null,{"$f":"SUMPRODUCT($G630:$J630,TRANSPOSE(Dados_v2!N$4:N$7))","v":0},{"$f":"SUMPRODUCT($G630:$J630,TRANSPOSE(Dados_v2!O$4:O$7))","v":0},{"$f":"SUMPRODUCT($G630:$J630,TRANSPOSE(Dados_v2!P$4:P$7))","v":0}]
[null,null,null,null,null,null,null,null,null,null,null,null,null,null,null,null,null,null,null,null,null,null,null,null,null,null,null,null,null,null,null,null,null,null,null,null,null,null,null,null,null,{"$f":"SUMPRODUCT($G631:$J631,TRANSPOSE(Dados_v2!N$4:N$7))","v":0},{"$f":"SUMPRODUCT($G631:$J631,TRANSPOSE(Dados_v2!O$4:O$7))","v":0},{"$f":"SUMPRODUCT($G631:$J631,TRANSPOSE(Dados_v2!P$4:P$7))","v":0}]
[null,null,null,null,null,null,null,null,null,null,null,null,null,null,null,null,null,null,null,null,null,null,null,null,null,null,null,null,null,null,null,null,null,null,null,null,null,null,null,null,null,{"$f":"SUMPRODUCT($G632:$J632,TRANSPOSE(Dados_v2!N$4:N$7))","v":0},{"$f":"SUMPRODUCT($G632:$J632,TRANSPOSE(Dados_v2!O$4:O$7))","v":0},{"$f":"SUMPRODUCT($G632:$J632,TRANSPOSE(Dados_v2!P$4:P$7))","v":0}]
[null,null,null,null,null,null,null,null,null,null,null,null,null,null,null,null,null,null,null,null,null,null,null,null,null,null,null,null,null,null,null,null,null,null,null,null,null,null,null,null,null,{"$f":"SUMPRODUCT($G633:$J633,TRANSPOSE(Dados_v2!N$4:N$7))","v":0},{"$f":"SUMPRODUCT($G633:$J633,TRANSPOSE(Dados_v2!O$4:O$7))","v":0},{"$f":"SUMPRODUCT($G633:$J633,TRANSPOSE(Dados_v2!P$4:P$7))","v":0}]
[null,null,null,null,null,null,null,null,null,null,null,null,null,null,null,null,null,null,null,null,null,null,null,null,null,null,null,null,null,null,null,null,null,null,null,null,null,null,null,null,null,{"$f":"SUMPRODUCT($G634:$J634,TRANSPOSE(Dados_v2!N$4:N$7))","v":0},{"$f":"SUMPRODUCT($G634:$J634,TRANSPOSE(Dados_v2!O$4:O$7))","v":0},{"$f":"SUMPRODUCT($G634:$J634,TRANSPOSE(Dados_v2!P$4:P$7))","v":0}]
[null,null,null,null,null,null,null,null,null,null,null,null,null,null,null,null,null,null,null,null,null,null,null,null,null,null,null,null,null,null,null,null,null,null,null,null,null,null,null,null,null,{"$f":"SUMPRODUCT($G635:$J635,TRANSPOSE(Dados_v2!N$4:N$7))","v":0},{"$f":"SUMPRODUCT($G635:$J635,TRANSPOSE(Dados_v2!O$4:O$7))","v":0},{"$f":"SUMPRODUCT($G635:$J635,TRANSPOSE(Dados_v2!P$4:P$7))","v":0}]
[null,null,null,null,null,null,null,null,null,null,null,null,null,null,null,null,null,null,null,null,null,null,null,null,null,null,null,null,null,null,null,null,null,null,null,null,null,null,null,null,null,{"$f":"SUMPRODUCT($G636:$J636,TRANSPOSE(Dados_v2!N$4:N$7))","v":0},{"$f":"SUMPRODUCT($G636:$J636,TRANSPOSE(Dados_v2!O$4:O$7))","v":0},{"$f":"SUMPRODUCT($G636:$J636,TRANSPOSE(Dados_v2!P$4:P$7))","v":0}]
[null,null,null,null,null,null,null,null,null,null,null,null,null,null,null,null,null,null,null,null,null,null,null,null,null,null,null,null,null,null,null,null,null,null,null,null,null,null,null,null,null,{"$f":"SUMPRODUCT($G637:$J637,TRANSPOSE(Dados_v2!N$4:N$7))","v":0},{"$f":"SUMPRODUCT($G637:$J637,TRANSPOSE(Dados_v2!O$4:O$7))","v":0},{"$f":"SUMPRODUCT($G637:$J637,TRANSPOSE(Dados_v2!P$4:P$7))","v":0}]
[null,null,null,null,null,null,null,null,null,null,null,null,null,null,null,null,null,null,null,null,null,null,null,null,null,null,null,null,null,null,null,null,null,null,null,null,null,null,null,null,null,{"$f":"SUMPRODUCT($G638:$J638,TRANSPOSE(Dados_v2!N$4:N$7))","v":0},{"$f":"SUMPRODUCT($G638:$J638,TRANSPOSE(Dados_v2!O$4:O$7))","v":0},{"$f":"SUMPRODUCT($G638:$J638,TRANSPOSE(Dados_v2!P$4:P$7))","v":0}]
[null,null,null,null,null,null,null,null,null,null,null,null,null,null,null,null,null,null,null,null,null,null,null,null,null,null,null,null,null,null,null,null,null,null,null,null,null,null,null,null,null,{"$f":"SUMPRODUCT($G639:$J639,TRANSPOSE(Dados_v2!N$4:N$7))","v":0},{"$f":"SUMPRODUCT($G639:$J639,TRANSPOSE(Dados_v2!O$4:O$7))","v":0},{"$f":"SUMPRODUCT($G639:$J639,TRANSPOSE(Dados_v2!P$4:P$7))","v":0}]
[null,null,null,null,null,null,null,null,null,null,null,null,null,null,null,null,null,null,null,null,null,null,null,null,null,null,null,null,null,null,null,null,null,null,null,null,null,null,null,null,null,{"$f":"SUMPRODUCT($G640:$J640,TRANSPOSE(Dados_v2!N$4:N$7))","v":0},{"$f":"SUMPRODUCT($G640:$J640,TRANSPOSE(Dados_v2!O$4:O$7))","v":0},{"$f":"SUMPRODUCT($G640:$J640,TRANSPOSE(Dados_v2!P$4:P$7))","v":0}]
[null,null,null,null,null,null,null,null,null,null,null,null,null,null,null,null,null,null,null,null,null,null,null,null,null,null,null,null,null,null,null,null,null,null,null,null,null,null,null,null,null,{"$f":"SUMPRODUCT($G641:$J641,TRANSPOSE(Dados_v2!N$4:N$7))","v":0},{"$f":"SUMPRODUCT($G641:$J641,TRANSPOSE(Dados_v2!O$4:O$7))","v":0},{"$f":"SUMPRODUCT($G641:$J641,TRANSPOSE(Dados_v2!P$4:P$7))","v":0}]
[null,null,null,null,null,null,null,null,null,null,null,null,null,null,null,null,null,null,null,null,null,null,null,null,null,null,null,null,null,null,null,null,null,null,null,null,null,null,null,null,null,{"$f":"SUMPRODUCT($G642:$J642,TRANSPOSE(Dados_v2!N$4:N$7))","v":0},{"$f":"SUMPRODUCT($G642:$J642,TRANSPOSE(Dados_v2!O$4:O$7))","v":0},{"$f":"SUMPRODUCT($G642:$J642,TRANSPOSE(Dados_v2!P$4:P$7))","v":0}]
[null,null,null,null,null,null,null,null,null,null,null,null,null,null,null,null,null,null,null,null,null,null,null,null,null,null,null,null,null,null,null,null,null,null,null,null,null,null,null,null,null,{"$f":"SUMPRODUCT($G643:$J643,TRANSPOSE(Dados_v2!N$4:N$7))","v":0},{"$f":"SUMPRODUCT($G643:$J643,TRANSPOSE(Dados_v2!O$4:O$7))","v":0},{"$f":"SUMPRODUCT($G643:$J643,TRANSPOSE(Dados_v2!P$4:P$7))","v":0}]
[null,null,null,null,null,null,null,null,null,null,null,null,null,null,null,null,null,null,null,null,null,null,null,null,null,null,null,null,null,null,null,null,null,null,null,null,null,null,null,null,null,{"$f":"SUMPRODUCT($G644:$J644,TRANSPOSE(Dados_v2!N$4:N$7))","v":0},{"$f":"SUMPRODUCT($G644:$J644,TRANSPOSE(Dados_v2!O$4:O$7))","v":0},{"$f":"SUMPRODUCT($G644:$J644,TRANSPOSE(Dados_v2!P$4:P$7))","v":0}]
[null,null,null,null,null,null,null,null,null,null,null,null,null,null,null,null,null,null,null,null,null,null,null,null,null,null,null,null,null,null,null,null,null,null,null,null,null,null,null,null,null,{"$f":"SUMPRODUCT($G645:$J645,TRANSPOSE(Dados_v2!N$4:N$7))","v":0},{"$f":"SUMPRODUCT($G645:$J645,TRANSPOSE(Dados_v2!O$4:O$7))","v":0},{"$f":"SUMPRODUCT($G645:$J645,TRANSPOSE(Dados_v2!P$4:P$7))","v":0}]
[null,null,null,null,null,null,null,null,null,null,null,null,null,null,null,null,null,null,null,null,null,null,null,null,null,null,null,null,null,null,null,null,null,null,null,null,null,null,null,null,null,{"$f":"SUMPRODUCT($G646:$J646,TRANSPOSE(Dados_v2!N$4:N$7))","v":0},{"$f":"SUMPRODUCT($G646:$J646,TRANSPOSE(Dados_v2!O$4:O$7))","v":0},{"$f":"SUMPRODUCT($G646:$J646,TRANSPOSE(Dados_v2!P$4:P$7))","v":0}]
[null,null,null,null,null,null,null,null,null,null,null,null,null,null,null,null,null,null,null,null,null,null,null,null,null,null,null,null,null,null,null,null,null,null,null,null,null,null,null,null,null,{"$f":"SUMPRODUCT($G647:$J647,TRANSPOSE(Dados_v2!N$4:N$7))","v":0},{"$f":"SUMPRODUCT($G647:$J647,TRANSPOSE(Dados_v2!O$4:O$7))","v":0},{"$f":"SUMPRODUCT($G647:$J647,TRANSPOSE(Dados_v2!P$4:P$7))","v":0}]
[null,null,null,null,null,null,null,null,null,null,null,null,null,null,null,null,null,null,null,null,null,null,null,null,null,null,null,null,null,null,null,null,null,null,null,null,null,null,null,null,null,{"$f":"SUMPRODUCT($G648:$J648,TRANSPOSE(Dados_v2!N$4:N$7))","v":0},{"$f":"SUMPRODUCT($G648:$J648,TRANSPOSE(Dados_v2!O$4:O$7))","v":0},{"$f":"SUMPRODUCT($G648:$J648,TRANSPOSE(Dados_v2!P$4:P$7))","v":0}]
[null,null,null,null,null,null,null,null,null,null,null,null,null,null,null,null,null,null,null,null,null,null,null,null,null,null,null,null,null,null,null,null,null,null,null,null,null,null,null,null,null,{"$f":"SUMPRODUCT($G649:$J649,TRANSPOSE(Dados_v2!N$4:N$7))","v":0},{"$f":"SUMPRODUCT($G649:$J649,TRANSPOSE(Dados_v2!O$4:O$7))","v":0},{"$f":"SUMPRODUCT($G649:$J649,TRANSPOSE(Dados_v2!P$4:P$7))","v":0}]
[null,null,null,null,null,null,null,null,null,null,null,null,null,null,null,null,null,null,null,null,null,null,null,null,null,null,null,null,null,null,null,null,null,null,null,null,null,null,null,null,null,{"$f":"SUMPRODUCT($G650:$J650,TRANSPOSE(Dados_v2!N$4:N$7))","v":0},{"$f":"SUMPRODUCT($G650:$J650,TRANSPOSE(Dados_v2!O$4:O$7))","v":0},{"$f":"SUMPRODUCT($G650:$J650,TRANSPOSE(Dados_v2!P$4:P$7))","v":0}]
[null,null,null,null,null,null,null,null,null,null,null,null,null,null,null,null,null,null,null,null,null,null,null,null,null,null,null,null,null,null,null,null,null,null,null,null,null,null,null,null,null,{"$f":"SUMPRODUCT($G651:$J651,TRANSPOSE(Dados_v2!N$4:N$7))","v":0},{"$f":"SUMPRODUCT($G651:$J651,TRANSPOSE(Dados_v2!O$4:O$7))","v":0},{"$f":"SUMPRODUCT($G651:$J651,TRANSPOSE(Dados_v2!P$4:P$7))","v":0}]
[null,null,null,null,null,null,null,null,null,null,null,null,null,null,null,null,null,null,null,null,null,null,null,null,null,null,null,null,null,null,null,null,null,null,null,null,null,null,null,null,null,{"$f":"SUMPRODUCT($G652:$J652,TRANSPOSE(Dados_v2!N$4:N$7))","v":0},{"$f":"SUMPRODUCT($G652:$J652,TRANSPOSE(Dados_v2!O$4:O$7))","v":0},{"$f":"SUMPRODUCT($G652:$J652,TRANSPOSE(Dados_v2!P$4:P$7))","v":0}]
[null,null,null,null,null,null,null,null,null,null,null,null,null,null,null,null,null,null,null,null,null,null,null,null,null,null,null,null,null,null,null,null,null,null,null,null,null,null,null,null,null,{"$f":"SUMPRODUCT($G653:$J653,TRANSPOSE(Dados_v2!N$4:N$7))","v":0},{"$f":"SUMPRODUCT($G653:$J653,TRANSPOSE(Dados_v2!O$4:O$7))","v":0},{"$f":"SUMPRODUCT($G653:$J653,TRANSPOSE(Dados_v2!P$4:P$7))","v":0}]
[null,null,null,null,null,null,null,null,null,null,null,null,null,null,null,null,null,null,null,null,null,null,null,null,null,null,null,null,null,null,null,null,null,null,null,null,null,null,null,null,null,{"$f":"SUMPRODUCT($G654:$J654,TRANSPOSE(Dados_v2!N$4:N$7))","v":0},{"$f":"SUMPRODUCT($G654:$J654,TRANSPOSE(Dados_v2!O$4:O$7))","v":0},{"$f":"SUMPRODUCT($G654:$J654,TRANSPOSE(Dados_v2!P$4:P$7))","v":0}]
[null,null,null,null,null,null,null,null,null,null,null,null,null,null,null,null,null,null,null,null,null,null,null,null,null,null,null,null,null,null,null,null,null,null,null,null,null,null,null,null,null,{"$f":"SUMPRODUCT($G655:$J655,TRANSPOSE(Dados_v2!N$4:N$7))","v":0},{"$f":"SUMPRODUCT($G655:$J655,TRANSPOSE(Dados_v2!O$4:O$7))","v":0},{"$f":"SUMPRODUCT($G655:$J655,TRANSPOSE(Dados_v2!P$4:P$7))","v":0}]
[null,null,null,null,null,null,null,null,null,null,null,null,null,null,null,null,null,null,null,null,null,null,null,null,null,null,null,null,null,null,null,null,null,null,null,null,null,null,null,null,null,{"$f":"SUMPRODUCT($G656:$J656,TRANSPOSE(Dados_v2!N$4:N$7))","v":0},{"$f":"SUMPRODUCT($G656:$J656,TRANSPOSE(Dados_v2!O$4:O$7))","v":0},{"$f":"SUMPRODUCT($G656:$J656,TRANSPOSE(Dados_v2!P$4:P$7))","v":0}]
[null,null,null,null,null,null,null,null,null,null,null,null,null,null,null,null,null,null,null,null,null,null,null,null,null,null,null,null,null,null,null,null,null,null,null,null,null,null,null,null,null,{"$f":"SUMPRODUCT($G657:$J657,TRANSPOSE(Dados_v2!N$4:N$7))","v":0},{"$f":"SUMPRODUCT($G657:$J657,TRANSPOSE(Dados_v2!O$4:O$7))","v":0},{"$f":"SUMPRODUCT($G657:$J657,TRANSPOSE(Dados_v2!P$4:P$7))","v":0}]
[null,null,null,null,null,null,null,null,null,null,null,null,null,null,null,null,null,null,null,null,null,null,null,null,null,null,null,null,null,null,null,null,null,null,null,null,null,null,null,null,null,{"$f":"SUMPRODUCT($G658:$J658,TRANSPOSE(Dados_v2!N$4:N$7))","v":0},{"$f":"SUMPRODUCT($G658:$J658,TRANSPOSE(Dados_v2!O$4:O$7))","v":0},{"$f":"SUMPRODUCT($G658:$J658,TRANSPOSE(Dados_v2!P$4:P$7))","v":0}]
[null,null,null,null,null,null,null,null,null,null,null,null,null,null,null,null,null,null,null,null,null,null,null,null,null,null,null,null,null,null,null,null,null,null,null,null,null,null,null,null,null,{"$f":"SUMPRODUCT($G659:$J659,TRANSPOSE(Dados_v2!N$4:N$7))","v":0},{"$f":"SUMPRODUCT($G659:$J659,TRANSPOSE(Dados_v2!O$4:O$7))","v":0},{"$f":"SUMPRODUCT($G659:$J659,TRANSPOSE(Dados_v2!P$4:P$7))","v":0}]
[null,null,null,null,null,null,null,null,null,null,null,null,null,null,null,null,null,null,null,null,null,null,null,null,null,null,null,null,null,null,null,null,null,null,null,null,null,null,null,null,null,{"$f":"SUMPRODUCT($G660:$J660,TRANSPOSE(Dados_v2!N$4:N$7))","v":0},{"$f":"SUMPRODUCT($G660:$J660,TRANSPOSE(Dados_v2!O$4:O$7))","v":0},{"$f":"SUMPRODUCT($G660:$J660,TRANSPOSE(Dados_v2!P$4:P$7))","v":0}]
[null,null,null,null,null,null,null,null,null,null,null,null,null,null,null,null,null,null,null,null,null,null,null,null,null,null,null,null,null,null,null,null,null,null,null,null,null,null,null,null,null,{"$f":"SUMPRODUCT($G661:$J661,TRANSPOSE(Dados_v2!N$4:N$7))","v":0},{"$f":"SUMPRODUCT($G661:$J661,TRANSPOSE(Dados_v2!O$4:O$7))","v":0},{"$f":"SUMPRODUCT($G661:$J661,TRANSPOSE(Dados_v2!P$4:P$7))","v":0}]
[null,null,null,null,null,null,null,null,null,null,null,null,null,null,null,null,null,null,null,null,null,null,null,null,null,null,null,null,null,null,null,null,null,null,null,null,null,null,null,null,null,{"$f":"SUMPRODUCT($G662:$J662,TRANSPOSE(Dados_v2!N$4:N$7))","v":0},{"$f":"SUMPRODUCT($G662:$J662,TRANSPOSE(Dados_v2!O$4:O$7))","v":0},{"$f":"SUMPRODUCT($G662:$J662,TRANSPOSE(Dados_v2!P$4:P$7))","v":0}]
[null,null,null,null,null,null,null,null,null,null,null,null,null,null,null,null,null,null,null,null,null,null,null,null,null,null,null,null,null,null,null,null,null,null,null,null,null,null,null,null,null,{"$f":"SUMPRODUCT($G663:$J663,TRANSPOSE(Dados_v2!N$4:N$7))","v":0},{"$f":"SUMPRODUCT($G663:$J663,TRANSPOSE(Dados_v2!O$4:O$7))","v":0},{"$f":"SUMPRODUCT($G663:$J663,TRANSPOSE(Dados_v2!P$4:P$7))","v":0}]
[null,null,null,null,null,null,null,null,null,null,null,null,null,null,null,null,null,null,null,null,null,null,null,null,null,null,null,null,null,null,null,null,null,null,null,null,null,null,null,null,null,{"$f":"SUMPRODUCT($G664:$J664,TRANSPOSE(Dados_v2!N$4:N$7))","v":0},{"$f":"SUMPRODUCT($G664:$J664,TRANSPOSE(Dados_v2!O$4:O$7))","v":0},{"$f":"SUMPRODUCT($G664:$J664,TRANSPOSE(Dados_v2!P$4:P$7))","v":0}]
[null,null,null,null,null,null,null,null,null,null,null,null,null,null,null,null,null,null,null,null,null,null,null,null,null,null,null,null,null,null,null,null,null,null,null,null,null,null,null,null,null,{"$f":"SUMPRODUCT($G665:$J665,TRANSPOSE(Dados_v2!N$4:N$7))","v":0},{"$f":"SUMPRODUCT($G665:$J665,TRANSPOSE(Dados_v2!O$4:O$7))","v":0},{"$f":"SUMPRODUCT($G665:$J665,TRANSPOSE(Dados_v2!P$4:P$7))","v":0}]
[null,null,null,null,null,null,null,null,null,null,null,null,null,null,null,null,null,null,null,null,null,null,null,null,null,null,null,null,null,null,null,null,null,null,null,null,null,null,null,null,null,{"$f":"SUMPRODUCT($G666:$J666,TRANSPOSE(Dados_v2!N$4:N$7))","v":0},{"$f":"SUMPRODUCT($G666:$J666,TRANSPOSE(Dados_v2!O$4:O$7))","v":0},{"$f":"SUMPRODUCT($G666:$J666,TRANSPOSE(Dados_v2!P$4:P$7))","v":0}]
[null,null,null,null,null,null,null,null,null,null,null,null,null,null,null,null,null,null,null,null,null,null,null,null,null,null,null,null,null,null,null,null,null,null,null,null,null,null,null,null,null,{"$f":"SUMPRODUCT($G667:$J667,TRANSPOSE(Dados_v2!N$4:N$7))","v":0},{"$f":"SUMPRODUCT($G667:$J667,TRANSPOSE(Dados_v2!O$4:O$7))","v":0},{"$f":"SUMPRODUCT($G667:$J667,TRANSPOSE(Dados_v2!P$4:P$7))","v":0}]
[null,null,null,null,null,null,null,null,null,null,null,null,null,null,null,null,null,null,null,null,null,null,null,null,null,null,null,null,null,null,null,null,null,null,null,null,null,null,null,null,null,{"$f":"SUMPRODUCT($G668:$J668,TRANSPOSE(Dados_v2!N$4:N$7))","v":0},{"$f":"SUMPRODUCT($G668:$J668,TRANSPOSE(Dados_v2!O$4:O$7))","v":0},{"$f":"SUMPRODUCT($G668:$J668,TRANSPOSE(Dados_v2!P$4:P$7))","v":0}]
[null,null,null,null,null,null,null,null,null,null,null,null,null,null,null,null,null,null,null,null,null,null,null,null,null,null,null,null,null,null,null,null,null,null,null,null,null,null,null,null,null,{"$f":"SUMPRODUCT($G669:$J669,TRANSPOSE(Dados_v2!N$4:N$7))","v":0},{"$f":"SUMPRODUCT($G669:$J669,TRANSPOSE(Dados_v2!O$4:O$7))","v":0},{"$f":"SUMPRODUCT($G669:$J669,TRANSPOSE(Dados_v2!P$4:P$7))","v":0}]
[null,null,null,null,null,null,null,null,null,null,null,null,null,null,null,null,null,null,null,null,null,null,null,null,null,null,null,null,null,null,null,null,null,null,null,null,null,null,null,null,null,{"$f":"SUMPRODUCT($G670:$J670,TRANSPOSE(Dados_v2!N$4:N$7))","v":0},{"$f":"SUMPRODUCT($G670:$J670,TRANSPOSE(Dados_v2!O$4:O$7))","v":0},{"$f":"SUMPRODUCT($G670:$J670,TRANSPOSE(Dados_v2!P$4:P$7))","v":0}]
[null,null,null,null,null,null,null,null,null,null,null,null,null,null,null,null,null,null,null,null,null,null,null,null,null,null,null,null,null,null,null,null,null,null,null,null,null,null,null,null,null,{"$f":"SUMPRODUCT($G671:$J671,TRANSPOSE(Dados_v2!N$4:N$7))","v":0},{"$f":"SUMPRODUCT($G671:$J671,TRANSPOSE(Dados_v2!O$4:O$7))","v":0},{"$f":"SUMPRODUCT($G671:$J671,TRANSPOSE(Dados_v2!P$4:P$7))","v":0}]
[null,null,null,null,null,null,null,null,null,null,null,null,null,null,null,null,null,null,null,null,null,null,null,null,null,null,null,null,null,null,null,null,null,null,null,null,null,null,null,null,null,{"$f":"SUMPRODUCT($G672:$J672,TRANSPOSE(Dados_v2!N$4:N$7))","v":0},{"$f":"SUMPRODUCT($G672:$J672,TRANSPOSE(Dados_v2!O$4:O$7))","v":0},{"$f":"SUMPRODUCT($G672:$J672,TRANSPOSE(Dados_v2!P$4:P$7))","v":0}]
[null,null,null,null,null,null,null,null,null,null,null,null,null,null,null,null,null,null,null,null,null,null,null,null,null,null,null,null,null,null,null,null,null,null,null,null,null,null,null,null,null,{"$f":"SUMPRODUCT($G673:$J673,TRANSPOSE(Dados_v2!N$4:N$7))","v":0},{"$f":"SUMPRODUCT($G673:$J673,TRANSPOSE(Dados_v2!O$4:O$7))","v":0},{"$f":"SUMPRODUCT($G673:$J673,TRANSPOSE(Dados_v2!P$4:P$7))","v":0}]
[null,null,null,null,null,null,null,null,null,null,null,null,null,null,null,null,null,null,null,null,null,null,null,null,null,null,null,null,null,null,null,null,null,null,null,null,null,null,null,null,null,{"$f":"SUMPRODUCT($G674:$J674,TRANSPOSE(Dados_v2!N$4:N$7))","v":0},{"$f":"SUMPRODUCT($G674:$J674,TRANSPOSE(Dados_v2!O$4:O$7))","v":0},{"$f":"SUMPRODUCT($G674:$J674,TRANSPOSE(Dados_v2!P$4:P$7))","v":0}]
[null,null,null,null,null,null,null,null,null,null,null,null,null,null,null,null,null,null,null,null,null,null,null,null,null,null,null,null,null,null,null,null,null,null,null,null,null,null,null,null,null,{"$f":"SUMPRODUCT($G675:$J675,TRANSPOSE(Dados_v2!N$4:N$7))","v":0},{"$f":"SUMPRODUCT($G675:$J675,TRANSPOSE(Dados_v2!O$4:O$7))","v":0},{"$f":"SUMPRODUCT($G675:$J675,TRANSPOSE(Dados_v2!P$4:P$7))","v":0}]
[null,null,null,null,null,null,null,null,null,null,null,null,null,null,null,null,null,null,null,null,null,null,null,null,null,null,null,null,null,null,null,null,null,null,null,null,null,null,null,null,null,{"$f":"SUMPRODUCT($G676:$J676,TRANSPOSE(Dados_v2!N$4:N$7))","v":0},{"$f":"SUMPRODUCT($G676:$J676,TRANSPOSE(Dados_v2!O$4:O$7))","v":0},{"$f":"SUMPRODUCT($G676:$J676,TRANSPOSE(Dados_v2!P$4:P$7))","v":0}]
[null,null,null,null,null,null,null,null,null,null,null,null,null,null,null,null,null,null,null,null,null,null,null,null,null,null,null,null,null,null,null,null,null,null,null,null,null,null,null,null,null,{"$f":"SUMPRODUCT($G677:$J677,TRANSPOSE(Dados_v2!N$4:N$7))","v":0},{"$f":"SUMPRODUCT($G677:$J677,TRANSPOSE(Dados_v2!O$4:O$7))","v":0},{"$f":"SUMPRODUCT($G677:$J677,TRANSPOSE(Dados_v2!P$4:P$7))","v":0}]
[null,null,null,null,null,null,null,null,null,null,null,null,null,null,null,null,null,null,null,null,null,null,null,null,null,null,null,null,null,null,null,null,null,null,null,null,null,null,null,null,null,{"$f":"SUMPRODUCT($G678:$J678,TRANSPOSE(Dados_v2!N$4:N$7))","v":0},{"$f":"SUMPRODUCT($G678:$J678,TRANSPOSE(Dados_v2!O$4:O$7))","v":0},{"$f":"SUMPRODUCT($G678:$J678,TRANSPOSE(Dados_v2!P$4:P$7))","v":0}]
[null,null,null,null,null,null,null,null,null,null,null,null,null,null,null,null,null,null,null,null,null,null,null,null,null,null,null,null,null,null,null,null,null,null,null,null,null,null,null,null,null,{"$f":"SUMPRODUCT($G679:$J679,TRANSPOSE(Dados_v2!N$4:N$7))","v":0},{"$f":"SUMPRODUCT($G679:$J679,TRANSPOSE(Dados_v2!O$4:O$7))","v":0},{"$f":"SUMPRODUCT($G679:$J679,TRANSPOSE(Dados_v2!P$4:P$7))","v":0}]
[null,null,null,null,null,null,null,null,null,null,null,null,null,null,null,null,null,null,null,null,null,null,null,null,null,null,null,null,null,null,null,null,null,null,null,null,null,null,null,null,null,{"$f":"SUMPRODUCT($G680:$J680,TRANSPOSE(Dados_v2!N$4:N$7))","v":0},{"$f":"SUMPRODUCT($G680:$J680,TRANSPOSE(Dados_v2!O$4:O$7))","v":0},{"$f":"SUMPRODUCT($G680:$J680,TRANSPOSE(Dados_v2!P$4:P$7))","v":0}]
[null,null,null,null,null,null,null,null,null,null,null,null,null,null,null,null,null,null,null,null,null,null,null,null,null,null,null,null,null,null,null,null,null,null,null,null,null,null,null,null,null,{"$f":"SUMPRODUCT($G681:$J681,TRANSPOSE(Dados_v2!N$4:N$7))","v":0},{"$f":"SUMPRODUCT($G681:$J681,TRANSPOSE(Dados_v2!O$4:O$7))","v":0},{"$f":"SUMPRODUCT($G681:$J681,TRANSPOSE(Dados_v2!P$4:P$7))","v":0}]
[null,null,null,null,null,null,null,null,null,null,null,null,null,null,null,null,null,null,null,null,null,null,null,null,null,null,null,null,null,null,null,null,null,null,null,null,null,null,null,null,null,{"$f":"SUMPRODUCT($G682:$J682,TRANSPOSE(Dados_v2!N$4:N$7))","v":0},{"$f":"SUMPRODUCT($G682:$J682,TRANSPOSE(Dados_v2!O$4:O$7))","v":0},{"$f":"SUMPRODUCT($G682:$J682,TRANSPOSE(Dados_v2!P$4:P$7))","v":0}]
[null,null,null,null,null,null,null,null,null,null,null,null,null,null,null,null,null,null,null,null,null,null,null,null,null,null,null,null,null,null,null,null,null,null,null,null,null,null,null,null,null,{"$f":"SUMPRODUCT($G683:$J683,TRANSPOSE(Dados_v2!N$4:N$7))","v":0},{"$f":"SUMPRODUCT($G683:$J683,TRANSPOSE(Dados_v2!O$4:O$7))","v":0},{"$f":"SUMPRODUCT($G683:$J683,TRANSPOSE(Dados_v2!P$4:P$7))","v":0}]
[null,null,null,null,null,null,null,null,null,null,null,null,null,null,null,null,null,null,null,null,null,null,null,null,null,null,null,null,null,null,null,null,null,null,null,null,null,null,null,null,null,{"$f":"SUMPRODUCT($G684:$J684,TRANSPOSE(Dados_v2!N$4:N$7))","v":0},{"$f":"SUMPRODUCT($G684:$J684,TRANSPOSE(Dados_v2!O$4:O$7))","v":0},{"$f":"SUMPRODUCT($G684:$J684,TRANSPOSE(Dados_v2!P$4:P$7))","v":0}]
[null,null,null,null,null,null,null,null,null,null,null,null,null,null,null,null,null,null,null,null,null,null,null,null,null,null,null,null,null,null,null,null,null,null,null,null,null,null,null,null,null,{"$f":"SUMPRODUCT($G685:$J685,TRANSPOSE(Dados_v2!N$4:N$7))","v":0},{"$f":"SUMPRODUCT($G685:$J685,TRANSPOSE(Dados_v2!O$4:O$7))","v":0},{"$f":"SUMPRODUCT($G685:$J685,TRANSPOSE(Dados_v2!P$4:P$7))","v":0}]
[null,null,null,null,null,null,null,null,null,null,null,null,null,null,null,null,null,null,null,null,null,null,null,null,null,null,null,null,null,null,null,null,null,null,null,null,null,null,null,null,null,{"$f":"SUMPRODUCT($G686:$J686,TRANSPOSE(Dados_v2!N$4:N$7))","v":0},{"$f":"SUMPRODUCT($G686:$J686,TRANSPOSE(Dados_v2!O$4:O$7))","v":0},{"$f":"SUMPRODUCT($G686:$J686,TRANSPOSE(Dados_v2!P$4:P$7))","v":0}]
[null,null,null,null,null,null,null,null,null,null,null,null,null,null,null,null,null,null,null,null,null,null,null,null,null,null,null,null,null,null,null,null,null,null,null,null,null,null,null,null,null,{"$f":"SUMPRODUCT($G687:$J687,TRANSPOSE(Dados_v2!N$4:N$7))","v":0},{"$f":"SUMPRODUCT($G687:$J687,TRANSPOSE(Dados_v2!O$4:O$7))","v":0},{"$f":"SUMPRODUCT($G687:$J687,TRANSPOSE(Dados_v2!P$4:P$7))","v":0}]
[null,null,null,null,null,null,null,null,null,null,null,null,null,null,null,null,null,null,null,null,null,null,null,null,null,null,null,null,null,null,null,null,null,null,null,null,null,null,null,null,null,{"$f":"SUMPRODUCT($G688:$J688,TRANSPOSE(Dados_v2!N$4:N$7))","v":0},{"$f":"SUMPRODUCT($G688:$J688,TRANSPOSE(Dados_v2!O$4:O$7))","v":0},{"$f":"SUMPRODUCT($G688:$J688,TRANSPOSE(Dados_v2!P$4:P$7))","v":0}]
[null,null,null,null,null,null,null,null,null,null,null,null,null,null,null,null,null,null,null,null,null,null,null,null,null,null,null,null,null,null,null,null,null,null,null,null,null,null,null,null,null,{"$f":"SUMPRODUCT($G689:$J689,TRANSPOSE(Dados_v2!N$4:N$7))","v":0},{"$f":"SUMPRODUCT($G689:$J689,TRANSPOSE(Dados_v2!O$4:O$7))","v":0},{"$f":"SUMPRODUCT($G689:$J689,TRANSPOSE(Dados_v2!P$4:P$7))","v":0}]
[null,null,null,null,null,null,null,null,null,null,null,null,null,null,null,null,null,null,null,null,null,null,null,null,null,null,null,null,null,null,null,null,null,null,null,null,null,null,null,null,null,{"$f":"SUMPRODUCT($G690:$J690,TRANSPOSE(Dados_v2!N$4:N$7))","v":0},{"$f":"SUMPRODUCT($G690:$J690,TRANSPOSE(Dados_v2!O$4:O$7))","v":0},{"$f":"SUMPRODUCT($G690:$J690,TRANSPOSE(Dados_v2!P$4:P$7))","v":0}]
[null,null,null,null,null,null,null,null,null,null,null,null,null,null,null,null,null,null,null,null,null,null,null,null,null,null,null,null,null,null,null,null,null,null,null,null,null,null,null,null,null,{"$f":"SUMPRODUCT($G691:$J691,TRANSPOSE(Dados_v2!N$4:N$7))","v":0},{"$f":"SUMPRODUCT($G691:$J691,TRANSPOSE(Dados_v2!O$4:O$7))","v":0},{"$f":"SUMPRODUCT($G691:$J691,TRANSPOSE(Dados_v2!P$4:P$7))","v":0}]
[null,null,null,null,null,null,null,null,null,null,null,null,null,null,null,null,null,null,null,null,null,null,null,null,null,null,null,null,null,null,null,null,null,null,null,null,null,null,null,null,null,{"$f":"SUMPRODUCT($G692:$J692,TRANSPOSE(Dados_v2!N$4:N$7))","v":0},{"$f":"SUMPRODUCT($G692:$J692,TRANSPOSE(Dados_v2!O$4:O$7))","v":0},{"$f":"SUMPRODUCT($G692:$J692,TRANSPOSE(Dados_v2!P$4:P$7))","v":0}]
[null,null,null,null,null,null,null,null,null,null,null,null,null,null,null,null,null,null,null,null,null,null,null,null,null,null,null,null,null,null,null,null,null,null,null,null,null,null,null,null,null,{"$f":"SUMPRODUCT($G693:$J693,TRANSPOSE(Dados_v2!N$4:N$7))","v":0},{"$f":"SUMPRODUCT($G693:$J693,TRANSPOSE(Dados_v2!O$4:O$7))","v":0},{"$f":"SUMPRODUCT($G693:$J693,TRANSPOSE(Dados_v2!P$4:P$7))","v":0}]
[null,null,null,null,null,null,null,null,null,null,null,null,null,null,null,null,null,null,null,null,null,null,null,null,null,null,null,null,null,null,null,null,null,null,null,null,null,null,null,null,null,{"$f":"SUMPRODUCT($G694:$J694,TRANSPOSE(Dados_v2!N$4:N$7))","v":0},{"$f":"SUMPRODUCT($G694:$J694,TRANSPOSE(Dados_v2!O$4:O$7))","v":0},{"$f":"SUMPRODUCT($G694:$J694,TRANSPOSE(Dados_v2!P$4:P$7))","v":0}]
[null,null,null,null,null,null,null,null,null,null,null,null,null,null,null,null,null,null,null,null,null,null,null,null,null,null,null,null,null,null,null,null,null,null,null,null,null,null,null,null,null,{"$f":"SUMPRODUCT($G695:$J695,TRANSPOSE(Dados_v2!N$4:N$7))","v":0},{"$f":"SUMPRODUCT($G695:$J695,TRANSPOSE(Dados_v2!O$4:O$7))","v":0},{"$f":"SUMPRODUCT($G695:$J695,TRANSPOSE(Dados_v2!P$4:P$7))","v":0}]
[null,null,null,null,null,null,null,null,null,null,null,null,null,null,null,null,null,null,null,null,null,null,null,null,null,null,null,null,null,null,null,null,null,null,null,null,null,null,null,null,null,{"$f":"SUMPRODUCT($G696:$J696,TRANSPOSE(Dados_v2!N$4:N$7))","v":0},{"$f":"SUMPRODUCT($G696:$J696,TRANSPOSE(Dados_v2!O$4:O$7))","v":0},{"$f":"SUMPRODUCT($G696:$J696,TRANSPOSE(Dados_v2!P$4:P$7))","v":0}]
[null,null,null,null,null,null,null,null,null,null,null,null,null,null,null,null,null,null,null,null,null,null,null,null,null,null,null,null,null,null,null,null,null,null,null,null,null,null,null,null,null,{"$f":"SUMPRODUCT($G697:$J697,TRANSPOSE(Dados_v2!N$4:N$7))","v":0},{"$f":"SUMPRODUCT($G697:$J697,TRANSPOSE(Dados_v2!O$4:O$7))","v":0},{"$f":"SUMPRODUCT($G697:$J697,TRANSPOSE(Dados_v2!P$4:P$7))","v":0}]
[null,null,null,null,null,null,null,null,null,null,null,null,null,null,null,null,null,null,null,null,null,null,null,null,null,null,null,null,null,null,null,null,null,null,null,null,null,null,null,null,null,{"$f":"SUMPRODUCT($G698:$J698,TRANSPOSE(Dados_v2!N$4:N$7))","v":0},{"$f":"SUMPRODUCT($G698:$J698,TRANSPOSE(Dados_v2!O$4:O$7))","v":0},{"$f":"SUMPRODUCT($G698:$J698,TRANSPOSE(Dados_v2!P$4:P$7))","v":0}]
[null,null,null,null,null,null,null,null,null,null,null,null,null,null,null,null,null,null,null,null,null,null,null,null,null,null,null,null,null,null,null,null,null,null,null,null,null,null,null,null,null,{"$f":"SUMPRODUCT($G699:$J699,TRANSPOSE(Dados_v2!N$4:N$7))","v":0},{"$f":"SUMPRODUCT($G699:$J699,TRANSPOSE(Dados_v2!O$4:O$7))","v":0},{"$f":"SUMPRODUCT($G699:$J699,TRANSPOSE(Dados_v2!P$4:P$7))","v":0}]
[null,null,null,null,null,null,null,null,null,null,null,null,null,null,null,null,null,null,null,null,null,null,null,null,null,null,null,null,null,null,null,null,null,null,null,null,null,null,null,null,null,{"$f":"SUMPRODUCT($G700:$J700,TRANSPOSE(Dados_v2!N$4:N$7))","v":0},{"$f":"SUMPRODUCT($G700:$J700,TRANSPOSE(Dados_v2!O$4:O$7))","v":0},{"$f":"SUMPRODUCT($G700:$J700,TRANSPOSE(Dados_v2!P$4:P$7))","v":0}]
[null,null,null,null,null,null,null,null,null,null,null,null,null,null,null,null,null,null,null,null,null,null,null,null,null,null,null,null,null,null,null,null,null,null,null,null,null,null,null,null,null,{"$f":"SUMPRODUCT($G701:$J701,TRANSPOSE(Dados_v2!N$4:N$7))","v":0},{"$f":"SUMPRODUCT($G701:$J701,TRANSPOSE(Dados_v2!O$4:O$7))","v":0},{"$f":"SUMPRODUCT($G701:$J701,TRANSPOSE(Dados_v2!P$4:P$7))","v":0}]
[null,null,null,null,null,null,null,null,null,null,null,null,null,null,null,null,null,null,null,null,null,null,null,null,null,null,null,null,null,null,null,null,null,null,null,null,null,null,null,null,null,{"$f":"SUMPRODUCT($G702:$J702,TRANSPOSE(Dados_v2!N$4:N$7))","v":0},{"$f":"SUMPRODUCT($G702:$J702,TRANSPOSE(Dados_v2!O$4:O$7))","v":0},{"$f":"SUMPRODUCT($G702:$J702,TRANSPOSE(Dados_v2!P$4:P$7))","v":0}]
[null,null,null,null,null,null,null,null,null,null,null,null,null,null,null,null,null,null,null,null,null,null,null,null,null,null,null,null,null,null,null,null,null,null,null,null,null,null,null,null,null,{"$f":"SUMPRODUCT($G703:$J703,TRANSPOSE(Dados_v2!N$4:N$7))","v":0},{"$f":"SUMPRODUCT($G703:$J703,TRANSPOSE(Dados_v2!O$4:O$7))","v":0},{"$f":"SUMPRODUCT($G703:$J703,TRANSPOSE(Dados_v2!P$4:P$7))","v":0}]
[null,null,null,null,null,null,null,null,null,null,null,null,null,null,null,null,null,null,null,null,null,null,null,null,null,null,null,null,null,null,null,null,null,null,null,null,null,null,null,null,null,{"$f":"SUMPRODUCT($G704:$J704,TRANSPOSE(Dados_v2!N$4:N$7))","v":0},{"$f":"SUMPRODUCT($G704:$J704,TRANSPOSE(Dados_v2!O$4:O$7))","v":0},{"$f":"SUMPRODUCT($G704:$J704,TRANSPOSE(Dados_v2!P$4:P$7))","v":0}]
[null,null,null,null,null,null,null,null,null,null,null,null,null,null,null,null,null,null,null,null,null,null,null,null,null,null,null,null,null,null,null,null,null,null,null,null,null,null,null,null,null,{"$f":"SUMPRODUCT($G705:$J705,TRANSPOSE(Dados_v2!N$4:N$7))","v":0},{"$f":"SUMPRODUCT($G705:$J705,TRANSPOSE(Dados_v2!O$4:O$7))","v":0},{"$f":"SUMPRODUCT($G705:$J705,TRANSPOSE(Dados_v2!P$4:P$7))","v":0}]
[null,null,null,null,null,null,null,null,null,null,null,null,null,null,null,null,null,null,null,null,null,null,null,null,null,null,null,null,null,null,null,null,null,null,null,null,null,null,null,null,null,{"$f":"SUMPRODUCT($G706:$J706,TRANSPOSE(Dados_v2!N$4:N$7))","v":0},{"$f":"SUMPRODUCT($G706:$J706,TRANSPOSE(Dados_v2!O$4:O$7))","v":0},{"$f":"SUMPRODUCT($G706:$J706,TRANSPOSE(Dados_v2!P$4:P$7))","v":0}]
[null,null,null,null,null,null,null,null,null,null,null,null,null,null,null,null,null,null,null,null,null,null,null,null,null,null,null,null,null,null,null,null,null,null,null,null,null,null,null,null,null,{"$f":"SUMPRODUCT($G707:$J707,TRANSPOSE(Dados_v2!N$4:N$7))","v":0},{"$f":"SUMPRODUCT($G707:$J707,TRANSPOSE(Dados_v2!O$4:O$7))","v":0},{"$f":"SUMPRODUCT($G707:$J707,TRANSPOSE(Dados_v2!P$4:P$7))","v":0}]
[null,null,null,null,null,null,null,null,null,null,null,null,null,null,null,null,null,null,null,null,null,null,null,null,null,null,null,null,null,null,null,null,null,null,null,null,null,null,null,null,null,{"$f":"SUMPRODUCT($G708:$J708,TRANSPOSE(Dados_v2!N$4:N$7))","v":0},{"$f":"SUMPRODUCT($G708:$J708,TRANSPOSE(Dados_v2!O$4:O$7))","v":0},{"$f":"SUMPRODUCT($G708:$J708,TRANSPOSE(Dados_v2!P$4:P$7))","v":0}]
[null,null,null,null,null,null,null,null,null,null,null,null,null,null,null,null,null,null,null,null,null,null,null,null,null,null,null,null,null,null,null,null,null,null,null,null,null,null,null,null,null,{"$f":"SUMPRODUCT($G709:$J709,TRANSPOSE(Dados_v2!N$4:N$7))","v":0},{"$f":"SUMPRODUCT($G709:$J709,TRANSPOSE(Dados_v2!O$4:O$7))","v":0},{"$f":"SUMPRODUCT($G709:$J709,TRANSPOSE(Dados_v2!P$4:P$7))","v":0}]
[null,null,null,null,null,null,null,null,null,null,null,null,null,null,null,null,null,null,null,null,null,null,null,null,null,null,null,null,null,null,null,null,null,null,null,null,null,null,null,null,null,{"$f":"SUMPRODUCT($G710:$J710,TRANSPOSE(Dados_v2!N$4:N$7))","v":0},{"$f":"SUMPRODUCT($G710:$J710,TRANSPOSE(Dados_v2!O$4:O$7))","v":0},{"$f":"SUMPRODUCT($G710:$J710,TRANSPOSE(Dados_v2!P$4:P$7))","v":0}]
[null,null,null,null,null,null,null,null,null,null,null,null,null,null,null,null,null,null,null,null,null,null,null,null,null,null,null,null,null,null,null,null,null,null,null,null,null,null,null,null,null,{"$f":"SUMPRODUCT($G711:$J711,TRANSPOSE(Dados_v2!N$4:N$7))","v":0},{"$f":"SUMPRODUCT($G711:$J711,TRANSPOSE(Dados_v2!O$4:O$7))","v":0},{"$f":"SUMPRODUCT($G711:$J711,TRANSPOSE(Dados_v2!P$4:P$7))","v":0}]
[null,null,null,null,null,null,null,null,null,null,null,null,null,null,null,null,null,null,null,null,null,null,null,null,null,null,null,null,null,null,null,null,null,null,null,null,null,null,null,null,null,{"$f":"SUMPRODUCT($G712:$J712,TRANSPOSE(Dados_v2!N$4:N$7))","v":0},{"$f":"SUMPRODUCT($G712:$J712,TRANSPOSE(Dados_v2!O$4:O$7))","v":0},{"$f":"SUMPRODUCT($G712:$J712,TRANSPOSE(Dados_v2!P$4:P$7))","v":0}]
[null,null,null,null,null,null,null,null,null,null,null,null,null,null,null,null,null,null,null,null,null,null,null,null,null,null,null,null,null,null,null,null,null,null,null,null,null,null,null,null,null,{"$f":"SUMPRODUCT($G713:$J713,TRANSPOSE(Dados_v2!N$4:N$7))","v":0},{"$f":"SUMPRODUCT($G713:$J713,TRANSPOSE(Dados_v2!O$4:O$7))","v":0},{"$f":"SUMPRODUCT($G713:$J713,TRANSPOSE(Dados_v2!P$4:P$7))","v":0}]
[null,null,null,null,null,null,null,null,null,null,null,null,null,null,null,null,null,null,null,null,null,null,null,null,null,null,null,null,null,null,null,null,null,null,null,null,null,null,null,null,null,{"$f":"SUMPRODUCT($G714:$J714,TRANSPOSE(Dados_v2!N$4:N$7))","v":0},{"$f":"SUMPRODUCT($G714:$J714,TRANSPOSE(Dados_v2!O$4:O$7))","v":0},{"$f":"SUMPRODUCT($G714:$J714,TRANSPOSE(Dados_v2!P$4:P$7))","v":0}]
[null,null,null,null,null,null,null,null,null,null,null,null,null,null,null,null,null,null,null,null,null,null,null,null,null,null,null,null,null,null,null,null,null,null,null,null,null,null,null,null,null,{"$f":"SUMPRODUCT($G715:$J715,TRANSPOSE(Dados_v2!N$4:N$7))","v":0},{"$f":"SUMPRODUCT($G715:$J715,TRANSPOSE(Dados_v2!O$4:O$7))","v":0},{"$f":"SUMPRODUCT($G715:$J715,TRANSPOSE(Dados_v2!P$4:P$7))","v":0}]
[null,null,null,null,null,null,null,null,null,null,null,null,null,null,null,null,null,null,null,null,null,null,null,null,null,null,null,null,null,null,null,null,null,null,null,null,null,null,null,null,null,{"$f":"SUMPRODUCT($G716:$J716,TRANSPOSE(Dados_v2!N$4:N$7))","v":0},{"$f":"SUMPRODUCT($G716:$J716,TRANSPOSE(Dados_v2!O$4:O$7))","v":0},{"$f":"SUMPRODUCT($G716:$J716,TRANSPOSE(Dados_v2!P$4:P$7))","v":0}]
[null,null,null,null,null,null,null,null,null,null,null,null,null,null,null,null,null,null,null,null,null,null,null,null,null,null,null,null,null,null,null,null,null,null,null,null,null,null,null,null,null,{"$f":"SUMPRODUCT($G717:$J717,TRANSPOSE(Dados_v2!N$4:N$7))","v":0},{"$f":"SUMPRODUCT($G717:$J717,TRANSPOSE(Dados_v2!O$4:O$7))","v":0},{"$f":"SUMPRODUCT($G717:$J717,TRANSPOSE(Dados_v2!P$4:P$7))","v":0}]
[null,null,null,null,null,null,null,null,null,null,null,null,null,null,null,null,null,null,null,null,null,null,null,null,null,null,null,null,null,null,null,null,null,null,null,null,null,null,null,null,null,{"$f":"SUMPRODUCT($G718:$J718,TRANSPOSE(Dados_v2!N$4:N$7))","v":0},{"$f":"SUMPRODUCT($G718:$J718,TRANSPOSE(Dados_v2!O$4:O$7))","v":0},{"$f":"SUMPRODUCT($G718:$J718,TRANSPOSE(Dados_v2!P$4:P$7))","v":0}]
[null,null,null,null,null,null,null,null,null,null,null,null,null,null,null,null,null,null,null,null,null,null,null,null,null,null,null,null,null,null,null,null,null,null,null,null,null,null,null,null,null,{"$f":"SUMPRODUCT($G719:$J719,TRANSPOSE(Dados_v2!N$4:N$7))","v":0},{"$f":"SUMPRODUCT($G719:$J719,TRANSPOSE(Dados_v2!O$4:O$7))","v":0},{"$f":"SUMPRODUCT($G719:$J719,TRANSPOSE(Dados_v2!P$4:P$7))","v":0}]
[null,null,null,null,null,null,null,null,null,null,null,null,null,null,null,null,null,null,null,null,null,null,null,null,null,null,null,null,null,null,null,null,null,null,null,null,null,null,null,null,null,{"$f":"SUMPRODUCT($G720:$J720,TRANSPOSE(Dados_v2!N$4:N$7))","v":0},{"$f":"SUMPRODUCT($G720:$J720,TRANSPOSE(Dados_v2!O$4:O$7))","v":0},{"$f":"SUMPRODUCT($G720:$J720,TRANSPOSE(Dados_v2!P$4:P$7))","v":0}]
[null,null,null,null,null,null,null,null,null,null,null,null,null,null,null,null,null,null,null,null,null,null,null,null,null,null,null,null,null,null,null,null,null,null,null,null,null,null,null,null,null,{"$f":"SUMPRODUCT($G721:$J721,TRANSPOSE(Dados_v2!N$4:N$7))","v":0},{"$f":"SUMPRODUCT($G721:$J721,TRANSPOSE(Dados_v2!O$4:O$7))","v":0},{"$f":"SUMPRODUCT($G721:$J721,TRANSPOSE(Dados_v2!P$4:P$7))","v":0}]
[null,null,null,null,null,null,null,null,null,null,null,null,null,null,null,null,null,null,null,null,null,null,null,null,null,null,null,null,null,null,null,null,null,null,null,null,null,null,null,null,null,{"$f":"SUMPRODUCT($G722:$J722,TRANSPOSE(Dados_v2!N$4:N$7))","v":0},{"$f":"SUMPRODUCT($G722:$J722,TRANSPOSE(Dados_v2!O$4:O$7))","v":0},{"$f":"SUMPRODUCT($G722:$J722,TRANSPOSE(Dados_v2!P$4:P$7))","v":0}]
[null,null,null,null,null,null,null,null,null,null,null,null,null,null,null,null,null,null,null,null,null,null,null,null,null,null,null,null,null,null,null,null,null,null,null,null,null,null,null,null,null,{"$f":"SUMPRODUCT($G723:$J723,TRANSPOSE(Dados_v2!N$4:N$7))","v":0},{"$f":"SUMPRODUCT($G723:$J723,TRANSPOSE(Dados_v2!O$4:O$7))","v":0},{"$f":"SUMPRODUCT($G723:$J723,TRANSPOSE(Dados_v2!P$4:P$7))","v":0}]
[null,null,null,null,null,null,null,null,null,null,null,null,null,null,null,null,null,null,null,null,null,null,null,null,null,null,null,null,null,null,null,null,null,null,null,null,null,null,null,null,null,{"$f":"SUMPRODUCT($G724:$J724,TRANSPOSE(Dados_v2!N$4:N$7))","v":0},{"$f":"SUMPRODUCT($G724:$J724,TRANSPOSE(Dados_v2!O$4:O$7))","v":0},{"$f":"SUMPRODUCT($G724:$J724,TRANSPOSE(Dados_v2!P$4:P$7))","v":0}]
[null,null,null,null,null,null,null,null,null,null,null,null,null,null,null,null,null,null,null,null,null,null,null,null,null,null,null,null,null,null,null,null,null,null,null,null,null,null,null,null,null,{"$f":"SUMPRODUCT($G725:$J725,TRANSPOSE(Dados_v2!N$4:N$7))","v":0},{"$f":"SUMPRODUCT($G725:$J725,TRANSPOSE(Dados_v2!O$4:O$7))","v":0},{"$f":"SUMPRODUCT($G725:$J725,TRANSPOSE(Dados_v2!P$4:P$7))","v":0}]
[null,null,null,null,null,null,null,null,null,null,null,null,null,null,null,null,null,null,null,null,null,null,null,null,null,null,null,null,null,null,null,null,null,null,null,null,null,null,null,null,null,{"$f":"SUMPRODUCT($G726:$J726,TRANSPOSE(Dados_v2!N$4:N$7))","v":0},{"$f":"SUMPRODUCT($G726:$J726,TRANSPOSE(Dados_v2!O$4:O$7))","v":0},{"$f":"SUMPRODUCT($G726:$J726,TRANSPOSE(Dados_v2!P$4:P$7))","v":0}]
[null,null,null,null,null,null,null,null,null,null,null,null,null,null,null,null,null,null,null,null,null,null,null,null,null,null,null,null,null,null,null,null,null,null,null,null,null,null,null,null,null,{"$f":"SUMPRODUCT($G727:$J727,TRANSPOSE(Dados_v2!N$4:N$7))","v":0},{"$f":"SUMPRODUCT($G727:$J727,TRANSPOSE(Dados_v2!O$4:O$7))","v":0},{"$f":"SUMPRODUCT($G727:$J727,TRANSPOSE(Dados_v2!P$4:P$7))","v":0}]
[null,null,null,null,null,null,null,null,null,null,null,null,null,null,null,null,null,null,null,null,null,null,null,null,null,null,null,null,null,null,null,null,null,null,null,null,null,null,null,null,null,{"$f":"SUMPRODUCT($G728:$J728,TRANSPOSE(Dados_v2!N$4:N$7))","v":0},{"$f":"SUMPRODUCT($G728:$J728,TRANSPOSE(Dados_v2!O$4:O$7))","v":0},{"$f":"SUMPRODUCT($G728:$J728,TRANSPOSE(Dados_v2!P$4:P$7))","v":0}]
[null,null,null,null,null,null,null,null,null,null,null,null,null,null,null,null,null,null,null,null,null,null,null,null,null,null,null,null,null,null,null,null,null,null,null,null,null,null,null,null,null,{"$f":"SUMPRODUCT($G729:$J729,TRANSPOSE(Dados_v2!N$4:N$7))","v":0},{"$f":"SUMPRODUCT($G729:$J729,TRANSPOSE(Dados_v2!O$4:O$7))","v":0},{"$f":"SUMPRODUCT($G729:$J729,TRANSPOSE(Dados_v2!P$4:P$7))","v":0}]
[null,null,null,null,null,null,null,null,null,null,null,null,null,null,null,null,null,null,null,null,null,null,null,null,null,null,null,null,null,null,null,null,null,null,null,null,null,null,null,null,null,{"$f":"SUMPRODUCT($G730:$J730,TRANSPOSE(Dados_v2!N$4:N$7))","v":0},{"$f":"SUMPRODUCT($G730:$J730,TRANSPOSE(Dados_v2!O$4:O$7))","v":0},{"$f":"SUMPRODUCT($G730:$J730,TRANSPOSE(Dados_v2!P$4:P$7))","v":0}]
[null,null,null,null,null,null,null,null,null,null,null,null,null,null,null,null,null,null,null,null,null,null,null,null,null,null,null,null,null,null,null,null,null,null,null,null,null,null,null,null,null,{"$f":"SUMPRODUCT($G731:$J731,TRANSPOSE(Dados_v2!N$4:N$7))","v":0},{"$f":"SUMPRODUCT($G731:$J731,TRANSPOSE(Dados_v2!O$4:O$7))","v":0},{"$f":"SUMPRODUCT($G731:$J731,TRANSPOSE(Dados_v2!P$4:P$7))","v":0}]
[null,null,null,null,null,null,null,null,null,null,null,null,null,null,null,null,null,null,null,null,null,null,null,null,null,null,null,null,null,null,null,null,null,null,null,null,null,null,null,null,null,{"$f":"SUMPRODUCT($G732:$J732,TRANSPOSE(Dados_v2!N$4:N$7))","v":0},{"$f":"SUMPRODUCT($G732:$J732,TRANSPOSE(Dados_v2!O$4:O$7))","v":0},{"$f":"SUMPRODUCT($G732:$J732,TRANSPOSE(Dados_v2!P$4:P$7))","v":0}]
[null,null,null,null,null,null,null,null,null,null,null,null,null,null,null,null,null,null,null,null,null,null,null,null,null,null,null,null,null,null,null,null,null,null,null,null,null,null,null,null,null,{"$f":"SUMPRODUCT($G733:$J733,TRANSPOSE(Dados_v2!N$4:N$7))","v":0},{"$f":"SUMPRODUCT($G733:$J733,TRANSPOSE(Dados_v2!O$4:O$7))","v":0},{"$f":"SUMPRODUCT($G733:$J733,TRANSPOSE(Dados_v2!P$4:P$7))","v":0}]
[null,null,null,null,null,null,null,null,null,null,null,null,null,null,null,null,null,null,null,null,null,null,null,null,null,null,null,null,null,null,null,null,null,null,null,null,null,null,null,null,null,{"$f":"SUMPRODUCT($G734:$J734,TRANSPOSE(Dados_v2!N$4:N$7))","v":0},{"$f":"SUMPRODUCT($G734:$J734,TRANSPOSE(Dados_v2!O$4:O$7))","v":0},{"$f":"SUMPRODUCT($G734:$J734,TRANSPOSE(Dados_v2!P$4:P$7))","v":0}]
[null,null,null,null,null,null,null,null,null,null,null,null,null,null,null,null,null,null,null,null,null,null,null,null,null,null,null,null,null,null,null,null,null,null,null,null,null,null,null,null,null,{"$f":"SUMPRODUCT($G735:$J735,TRANSPOSE(Dados_v2!N$4:N$7))","v":0},{"$f":"SUMPRODUCT($G735:$J735,TRANSPOSE(Dados_v2!O$4:O$7))","v":0},{"$f":"SUMPRODUCT($G735:$J735,TRANSPOSE(Dados_v2!P$4:P$7))","v":0}]
[null,null,null,null,null,null,null,null,null,null,null,null,null,null,null,null,null,null,null,null,null,null,null,null,null,null,null,null,null,null,null,null,null,null,null,null,null,null,null,null,null,{"$f":"SUMPRODUCT($G736:$J736,TRANSPOSE(Dados_v2!N$4:N$7))","v":0},{"$f":"SUMPRODUCT($G736:$J736,TRANSPOSE(Dados_v2!O$4:O$7))","v":0},{"$f":"SUMPRODUCT($G736:$J736,TRANSPOSE(Dados_v2!P$4:P$7))","v":0}]
[null,null,null,null,null,null,null,null,null,null,null,null,null,null,null,null,null,null,null,null,null,null,null,null,null,null,null,null,null,null,null,null,null,null,null,null,null,null,null,null,null,{"$f":"SUMPRODUCT($G737:$J737,TRANSPOSE(Dados_v2!N$4:N$7))","v":0},{"$f":"SUMPRODUCT($G737:$J737,TRANSPOSE(Dados_v2!O$4:O$7))","v":0},{"$f":"SUMPRODUCT($G737:$J737,TRANSPOSE(Dados_v2!P$4:P$7))","v":0}]
[null,null,null,null,null,null,null,null,null,null,null,null,null,null,null,null,null,null,null,null,null,null,null,null,null,null,null,null,null,null,null,null,null,null,null,null,null,null,null,null,null,{"$f":"SUMPRODUCT($G738:$J738,TRANSPOSE(Dados_v2!N$4:N$7))","v":0},{"$f":"SUMPRODUCT($G738:$J738,TRANSPOSE(Dados_v2!O$4:O$7))","v":0},{"$f":"SUMPRODUCT($G738:$J738,TRANSPOSE(Dados_v2!P$4:P$7))","v":0}]
[null,null,null,null,null,null,null,null,null,null,null,null,null,null,null,null,null,null,null,null,null,null,null,null,null,null,null,null,null,null,null,null,null,null,null,null,null,null,null,null,null,{"$f":"SUMPRODUCT($G739:$J739,TRANSPOSE(Dados_v2!N$4:N$7))","v":0},{"$f":"SUMPRODUCT($G739:$J739,TRANSPOSE(Dados_v2!O$4:O$7))","v":0},{"$f":"SUMPRODUCT($G739:$J739,TRANSPOSE(Dados_v2!P$4:P$7))","v":0}]
[null,null,null,null,null,null,null,null,null,null,null,null,null,null,null,null,null,null,null,null,null,null,null,null,null,null,null,null,null,null,null,null,null,null,null,null,null,null,null,null,null,{"$f":"SUMPRODUCT($G740:$J740,TRANSPOSE(Dados_v2!N$4:N$7))","v":0},{"$f":"SUMPRODUCT($G740:$J740,TRANSPOSE(Dados_v2!O$4:O$7))","v":0},{"$f":"SUMPRODUCT($G740:$J740,TRANSPOSE(Dados_v2!P$4:P$7))","v":0}]
[null,null,null,null,null,null,null,null,null,null,null,null,null,null,null,null,null,null,null,null,null,null,null,null,null,null,null,null,null,null,null,null,null,null,null,null,null,null,null,null,null,{"$f":"SUMPRODUCT($G741:$J741,TRANSPOSE(Dados_v2!N$4:N$7))","v":0},{"$f":"SUMPRODUCT($G741:$J741,TRANSPOSE(Dados_v2!O$4:O$7))","v":0},{"$f":"SUMPRODUCT($G741:$J741,TRANSPOSE(Dados_v2!P$4:P$7))","v":0}]
[null,null,null,null,null,null,null,null,null,null,null,null,null,null,null,null,null,null,null,null,null,null,null,null,null,null,null,null,null,null,null,null,null,null,null,null,null,null,null,null,null,{"$f":"SUMPRODUCT($G742:$J742,TRANSPOSE(Dados_v2!N$4:N$7))","v":0},{"$f":"SUMPRODUCT($G742:$J742,TRANSPOSE(Dados_v2!O$4:O$7))","v":0},{"$f":"SUMPRODUCT($G742:$J742,TRANSPOSE(Dados_v2!P$4:P$7))","v":0}]
[null,null,null,null,null,null,null,null,null,null,null,null,null,null,null,null,null,null,null,null,null,null,null,null,null,null,null,null,null,null,null,null,null,null,null,null,null,null,null,null,null,{"$f":"SUMPRODUCT($G743:$J743,TRANSPOSE(Dados_v2!N$4:N$7))","v":0},{"$f":"SUMPRODUCT($G743:$J743,TRANSPOSE(Dados_v2!O$4:O$7))","v":0},{"$f":"SUMPRODUCT($G743:$J743,TRANSPOSE(Dados_v2!P$4:P$7))","v":0}]
[null,null,null,null,null,null,null,null,null,null,null,null,null,null,null,null,null,null,null,null,null,null,null,null,null,null,null,null,null,null,null,null,null,null,null,null,null,null,null,null,null,{"$f":"SUMPRODUCT($G744:$J744,TRANSPOSE(Dados_v2!N$4:N$7))","v":0},{"$f":"SUMPRODUCT($G744:$J744,TRANSPOSE(Dados_v2!O$4:O$7))","v":0},{"$f":"SUMPRODUCT($G744:$J744,TRANSPOSE(Dados_v2!P$4:P$7))","v":0}]
[null,null,null,null,null,null,null,null,null,null,null,null,null,null,null,null,null,null,null,null,null,null,null,null,null,null,null,null,null,null,null,null,null,null,null,null,null,null,null,null,null,{"$f":"SUMPRODUCT($G745:$J745,TRANSPOSE(Dados_v2!N$4:N$7))","v":0},{"$f":"SUMPRODUCT($G745:$J745,TRANSPOSE(Dados_v2!O$4:O$7))","v":0},{"$f":"SUMPRODUCT($G745:$J745,TRANSPOSE(Dados_v2!P$4:P$7))","v":0}]
[null,null,null,null,null,null,null,null,null,null,null,null,null,null,null,null,null,null,null,null,null,null,null,null,null,null,null,null,null,null,null,null,null,null,null,null,null,null,null,null,null,{"$f":"SUMPRODUCT($G746:$J746,TRANSPOSE(Dados_v2!N$4:N$7))","v":0},{"$f":"SUMPRODUCT($G746:$J746,TRANSPOSE(Dados_v2!O$4:O$7))","v":0},{"$f":"SUMPRODUCT($G746:$J746,TRANSPOSE(Dados_v2!P$4:P$7))","v":0}]
[null,null,null,null,null,null,null,null,null,null,null,null,null,null,null,null,null,null,null,null,null,null,null,null,null,null,null,null,null,null,null,null,null,null,null,null,null,null,null,null,null,{"$f":"SUMPRODUCT($G747:$J747,TRANSPOSE(Dados_v2!N$4:N$7))","v":0},{"$f":"SUMPRODUCT($G747:$J747,TRANSPOSE(Dados_v2!O$4:O$7))","v":0},{"$f":"SUMPRODUCT($G747:$J747,TRANSPOSE(Dados_v2!P$4:P$7))","v":0}]
[null,null,null,null,null,null,null,null,null,null,null,null,null,null,null,null,null,null,null,null,null,null,null,null,null,null,null,null,null,null,null,null,null,null,null,null,null,null,null,null,null,{"$f":"SUMPRODUCT($G748:$J748,TRANSPOSE(Dados_v2!N$4:N$7))","v":0},{"$f":"SUMPRODUCT($G748:$J748,TRANSPOSE(Dados_v2!O$4:O$7))","v":0},{"$f":"SUMPRODUCT($G748:$J748,TRANSPOSE(Dados_v2!P$4:P$7))","v":0}]
[null,null,null,null,null,null,null,null,null,null,null,null,null,null,null,null,null,null,null,null,null,null,null,null,null,null,null,null,null,null,null,null,null,null,null,null,null,null,null,null,null,{"$f":"SUMPRODUCT($G749:$J749,TRANSPOSE(Dados_v2!N$4:N$7))","v":0},{"$f":"SUMPRODUCT($G749:$J749,TRANSPOSE(Dados_v2!O$4:O$7))","v":0},{"$f":"SUMPRODUCT($G749:$J749,TRANSPOSE(Dados_v2!P$4:P$7))","v":0}]
[null,null,null,null,null,null,null,null,null,null,null,null,null,null,null,null,null,null,null,null,null,null,null,null,null,null,null,null,null,null,null,null,null,null,null,null,null,null,null,null,null,{"$f":"SUMPRODUCT($G750:$J750,TRANSPOSE(Dados_v2!N$4:N$7))","v":0},{"$f":"SUMPRODUCT($G750:$J750,TRANSPOSE(Dados_v2!O$4:O$7))","v":0},{"$f":"SUMPRODUCT($G750:$J750,TRANSPOSE(Dados_v2!P$4:P$7))","v":0}]
[null,null,null,null,null,null,null,null,null,null,null,null,null,null,null,null,null,null,null,null,null,null,null,null,null,null,null,null,null,null,null,null,null,null,null,null,null,null,null,null,null,{"$f":"SUMPRODUCT($G751:$J751,TRANSPOSE(Dados_v2!N$4:N$7))","v":0},{"$f":"SUMPRODUCT($G751:$J751,TRANSPOSE(Dados_v2!O$4:O$7))","v":0},{"$f":"SUMPRODUCT($G751:$J751,TRANSPOSE(Dados_v2!P$4:P$7))","v":0}]
[null,null,null,null,null,null,null,null,null,null,null,null,null,null,null,null,null,null,null,null,null,null,null,null,null,null,null,null,null,null,null,null,null,null,null,null,null,null,null,null,null,{"$f":"SUMPRODUCT($G752:$J752,TRANSPOSE(Dados_v2!N$4:N$7))","v":0},{"$f":"SUMPRODUCT($G752:$J752,TRANSPOSE(Dados_v2!O$4:O$7))","v":0},{"$f":"SUMPRODUCT($G752:$J752,TRANSPOSE(Dados_v2!P$4:P$7))","v":0}]
[null,null,null,null,null,null,null,null,null,null,null,null,null,null,null,null,null,null,null,null,null,null,null,null,null,null,null,null,null,null,null,null,null,null,null,null,null,null,null,null,null,{"$f":"SUMPRODUCT($G753:$J753,TRANSPOSE(Dados_v2!N$4:N$7))","v":0},{"$f":"SUMPRODUCT($G753:$J753,TRANSPOSE(Dados_v2!O$4:O$7))","v":0},{"$f":"SUMPRODUCT($G753:$J753,TRANSPOSE(Dados_v2!P$4:P$7))","v":0}]
[null,null,null,null,null,null,null,null,null,null,null,null,null,null,null,null,null,null,null,null,null,null,null,null,null,null,null,null,null,null,null,null,null,null,null,null,null,null,null,null,null,{"$f":"SUMPRODUCT($G754:$J754,TRANSPOSE(Dados_v2!N$4:N$7))","v":0},{"$f":"SUMPRODUCT($G754:$J754,TRANSPOSE(Dados_v2!O$4:O$7))","v":0},{"$f":"SUMPRODUCT($G754:$J754,TRANSPOSE(Dados_v2!P$4:P$7))","v":0}]
[null,null,null,null,null,null,null,null,null,null,null,null,null,null,null,null,null,null,null,null,null,null,null,null,null,null,null,null,null,null,null,null,null,null,null,null,null,null,null,null,null,{"$f":"SUMPRODUCT($G755:$J755,TRANSPOSE(Dados_v2!N$4:N$7))","v":0},{"$f":"SUMPRODUCT($G755:$J755,TRANSPOSE(Dados_v2!O$4:O$7))","v":0},{"$f":"SUMPRODUCT($G755:$J755,TRANSPOSE(Dados_v2!P$4:P$7))","v":0}]
[null,null,null,null,null,null,null,null,null,null,null,null,null,null,null,null,null,null,null,null,null,null,null,null,null,null,null,null,null,null,null,null,null,null,null,null,null,null,null,null,null,{"$f":"SUMPRODUCT($G756:$J756,TRANSPOSE(Dados_v2!N$4:N$7))","v":0},{"$f":"SUMPRODUCT($G756:$J756,TRANSPOSE(Dados_v2!O$4:O$7))","v":0},{"$f":"SUMPRODUCT($G756:$J756,TRANSPOSE(Dados_v2!P$4:P$7))","v":0}]
[null,null,null,null,null,null,null,null,null,null,null,null,null,null,null,null,null,null,null,null,null,null,null,null,null,null,null,null,null,null,null,null,null,null,null,null,null,null,null,null,null,{"$f":"SUMPRODUCT($G757:$J757,TRANSPOSE(Dados_v2!N$4:N$7))","v":0},{"$f":"SUMPRODUCT($G757:$J757,TRANSPOSE(Dados_v2!O$4:O$7))","v":0},{"$f":"SUMPRODUCT($G757:$J757,TRANSPOSE(Dados_v2!P$4:P$7))","v":0}]
[null,null,null,null,null,null,null,null,null,null,null,null,null,null,null,null,null,null,null,null,null,null,null,null,null,null,null,null,null,null,null,null,null,null,null,null,null,null,null,null,null,{"$f":"SUMPRODUCT($G758:$J758,TRANSPOSE(Dados_v2!N$4:N$7))","v":0},{"$f":"SUMPRODUCT($G758:$J758,TRANSPOSE(Dados_v2!O$4:O$7))","v":0},{"$f":"SUMPRODUCT($G758:$J758,TRANSPOSE(Dados_v2!P$4:P$7))","v":0}]
[null,null,null,null,null,null,null,null,null,null,null,null,null,null,null,null,null,null,null,null,null,null,null,null,null,null,null,null,null,null,null,null,null,null,null,null,null,null,null,null,null,{"$f":"SUMPRODUCT($G759:$J759,TRANSPOSE(Dados_v2!N$4:N$7))","v":0},{"$f":"SUMPRODUCT($G759:$J759,TRANSPOSE(Dados_v2!O$4:O$7))","v":0},{"$f":"SUMPRODUCT($G759:$J759,TRANSPOSE(Dados_v2!P$4:P$7))","v":0}]
[null,null,null,null,null,null,null,null,null,null,null,null,null,null,null,null,null,null,null,null,null,null,null,null,null,null,null,null,null,null,null,null,null,null,null,null,null,null,null,null,null,{"$f":"SUMPRODUCT($G760:$J760,TRANSPOSE(Dados_v2!N$4:N$7))","v":0},{"$f":"SUMPRODUCT($G760:$J760,TRANSPOSE(Dados_v2!O$4:O$7))","v":0},{"$f":"SUMPRODUCT($G760:$J760,TRANSPOSE(Dados_v2!P$4:P$7))","v":0}]
[null,null,null,null,null,null,null,null,null,null,null,null,null,null,null,null,null,null,null,null,null,null,null,null,null,null,null,null,null,null,null,null,null,null,null,null,null,null,null,null,null,{"$f":"SUMPRODUCT($G761:$J761,TRANSPOSE(Dados_v2!N$4:N$7))","v":0},{"$f":"SUMPRODUCT($G761:$J761,TRANSPOSE(Dados_v2!O$4:O$7))","v":0},{"$f":"SUMPRODUCT($G761:$J761,TRANSPOSE(Dados_v2!P$4:P$7))","v":0}]
[null,null,null,null,null,null,null,null,null,null,null,null,null,null,null,null,null,null,null,null,null,null,null,null,null,null,null,null,null,null,null,null,null,null,null,null,null,null,null,null,null,{"$f":"SUMPRODUCT($G762:$J762,TRANSPOSE(Dados_v2!N$4:N$7))","v":0},{"$f":"SUMPRODUCT($G762:$J762,TRANSPOSE(Dados_v2!O$4:O$7))","v":0},{"$f":"SUMPRODUCT($G762:$J762,TRANSPOSE(Dados_v2!P$4:P$7))","v":0}]
[null,null,null,null,null,null,null,null,null,null,null,null,null,null,null,null,null,null,null,null,null,null,null,null,null,null,null,null,null,null,null,null,null,null,null,null,null,null,null,null,null,{"$f":"SUMPRODUCT($G763:$J763,TRANSPOSE(Dados_v2!N$4:N$7))","v":0},{"$f":"SUMPRODUCT($G763:$J763,TRANSPOSE(Dados_v2!O$4:O$7))","v":0},{"$f":"SUMPRODUCT($G763:$J763,TRANSPOSE(Dados_v2!P$4:P$7))","v":0}]
[null,null,null,null,null,null,null,null,null,null,null,null,null,null,null,null,null,null,null,null,null,null,null,null,null,null,null,null,null,null,null,null,null,null,null,null,null,null,null,null,null,{"$f":"SUMPRODUCT($G764:$J764,TRANSPOSE(Dados_v2!N$4:N$7))","v":0},{"$f":"SUMPRODUCT($G764:$J764,TRANSPOSE(Dados_v2!O$4:O$7))","v":0},{"$f":"SUMPRODUCT($G764:$J764,TRANSPOSE(Dados_v2!P$4:P$7))","v":0}]
[null,null,null,null,null,null,null,null,null,null,null,null,null,null,null,null,null,null,null,null,null,null,null,null,null,null,null,null,null,null,null,null,null,null,null,null,null,null,null,null,null,{"$f":"SUMPRODUCT($G765:$J765,TRANSPOSE(Dados_v2!N$4:N$7))","v":0},{"$f":"SUMPRODUCT($G765:$J765,TRANSPOSE(Dados_v2!O$4:O$7))","v":0},{"$f":"SUMPRODUCT($G765:$J765,TRANSPOSE(Dados_v2!P$4:P$7))","v":0}]
[null,null,null,null,null,null,null,null,null,null,null,null,null,null,null,null,null,null,null,null,null,null,null,null,null,null,null,null,null,null,null,null,null,null,null,null,null,null,null,null,null,{"$f":"SUMPRODUCT($G766:$J766,TRANSPOSE(Dados_v2!N$4:N$7))","v":0},{"$f":"SUMPRODUCT($G766:$J766,TRANSPOSE(Dados_v2!O$4:O$7))","v":0},{"$f":"SUMPRODUCT($G766:$J766,TRANSPOSE(Dados_v2!P$4:P$7))","v":0}]
[null,null,null,null,null,null,null,null,null,null,null,null,null,null,null,null,null,null,null,null,null,null,null,null,null,null,null,null,null,null,null,null,null,null,null,null,null,null,null,null,null,{"$f":"SUMPRODUCT($G767:$J767,TRANSPOSE(Dados_v2!N$4:N$7))","v":0},{"$f":"SUMPRODUCT($G767:$J767,TRANSPOSE(Dados_v2!O$4:O$7))","v":0},{"$f":"SUMPRODUCT($G767:$J767,TRANSPOSE(Dados_v2!P$4:P$7))","v":0}]
[null,null,null,null,null,null,null,null,null,null,null,null,null,null,null,null,null,null,null,null,null,null,null,null,null,null,null,null,null,null,null,null,null,null,null,null,null,null,null,null,null,{"$f":"SUMPRODUCT($G768:$J768,TRANSPOSE(Dados_v2!N$4:N$7))","v":0},{"$f":"SUMPRODUCT($G768:$J768,TRANSPOSE(Dados_v2!O$4:O$7))","v":0},{"$f":"SUMPRODUCT($G768:$J768,TRANSPOSE(Dados_v2!P$4:P$7))","v":0}]
[null,null,null,null,null,null,null,null,null,null,null,null,null,null,null,null,null,null,null,null,null,null,null,null,null,null,null,null,null,null,null,null,null,null,null,null,null,null,null,null,null,{"$f":"SUMPRODUCT($G769:$J769,TRANSPOSE(Dados_v2!N$4:N$7))","v":0},{"$f":"SUMPRODUCT($G769:$J769,TRANSPOSE(Dados_v2!O$4:O$7))","v":0},{"$f":"SUMPRODUCT($G769:$J769,TRANSPOSE(Dados_v2!P$4:P$7))","v":0}]
[null,null,null,null,null,null,null,null,null,null,null,null,null,null,null,null,null,null,null,null,null,null,null,null,null,null,null,null,null,null,null,null,null,null,null,null,null,null,null,null,null,{"$f":"SUMPRODUCT($G770:$J770,TRANSPOSE(Dados_v2!N$4:N$7))","v":0},{"$f":"SUMPRODUCT($G770:$J770,TRANSPOSE(Dados_v2!O$4:O$7))","v":0},{"$f":"SUMPRODUCT($G770:$J770,TRANSPOSE(Dados_v2!P$4:P$7))","v":0}]
[null,null,null,null,null,null,null,null,null,null,null,null,null,null,null,null,null,null,null,null,null,null,null,null,null,null,null,null,null,null,null,null,null,null,null,null,null,null,null,null,null,{"$f":"SUMPRODUCT($G771:$J771,TRANSPOSE(Dados_v2!N$4:N$7))","v":0},{"$f":"SUMPRODUCT($G771:$J771,TRANSPOSE(Dados_v2!O$4:O$7))","v":0},{"$f":"SUMPRODUCT($G771:$J771,TRANSPOSE(Dados_v2!P$4:P$7))","v":0}]
[null,null,null,null,null,null,null,null,null,null,null,null,null,null,null,null,null,null,null,null,null,null,null,null,null,null,null,null,null,null,null,null,null,null,null,null,null,null,null,null,null,{"$f":"SUMPRODUCT($G772:$J772,TRANSPOSE(Dados_v2!N$4:N$7))","v":0},{"$f":"SUMPRODUCT($G772:$J772,TRANSPOSE(Dados_v2!O$4:O$7))","v":0},{"$f":"SUMPRODUCT($G772:$J772,TRANSPOSE(Dados_v2!P$4:P$7))","v":0}]
[null,null,null,null,null,null,null,null,null,null,null,null,null,null,null,null,null,null,null,null,null,null,null,null,null,null,null,null,null,null,null,null,null,null,null,null,null,null,null,null,null,{"$f":"SUMPRODUCT($G773:$J773,TRANSPOSE(Dados_v2!N$4:N$7))","v":0},{"$f":"SUMPRODUCT($G773:$J773,TRANSPOSE(Dados_v2!O$4:O$7))","v":0},{"$f":"SUMPRODUCT($G773:$J773,TRANSPOSE(Dados_v2!P$4:P$7))","v":0}]
[null,null,null,null,null,null,null,null,null,null,null,null,null,null,null,null,null,null,null,null,null,null,null,null,null,null,null,null,null,null,null,null,null,null,null,null,null,null,null,null,null,{"$f":"SUMPRODUCT($G774:$J774,TRANSPOSE(Dados_v2!N$4:N$7))","v":0},{"$f":"SUMPRODUCT($G774:$J774,TRANSPOSE(Dados_v2!O$4:O$7))","v":0},{"$f":"SUMPRODUCT($G774:$J774,TRANSPOSE(Dados_v2!P$4:P$7))","v":0}]
[null,null,null,null,null,null,null,null,null,null,null,null,null,null,null,null,null,null,null,null,null,null,null,null,null,null,null,null,null,null,null,null,null,null,null,null,null,null,null,null,null,{"$f":"SUMPRODUCT($G775:$J775,TRANSPOSE(Dados_v2!N$4:N$7))","v":0},{"$f":"SUMPRODUCT($G775:$J775,TRANSPOSE(Dados_v2!O$4:O$7))","v":0},{"$f":"SUMPRODUCT($G775:$J775,TRANSPOSE(Dados_v2!P$4:P$7))","v":0}]
[null,null,null,null,null,null,null,null,null,null,null,null,null,null,null,null,null,null,null,null,null,null,null,null,null,null,null,null,null,null,null,null,null,null,null,null,null,null,null,null,null,{"$f":"SUMPRODUCT($G776:$J776,TRANSPOSE(Dados_v2!N$4:N$7))","v":0},{"$f":"SUMPRODUCT($G776:$J776,TRANSPOSE(Dados_v2!O$4:O$7))","v":0},{"$f":"SUMPRODUCT($G776:$J776,TRANSPOSE(Dados_v2!P$4:P$7))","v":0}]
[null,null,null,null,null,null,null,null,null,null,null,null,null,null,null,null,null,null,null,null,null,null,null,null,null,null,null,null,null,null,null,null,null,null,null,null,null,null,null,null,null,{"$f":"SUMPRODUCT($G777:$J777,TRANSPOSE(Dados_v2!N$4:N$7))","v":0},{"$f":"SUMPRODUCT($G777:$J777,TRANSPOSE(Dados_v2!O$4:O$7))","v":0},{"$f":"SUMPRODUCT($G777:$J777,TRANSPOSE(Dados_v2!P$4:P$7))","v":0}]
[null,null,null,null,null,null,null,null,null,null,null,null,null,null,null,null,null,null,null,null,null,null,null,null,null,null,null,null,null,null,null,null,null,null,null,null,null,null,null,null,null,{"$f":"SUMPRODUCT($G778:$J778,TRANSPOSE(Dados_v2!N$4:N$7))","v":0},{"$f":"SUMPRODUCT($G778:$J778,TRANSPOSE(Dados_v2!O$4:O$7))","v":0},{"$f":"SUMPRODUCT($G778:$J778,TRANSPOSE(Dados_v2!P$4:P$7))","v":0}]
[null,null,null,null,null,null,null,null,null,null,null,null,null,null,null,null,null,null,null,null,null,null,null,null,null,null,null,null,null,null,null,null,null,null,null,null,null,null,null,null,null,{"$f":"SUMPRODUCT($G779:$J779,TRANSPOSE(Dados_v2!N$4:N$7))","v":0},{"$f":"SUMPRODUCT($G779:$J779,TRANSPOSE(Dados_v2!O$4:O$7))","v":0},{"$f":"SUMPRODUCT($G779:$J779,TRANSPOSE(Dados_v2!P$4:P$7))","v":0}]
[null,null,null,null,null,null,null,null,null,null,null,null,null,null,null,null,null,null,null,null,null,null,null,null,null,null,null,null,null,null,null,null,null,null,null,null,null,null,null,null,null,{"$f":"SUMPRODUCT($G780:$J780,TRANSPOSE(Dados_v2!N$4:N$7))","v":0},{"$f":"SUMPRODUCT($G780:$J780,TRANSPOSE(Dados_v2!O$4:O$7))","v":0},{"$f":"SUMPRODUCT($G780:$J780,TRANSPOSE(Dados_v2!P$4:P$7))","v":0}]
[null,null,null,null,null,null,null,null,null,null,null,null,null,null,null,null,null,null,null,null,null,null,null,null,null,null,null,null,null,null,null,null,null,null,null,null,null,null,null,null,null,{"$f":"SUMPRODUCT($G781:$J781,TRANSPOSE(Dados_v2!N$4:N$7))","v":0},{"$f":"SUMPRODUCT($G781:$J781,TRANSPOSE(Dados_v2!O$4:O$7))","v":0},{"$f":"SUMPRODUCT($G781:$J781,TRANSPOSE(Dados_v2!P$4:P$7))","v":0}]
[null,null,null,null,null,null,null,null,null,null,null,null,null,null,null,null,null,null,null,null,null,null,null,null,null,null,null,null,null,null,null,null,null,null,null,null,null,null,null,null,null,{"$f":"SUMPRODUCT($G782:$J782,TRANSPOSE(Dados_v2!N$4:N$7))","v":0},{"$f":"SUMPRODUCT($G782:$J782,TRANSPOSE(Dados_v2!O$4:O$7))","v":0},{"$f":"SUMPRODUCT($G782:$J782,TRANSPOSE(Dados_v2!P$4:P$7))","v":0}]
[null,null,null,null,null,null,null,null,null,null,null,null,null,null,null,null,null,null,null,null,null,null,null,null,null,null,null,null,null,null,null,null,null,null,null,null,null,null,null,null,null,{"$f":"SUMPRODUCT($G783:$J783,TRANSPOSE(Dados_v2!N$4:N$7))","v":0},{"$f":"SUMPRODUCT($G783:$J783,TRANSPOSE(Dados_v2!O$4:O$7))","v":0},{"$f":"SUMPRODUCT($G783:$J783,TRANSPOSE(Dados_v2!P$4:P$7))","v":0}]
[null,null,null,null,null,null,null,null,null,null,null,null,null,null,null,null,null,null,null,null,null,null,null,null,null,null,null,null,null,null,null,null,null,null,null,null,null,null,null,null,null,{"$f":"SUMPRODUCT($G784:$J784,TRANSPOSE(Dados_v2!N$4:N$7))","v":0},{"$f":"SUMPRODUCT($G784:$J784,TRANSPOSE(Dados_v2!O$4:O$7))","v":0},{"$f":"SUMPRODUCT($G784:$J784,TRANSPOSE(Dados_v2!P$4:P$7))","v":0}]
[null,null,null,null,null,null,null,null,null,null,null,null,null,null,null,null,null,null,null,null,null,null,null,null,null,null,null,null,null,null,null,null,null,null,null,null,null,null,null,null,null,{"$f":"SUMPRODUCT($G785:$J785,TRANSPOSE(Dados_v2!N$4:N$7))","v":0},{"$f":"SUMPRODUCT($G785:$J785,TRANSPOSE(Dados_v2!O$4:O$7))","v":0},{"$f":"SUMPRODUCT($G785:$J785,TRANSPOSE(Dados_v2!P$4:P$7))","v":0}]
[null,null,null,null,null,null,null,null,null,null,null,null,null,null,null,null,null,null,null,null,null,null,null,null,null,null,null,null,null,null,null,null,null,null,null,null,null,null,null,null,null,{"$f":"SUMPRODUCT($G786:$J786,TRANSPOSE(Dados_v2!N$4:N$7))","v":0},{"$f":"SUMPRODUCT($G786:$J786,TRANSPOSE(Dados_v2!O$4:O$7))","v":0},{"$f":"SUMPRODUCT($G786:$J786,TRANSPOSE(Dados_v2!P$4:P$7))","v":0}]
[null,null,null,null,null,null,null,null,null,null,null,null,null,null,null,null,null,null,null,null,null,null,null,null,null,null,null,null,null,null,null,null,null,null,null,null,null,null,null,null,null,{"$f":"SUMPRODUCT($G787:$J787,TRANSPOSE(Dados_v2!N$4:N$7))","v":0},{"$f":"SUMPRODUCT($G787:$J787,TRANSPOSE(Dados_v2!O$4:O$7))","v":0},{"$f":"SUMPRODUCT($G787:$J787,TRANSPOSE(Dados_v2!P$4:P$7))","v":0}]
[null,null,null,null,null,null,null,null,null,null,null,null,null,null,null,null,null,null,null,null,null,null,null,null,null,null,null,null,null,null,null,null,null,null,null,null,null,null,null,null,null,{"$f":"SUMPRODUCT($G788:$J788,TRANSPOSE(Dados_v2!N$4:N$7))","v":0},{"$f":"SUMPRODUCT($G788:$J788,TRANSPOSE(Dados_v2!O$4:O$7))","v":0},{"$f":"SUMPRODUCT($G788:$J788,TRANSPOSE(Dados_v2!P$4:P$7))","v":0}]
[null,null,null,null,null,null,null,null,null,null,null,null,null,null,null,null,null,null,null,null,null,null,null,null,null,null,null,null,null,null,null,null,null,null,null,null,null,null,null,null,null,{"$f":"SUMPRODUCT($G789:$J789,TRANSPOSE(Dados_v2!N$4:N$7))","v":0},{"$f":"SUMPRODUCT($G789:$J789,TRANSPOSE(Dados_v2!O$4:O$7))","v":0},{"$f":"SUMPRODUCT($G789:$J789,TRANSPOSE(Dados_v2!P$4:P$7))","v":0}]
[null,null,null,null,null,null,null,null,null,null,null,null,null,null,null,null,null,null,null,null,null,null,null,null,null,null,null,null,null,null,null,null,null,null,null,null,null,null,null,null,null,{"$f":"SUMPRODUCT($G790:$J790,TRANSPOSE(Dados_v2!N$4:N$7))","v":0},{"$f":"SUMPRODUCT($G790:$J790,TRANSPOSE(Dados_v2!O$4:O$7))","v":0},{"$f":"SUMPRODUCT($G790:$J790,TRANSPOSE(Dados_v2!P$4:P$7))","v":0}]
[null,null,null,null,null,null,null,null,null,null,null,null,null,null,null,null,null,null,null,null,null,null,null,null,null,null,null,null,null,null,null,null,null,null,null,null,null,null,null,null,null,{"$f":"SUMPRODUCT($G791:$J791,TRANSPOSE(Dados_v2!N$4:N$7))","v":0},{"$f":"SUMPRODUCT($G791:$J791,TRANSPOSE(Dados_v2!O$4:O$7))","v":0},{"$f":"SUMPRODUCT($G791:$J791,TRANSPOSE(Dados_v2!P$4:P$7))","v":0}]
[null,null,null,null,null,null,null,null,null,null,null,null,null,null,null,null,null,null,null,null,null,null,null,null,null,null,null,null,null,null,null,null,null,null,null,null,null,null,null,null,null,{"$f":"SUMPRODUCT($G792:$J792,TRANSPOSE(Dados_v2!N$4:N$7))","v":0},{"$f":"SUMPRODUCT($G792:$J792,TRANSPOSE(Dados_v2!O$4:O$7))","v":0},{"$f":"SUMPRODUCT($G792:$J792,TRANSPOSE(Dados_v2!P$4:P$7))","v":0}]
[null,null,null,null,null,null,null,null,null,null,null,null,null,null,null,null,null,null,null,null,null,null,null,null,null,null,null,null,null,null,null,null,null,null,null,null,null,null,null,null,null,{"$f":"SUMPRODUCT($G793:$J793,TRANSPOSE(Dados_v2!N$4:N$7))","v":0},{"$f":"SUMPRODUCT($G793:$J793,TRANSPOSE(Dados_v2!O$4:O$7))","v":0},{"$f":"SUMPRODUCT($G793:$J793,TRANSPOSE(Dados_v2!P$4:P$7))","v":0}]
[null,null,null,null,null,null,null,null,null,null,null,null,null,null,null,null,null,null,null,null,null,null,null,null,null,null,null,null,null,null,null,null,null,null,null,null,null,null,null,null,null,{"$f":"SUMPRODUCT($G794:$J794,TRANSPOSE(Dados_v2!N$4:N$7))","v":0},{"$f":"SUMPRODUCT($G794:$J794,TRANSPOSE(Dados_v2!O$4:O$7))","v":0},{"$f":"SUMPRODUCT($G794:$J794,TRANSPOSE(Dados_v2!P$4:P$7))","v":0}]
[null,null,null,null,null,null,null,null,null,null,null,null,null,null,null,null,null,null,null,null,null,null,null,null,null,null,null,null,null,null,null,null,null,null,null,null,null,null,null,null,null,{"$f":"SUMPRODUCT($G795:$J795,TRANSPOSE(Dados_v2!N$4:N$7))","v":0},{"$f":"SUMPRODUCT($G795:$J795,TRANSPOSE(Dados_v2!O$4:O$7))","v":0},{"$f":"SUMPRODUCT($G795:$J795,TRANSPOSE(Dados_v2!P$4:P$7))","v":0}]
[null,null,null,null,null,null,null,null,null,null,null,null,null,null,null,null,null,null,null,null,null,null,null,null,null,null,null,null,null,null,null,null,null,null,null,null,null,null,null,null,null,{"$f":"SUMPRODUCT($G796:$J796,TRANSPOSE(Dados_v2!N$4:N$7))","v":0},{"$f":"SUMPRODUCT($G796:$J796,TRANSPOSE(Dados_v2!O$4:O$7))","v":0},{"$f":"SUMPRODUCT($G796:$J796,TRANSPOSE(Dados_v2!P$4:P$7))","v":0}]
[null,null,null,null,null,null,null,null,null,null,null,null,null,null,null,null,null,null,null,null,null,null,null,null,null,null,null,null,null,null,null,null,null,null,null,null,null,null,null,null,null,{"$f":"SUMPRODUCT($G797:$J797,TRANSPOSE(Dados_v2!N$4:N$7))","v":0},{"$f":"SUMPRODUCT($G797:$J797,TRANSPOSE(Dados_v2!O$4:O$7))","v":0},{"$f":"SUMPRODUCT($G797:$J797,TRANSPOSE(Dados_v2!P$4:P$7))","v":0}]
[null,null,null,null,null,null,null,null,null,null,null,null,null,null,null,null,null,null,null,null,null,null,null,null,null,null,null,null,null,null,null,null,null,null,null,null,null,null,null,null,null,{"$f":"SUMPRODUCT($G798:$J798,TRANSPOSE(Dados_v2!N$4:N$7))","v":0},{"$f":"SUMPRODUCT($G798:$J798,TRANSPOSE(Dados_v2!O$4:O$7))","v":0},{"$f":"SUMPRODUCT($G798:$J798,TRANSPOSE(Dados_v2!P$4:P$7))","v":0}]
[null,null,null,null,null,null,null,null,null,null,null,null,null,null,null,null,null,null,null,null,null,null,null,null,null,null,null,null,null,null,null,null,null,null,null,null,null,null,null,null,null,{"$f":"SUMPRODUCT($G799:$J799,TRANSPOSE(Dados_v2!N$4:N$7))","v":0},{"$f":"SUMPRODUCT($G799:$J799,TRANSPOSE(Dados_v2!O$4:O$7))","v":0},{"$f":"SUMPRODUCT($G799:$J799,TRANSPOSE(Dados_v2!P$4:P$7))","v":0}]
[null,null,null,null,null,null,null,null,null,null,null,null,null,null,null,null,null,null,null,null,null,null,null,null,null,null,null,null,null,null,null,null,null,null,null,null,null,null,null,null,null,{"$f":"SUMPRODUCT($G800:$J800,TRANSPOSE(Dados_v2!N$4:N$7))","v":0},{"$f":"SUMPRODUCT($G800:$J800,TRANSPOSE(Dados_v2!O$4:O$7))","v":0},{"$f":"SUMPRODUCT($G800:$J800,TRANSPOSE(Dados_v2!P$4:P$7))","v":0}]
[null,null,null,null,null,null,null,null,null,null,null,null,null,null,null,null,null,null,null,null,null,null,null,null,null,null,null,null,null,null,null,null,null,null,null,null,null,null,null,null,null,{"$f":"SUMPRODUCT($G801:$J801,TRANSPOSE(Dados_v2!N$4:N$7))","v":0},{"$f":"SUMPRODUCT($G801:$J801,TRANSPOSE(Dados_v2!O$4:O$7))","v":0},{"$f":"SUMPRODUCT($G801:$J801,TRANSPOSE(Dados_v2!P$4:P$7))","v":0}]
[null,null,null,null,null,null,null,null,null,null,null,null,null,null,null,null,null,null,null,null,null,null,null,null,null,null,null,null,null,null,null,null,null,null,null,null,null,null,null,null,null,{"$f":"SUMPRODUCT($G802:$J802,TRANSPOSE(Dados_v2!N$4:N$7))","v":0},{"$f":"SUMPRODUCT($G802:$J802,TRANSPOSE(Dados_v2!O$4:O$7))","v":0},{"$f":"SUMPRODUCT($G802:$J802,TRANSPOSE(Dados_v2!P$4:P$7))","v":0}]
[null,null,null,null,null,null,null,null,null,null,null,null,null,null,null,null,null,null,null,null,null,null,null,null,null,null,null,null,null,null,null,null,null,null,null,null,null,null,null,null,null,{"$f":"SUMPRODUCT($G803:$J803,TRANSPOSE(Dados_v2!N$4:N$7))","v":0},{"$f":"SUMPRODUCT($G803:$J803,TRANSPOSE(Dados_v2!O$4:O$7))","v":0},{"$f":"SUMPRODUCT($G803:$J803,TRANSPOSE(Dados_v2!P$4:P$7))","v":0}]
[null,null,null,null,null,null,null,null,null,null,null,null,null,null,null,null,null,null,null,null,null,null,null,null,null,null,null,null,null,null,null,null,null,null,null,null,null,null,null,null,null,{"$f":"SUMPRODUCT($G804:$J804,TRANSPOSE(Dados_v2!N$4:N$7))","v":0},{"$f":"SUMPRODUCT($G804:$J804,TRANSPOSE(Dados_v2!O$4:O$7))","v":0},{"$f":"SUMPRODUCT($G804:$J804,TRANSPOSE(Dados_v2!P$4:P$7))","v":0}]
[null,null,null,null,null,null,null,null,null,null,null,null,null,null,null,null,null,null,null,null,null,null,null,null,null,null,null,null,null,null,null,null,null,null,null,null,null,null,null,null,null,{"$f":"SUMPRODUCT($G805:$J805,TRANSPOSE(Dados_v2!N$4:N$7))","v":0},{"$f":"SUMPRODUCT($G805:$J805,TRANSPOSE(Dados_v2!O$4:O$7))","v":0},{"$f":"SUMPRODUCT($G805:$J805,TRANSPOSE(Dados_v2!P$4:P$7))","v":0}]
[null,null,null,null,null,null,null,null,null,null,null,null,null,null,null,null,null,null,null,null,null,null,null,null,null,null,null,null,null,null,null,null,null,null,null,null,null,null,null,null,null,{"$f":"SUMPRODUCT($G806:$J806,TRANSPOSE(Dados_v2!N$4:N$7))","v":0},{"$f":"SUMPRODUCT($G806:$J806,TRANSPOSE(Dados_v2!O$4:O$7))","v":0},{"$f":"SUMPRODUCT($G806:$J806,TRANSPOSE(Dados_v2!P$4:P$7))","v":0}]
[null,null,null,null,null,null,null,null,null,null,null,null,null,null,null,null,null,null,null,null,null,null,null,null,null,null,null,null,null,null,null,null,null,null,null,null,null,null,null,null,null,{"$f":"SUMPRODUCT($G807:$J807,TRANSPOSE(Dados_v2!N$4:N$7))","v":0},{"$f":"SUMPRODUCT($G807:$J807,TRANSPOSE(Dados_v2!O$4:O$7))","v":0},{"$f":"SUMPRODUCT($G807:$J807,TRANSPOSE(Dados_v2!P$4:P$7))","v":0}]
[null,null,null,null,null,null,null,null,null,null,null,null,null,null,null,null,null,null,null,null,null,null,null,null,null,null,null,null,null,null,null,null,null,null,null,null,null,null,null,null,null,{"$f":"SUMPRODUCT($G808:$J808,TRANSPOSE(Dados_v2!N$4:N$7))","v":0},{"$f":"SUMPRODUCT($G808:$J808,TRANSPOSE(Dados_v2!O$4:O$7))","v":0},{"$f":"SUMPRODUCT($G808:$J808,TRANSPOSE(Dados_v2!P$4:P$7))","v":0}]
[null,null,null,null,null,null,null,null,null,null,null,null,null,null,null,null,null,null,null,null,null,null,null,null,null,null,null,null,null,null,null,null,null,null,null,null,null,null,null,null,null,{"$f":"SUMPRODUCT($G809:$J809,TRANSPOSE(Dados_v2!N$4:N$7))","v":0},{"$f":"SUMPRODUCT($G809:$J809,TRANSPOSE(Dados_v2!O$4:O$7))","v":0},{"$f":"SUMPRODUCT($G809:$J809,TRANSPOSE(Dados_v2!P$4:P$7))","v":0}]
[null,null,null,null,null,null,null,null,null,null,null,null,null,null,null,null,null,null,null,null,null,null,null,null,null,null,null,null,null,null,null,null,null,null,null,null,null,null,null,null,null,{"$f":"SUMPRODUCT($G810:$J810,TRANSPOSE(Dados_v2!N$4:N$7))","v":0},{"$f":"SUMPRODUCT($G810:$J810,TRANSPOSE(Dados_v2!O$4:O$7))","v":0},{"$f":"SUMPRODUCT($G810:$J810,TRANSPOSE(Dados_v2!P$4:P$7))","v":0}]
[null,null,null,null,null,null,null,null,null,null,null,null,null,null,null,null,null,null,null,null,null,null,null,null,null,null,null,null,null,null,null,null,null,null,null,null,null,null,null,null,null,{"$f":"SUMPRODUCT($G811:$J811,TRANSPOSE(Dados_v2!N$4:N$7))","v":0},{"$f":"SUMPRODUCT($G811:$J811,TRANSPOSE(Dados_v2!O$4:O$7))","v":0},{"$f":"SUMPRODUCT($G811:$J811,TRANSPOSE(Dados_v2!P$4:P$7))","v":0}]
[null,null,null,null,null,null,null,null,null,null,null,null,null,null,null,null,null,null,null,null,null,null,null,null,null,null,null,null,null,null,null,null,null,null,null,null,null,null,null,null,null,{"$f":"SUMPRODUCT($G812:$J812,TRANSPOSE(Dados_v2!N$4:N$7))","v":0},{"$f":"SUMPRODUCT($G812:$J812,TRANSPOSE(Dados_v2!O$4:O$7))","v":0},{"$f":"SUMPRODUCT($G812:$J812,TRANSPOSE(Dados_v2!P$4:P$7))","v":0}]
[null,null,null,null,null,null,null,null,null,null,null,null,null,null,null,null,null,null,null,null,null,null,null,null,null,null,null,null,null,null,null,null,null,null,null,null,null,null,null,null,null,{"$f":"SUMPRODUCT($G813:$J813,TRANSPOSE(Dados_v2!N$4:N$7))","v":0},{"$f":"SUMPRODUCT($G813:$J813,TRANSPOSE(Dados_v2!O$4:O$7))","v":0},{"$f":"SUMPRODUCT($G813:$J813,TRANSPOSE(Dados_v2!P$4:P$7))","v":0}]
[null,null,null,null,null,null,null,null,null,null,null,null,null,null,null,null,null,null,null,null,null,null,null,null,null,null,null,null,null,null,null,null,null,null,null,null,null,null,null,null,null,{"$f":"SUMPRODUCT($G814:$J814,TRANSPOSE(Dados_v2!N$4:N$7))","v":0},{"$f":"SUMPRODUCT($G814:$J814,TRANSPOSE(Dados_v2!O$4:O$7))","v":0},{"$f":"SUMPRODUCT($G814:$J814,TRANSPOSE(Dados_v2!P$4:P$7))","v":0}]
[null,null,null,null,null,null,null,null,null,null,null,null,null,null,null,null,null,null,null,null,null,null,null,null,null,null,null,null,null,null,null,null,null,null,null,null,null,null,null,null,null,{"$f":"SUMPRODUCT($G815:$J815,TRANSPOSE(Dados_v2!N$4:N$7))","v":0},{"$f":"SUMPRODUCT($G815:$J815,TRANSPOSE(Dados_v2!O$4:O$7))","v":0},{"$f":"SUMPRODUCT($G815:$J815,TRANSPOSE(Dados_v2!P$4:P$7))","v":0}]
[null,null,null,null,null,null,null,null,null,null,null,null,null,null,null,null,null,null,null,null,null,null,null,null,null,null,null,null,null,null,null,null,null,null,null,null,null,null,null,null,null,{"$f":"SUMPRODUCT($G816:$J816,TRANSPOSE(Dados_v2!N$4:N$7))","v":0},{"$f":"SUMPRODUCT($G816:$J816,TRANSPOSE(Dados_v2!O$4:O$7))","v":0},{"$f":"SUMPRODUCT($G816:$J816,TRANSPOSE(Dados_v2!P$4:P$7))","v":0}]
[null,null,null,null,null,null,null,null,null,null,null,null,null,null,null,null,null,null,null,null,null,null,null,null,null,null,null,null,null,null,null,null,null,null,null,null,null,null,null,null,null,{"$f":"SUMPRODUCT($G817:$J817,TRANSPOSE(Dados_v2!N$4:N$7))","v":0},{"$f":"SUMPRODUCT($G817:$J817,TRANSPOSE(Dados_v2!O$4:O$7))","v":0},{"$f":"SUMPRODUCT($G817:$J817,TRANSPOSE(Dados_v2!P$4:P$7))","v":0}]
[null,null,null,null,null,null,null,null,null,null,null,null,null,null,null,null,null,null,null,null,null,null,null,null,null,null,null,null,null,null,null,null,null,null,null,null,null,null,null,null,null,{"$f":"SUMPRODUCT($G818:$J818,TRANSPOSE(Dados_v2!N$4:N$7))","v":0},{"$f":"SUMPRODUCT($G818:$J818,TRANSPOSE(Dados_v2!O$4:O$7))","v":0},{"$f":"SUMPRODUCT($G818:$J818,TRANSPOSE(Dados_v2!P$4:P$7))","v":0}]
[null,null,null,null,null,null,null,null,null,null,null,null,null,null,null,null,null,null,null,null,null,null,null,null,null,null,null,null,null,null,null,null,null,null,null,null,null,null,null,null,null,{"$f":"SUMPRODUCT($G819:$J819,TRANSPOSE(Dados_v2!N$4:N$7))","v":0},{"$f":"SUMPRODUCT($G819:$J819,TRANSPOSE(Dados_v2!O$4:O$7))","v":0},{"$f":"SUMPRODUCT($G819:$J819,TRANSPOSE(Dados_v2!P$4:P$7))","v":0}]
[null,null,null,null,null,null,null,null,null,null,null,null,null,null,null,null,null,null,null,null,null,null,null,null,null,null,null,null,null,null,null,null,null,null,null,null,null,null,null,null,null,{"$f":"SUMPRODUCT($G820:$J820,TRANSPOSE(Dados_v2!N$4:N$7))","v":0},{"$f":"SUMPRODUCT($G820:$J820,TRANSPOSE(Dados_v2!O$4:O$7))","v":0},{"$f":"SUMPRODUCT($G820:$J820,TRANSPOSE(Dados_v2!P$4:P$7))","v":0}]
[null,null,null,null,null,null,null,null,null,null,null,null,null,null,null,null,null,null,null,null,null,null,null,null,null,null,null,null,null,null,null,null,null,null,null,null,null,null,null,null,null,{"$f":"SUMPRODUCT($G821:$J821,TRANSPOSE(Dados_v2!N$4:N$7))","v":0},{"$f":"SUMPRODUCT($G821:$J821,TRANSPOSE(Dados_v2!O$4:O$7))","v":0},{"$f":"SUMPRODUCT($G821:$J821,TRANSPOSE(Dados_v2!P$4:P$7))","v":0}]
[null,null,null,null,null,null,null,null,null,null,null,null,null,null,null,null,null,null,null,null,null,null,null,null,null,null,null,null,null,null,null,null,null,null,null,null,null,null,null,null,null,{"$f":"SUMPRODUCT($G822:$J822,TRANSPOSE(Dados_v2!N$4:N$7))","v":0},{"$f":"SUMPRODUCT($G822:$J822,TRANSPOSE(Dados_v2!O$4:O$7))","v":0},{"$f":"SUMPRODUCT($G822:$J822,TRANSPOSE(Dados_v2!P$4:P$7))","v":0}]
[null,null,null,null,null,null,null,null,null,null,null,null,null,null,null,null,null,null,null,null,null,null,null,null,null,null,null,null,null,null,null,null,null,null,null,null,null,null,null,null,null,{"$f":"SUMPRODUCT($G823:$J823,TRANSPOSE(Dados_v2!N$4:N$7))","v":0},{"$f":"SUMPRODUCT($G823:$J823,TRANSPOSE(Dados_v2!O$4:O$7))","v":0},{"$f":"SUMPRODUCT($G823:$J823,TRANSPOSE(Dados_v2!P$4:P$7))","v":0}]
[null,null,null,null,null,null,null,null,null,null,null,null,null,null,null,null,null,null,null,null,null,null,null,null,null,null,null,null,null,null,null,null,null,null,null,null,null,null,null,null,null,{"$f":"SUMPRODUCT($G824:$J824,TRANSPOSE(Dados_v2!N$4:N$7))","v":0},{"$f":"SUMPRODUCT($G824:$J824,TRANSPOSE(Dados_v2!O$4:O$7))","v":0},{"$f":"SUMPRODUCT($G824:$J824,TRANSPOSE(Dados_v2!P$4:P$7))","v":0}]
[null,null,null,null,null,null,null,null,null,null,null,null,null,null,null,null,null,null,null,null,null,null,null,null,null,null,null,null,null,null,null,null,null,null,null,null,null,null,null,null,null,{"$f":"SUMPRODUCT($G825:$J825,TRANSPOSE(Dados_v2!N$4:N$7))","v":0},{"$f":"SUMPRODUCT($G825:$J825,TRANSPOSE(Dados_v2!O$4:O$7))","v":0},{"$f":"SUMPRODUCT($G825:$J825,TRANSPOSE(Dados_v2!P$4:P$7))","v":0}]
[null,null,null,null,null,null,null,null,null,null,null,null,null,null,null,null,null,null,null,null,null,null,null,null,null,null,null,null,null,null,null,null,null,null,null,null,null,null,null,null,null,{"$f":"SUMPRODUCT($G826:$J826,TRANSPOSE(Dados_v2!N$4:N$7))","v":0},{"$f":"SUMPRODUCT($G826:$J826,TRANSPOSE(Dados_v2!O$4:O$7))","v":0},{"$f":"SUMPRODUCT($G826:$J826,TRANSPOSE(Dados_v2!P$4:P$7))","v":0}]
[null,null,null,null,null,null,null,null,null,null,null,null,null,null,null,null,null,null,null,null,null,null,null,null,null,null,null,null,null,null,null,null,null,null,null,null,null,null,null,null,null,{"$f":"SUMPRODUCT($G827:$J827,TRANSPOSE(Dados_v2!N$4:N$7))","v":0},{"$f":"SUMPRODUCT($G827:$J827,TRANSPOSE(Dados_v2!O$4:O$7))","v":0},{"$f":"SUMPRODUCT($G827:$J827,TRANSPOSE(Dados_v2!P$4:P$7))","v":0}]
[null,null,null,null,null,null,null,null,null,null,null,null,null,null,null,null,null,null,null,null,null,null,null,null,null,null,null,null,null,null,null,null,null,null,null,null,null,null,null,null,null,{"$f":"SUMPRODUCT($G828:$J828,TRANSPOSE(Dados_v2!N$4:N$7))","v":0},{"$f":"SUMPRODUCT($G828:$J828,TRANSPOSE(Dados_v2!O$4:O$7))","v":0},{"$f":"SUMPRODUCT($G828:$J828,TRANSPOSE(Dados_v2!P$4:P$7))","v":0}]
[null,null,null,null,null,null,null,null,null,null,null,null,null,null,null,null,null,null,null,null,null,null,null,null,null,null,null,null,null,null,null,null,null,null,null,null,null,null,null,null,null,{"$f":"SUMPRODUCT($G829:$J829,TRANSPOSE(Dados_v2!N$4:N$7))","v":0},{"$f":"SUMPRODUCT($G829:$J829,TRANSPOSE(Dados_v2!O$4:O$7))","v":0},{"$f":"SUMPRODUCT($G829:$J829,TRANSPOSE(Dados_v2!P$4:P$7))","v":0}]
[null,null,null,null,null,null,null,null,null,null,null,null,null,null,null,null,null,null,null,null,null,null,null,null,null,null,null,null,null,null,null,null,null,null,null,null,null,null,null,null,null,{"$f":"SUMPRODUCT($G830:$J830,TRANSPOSE(Dados_v2!N$4:N$7))","v":0},{"$f":"SUMPRODUCT($G830:$J830,TRANSPOSE(Dados_v2!O$4:O$7))","v":0},{"$f":"SUMPRODUCT($G830:$J830,TRANSPOSE(Dados_v2!P$4:P$7))","v":0}]
[null,null,null,null,null,null,null,null,null,null,null,null,null,null,null,null,null,null,null,null,null,null,null,null,null,null,null,null,null,null,null,null,null,null,null,null,null,null,null,null,null,{"$f":"SUMPRODUCT($G831:$J831,TRANSPOSE(Dados_v2!N$4:N$7))","v":0},{"$f":"SUMPRODUCT($G831:$J831,TRANSPOSE(Dados_v2!O$4:O$7))","v":0},{"$f":"SUMPRODUCT($G831:$J831,TRANSPOSE(Dados_v2!P$4:P$7))","v":0}]
[null,null,null,null,null,null,null,null,null,null,null,null,null,null,null,null,null,null,null,null,null,null,null,null,null,null,null,null,null,null,null,null,null,null,null,null,null,null,null,null,null,{"$f":"SUMPRODUCT($G832:$J832,TRANSPOSE(Dados_v2!N$4:N$7))","v":0},{"$f":"SUMPRODUCT($G832:$J832,TRANSPOSE(Dados_v2!O$4:O$7))","v":0},{"$f":"SUMPRODUCT($G832:$J832,TRANSPOSE(Dados_v2!P$4:P$7))","v":0}]
[null,null,null,null,null,null,null,null,null,null,null,null,null,null,null,null,null,null,null,null,null,null,null,null,null,null,null,null,null,null,null,null,null,null,null,null,null,null,null,null,null,{"$f":"SUMPRODUCT($G833:$J833,TRANSPOSE(Dados_v2!N$4:N$7))","v":0},{"$f":"SUMPRODUCT($G833:$J833,TRANSPOSE(Dados_v2!O$4:O$7))","v":0},{"$f":"SUMPRODUCT($G833:$J833,TRANSPOSE(Dados_v2!P$4:P$7))","v":0}]
[null,null,null,null,null,null,null,null,null,null,null,null,null,null,null,null,null,null,null,null,null,null,null,null,null,null,null,null,null,null,null,null,null,null,null,null,null,null,null,null,null,{"$f":"SUMPRODUCT($G834:$J834,TRANSPOSE(Dados_v2!N$4:N$7))","v":0},{"$f":"SUMPRODUCT($G834:$J834,TRANSPOSE(Dados_v2!O$4:O$7))","v":0},{"$f":"SUMPRODUCT($G834:$J834,TRANSPOSE(Dados_v2!P$4:P$7))","v":0}]
[null,null,null,null,null,null,null,null,null,null,null,null,null,null,null,null,null,null,null,null,null,null,null,null,null,null,null,null,null,null,null,null,null,null,null,null,null,null,null,null,null,{"$f":"SUMPRODUCT($G835:$J835,TRANSPOSE(Dados_v2!N$4:N$7))","v":0},{"$f":"SUMPRODUCT($G835:$J835,TRANSPOSE(Dados_v2!O$4:O$7))","v":0},{"$f":"SUMPRODUCT($G835:$J835,TRANSPOSE(Dados_v2!P$4:P$7))","v":0}]
[null,null,null,null,null,null,null,null,null,null,null,null,null,null,null,null,null,null,null,null,null,null,null,null,null,null,null,null,null,null,null,null,null,null,null,null,null,null,null,null,null,{"$f":"SUMPRODUCT($G836:$J836,TRANSPOSE(Dados_v2!N$4:N$7))","v":0},{"$f":"SUMPRODUCT($G836:$J836,TRANSPOSE(Dados_v2!O$4:O$7))","v":0},{"$f":"SUMPRODUCT($G836:$J836,TRANSPOSE(Dados_v2!P$4:P$7))","v":0}]
[null,null,null,null,null,null,null,null,null,null,null,null,null,null,null,null,null,null,null,null,null,null,null,null,null,null,null,null,null,null,null,null,null,null,null,null,null,null,null,null,null,{"$f":"SUMPRODUCT($G837:$J837,TRANSPOSE(Dados_v2!N$4:N$7))","v":0},{"$f":"SUMPRODUCT($G837:$J837,TRANSPOSE(Dados_v2!O$4:O$7))","v":0},{"$f":"SUMPRODUCT($G837:$J837,TRANSPOSE(Dados_v2!P$4:P$7))","v":0}]
[null,null,null,null,null,null,null,null,null,null,null,null,null,null,null,null,null,null,null,null,null,null,null,null,null,null,null,null,null,null,null,null,null,null,null,null,null,null,null,null,null,{"$f":"SUMPRODUCT($G838:$J838,TRANSPOSE(Dados_v2!N$4:N$7))","v":0},{"$f":"SUMPRODUCT($G838:$J838,TRANSPOSE(Dados_v2!O$4:O$7))","v":0},{"$f":"SUMPRODUCT($G838:$J838,TRANSPOSE(Dados_v2!P$4:P$7))","v":0}]
[null,null,null,null,null,null,null,null,null,null,null,null,null,null,null,null,null,null,null,null,null,null,null,null,null,null,null,null,null,null,null,null,null,null,null,null,null,null,null,null,null,{"$f":"SUMPRODUCT($G839:$J839,TRANSPOSE(Dados_v2!N$4:N$7))","v":0},{"$f":"SUMPRODUCT($G839:$J839,TRANSPOSE(Dados_v2!O$4:O$7))","v":0},{"$f":"SUMPRODUCT($G839:$J839,TRANSPOSE(Dados_v2!P$4:P$7))","v":0}]
[null,null,null,null,null,null,null,null,null,null,null,null,null,null,null,null,null,null,null,null,null,null,null,null,null,null,null,null,null,null,null,null,null,null,null,null,null,null,null,null,null,{"$f":"SUMPRODUCT($G840:$J840,TRANSPOSE(Dados_v2!N$4:N$7))","v":0},{"$f":"SUMPRODUCT($G840:$J840,TRANSPOSE(Dados_v2!O$4:O$7))","v":0},{"$f":"SUMPRODUCT($G840:$J840,TRANSPOSE(Dados_v2!P$4:P$7))","v":0}]
[null,null,null,null,null,null,null,null,null,null,null,null,null,null,null,null,null,null,null,null,null,null,null,null,null,null,null,null,null,null,null,null,null,null,null,null,null,null,null,null,null,{"$f":"SUMPRODUCT($G841:$J841,TRANSPOSE(Dados_v2!N$4:N$7))","v":0},{"$f":"SUMPRODUCT($G841:$J841,TRANSPOSE(Dados_v2!O$4:O$7))","v":0},{"$f":"SUMPRODUCT($G841:$J841,TRANSPOSE(Dados_v2!P$4:P$7))","v":0}]
[null,null,null,null,null,null,null,null,null,null,null,null,null,null,null,null,null,null,null,null,null,null,null,null,null,null,null,null,null,null,null,null,null,null,null,null,null,null,null,null,null,{"$f":"SUMPRODUCT($G842:$J842,TRANSPOSE(Dados_v2!N$4:N$7))","v":0},{"$f":"SUMPRODUCT($G842:$J842,TRANSPOSE(Dados_v2!O$4:O$7))","v":0},{"$f":"SUMPRODUCT($G842:$J842,TRANSPOSE(Dados_v2!P$4:P$7))","v":0}]
[null,null,null,null,null,null,null,null,null,null,null,null,null,null,null,null,null,null,null,null,null,null,null,null,null,null,null,null,null,null,null,null,null,null,null,null,null,null,null,null,null,{"$f":"SUMPRODUCT($G843:$J843,TRANSPOSE(Dados_v2!N$4:N$7))","v":0},{"$f":"SUMPRODUCT($G843:$J843,TRANSPOSE(Dados_v2!O$4:O$7))","v":0},{"$f":"SUMPRODUCT($G843:$J843,TRANSPOSE(Dados_v2!P$4:P$7))","v":0}]
[null,null,null,null,null,null,null,null,null,null,null,null,null,null,null,null,null,null,null,null,null,null,null,null,null,null,null,null,null,null,null,null,null,null,null,null,null,null,null,null,null,{"$f":"SUMPRODUCT($G844:$J844,TRANSPOSE(Dados_v2!N$4:N$7))","v":0},{"$f":"SUMPRODUCT($G844:$J844,TRANSPOSE(Dados_v2!O$4:O$7))","v":0},{"$f":"SUMPRODUCT($G844:$J844,TRANSPOSE(Dados_v2!P$4:P$7))","v":0}]
[null,null,null,null,null,null,null,null,null,null,null,null,null,null,null,null,null,null,null,null,null,null,null,null,null,null,null,null,null,null,null,null,null,null,null,null,null,null,null,null,null,{"$f":"SUMPRODUCT($G845:$J845,TRANSPOSE(Dados_v2!N$4:N$7))","v":0},{"$f":"SUMPRODUCT($G845:$J845,TRANSPOSE(Dados_v2!O$4:O$7))","v":0},{"$f":"SUMPRODUCT($G845:$J845,TRANSPOSE(Dados_v2!P$4:P$7))","v":0}]
[null,null,null,null,null,null,null,null,null,null,null,null,null,null,null,null,null,null,null,null,null,null,null,null,null,null,null,null,null,null,null,null,null,null,null,null,null,null,null,null,null,{"$f":"SUMPRODUCT($G846:$J846,TRANSPOSE(Dados_v2!N$4:N$7))","v":0},{"$f":"SUMPRODUCT($G846:$J846,TRANSPOSE(Dados_v2!O$4:O$7))","v":0},{"$f":"SUMPRODUCT($G846:$J846,TRANSPOSE(Dados_v2!P$4:P$7))","v":0}]
[null,null,null,null,null,null,null,null,null,null,null,null,null,null,null,null,null,null,null,null,null,null,null,null,null,null,null,null,null,null,null,null,null,null,null,null,null,null,null,null,null,{"$f":"SUMPRODUCT($G847:$J847,TRANSPOSE(Dados_v2!N$4:N$7))","v":0},{"$f":"SUMPRODUCT($G847:$J847,TRANSPOSE(Dados_v2!O$4:O$7))","v":0},{"$f":"SUMPRODUCT($G847:$J847,TRANSPOSE(Dados_v2!P$4:P$7))","v":0}]
[null,null,null,null,null,null,null,null,null,null,null,null,null,null,null,null,null,null,null,null,null,null,null,null,null,null,null,null,null,null,null,null,null,null,null,null,null,null,null,null,null,{"$f":"SUMPRODUCT($G848:$J848,TRANSPOSE(Dados_v2!N$4:N$7))","v":0},{"$f":"SUMPRODUCT($G848:$J848,TRANSPOSE(Dados_v2!O$4:O$7))","v":0},{"$f":"SUMPRODUCT($G848:$J848,TRANSPOSE(Dados_v2!P$4:P$7))","v":0}]
[null,null,null,null,null,null,null,null,null,null,null,null,null,null,null,null,null,null,null,null,null,null,null,null,null,null,null,null,null,null,null,null,null,null,null,null,null,null,null,null,null,{"$f":"SUMPRODUCT($G849:$J849,TRANSPOSE(Dados_v2!N$4:N$7))","v":0},{"$f":"SUMPRODUCT($G849:$J849,TRANSPOSE(Dados_v2!O$4:O$7))","v":0},{"$f":"SUMPRODUCT($G849:$J849,TRANSPOSE(Dados_v2!P$4:P$7))","v":0}]
[null,null,null,null,null,null,null,null,null,null,null,null,null,null,null,null,null,null,null,null,null,null,null,null,null,null,null,null,null,null,null,null,null,null,null,null,null,null,null,null,null,{"$f":"SUMPRODUCT($G850:$J850,TRANSPOSE(Dados_v2!N$4:N$7))","v":0},{"$f":"SUMPRODUCT($G850:$J850,TRANSPOSE(Dados_v2!O$4:O$7))","v":0},{"$f":"SUMPRODUCT($G850:$J850,TRANSPOSE(Dados_v2!P$4:P$7))","v":0}]
[null,null,null,null,null,null,null,null,null,null,null,null,null,null,null,null,null,null,null,null,null,null,null,null,null,null,null,null,null,null,null,null,null,null,null,null,null,null,null,null,null,{"$f":"SUMPRODUCT($G851:$J851,TRANSPOSE(Dados_v2!N$4:N$7))","v":0},{"$f":"SUMPRODUCT($G851:$J851,TRANSPOSE(Dados_v2!O$4:O$7))","v":0},{"$f":"SUMPRODUCT($G851:$J851,TRANSPOSE(Dados_v2!P$4:P$7))","v":0}]
[null,null,null,null,null,null,null,null,null,null,null,null,null,null,null,null,null,null,null,null,null,null,null,null,null,null,null,null,null,null,null,null,null,null,null,null,null,null,null,null,null,{"$f":"SUMPRODUCT($G852:$J852,TRANSPOSE(Dados_v2!N$4:N$7))","v":0},{"$f":"SUMPRODUCT($G852:$J852,TRANSPOSE(Dados_v2!O$4:O$7))","v":0},{"$f":"SUMPRODUCT($G852:$J852,TRANSPOSE(Dados_v2!P$4:P$7))","v":0}]
[null,null,null,null,null,null,null,null,null,null,null,null,null,null,null,null,null,null,null,null,null,null,null,null,null,null,null,null,null,null,null,null,null,null,null,null,null,null,null,null,null,{"$f":"SUMPRODUCT($G853:$J853,TRANSPOSE(Dados_v2!N$4:N$7))","v":0},{"$f":"SUMPRODUCT($G853:$J853,TRANSPOSE(Dados_v2!O$4:O$7))","v":0},{"$f":"SUMPRODUCT($G853:$J853,TRANSPOSE(Dados_v2!P$4:P$7))","v":0}]
[null,null,null,null,null,null,null,null,null,null,null,null,null,null,null,null,null,null,null,null,null,null,null,null,null,null,null,null,null,null,null,null,null,null,null,null,null,null,null,null,null,{"$f":"SUMPRODUCT($G854:$J854,TRANSPOSE(Dados_v2!N$4:N$7))","v":0},{"$f":"SUMPRODUCT($G854:$J854,TRANSPOSE(Dados_v2!O$4:O$7))","v":0},{"$f":"SUMPRODUCT($G854:$J854,TRANSPOSE(Dados_v2!P$4:P$7))","v":0}]
[null,null,null,null,null,null,null,null,null,null,null,null,null,null,null,null,null,null,null,null,null,null,null,null,null,null,null,null,null,null,null,null,null,null,null,null,null,null,null,null,null,{"$f":"SUMPRODUCT($G855:$J855,TRANSPOSE(Dados_v2!N$4:N$7))","v":0},{"$f":"SUMPRODUCT($G855:$J855,TRANSPOSE(Dados_v2!O$4:O$7))","v":0},{"$f":"SUMPRODUCT($G855:$J855,TRANSPOSE(Dados_v2!P$4:P$7))","v":0}]
[null,null,null,null,null,null,null,null,null,null,null,null,null,null,null,null,null,null,null,null,null,null,null,null,null,null,null,null,null,null,null,null,null,null,null,null,null,null,null,null,null,{"$f":"SUMPRODUCT($G856:$J856,TRANSPOSE(Dados_v2!N$4:N$7))","v":0},{"$f":"SUMPRODUCT($G856:$J856,TRANSPOSE(Dados_v2!O$4:O$7))","v":0},{"$f":"SUMPRODUCT($G856:$J856,TRANSPOSE(Dados_v2!P$4:P$7))","v":0}]
[null,null,null,null,null,null,null,null,null,null,null,null,null,null,null,null,null,null,null,null,null,null,null,null,null,null,null,null,null,null,null,null,null,null,null,null,null,null,null,null,null,{"$f":"SUMPRODUCT($G857:$J857,TRANSPOSE(Dados_v2!N$4:N$7))","v":0},{"$f":"SUMPRODUCT($G857:$J857,TRANSPOSE(Dados_v2!O$4:O$7))","v":0},{"$f":"SUMPRODUCT($G857:$J857,TRANSPOSE(Dados_v2!P$4:P$7))","v":0}]
[null,null,null,null,null,null,null,null,null,null,null,null,null,null,null,null,null,null,null,null,null,null,null,null,null,null,null,null,null,null,null,null,null,null,null,null,null,null,null,null,null,{"$f":"SUMPRODUCT($G858:$J858,TRANSPOSE(Dados_v2!N$4:N$7))","v":0},{"$f":"SUMPRODUCT($G858:$J858,TRANSPOSE(Dados_v2!O$4:O$7))","v":0},{"$f":"SUMPRODUCT($G858:$J858,TRANSPOSE(Dados_v2!P$4:P$7))","v":0}]
[null,null,null,null,null,null,null,null,null,null,null,null,null,null,null,null,null,null,null,null,null,null,null,null,null,null,null,null,null,null,null,null,null,null,null,null,null,null,null,null,null,{"$f":"SUMPRODUCT($G859:$J859,TRANSPOSE(Dados_v2!N$4:N$7))","v":0},{"$f":"SUMPRODUCT($G859:$J859,TRANSPOSE(Dados_v2!O$4:O$7))","v":0},{"$f":"SUMPRODUCT($G859:$J859,TRANSPOSE(Dados_v2!P$4:P$7))","v":0}]
[null,null,null,null,null,null,null,null,null,null,null,null,null,null,null,null,null,null,null,null,null,null,null,null,null,null,null,null,null,null,null,null,null,null,null,null,null,null,null,null,null,{"$f":"SUMPRODUCT($G860:$J860,TRANSPOSE(Dados_v2!N$4:N$7))","v":0},{"$f":"SUMPRODUCT($G860:$J860,TRANSPOSE(Dados_v2!O$4:O$7))","v":0},{"$f":"SUMPRODUCT($G860:$J860,TRANSPOSE(Dados_v2!P$4:P$7))","v":0}]
[null,null,null,null,null,null,null,null,null,null,null,null,null,null,null,null,null,null,null,null,null,null,null,null,null,null,null,null,null,null,null,null,null,null,null,null,null,null,null,null,null,{"$f":"SUMPRODUCT($G861:$J861,TRANSPOSE(Dados_v2!N$4:N$7))","v":0},{"$f":"SUMPRODUCT($G861:$J861,TRANSPOSE(Dados_v2!O$4:O$7))","v":0},{"$f":"SUMPRODUCT($G861:$J861,TRANSPOSE(Dados_v2!P$4:P$7))","v":0}]
[null,null,null,null,null,null,null,null,null,null,null,null,null,null,null,null,null,null,null,null,null,null,null,null,null,null,null,null,null,null,null,null,null,null,null,null,null,null,null,null,null,{"$f":"SUMPRODUCT($G862:$J862,TRANSPOSE(Dados_v2!N$4:N$7))","v":0},{"$f":"SUMPRODUCT($G862:$J862,TRANSPOSE(Dados_v2!O$4:O$7))","v":0},{"$f":"SUMPRODUCT($G862:$J862,TRANSPOSE(Dados_v2!P$4:P$7))","v":0}]
[null,null,null,null,null,null,null,null,null,null,null,null,null,null,null,null,null,null,null,null,null,null,null,null,null,null,null,null,null,null,null,null,null,null,null,null,null,null,null,null,null,{"$f":"SUMPRODUCT($G863:$J863,TRANSPOSE(Dados_v2!N$4:N$7))","v":0},{"$f":"SUMPRODUCT($G863:$J863,TRANSPOSE(Dados_v2!O$4:O$7))","v":0},{"$f":"SUMPRODUCT($G863:$J863,TRANSPOSE(Dados_v2!P$4:P$7))","v":0}]
[null,null,null,null,null,null,null,null,null,null,null,null,null,null,null,null,null,null,null,null,null,null,null,null,null,null,null,null,null,null,null,null,null,null,null,null,null,null,null,null,null,{"$f":"SUMPRODUCT($G864:$J864,TRANSPOSE(Dados_v2!N$4:N$7))","v":0},{"$f":"SUMPRODUCT($G864:$J864,TRANSPOSE(Dados_v2!O$4:O$7))","v":0},{"$f":"SUMPRODUCT($G864:$J864,TRANSPOSE(Dados_v2!P$4:P$7))","v":0}]
[null,null,null,null,null,null,null,null,null,null,null,null,null,null,null,null,null,null,null,null,null,null,null,null,null,null,null,null,null,null,null,null,null,null,null,null,null,null,null,null,null,{"$f":"SUMPRODUCT($G865:$J865,TRANSPOSE(Dados_v2!N$4:N$7))","v":0},{"$f":"SUMPRODUCT($G865:$J865,TRANSPOSE(Dados_v2!O$4:O$7))","v":0},{"$f":"SUMPRODUCT($G865:$J865,TRANSPOSE(Dados_v2!P$4:P$7))","v":0}]
[null,null,null,null,null,null,null,null,null,null,null,null,null,null,null,null,null,null,null,null,null,null,null,null,null,null,null,null,null,null,null,null,null,null,null,null,null,null,null,null,null,{"$f":"SUMPRODUCT($G866:$J866,TRANSPOSE(Dados_v2!N$4:N$7))","v":0},{"$f":"SUMPRODUCT($G866:$J866,TRANSPOSE(Dados_v2!O$4:O$7))","v":0},{"$f":"SUMPRODUCT($G866:$J866,TRANSPOSE(Dados_v2!P$4:P$7))","v":0}]
[null,null,null,null,null,null,null,null,null,null,null,null,null,null,null,null,null,null,null,null,null,null,null,null,null,null,null,null,null,null,null,null,null,null,null,null,null,null,null,null,null,{"$f":"SUMPRODUCT($G867:$J867,TRANSPOSE(Dados_v2!N$4:N$7))","v":0},{"$f":"SUMPRODUCT($G867:$J867,TRANSPOSE(Dados_v2!O$4:O$7))","v":0},{"$f":"SUMPRODUCT($G867:$J867,TRANSPOSE(Dados_v2!P$4:P$7))","v":0}]
[null,null,null,null,null,null,null,null,null,null,null,null,null,null,null,null,null,null,null,null,null,null,null,null,null,null,null,null,null,null,null,null,null,null,null,null,null,null,null,null,null,{"$f":"SUMPRODUCT($G868:$J868,TRANSPOSE(Dados_v2!N$4:N$7))","v":0},{"$f":"SUMPRODUCT($G868:$J868,TRANSPOSE(Dados_v2!O$4:O$7))","v":0},{"$f":"SUMPRODUCT($G868:$J868,TRANSPOSE(Dados_v2!P$4:P$7))","v":0}]
[null,null,null,null,null,null,null,null,null,null,null,null,null,null,null,null,null,null,null,null,null,null,null,null,null,null,null,null,null,null,null,null,null,null,null,null,null,null,null,null,null,{"$f":"SUMPRODUCT($G869:$J869,TRANSPOSE(Dados_v2!N$4:N$7))","v":0},{"$f":"SUMPRODUCT($G869:$J869,TRANSPOSE(Dados_v2!O$4:O$7))","v":0},{"$f":"SUMPRODUCT($G869:$J869,TRANSPOSE(Dados_v2!P$4:P$7))","v":0}]
[null,null,null,null,null,null,null,null,null,null,null,null,null,null,null,null,null,null,null,null,null,null,null,null,null,null,null,null,null,null,null,null,null,null,null,null,null,null,null,null,null,{"$f":"SUMPRODUCT($G870:$J870,TRANSPOSE(Dados_v2!N$4:N$7))","v":0},{"$f":"SUMPRODUCT($G870:$J870,TRANSPOSE(Dados_v2!O$4:O$7))","v":0},{"$f":"SUMPRODUCT($G870:$J870,TRANSPOSE(Dados_v2!P$4:P$7))","v":0}]
[null,null,null,null,null,null,null,null,null,null,null,null,null,null,null,null,null,null,null,null,null,null,null,null,null,null,null,null,null,null,null,null,null,null,null,null,null,null,null,null,null,{"$f":"SUMPRODUCT($G871:$J871,TRANSPOSE(Dados_v2!N$4:N$7))","v":0},{"$f":"SUMPRODUCT($G871:$J871,TRANSPOSE(Dados_v2!O$4:O$7))","v":0},{"$f":"SUMPRODUCT($G871:$J871,TRANSPOSE(Dados_v2!P$4:P$7))","v":0}]
[null,null,null,null,null,null,null,null,null,null,null,null,null,null,null,null,null,null,null,null,null,null,null,null,null,null,null,null,null,null,null,null,null,null,null,null,null,null,null,null,null,{"$f":"SUMPRODUCT($G872:$J872,TRANSPOSE(Dados_v2!N$4:N$7))","v":0},{"$f":"SUMPRODUCT($G872:$J872,TRANSPOSE(Dados_v2!O$4:O$7))","v":0},{"$f":"SUMPRODUCT($G872:$J872,TRANSPOSE(Dados_v2!P$4:P$7))","v":0}]
[null,null,null,null,null,null,null,null,null,null,null,null,null,null,null,null,null,null,null,null,null,null,null,null,null,null,null,null,null,null,null,null,null,null,null,null,null,null,null,null,null,{"$f":"SUMPRODUCT($G873:$J873,TRANSPOSE(Dados_v2!N$4:N$7))","v":0},{"$f":"SUMPRODUCT($G873:$J873,TRANSPOSE(Dados_v2!O$4:O$7))","v":0},{"$f":"SUMPRODUCT($G873:$J873,TRANSPOSE(Dados_v2!P$4:P$7))","v":0}]
[null,null,null,null,null,null,null,null,null,null,null,null,null,null,null,null,null,null,null,null,null,null,null,null,null,null,null,null,null,null,null,null,null,null,null,null,null,null,null,null,null,{"$f":"SUMPRODUCT($G874:$J874,TRANSPOSE(Dados_v2!N$4:N$7))","v":0},{"$f":"SUMPRODUCT($G874:$J874,TRANSPOSE(Dados_v2!O$4:O$7))","v":0},{"$f":"SUMPRODUCT($G874:$J874,TRANSPOSE(Dados_v2!P$4:P$7))","v":0}]
[null,null,null,null,null,null,null,null,null,null,null,null,null,null,null,null,null,null,null,null,null,null,null,null,null,null,null,null,null,null,null,null,null,null,null,null,null,null,null,null,null,{"$f":"SUMPRODUCT($G875:$J875,TRANSPOSE(Dados_v2!N$4:N$7))","v":0},{"$f":"SUMPRODUCT($G875:$J875,TRANSPOSE(Dados_v2!O$4:O$7))","v":0},{"$f":"SUMPRODUCT($G875:$J875,TRANSPOSE(Dados_v2!P$4:P$7))","v":0}]
[null,null,null,null,null,null,null,null,null,null,null,null,null,null,null,null,null,null,null,null,null,null,null,null,null,null,null,null,null,null,null,null,null,null,null,null,null,null,null,null,null,{"$f":"SUMPRODUCT($G876:$J876,TRANSPOSE(Dados_v2!N$4:N$7))","v":0},{"$f":"SUMPRODUCT($G876:$J876,TRANSPOSE(Dados_v2!O$4:O$7))","v":0},{"$f":"SUMPRODUCT($G876:$J876,TRANSPOSE(Dados_v2!P$4:P$7))","v":0}]
[null,null,null,null,null,null,null,null,null,null,null,null,null,null,null,null,null,null,null,null,null,null,null,null,null,null,null,null,null,null,null,null,null,null,null,null,null,null,null,null,null,{"$f":"SUMPRODUCT($G877:$J877,TRANSPOSE(Dados_v2!N$4:N$7))","v":0},{"$f":"SUMPRODUCT($G877:$J877,TRANSPOSE(Dados_v2!O$4:O$7))","v":0},{"$f":"SUMPRODUCT($G877:$J877,TRANSPOSE(Dados_v2!P$4:P$7))","v":0}]
[null,null,null,null,null,null,null,null,null,null,null,null,null,null,null,null,null,null,null,null,null,null,null,null,null,null,null,null,null,null,null,null,null,null,null,null,null,null,null,null,null,{"$f":"SUMPRODUCT($G878:$J878,TRANSPOSE(Dados_v2!N$4:N$7))","v":0},{"$f":"SUMPRODUCT($G878:$J878,TRANSPOSE(Dados_v2!O$4:O$7))","v":0},{"$f":"SUMPRODUCT($G878:$J878,TRANSPOSE(Dados_v2!P$4:P$7))","v":0}]
[null,null,null,null,null,null,null,null,null,null,null,null,null,null,null,null,null,null,null,null,null,null,null,null,null,null,null,null,null,null,null,null,null,null,null,null,null,null,null,null,null,{"$f":"SUMPRODUCT($G879:$J879,TRANSPOSE(Dados_v2!N$4:N$7))","v":0},{"$f":"SUMPRODUCT($G879:$J879,TRANSPOSE(Dados_v2!O$4:O$7))","v":0},{"$f":"SUMPRODUCT($G879:$J879,TRANSPOSE(Dados_v2!P$4:P$7))","v":0}]
[null,null,null,null,null,null,null,null,null,null,null,null,null,null,null,null,null,null,null,null,null,null,null,null,null,null,null,null,null,null,null,null,null,null,null,null,null,null,null,null,null,{"$f":"SUMPRODUCT($G880:$J880,TRANSPOSE(Dados_v2!N$4:N$7))","v":0},{"$f":"SUMPRODUCT($G880:$J880,TRANSPOSE(Dados_v2!O$4:O$7))","v":0},{"$f":"SUMPRODUCT($G880:$J880,TRANSPOSE(Dados_v2!P$4:P$7))","v":0}]
[null,null,null,null,null,null,null,null,null,null,null,null,null,null,null,null,null,null,null,null,null,null,null,null,null,null,null,null,null,null,null,null,null,null,null,null,null,null,null,null,null,{"$f":"SUMPRODUCT($G881:$J881,TRANSPOSE(Dados_v2!N$4:N$7))","v":0},{"$f":"SUMPRODUCT($G881:$J881,TRANSPOSE(Dados_v2!O$4:O$7))","v":0},{"$f":"SUMPRODUCT($G881:$J881,TRANSPOSE(Dados_v2!P$4:P$7))","v":0}]
[null,null,null,null,null,null,null,null,null,null,null,null,null,null,null,null,null,null,null,null,null,null,null,null,null,null,null,null,null,null,null,null,null,null,null,null,null,null,null,null,null,{"$f":"SUMPRODUCT($G882:$J882,TRANSPOSE(Dados_v2!N$4:N$7))","v":0},{"$f":"SUMPRODUCT($G882:$J882,TRANSPOSE(Dados_v2!O$4:O$7))","v":0},{"$f":"SUMPRODUCT($G882:$J882,TRANSPOSE(Dados_v2!P$4:P$7))","v":0}]
[null,null,null,null,null,null,null,null,null,null,null,null,null,null,null,null,null,null,null,null,null,null,null,null,null,null,null,null,null,null,null,null,null,null,null,null,null,null,null,null,null,{"$f":"SUMPRODUCT($G883:$J883,TRANSPOSE(Dados_v2!N$4:N$7))","v":0},{"$f":"SUMPRODUCT($G883:$J883,TRANSPOSE(Dados_v2!O$4:O$7))","v":0},{"$f":"SUMPRODUCT($G883:$J883,TRANSPOSE(Dados_v2!P$4:P$7))","v":0}]
[null,null,null,null,null,null,null,null,null,null,null,null,null,null,null,null,null,null,null,null,null,null,null,null,null,null,null,null,null,null,null,null,null,null,null,null,null,null,null,null,null,{"$f":"SUMPRODUCT($G884:$J884,TRANSPOSE(Dados_v2!N$4:N$7))","v":0},{"$f":"SUMPRODUCT($G884:$J884,TRANSPOSE(Dados_v2!O$4:O$7))","v":0},{"$f":"SUMPRODUCT($G884:$J884,TRANSPOSE(Dados_v2!P$4:P$7))","v":0}]
[null,null,null,null,null,null,null,null,null,null,null,null,null,null,null,null,null,null,null,null,null,null,null,null,null,null,null,null,null,null,null,null,null,null,null,null,null,null,null,null,null,{"$f":"SUMPRODUCT($G885:$J885,TRANSPOSE(Dados_v2!N$4:N$7))","v":0},{"$f":"SUMPRODUCT($G885:$J885,TRANSPOSE(Dados_v2!O$4:O$7))","v":0},{"$f":"SUMPRODUCT($G885:$J885,TRANSPOSE(Dados_v2!P$4:P$7))","v":0}]
[null,null,null,null,null,null,null,null,null,null,null,null,null,null,null,null,null,null,null,null,null,null,null,null,null,null,null,null,null,null,null,null,null,null,null,null,null,null,null,null,null,{"$f":"SUMPRODUCT($G886:$J886,TRANSPOSE(Dados_v2!N$4:N$7))","v":0},{"$f":"SUMPRODUCT($G886:$J886,TRANSPOSE(Dados_v2!O$4:O$7))","v":0},{"$f":"SUMPRODUCT($G886:$J886,TRANSPOSE(Dados_v2!P$4:P$7))","v":0}]
[null,null,null,null,null,null,null,null,null,null,null,null,null,null,null,null,null,null,null,null,null,null,null,null,null,null,null,null,null,null,null,null,null,null,null,null,null,null,null,null,null,{"$f":"SUMPRODUCT($G887:$J887,TRANSPOSE(Dados_v2!N$4:N$7))","v":0},{"$f":"SUMPRODUCT($G887:$J887,TRANSPOSE(Dados_v2!O$4:O$7))","v":0},{"$f":"SUMPRODUCT($G887:$J887,TRANSPOSE(Dados_v2!P$4:P$7))","v":0}]
[null,null,null,null,null,null,null,null,null,null,null,null,null,null,null,null,null,null,null,null,null,null,null,null,null,null,null,null,null,null,null,null,null,null,null,null,null,null,null,null,null,{"$f":"SUMPRODUCT($G888:$J888,TRANSPOSE(Dados_v2!N$4:N$7))","v":0},{"$f":"SUMPRODUCT($G888:$J888,TRANSPOSE(Dados_v2!O$4:O$7))","v":0},{"$f":"SUMPRODUCT($G888:$J888,TRANSPOSE(Dados_v2!P$4:P$7))","v":0}]
[null,null,null,null,null,null,null,null,null,null,null,null,null,null,null,null,null,null,null,null,null,null,null,null,null,null,null,null,null,null,null,null,null,null,null,null,null,null,null,null,null,{"$f":"SUMPRODUCT($G889:$J889,TRANSPOSE(Dados_v2!N$4:N$7))","v":0},{"$f":"SUMPRODUCT($G889:$J889,TRANSPOSE(Dados_v2!O$4:O$7))","v":0},{"$f":"SUMPRODUCT($G889:$J889,TRANSPOSE(Dados_v2!P$4:P$7))","v":0}]
[null,null,null,null,null,null,null,null,null,null,null,null,null,null,null,null,null,null,null,null,null,null,null,null,null,null,null,null,null,null,null,null,null,null,null,null,null,null,null,null,null,{"$f":"SUMPRODUCT($G890:$J890,TRANSPOSE(Dados_v2!N$4:N$7))","v":0},{"$f":"SUMPRODUCT($G890:$J890,TRANSPOSE(Dados_v2!O$4:O$7))","v":0},{"$f":"SUMPRODUCT($G890:$J890,TRANSPOSE(Dados_v2!P$4:P$7))","v":0}]
[null,null,null,null,null,null,null,null,null,null,null,null,null,null,null,null,null,null,null,null,null,null,null,null,null,null,null,null,null,null,null,null,null,null,null,null,null,null,null,null,null,{"$f":"SUMPRODUCT($G891:$J891,TRANSPOSE(Dados_v2!N$4:N$7))","v":0},{"$f":"SUMPRODUCT($G891:$J891,TRANSPOSE(Dados_v2!O$4:O$7))","v":0},{"$f":"SUMPRODUCT($G891:$J891,TRANSPOSE(Dados_v2!P$4:P$7))","v":0}]
[null,null,null,null,null,null,null,null,null,null,null,null,null,null,null,null,null,null,null,null,null,null,null,null,null,null,null,null,null,null,null,null,null,null,null,null,null,null,null,null,null,{"$f":"SUMPRODUCT($G892:$J892,TRANSPOSE(Dados_v2!N$4:N$7))","v":0},{"$f":"SUMPRODUCT($G892:$J892,TRANSPOSE(Dados_v2!O$4:O$7))","v":0},{"$f":"SUMPRODUCT($G892:$J892,TRANSPOSE(Dados_v2!P$4:P$7))","v":0}]
[null,null,null,null,null,null,null,null,null,null,null,null,null,null,null,null,null,null,null,null,null,null,null,null,null,null,null,null,null,null,null,null,null,null,null,null,null,null,null,null,null,{"$f":"SUMPRODUCT($G893:$J893,TRANSPOSE(Dados_v2!N$4:N$7))","v":0},{"$f":"SUMPRODUCT($G893:$J893,TRANSPOSE(Dados_v2!O$4:O$7))","v":0},{"$f":"SUMPRODUCT($G893:$J893,TRANSPOSE(Dados_v2!P$4:P$7))","v":0}]
[null,null,null,null,null,null,null,null,null,null,null,null,null,null,null,null,null,null,null,null,null,null,null,null,null,null,null,null,null,null,null,null,null,null,null,null,null,null,null,null,null,{"$f":"SUMPRODUCT($G894:$J894,TRANSPOSE(Dados_v2!N$4:N$7))","v":0},{"$f":"SUMPRODUCT($G894:$J894,TRANSPOSE(Dados_v2!O$4:O$7))","v":0},{"$f":"SUMPRODUCT($G894:$J894,TRANSPOSE(Dados_v2!P$4:P$7))","v":0}]
[null,null,null,null,null,null,null,null,null,null,null,null,null,null,null,null,null,null,null,null,null,null,null,null,null,null,null,null,null,null,null,null,null,null,null,null,null,null,null,null,null,{"$f":"SUMPRODUCT($G895:$J895,TRANSPOSE(Dados_v2!N$4:N$7))","v":0},{"$f":"SUMPRODUCT($G895:$J895,TRANSPOSE(Dados_v2!O$4:O$7))","v":0},{"$f":"SUMPRODUCT($G895:$J895,TRANSPOSE(Dados_v2!P$4:P$7))","v":0}]
[null,null,null,null,null,null,null,null,null,null,null,null,null,null,null,null,null,null,null,null,null,null,null,null,null,null,null,null,null,null,null,null,null,null,null,null,null,null,null,null,null,{"$f":"SUMPRODUCT($G896:$J896,TRANSPOSE(Dados_v2!N$4:N$7))","v":0},{"$f":"SUMPRODUCT($G896:$J896,TRANSPOSE(Dados_v2!O$4:O$7))","v":0},{"$f":"SUMPRODUCT($G896:$J896,TRANSPOSE(Dados_v2!P$4:P$7))","v":0}]
[null,null,null,null,null,null,null,null,null,null,null,null,null,null,null,null,null,null,null,null,null,null,null,null,null,null,null,null,null,null,null,null,null,null,null,null,null,null,null,null,null,{"$f":"SUMPRODUCT($G897:$J897,TRANSPOSE(Dados_v2!N$4:N$7))","v":0},{"$f":"SUMPRODUCT($G897:$J897,TRANSPOSE(Dados_v2!O$4:O$7))","v":0},{"$f":"SUMPRODUCT($G897:$J897,TRANSPOSE(Dados_v2!P$4:P$7))","v":0}]
[null,null,null,null,null,null,null,null,null,null,null,null,null,null,null,null,null,null,null,null,null,null,null,null,null,null,null,null,null,null,null,null,null,null,null,null,null,null,null,null,null,{"$f":"SUMPRODUCT($G898:$J898,TRANSPOSE(Dados_v2!N$4:N$7))","v":0},{"$f":"SUMPRODUCT($G898:$J898,TRANSPOSE(Dados_v2!O$4:O$7))","v":0},{"$f":"SUMPRODUCT($G898:$J898,TRANSPOSE(Dados_v2!P$4:P$7))","v":0}]
[null,null,null,null,null,null,null,null,null,null,null,null,null,null,null,null,null,null,null,null,null,null,null,null,null,null,null,null,null,null,null,null,null,null,null,null,null,null,null,null,null,{"$f":"SUMPRODUCT($G899:$J899,TRANSPOSE(Dados_v2!N$4:N$7))","v":0},{"$f":"SUMPRODUCT($G899:$J899,TRANSPOSE(Dados_v2!O$4:O$7))","v":0},{"$f":"SUMPRODUCT($G899:$J899,TRANSPOSE(Dados_v2!P$4:P$7))","v":0}]
[null,null,null,null,null,null,null,null,null,null,null,null,null,null,null,null,null,null,null,null,null,null,null,null,null,null,null,null,null,null,null,null,null,null,null,null,null,null,null,null,null,{"$f":"SUMPRODUCT($G900:$J900,TRANSPOSE(Dados_v2!N$4:N$7))","v":0},{"$f":"SUMPRODUCT($G900:$J900,TRANSPOSE(Dados_v2!O$4:O$7))","v":0},{"$f":"SUMPRODUCT($G900:$J900,TRANSPOSE(Dados_v2!P$4:P$7))","v":0}]
[null,null,null,null,null,null,null,null,null,null,null,null,null,null,null,null,null,null,null,null,null,null,null,null,null,null,null,null,null,null,null,null,null,null,null,null,null,null,null,null,null,{"$f":"SUMPRODUCT($G901:$J901,TRANSPOSE(Dados_v2!N$4:N$7))","v":0},{"$f":"SUMPRODUCT($G901:$J901,TRANSPOSE(Dados_v2!O$4:O$7))","v":0},{"$f":"SUMPRODUCT($G901:$J901,TRANSPOSE(Dados_v2!P$4:P$7))","v":0}]
[null,null,null,null,null,null,null,null,null,null,null,null,null,null,null,null,null,null,null,null,null,null,null,null,null,null,null,null,null,null,null,null,null,null,null,null,null,null,null,null,null,{"$f":"SUMPRODUCT($G902:$J902,TRANSPOSE(Dados_v2!N$4:N$7))","v":0},{"$f":"SUMPRODUCT($G902:$J902,TRANSPOSE(Dados_v2!O$4:O$7))","v":0},{"$f":"SUMPRODUCT($G902:$J902,TRANSPOSE(Dados_v2!P$4:P$7))","v":0}]
[null,null,null,null,null,null,null,null,null,null,null,null,null,null,null,null,null,null,null,null,null,null,null,null,null,null,null,null,null,null,null,null,null,null,null,null,null,null,null,null,null,{"$f":"SUMPRODUCT($G903:$J903,TRANSPOSE(Dados_v2!N$4:N$7))","v":0},{"$f":"SUMPRODUCT($G903:$J903,TRANSPOSE(Dados_v2!O$4:O$7))","v":0},{"$f":"SUMPRODUCT($G903:$J903,TRANSPOSE(Dados_v2!P$4:P$7))","v":0}]
[null,null,null,null,null,null,null,null,null,null,null,null,null,null,null,null,null,null,null,null,null,null,null,null,null,null,null,null,null,null,null,null,null,null,null,null,null,null,null,null,null,{"$f":"SUMPRODUCT($G904:$J904,TRANSPOSE(Dados_v2!N$4:N$7))","v":0},{"$f":"SUMPRODUCT($G904:$J904,TRANSPOSE(Dados_v2!O$4:O$7))","v":0},{"$f":"SUMPRODUCT($G904:$J904,TRANSPOSE(Dados_v2!P$4:P$7))","v":0}]
[null,null,null,null,null,null,null,null,null,null,null,null,null,null,null,null,null,null,null,null,null,null,null,null,null,null,null,null,null,null,null,null,null,null,null,null,null,null,null,null,null,{"$f":"SUMPRODUCT($G905:$J905,TRANSPOSE(Dados_v2!N$4:N$7))","v":0},{"$f":"SUMPRODUCT($G905:$J905,TRANSPOSE(Dados_v2!O$4:O$7))","v":0},{"$f":"SUMPRODUCT($G905:$J905,TRANSPOSE(Dados_v2!P$4:P$7))","v":0}]
[null,null,null,null,null,null,null,null,null,null,null,null,null,null,null,null,null,null,null,null,null,null,null,null,null,null,null,null,null,null,null,null,null,null,null,null,null,null,null,null,null,{"$f":"SUMPRODUCT($G906:$J906,TRANSPOSE(Dados_v2!N$4:N$7))","v":0},{"$f":"SUMPRODUCT($G906:$J906,TRANSPOSE(Dados_v2!O$4:O$7))","v":0},{"$f":"SUMPRODUCT($G906:$J906,TRANSPOSE(Dados_v2!P$4:P$7))","v":0}]
[null,null,null,null,null,null,null,null,null,null,null,null,null,null,null,null,null,null,null,null,null,null,null,null,null,null,null,null,null,null,null,null,null,null,null,null,null,null,null,null,null,{"$f":"SUMPRODUCT($G907:$J907,TRANSPOSE(Dados_v2!N$4:N$7))","v":0},{"$f":"SUMPRODUCT($G907:$J907,TRANSPOSE(Dados_v2!O$4:O$7))","v":0},{"$f":"SUMPRODUCT($G907:$J907,TRANSPOSE(Dados_v2!P$4:P$7))","v":0}]
[null,null,null,null,null,null,null,null,null,null,null,null,null,null,null,null,null,null,null,null,null,null,null,null,null,null,null,null,null,null,null,null,null,null,null,null,null,null,null,null,null,{"$f":"SUMPRODUCT($G908:$J908,TRANSPOSE(Dados_v2!N$4:N$7))","v":0},{"$f":"SUMPRODUCT($G908:$J908,TRANSPOSE(Dados_v2!O$4:O$7))","v":0},{"$f":"SUMPRODUCT($G908:$J908,TRANSPOSE(Dados_v2!P$4:P$7))","v":0}]
[null,null,null,null,null,null,null,null,null,null,null,null,null,null,null,null,null,null,null,null,null,null,null,null,null,null,null,null,null,null,null,null,null,null,null,null,null,null,null,null,null,{"$f":"SUMPRODUCT($G909:$J909,TRANSPOSE(Dados_v2!N$4:N$7))","v":0},{"$f":"SUMPRODUCT($G909:$J909,TRANSPOSE(Dados_v2!O$4:O$7))","v":0},{"$f":"SUMPRODUCT($G909:$J909,TRANSPOSE(Dados_v2!P$4:P$7))","v":0}]
[null,null,null,null,null,null,null,null,null,null,null,null,null,null,null,null,null,null,null,null,null,null,null,null,null,null,null,null,null,null,null,null,null,null,null,null,null,null,null,null,null,{"$f":"SUMPRODUCT($G910:$J910,TRANSPOSE(Dados_v2!N$4:N$7))","v":0},{"$f":"SUMPRODUCT($G910:$J910,TRANSPOSE(Dados_v2!O$4:O$7))","v":0},{"$f":"SUMPRODUCT($G910:$J910,TRANSPOSE(Dados_v2!P$4:P$7))","v":0}]
[null,null,null,null,null,null,null,null,null,null,null,null,null,null,null,null,null,null,null,null,null,null,null,null,null,null,null,null,null,null,null,null,null,null,null,null,null,null,null,null,null,{"$f":"SUMPRODUCT($G911:$J911,TRANSPOSE(Dados_v2!N$4:N$7))","v":0},{"$f":"SUMPRODUCT($G911:$J911,TRANSPOSE(Dados_v2!O$4:O$7))","v":0},{"$f":"SUMPRODUCT($G911:$J911,TRANSPOSE(Dados_v2!P$4:P$7))","v":0}]
[null,null,null,null,null,null,null,null,null,null,null,null,null,null,null,null,null,null,null,null,null,null,null,null,null,null,null,null,null,null,null,null,null,null,null,null,null,null,null,null,null,{"$f":"SUMPRODUCT($G912:$J912,TRANSPOSE(Dados_v2!N$4:N$7))","v":0},{"$f":"SUMPRODUCT($G912:$J912,TRANSPOSE(Dados_v2!O$4:O$7))","v":0},{"$f":"SUMPRODUCT($G912:$J912,TRANSPOSE(Dados_v2!P$4:P$7))","v":0}]
[null,null,null,null,null,null,null,null,null,null,null,null,null,null,null,null,null,null,null,null,null,null,null,null,null,null,null,null,null,null,null,null,null,null,null,null,null,null,null,null,null,{"$f":"SUMPRODUCT($G913:$J913,TRANSPOSE(Dados_v2!N$4:N$7))","v":0},{"$f":"SUMPRODUCT($G913:$J913,TRANSPOSE(Dados_v2!O$4:O$7))","v":0},{"$f":"SUMPRODUCT($G913:$J913,TRANSPOSE(Dados_v2!P$4:P$7))","v":0}]
[null,null,null,null,null,null,null,null,null,null,null,null,null,null,null,null,null,null,null,null,null,null,null,null,null,null,null,null,null,null,null,null,null,null,null,null,null,null,null,null,null,{"$f":"SUMPRODUCT($G914:$J914,TRANSPOSE(Dados_v2!N$4:N$7))","v":0},{"$f":"SUMPRODUCT($G914:$J914,TRANSPOSE(Dados_v2!O$4:O$7))","v":0},{"$f":"SUMPRODUCT($G914:$J914,TRANSPOSE(Dados_v2!P$4:P$7))","v":0}]
[null,null,null,null,null,null,null,null,null,null,null,null,null,null,null,null,null,null,null,null,null,null,null,null,null,null,null,null,null,null,null,null,null,null,null,null,null,null,null,null,null,{"$f":"SUMPRODUCT($G915:$J915,TRANSPOSE(Dados_v2!N$4:N$7))","v":0},{"$f":"SUMPRODUCT($G915:$J915,TRANSPOSE(Dados_v2!O$4:O$7))","v":0},{"$f":"SUMPRODUCT($G915:$J915,TRANSPOSE(Dados_v2!P$4:P$7))","v":0}]
[null,null,null,null,null,null,null,null,null,null,null,null,null,null,null,null,null,null,null,null,null,null,null,null,null,null,null,null,null,null,null,null,null,null,null,null,null,null,null,null,null,{"$f":"SUMPRODUCT($G916:$J916,TRANSPOSE(Dados_v2!N$4:N$7))","v":0},{"$f":"SUMPRODUCT($G916:$J916,TRANSPOSE(Dados_v2!O$4:O$7))","v":0},{"$f":"SUMPRODUCT($G916:$J916,TRANSPOSE(Dados_v2!P$4:P$7))","v":0}]
[null,null,null,null,null,null,null,null,null,null,null,null,null,null,null,null,null,null,null,null,null,null,null,null,null,null,null,null,null,null,null,null,null,null,null,null,null,null,null,null,null,{"$f":"SUMPRODUCT($G917:$J917,TRANSPOSE(Dados_v2!N$4:N$7))","v":0},{"$f":"SUMPRODUCT($G917:$J917,TRANSPOSE(Dados_v2!O$4:O$7))","v":0},{"$f":"SUMPRODUCT($G917:$J917,TRANSPOSE(Dados_v2!P$4:P$7))","v":0}]
[null,null,null,null,null,null,null,null,null,null,null,null,null,null,null,null,null,null,null,null,null,null,null,null,null,null,null,null,null,null,null,null,null,null,null,null,null,null,null,null,null,{"$f":"SUMPRODUCT($G918:$J918,TRANSPOSE(Dados_v2!N$4:N$7))","v":0},{"$f":"SUMPRODUCT($G918:$J918,TRANSPOSE(Dados_v2!O$4:O$7))","v":0},{"$f":"SUMPRODUCT($G918:$J918,TRANSPOSE(Dados_v2!P$4:P$7))","v":0}]
[null,null,null,null,null,null,null,null,null,null,null,null,null,null,null,null,null,null,null,null,null,null,null,null,null,null,null,null,null,null,null,null,null,null,null,null,null,null,null,null,null,{"$f":"SUMPRODUCT($G919:$J919,TRANSPOSE(Dados_v2!N$4:N$7))","v":0},{"$f":"SUMPRODUCT($G919:$J919,TRANSPOSE(Dados_v2!O$4:O$7))","v":0},{"$f":"SUMPRODUCT($G919:$J919,TRANSPOSE(Dados_v2!P$4:P$7))","v":0}]
[null,null,null,null,null,null,null,null,null,null,null,null,null,null,null,null,null,null,null,null,null,null,null,null,null,null,null,null,null,null,null,null,null,null,null,null,null,null,null,null,null,{"$f":"SUMPRODUCT($G920:$J920,TRANSPOSE(Dados_v2!N$4:N$7))","v":0},{"$f":"SUMPRODUCT($G920:$J920,TRANSPOSE(Dados_v2!O$4:O$7))","v":0},{"$f":"SUMPRODUCT($G920:$J920,TRANSPOSE(Dados_v2!P$4:P$7))","v":0}]
[null,null,null,null,null,null,null,null,null,null,null,null,null,null,null,null,null,null,null,null,null,null,null,null,null,null,null,null,null,null,null,null,null,null,null,null,null,null,null,null,null,{"$f":"SUMPRODUCT($G921:$J921,TRANSPOSE(Dados_v2!N$4:N$7))","v":0},{"$f":"SUMPRODUCT($G921:$J921,TRANSPOSE(Dados_v2!O$4:O$7))","v":0},{"$f":"SUMPRODUCT($G921:$J921,TRANSPOSE(Dados_v2!P$4:P$7))","v":0}]
[null,null,null,null,null,null,null,null,null,null,null,null,null,null,null,null,null,null,null,null,null,null,null,null,null,null,null,null,null,null,null,null,null,null,null,null,null,null,null,null,null,{"$f":"SUMPRODUCT($G922:$J922,TRANSPOSE(Dados_v2!N$4:N$7))","v":0},{"$f":"SUMPRODUCT($G922:$J922,TRANSPOSE(Dados_v2!O$4:O$7))","v":0},{"$f":"SUMPRODUCT($G922:$J922,TRANSPOSE(Dados_v2!P$4:P$7))","v":0}]
[null,null,null,null,null,null,null,null,null,null,null,null,null,null,null,null,null,null,null,null,null,null,null,null,null,null,null,null,null,null,null,null,null,null,null,null,null,null,null,null,null,{"$f":"SUMPRODUCT($G923:$J923,TRANSPOSE(Dados_v2!N$4:N$7))","v":0},{"$f":"SUMPRODUCT($G923:$J923,TRANSPOSE(Dados_v2!O$4:O$7))","v":0},{"$f":"SUMPRODUCT($G923:$J923,TRANSPOSE(Dados_v2!P$4:P$7))","v":0}]
[null,null,null,null,null,null,null,null,null,null,null,null,null,null,null,null,null,null,null,null,null,null,null,null,null,null,null,null,null,null,null,null,null,null,null,null,null,null,null,null,null,{"$f":"SUMPRODUCT($G924:$J924,TRANSPOSE(Dados_v2!N$4:N$7))","v":0},{"$f":"SUMPRODUCT($G924:$J924,TRANSPOSE(Dados_v2!O$4:O$7))","v":0},{"$f":"SUMPRODUCT($G924:$J924,TRANSPOSE(Dados_v2!P$4:P$7))","v":0}]
[null,null,null,null,null,null,null,null,null,null,null,null,null,null,null,null,null,null,null,null,null,null,null,null,null,null,null,null,null,null,null,null,null,null,null,null,null,null,null,null,null,{"$f":"SUMPRODUCT($G925:$J925,TRANSPOSE(Dados_v2!N$4:N$7))","v":0},{"$f":"SUMPRODUCT($G925:$J925,TRANSPOSE(Dados_v2!O$4:O$7))","v":0},{"$f":"SUMPRODUCT($G925:$J925,TRANSPOSE(Dados_v2!P$4:P$7))","v":0}]
[null,null,null,null,null,null,null,null,null,null,null,null,null,null,null,null,null,null,null,null,null,null,null,null,null,null,null,null,null,null,null,null,null,null,null,null,null,null,null,null,null,{"$f":"SUMPRODUCT($G926:$J926,TRANSPOSE(Dados_v2!N$4:N$7))","v":0},{"$f":"SUMPRODUCT($G926:$J926,TRANSPOSE(Dados_v2!O$4:O$7))","v":0},{"$f":"SUMPRODUCT($G926:$J926,TRANSPOSE(Dados_v2!P$4:P$7))","v":0}]
[null,null,null,null,null,null,null,null,null,null,null,null,null,null,null,null,null,null,null,null,null,null,null,null,null,null,null,null,null,null,null,null,null,null,null,null,null,null,null,null,null,{"$f":"SUMPRODUCT($G927:$J927,TRANSPOSE(Dados_v2!N$4:N$7))","v":0},{"$f":"SUMPRODUCT($G927:$J927,TRANSPOSE(Dados_v2!O$4:O$7))","v":0},{"$f":"SUMPRODUCT($G927:$J927,TRANSPOSE(Dados_v2!P$4:P$7))","v":0}]
[null,null,null,null,null,null,null,null,null,null,null,null,null,null,null,null,null,null,null,null,null,null,null,null,null,null,null,null,null,null,null,null,null,null,null,null,null,null,null,null,null,{"$f":"SUMPRODUCT($G928:$J928,TRANSPOSE(Dados_v2!N$4:N$7))","v":0},{"$f":"SUMPRODUCT($G928:$J928,TRANSPOSE(Dados_v2!O$4:O$7))","v":0},{"$f":"SUMPRODUCT($G928:$J928,TRANSPOSE(Dados_v2!P$4:P$7))","v":0}]
[null,null,null,null,null,null,null,null,null,null,null,null,null,null,null,null,null,null,null,null,null,null,null,null,null,null,null,null,null,null,null,null,null,null,null,null,null,null,null,null,null,{"$f":"SUMPRODUCT($G929:$J929,TRANSPOSE(Dados_v2!N$4:N$7))","v":0},{"$f":"SUMPRODUCT($G929:$J929,TRANSPOSE(Dados_v2!O$4:O$7))","v":0},{"$f":"SUMPRODUCT($G929:$J929,TRANSPOSE(Dados_v2!P$4:P$7))","v":0}]
[null,null,null,null,null,null,null,null,null,null,null,null,null,null,null,null,null,null,null,null,null,null,null,null,null,null,null,null,null,null,null,null,null,null,null,null,null,null,null,null,null,{"$f":"SUMPRODUCT($G930:$J930,TRANSPOSE(Dados_v2!N$4:N$7))","v":0},{"$f":"SUMPRODUCT($G930:$J930,TRANSPOSE(Dados_v2!O$4:O$7))","v":0},{"$f":"SUMPRODUCT($G930:$J930,TRANSPOSE(Dados_v2!P$4:P$7))","v":0}]
[null,null,null,null,null,null,null,null,null,null,null,null,null,null,null,null,null,null,null,null,null,null,null,null,null,null,null,null,null,null,null,null,null,null,null,null,null,null,null,null,null,{"$f":"SUMPRODUCT($G931:$J931,TRANSPOSE(Dados_v2!N$4:N$7))","v":0},{"$f":"SUMPRODUCT($G931:$J931,TRANSPOSE(Dados_v2!O$4:O$7))","v":0},{"$f":"SUMPRODUCT($G931:$J931,TRANSPOSE(Dados_v2!P$4:P$7))","v":0}]
[null,null,null,null,null,null,null,null,null,null,null,null,null,null,null,null,null,null,null,null,null,null,null,null,null,null,null,null,null,null,null,null,null,null,null,null,null,null,null,null,null,{"$f":"SUMPRODUCT($G932:$J932,TRANSPOSE(Dados_v2!N$4:N$7))","v":0},{"$f":"SUMPRODUCT($G932:$J932,TRANSPOSE(Dados_v2!O$4:O$7))","v":0},{"$f":"SUMPRODUCT($G932:$J932,TRANSPOSE(Dados_v2!P$4:P$7))","v":0}]
[null,null,null,null,null,null,null,null,null,null,null,null,null,null,null,null,null,null,null,null,null,null,null,null,null,null,null,null,null,null,null,null,null,null,null,null,null,null,null,null,null,{"$f":"SUMPRODUCT($G933:$J933,TRANSPOSE(Dados_v2!N$4:N$7))","v":0},{"$f":"SUMPRODUCT($G933:$J933,TRANSPOSE(Dados_v2!O$4:O$7))","v":0},{"$f":"SUMPRODUCT($G933:$J933,TRANSPOSE(Dados_v2!P$4:P$7))","v":0}]
[null,null,null,null,null,null,null,null,null,null,null,null,null,null,null,null,null,null,null,null,null,null,null,null,null,null,null,null,null,null,null,null,null,null,null,null,null,null,null,null,null,{"$f":"SUMPRODUCT($G934:$J934,TRANSPOSE(Dados_v2!N$4:N$7))","v":0},{"$f":"SUMPRODUCT($G934:$J934,TRANSPOSE(Dados_v2!O$4:O$7))","v":0},{"$f":"SUMPRODUCT($G934:$J934,TRANSPOSE(Dados_v2!P$4:P$7))","v":0}]
[null,null,null,null,null,null,null,null,null,null,null,null,null,null,null,null,null,null,null,null,null,null,null,null,null,null,null,null,null,null,null,null,null,null,null,null,null,null,null,null,null,{"$f":"SUMPRODUCT($G935:$J935,TRANSPOSE(Dados_v2!N$4:N$7))","v":0},{"$f":"SUMPRODUCT($G935:$J935,TRANSPOSE(Dados_v2!O$4:O$7))","v":0},{"$f":"SUMPRODUCT($G935:$J935,TRANSPOSE(Dados_v2!P$4:P$7))","v":0}]
[null,null,null,null,null,null,null,null,null,null,null,null,null,null,null,null,null,null,null,null,null,null,null,null,null,null,null,null,null,null,null,null,null,null,null,null,null,null,null,null,null,{"$f":"SUMPRODUCT($G936:$J936,TRANSPOSE(Dados_v2!N$4:N$7))","v":0},{"$f":"SUMPRODUCT($G936:$J936,TRANSPOSE(Dados_v2!O$4:O$7))","v":0},{"$f":"SUMPRODUCT($G936:$J936,TRANSPOSE(Dados_v2!P$4:P$7))","v":0}]
[null,null,null,null,null,null,null,null,null,null,null,null,null,null,null,null,null,null,null,null,null,null,null,null,null,null,null,null,null,null,null,null,null,null,null,null,null,null,null,null,null,{"$f":"SUMPRODUCT($G937:$J937,TRANSPOSE(Dados_v2!N$4:N$7))","v":0},{"$f":"SUMPRODUCT($G937:$J937,TRANSPOSE(Dados_v2!O$4:O$7))","v":0},{"$f":"SUMPRODUCT($G937:$J937,TRANSPOSE(Dados_v2!P$4:P$7))","v":0}]
[null,null,null,null,null,null,null,null,null,null,null,null,null,null,null,null,null,null,null,null,null,null,null,null,null,null,null,null,null,null,null,null,null,null,null,null,null,null,null,null,null,{"$f":"SUMPRODUCT($G938:$J938,TRANSPOSE(Dados_v2!N$4:N$7))","v":0},{"$f":"SUMPRODUCT($G938:$J938,TRANSPOSE(Dados_v2!O$4:O$7))","v":0},{"$f":"SUMPRODUCT($G938:$J938,TRANSPOSE(Dados_v2!P$4:P$7))","v":0}]
[null,null,null,null,null,null,null,null,null,null,null,null,null,null,null,null,null,null,null,null,null,null,null,null,null,null,null,null,null,null,null,null,null,null,null,null,null,null,null,null,null,{"$f":"SUMPRODUCT($G939:$J939,TRANSPOSE(Dados_v2!N$4:N$7))","v":0},{"$f":"SUMPRODUCT($G939:$J939,TRANSPOSE(Dados_v2!O$4:O$7))","v":0},{"$f":"SUMPRODUCT($G939:$J939,TRANSPOSE(Dados_v2!P$4:P$7))","v":0}]
[null,null,null,null,null,null,null,null,null,null,null,null,null,null,null,null,null,null,null,null,null,null,null,null,null,null,null,null,null,null,null,null,null,null,null,null,null,null,null,null,null,{"$f":"SUMPRODUCT($G940:$J940,TRANSPOSE(Dados_v2!N$4:N$7))","v":0},{"$f":"SUMPRODUCT($G940:$J940,TRANSPOSE(Dados_v2!O$4:O$7))","v":0},{"$f":"SUMPRODUCT($G940:$J940,TRANSPOSE(Dados_v2!P$4:P$7))","v":0}]
[null,null,null,null,null,null,null,null,null,null,null,null,null,null,null,null,null,null,null,null,null,null,null,null,null,null,null,null,null,null,null,null,null,null,null,null,null,null,null,null,null,{"$f":"SUMPRODUCT($G941:$J941,TRANSPOSE(Dados_v2!N$4:N$7))","v":0},{"$f":"SUMPRODUCT($G941:$J941,TRANSPOSE(Dados_v2!O$4:O$7))","v":0},{"$f":"SUMPRODUCT($G941:$J941,TRANSPOSE(Dados_v2!P$4:P$7))","v":0}]
[null,null,null,null,null,null,null,null,null,null,null,null,null,null,null,null,null,null,null,null,null,null,null,null,null,null,null,null,null,null,null,null,null,null,null,null,null,null,null,null,null,{"$f":"SUMPRODUCT($G942:$J942,TRANSPOSE(Dados_v2!N$4:N$7))","v":0},{"$f":"SUMPRODUCT($G942:$J942,TRANSPOSE(Dados_v2!O$4:O$7))","v":0},{"$f":"SUMPRODUCT($G942:$J942,TRANSPOSE(Dados_v2!P$4:P$7))","v":0}]
[null,null,null,null,null,null,null,null,null,null,null,null,null,null,null,null,null,null,null,null,null,null,null,null,null,null,null,null,null,null,null,null,null,null,null,null,null,null,null,null,null,{"$f":"SUMPRODUCT($G943:$J943,TRANSPOSE(Dados_v2!N$4:N$7))","v":0},{"$f":"SUMPRODUCT($G943:$J943,TRANSPOSE(Dados_v2!O$4:O$7))","v":0},{"$f":"SUMPRODUCT($G943:$J943,TRANSPOSE(Dados_v2!P$4:P$7))","v":0}]
[null,null,null,null,null,null,null,null,null,null,null,null,null,null,null,null,null,null,null,null,null,null,null,null,null,null,null,null,null,null,null,null,null,null,null,null,null,null,null,null,null,{"$f":"SUMPRODUCT($G944:$J944,TRANSPOSE(Dados_v2!N$4:N$7))","v":0},{"$f":"SUMPRODUCT($G944:$J944,TRANSPOSE(Dados_v2!O$4:O$7))","v":0},{"$f":"SUMPRODUCT($G944:$J944,TRANSPOSE(Dados_v2!P$4:P$7))","v":0}]
[null,null,null,null,null,null,null,null,null,null,null,null,null,null,null,null,null,null,null,null,null,null,null,null,null,null,null,null,null,null,null,null,null,null,null,null,null,null,null,null,null,{"$f":"SUMPRODUCT($G945:$J945,TRANSPOSE(Dados_v2!N$4:N$7))","v":0},{"$f":"SUMPRODUCT($G945:$J945,TRANSPOSE(Dados_v2!O$4:O$7))","v":0},{"$f":"SUMPRODUCT($G945:$J945,TRANSPOSE(Dados_v2!P$4:P$7))","v":0}]
[null,null,null,null,null,null,null,null,null,null,null,null,null,null,null,null,null,null,null,null,null,null,null,null,null,null,null,null,null,null,null,null,null,null,null,null,null,null,null,null,null,{"$f":"SUMPRODUCT($G946:$J946,TRANSPOSE(Dados_v2!N$4:N$7))","v":0},{"$f":"SUMPRODUCT($G946:$J946,TRANSPOSE(Dados_v2!O$4:O$7))","v":0},{"$f":"SUMPRODUCT($G946:$J946,TRANSPOSE(Dados_v2!P$4:P$7))","v":0}]
[null,null,null,null,null,null,null,null,null,null,null,null,null,null,null,null,null,null,null,null,null,null,null,null,null,null,null,null,null,null,null,null,null,null,null,null,null,null,null,null,null,{"$f":"SUMPRODUCT($G947:$J947,TRANSPOSE(Dados_v2!N$4:N$7))","v":0},{"$f":"SUMPRODUCT($G947:$J947,TRANSPOSE(Dados_v2!O$4:O$7))","v":0},{"$f":"SUMPRODUCT($G947:$J947,TRANSPOSE(Dados_v2!P$4:P$7))","v":0}]
[null,null,null,null,null,null,null,null,null,null,null,null,null,null,null,null,null,null,null,null,null,null,null,null,null,null,null,null,null,null,null,null,null,null,null,null,null,null,null,null,null,{"$f":"SUMPRODUCT($G948:$J948,TRANSPOSE(Dados_v2!N$4:N$7))","v":0},{"$f":"SUMPRODUCT($G948:$J948,TRANSPOSE(Dados_v2!O$4:O$7))","v":0},{"$f":"SUMPRODUCT($G948:$J948,TRANSPOSE(Dados_v2!P$4:P$7))","v":0}]
[null,null,null,null,null,null,null,null,null,null,null,null,null,null,null,null,null,null,null,null,null,null,null,null,null,null,null,null,null,null,null,null,null,null,null,null,null,null,null,null,null,{"$f":"SUMPRODUCT($G949:$J949,TRANSPOSE(Dados_v2!N$4:N$7))","v":0},{"$f":"SUMPRODUCT($G949:$J949,TRANSPOSE(Dados_v2!O$4:O$7))","v":0},{"$f":"SUMPRODUCT($G949:$J949,TRANSPOSE(Dados_v2!P$4:P$7))","v":0}]
[null,null,null,null,null,null,null,null,null,null,null,null,null,null,null,null,null,null,null,null,null,null,null,null,null,null,null,null,null,null,null,null,null,null,null,null,null,null,null,null,null,{"$f":"SUMPRODUCT($G950:$J950,TRANSPOSE(Dados_v2!N$4:N$7))","v":0},{"$f":"SUMPRODUCT($G950:$J950,TRANSPOSE(Dados_v2!O$4:O$7))","v":0},{"$f":"SUMPRODUCT($G950:$J950,TRANSPOSE(Dados_v2!P$4:P$7))","v":0}]
[null,null,null,null,null,null,null,null,null,null,null,null,null,null,null,null,null,null,null,null,null,null,null,null,null,null,null,null,null,null,null,null,null,null,null,null,null,null,null,null,null,{"$f":"SUMPRODUCT($G951:$J951,TRANSPOSE(Dados_v2!N$4:N$7))","v":0},{"$f":"SUMPRODUCT($G951:$J951,TRANSPOSE(Dados_v2!O$4:O$7))","v":0},{"$f":"SUMPRODUCT($G951:$J951,TRANSPOSE(Dados_v2!P$4:P$7))","v":0}]
[null,null,null,null,null,null,null,null,null,null,null,null,null,null,null,null,null,null,null,null,null,null,null,null,null,null,null,null,null,null,null,null,null,null,null,null,null,null,null,null,null,{"$f":"SUMPRODUCT($G952:$J952,TRANSPOSE(Dados_v2!N$4:N$7))","v":0},{"$f":"SUMPRODUCT($G952:$J952,TRANSPOSE(Dados_v2!O$4:O$7))","v":0},{"$f":"SUMPRODUCT($G952:$J952,TRANSPOSE(Dados_v2!P$4:P$7))","v":0}]
[null,null,null,null,null,null,null,null,null,null,null,null,null,null,null,null,null,null,null,null,null,null,null,null,null,null,null,null,null,null,null,null,null,null,null,null,null,null,null,null,null,{"$f":"SUMPRODUCT($G953:$J953,TRANSPOSE(Dados_v2!N$4:N$7))","v":0},{"$f":"SUMPRODUCT($G953:$J953,TRANSPOSE(Dados_v2!O$4:O$7))","v":0},{"$f":"SUMPRODUCT($G953:$J953,TRANSPOSE(Dados_v2!P$4:P$7))","v":0}]
[null,null,null,null,null,null,null,null,null,null,null,null,null,null,null,null,null,null,null,null,null,null,null,null,null,null,null,null,null,null,null,null,null,null,null,null,null,null,null,null,null,{"$f":"SUMPRODUCT($G954:$J954,TRANSPOSE(Dados_v2!N$4:N$7))","v":0},{"$f":"SUMPRODUCT($G954:$J954,TRANSPOSE(Dados_v2!O$4:O$7))","v":0},{"$f":"SUMPRODUCT($G954:$J954,TRANSPOSE(Dados_v2!P$4:P$7))","v":0}]
[null,null,null,null,null,null,null,null,null,null,null,null,null,null,null,null,null,null,null,null,null,null,null,null,null,null,null,null,null,null,null,null,null,null,null,null,null,null,null,null,null,{"$f":"SUMPRODUCT($G955:$J955,TRANSPOSE(Dados_v2!N$4:N$7))","v":0},{"$f":"SUMPRODUCT($G955:$J955,TRANSPOSE(Dados_v2!O$4:O$7))","v":0},{"$f":"SUMPRODUCT($G955:$J955,TRANSPOSE(Dados_v2!P$4:P$7))","v":0}]
[null,null,null,null,null,null,null,null,null,null,null,null,null,null,null,null,null,null,null,null,null,null,null,null,null,null,null,null,null,null,null,null,null,null,null,null,null,null,null,null,null,{"$f":"SUMPRODUCT($G956:$J956,TRANSPOSE(Dados_v2!N$4:N$7))","v":0},{"$f":"SUMPRODUCT($G956:$J956,TRANSPOSE(Dados_v2!O$4:O$7))","v":0},{"$f":"SUMPRODUCT($G956:$J956,TRANSPOSE(Dados_v2!P$4:P$7))","v":0}]
[null,null,null,null,null,null,null,null,null,null,null,null,null,null,null,null,null,null,null,null,null,null,null,null,null,null,null,null,null,null,null,null,null,null,null,null,null,null,null,null,null,{"$f":"SUMPRODUCT($G957:$J957,TRANSPOSE(Dados_v2!N$4:N$7))","v":0},{"$f":"SUMPRODUCT($G957:$J957,TRANSPOSE(Dados_v2!O$4:O$7))","v":0},{"$f":"SUMPRODUCT($G957:$J957,TRANSPOSE(Dados_v2!P$4:P$7))","v":0}]
[null,null,null,null,null,null,null,null,null,null,null,null,null,null,null,null,null,null,null,null,null,null,null,null,null,null,null,null,null,null,null,null,null,null,null,null,null,null,null,null,null,{"$f":"SUMPRODUCT($G958:$J958,TRANSPOSE(Dados_v2!N$4:N$7))","v":0},{"$f":"SUMPRODUCT($G958:$J958,TRANSPOSE(Dados_v2!O$4:O$7))","v":0},{"$f":"SUMPRODUCT($G958:$J958,TRANSPOSE(Dados_v2!P$4:P$7))","v":0}]
[null,null,null,null,null,null,null,null,null,null,null,null,null,null,null,null,null,null,null,null,null,null,null,null,null,null,null,null,null,null,null,null,null,null,null,null,null,null,null,null,null,{"$f":"SUMPRODUCT($G959:$J959,TRANSPOSE(Dados_v2!N$4:N$7))","v":0},{"$f":"SUMPRODUCT($G959:$J959,TRANSPOSE(Dados_v2!O$4:O$7))","v":0},{"$f":"SUMPRODUCT($G959:$J959,TRANSPOSE(Dados_v2!P$4:P$7))","v":0}]
[null,null,null,null,null,null,null,null,null,null,null,null,null,null,null,null,null,null,null,null,null,null,null,null,null,null,null,null,null,null,null,null,null,null,null,null,null,null,null,null,null,{"$f":"SUMPRODUCT($G960:$J960,TRANSPOSE(Dados_v2!N$4:N$7))","v":0},{"$f":"SUMPRODUCT($G960:$J960,TRANSPOSE(Dados_v2!O$4:O$7))","v":0},{"$f":"SUMPRODUCT($G960:$J960,TRANSPOSE(Dados_v2!P$4:P$7))","v":0}]
[null,null,null,null,null,null,null,null,null,null,null,null,null,null,null,null,null,null,null,null,null,null,null,null,null,null,null,null,null,null,null,null,null,null,null,null,null,null,null,null,null,{"$f":"SUMPRODUCT($G961:$J961,TRANSPOSE(Dados_v2!N$4:N$7))","v":0},{"$f":"SUMPRODUCT($G961:$J961,TRANSPOSE(Dados_v2!O$4:O$7))","v":0},{"$f":"SUMPRODUCT($G961:$J961,TRANSPOSE(Dados_v2!P$4:P$7))","v":0}]
[null,null,null,null,null,null,null,null,null,null,null,null,null,null,null,null,null,null,null,null,null,null,null,null,null,null,null,null,null,null,null,null,null,null,null,null,null,null,null,null,null,{"$f":"SUMPRODUCT($G962:$J962,TRANSPOSE(Dados_v2!N$4:N$7))","v":0},{"$f":"SUMPRODUCT($G962:$J962,TRANSPOSE(Dados_v2!O$4:O$7))","v":0},{"$f":"SUMPRODUCT($G962:$J962,TRANSPOSE(Dados_v2!P$4:P$7))","v":0}]
[null,null,null,null,null,null,null,null,null,null,null,null,null,null,null,null,null,null,null,null,null,null,null,null,null,null,null,null,null,null,null,null,null,null,null,null,null,null,null,null,null,{"$f":"SUMPRODUCT($G963:$J963,TRANSPOSE(Dados_v2!N$4:N$7))","v":0},{"$f":"SUMPRODUCT($G963:$J963,TRANSPOSE(Dados_v2!O$4:O$7))","v":0},{"$f":"SUMPRODUCT($G963:$J963,TRANSPOSE(Dados_v2!P$4:P$7))","v":0}]
[null,null,null,null,null,null,null,null,null,null,null,null,null,null,null,null,null,null,null,null,null,null,null,null,null,null,null,null,null,null,null,null,null,null,null,null,null,null,null,null,null,{"$f":"SUMPRODUCT($G964:$J964,TRANSPOSE(Dados_v2!N$4:N$7))","v":0},{"$f":"SUMPRODUCT($G964:$J964,TRANSPOSE(Dados_v2!O$4:O$7))","v":0},{"$f":"SUMPRODUCT($G964:$J964,TRANSPOSE(Dados_v2!P$4:P$7))","v":0}]
[null,null,null,null,null,null,null,null,null,null,null,null,null,null,null,null,null,null,null,null,null,null,null,null,null,null,null,null,null,null,null,null,null,null,null,null,null,null,null,null,null,{"$f":"SUMPRODUCT($G965:$J965,TRANSPOSE(Dados_v2!N$4:N$7))","v":0},{"$f":"SUMPRODUCT($G965:$J965,TRANSPOSE(Dados_v2!O$4:O$7))","v":0},{"$f":"SUMPRODUCT($G965:$J965,TRANSPOSE(Dados_v2!P$4:P$7))","v":0}]
[null,null,null,null,null,null,null,null,null,null,null,null,null,null,null,null,null,null,null,null,null,null,null,null,null,null,null,null,null,null,null,null,null,null,null,null,null,null,null,null,null,{"$f":"SUMPRODUCT($G966:$J966,TRANSPOSE(Dados_v2!N$4:N$7))","v":0},{"$f":"SUMPRODUCT($G966:$J966,TRANSPOSE(Dados_v2!O$4:O$7))","v":0},{"$f":"SUMPRODUCT($G966:$J966,TRANSPOSE(Dados_v2!P$4:P$7))","v":0}]
[null,null,null,null,null,null,null,null,null,null,null,null,null,null,null,null,null,null,null,null,null,null,null,null,null,null,null,null,null,null,null,null,null,null,null,null,null,null,null,null,null,{"$f":"SUMPRODUCT($G967:$J967,TRANSPOSE(Dados_v2!N$4:N$7))","v":0},{"$f":"SUMPRODUCT($G967:$J967,TRANSPOSE(Dados_v2!O$4:O$7))","v":0},{"$f":"SUMPRODUCT($G967:$J967,TRANSPOSE(Dados_v2!P$4:P$7))","v":0}]
[null,null,null,null,null,null,null,null,null,null,null,null,null,null,null,null,null,null,null,null,null,null,null,null,null,null,null,null,null,null,null,null,null,null,null,null,null,null,null,null,null,{"$f":"SUMPRODUCT($G968:$J968,TRANSPOSE(Dados_v2!N$4:N$7))","v":0},{"$f":"SUMPRODUCT($G968:$J968,TRANSPOSE(Dados_v2!O$4:O$7))","v":0},{"$f":"SUMPRODUCT($G968:$J968,TRANSPOSE(Dados_v2!P$4:P$7))","v":0}]
[null,null,null,null,null,null,null,null,null,null,null,null,null,null,null,null,null,null,null,null,null,null,null,null,null,null,null,null,null,null,null,null,null,null,null,null,null,null,null,null,null,{"$f":"SUMPRODUCT($G969:$J969,TRANSPOSE(Dados_v2!N$4:N$7))","v":0},{"$f":"SUMPRODUCT($G969:$J969,TRANSPOSE(Dados_v2!O$4:O$7))","v":0},{"$f":"SUMPRODUCT($G969:$J969,TRANSPOSE(Dados_v2!P$4:P$7))","v":0}]
[null,null,null,null,null,null,null,null,null,null,null,null,null,null,null,null,null,null,null,null,null,null,null,null,null,null,null,null,null,null,null,null,null,null,null,null,null,null,null,null,null,{"$f":"SUMPRODUCT($G970:$J970,TRANSPOSE(Dados_v2!N$4:N$7))","v":0},{"$f":"SUMPRODUCT($G970:$J970,TRANSPOSE(Dados_v2!O$4:O$7))","v":0},{"$f":"SUMPRODUCT($G970:$J970,TRANSPOSE(Dados_v2!P$4:P$7))","v":0}]
[null,null,null,null,null,null,null,null,null,null,null,null,null,null,null,null,null,null,null,null,null,null,null,null,null,null,null,null,null,null,null,null,null,null,null,null,null,null,null,null,null,{"$f":"SUMPRODUCT($G971:$J971,TRANSPOSE(Dados_v2!N$4:N$7))","v":0},{"$f":"SUMPRODUCT($G971:$J971,TRANSPOSE(Dados_v2!O$4:O$7))","v":0},{"$f":"SUMPRODUCT($G971:$J971,TRANSPOSE(Dados_v2!P$4:P$7))","v":0}]
[null,null,null,null,null,null,null,null,null,null,null,null,null,null,null,null,null,null,null,null,null,null,null,null,null,null,null,null,null,null,null,null,null,null,null,null,null,null,null,null,null,{"$f":"SUMPRODUCT($G972:$J972,TRANSPOSE(Dados_v2!N$4:N$7))","v":0},{"$f":"SUMPRODUCT($G972:$J972,TRANSPOSE(Dados_v2!O$4:O$7))","v":0},{"$f":"SUMPRODUCT($G972:$J972,TRANSPOSE(Dados_v2!P$4:P$7))","v":0}]
[null,null,null,null,null,null,null,null,null,null,null,null,null,null,null,null,null,null,null,null,null,null,null,null,null,null,null,null,null,null,null,null,null,null,null,null,null,null,null,null,null,{"$f":"SUMPRODUCT($G973:$J973,TRANSPOSE(Dados_v2!N$4:N$7))","v":0},{"$f":"SUMPRODUCT($G973:$J973,TRANSPOSE(Dados_v2!O$4:O$7))","v":0},{"$f":"SUMPRODUCT($G973:$J973,TRANSPOSE(Dados_v2!P$4:P$7))","v":0}]
[null,null,null,null,null,null,null,null,null,null,null,null,null,null,null,null,null,null,null,null,null,null,null,null,null,null,null,null,null,null,null,null,null,null,null,null,null,null,null,null,null,{"$f":"SUMPRODUCT($G974:$J974,TRANSPOSE(Dados_v2!N$4:N$7))","v":0},{"$f":"SUMPRODUCT($G974:$J974,TRANSPOSE(Dados_v2!O$4:O$7))","v":0},{"$f":"SUMPRODUCT($G974:$J974,TRANSPOSE(Dados_v2!P$4:P$7))","v":0}]
[null,null,null,null,null,null,null,null,null,null,null,null,null,null,null,null,null,null,null,null,null,null,null,null,null,null,null,null,null,null,null,null,null,null,null,null,null,null,null,null,null,{"$f":"SUMPRODUCT($G975:$J975,TRANSPOSE(Dados_v2!N$4:N$7))","v":0},{"$f":"SUMPRODUCT($G975:$J975,TRANSPOSE(Dados_v2!O$4:O$7))","v":0},{"$f":"SUMPRODUCT($G975:$J975,TRANSPOSE(Dados_v2!P$4:P$7))","v":0}]
[null,null,null,null,null,null,null,null,null,null,null,null,null,null,null,null,null,null,null,null,null,null,null,null,null,null,null,null,null,null,null,null,null,null,null,null,null,null,null,null,null,{"$f":"SUMPRODUCT($G976:$J976,TRANSPOSE(Dados_v2!N$4:N$7))","v":0},{"$f":"SUMPRODUCT($G976:$J976,TRANSPOSE(Dados_v2!O$4:O$7))","v":0},{"$f":"SUMPRODUCT($G976:$J976,TRANSPOSE(Dados_v2!P$4:P$7))","v":0}]
[null,null,null,null,null,null,null,null,null,null,null,null,null,null,null,null,null,null,null,null,null,null,null,null,null,null,null,null,null,null,null,null,null,null,null,null,null,null,null,null,null,{"$f":"SUMPRODUCT($G977:$J977,TRANSPOSE(Dados_v2!N$4:N$7))","v":0},{"$f":"SUMPRODUCT($G977:$J977,TRANSPOSE(Dados_v2!O$4:O$7))","v":0},{"$f":"SUMPRODUCT($G977:$J977,TRANSPOSE(Dados_v2!P$4:P$7))","v":0}]
[null,null,null,null,null,null,null,null,null,null,null,null,null,null,null,null,null,null,null,null,null,null,null,null,null,null,null,null,null,null,null,null,null,null,null,null,null,null,null,null,null,{"$f":"SUMPRODUCT($G978:$J978,TRANSPOSE(Dados_v2!N$4:N$7))","v":0},{"$f":"SUMPRODUCT($G978:$J978,TRANSPOSE(Dados_v2!O$4:O$7))","v":0},{"$f":"SUMPRODUCT($G978:$J978,TRANSPOSE(Dados_v2!P$4:P$7))","v":0}]
[null,null,null,null,null,null,null,null,null,null,null,null,null,null,null,null,null,null,null,null,null,null,null,null,null,null,null,null,null,null,null,null,null,null,null,null,null,null,null,null,null,{"$f":"SUMPRODUCT($G979:$J979,TRANSPOSE(Dados_v2!N$4:N$7))","v":0},{"$f":"SUMPRODUCT($G979:$J979,TRANSPOSE(Dados_v2!O$4:O$7))","v":0},{"$f":"SUMPRODUCT($G979:$J979,TRANSPOSE(Dados_v2!P$4:P$7))","v":0}]
[null,null,null,null,null,null,null,null,null,null,null,null,null,null,null,null,null,null,null,null,null,null,null,null,null,null,null,null,null,null,null,null,null,null,null,null,null,null,null,null,null,{"$f":"SUMPRODUCT($G980:$J980,TRANSPOSE(Dados_v2!N$4:N$7))","v":0},{"$f":"SUMPRODUCT($G980:$J980,TRANSPOSE(Dados_v2!O$4:O$7))","v":0},{"$f":"SUMPRODUCT($G980:$J980,TRANSPOSE(Dados_v2!P$4:P$7))","v":0}]
[null,null,null,null,null,null,null,null,null,null,null,null,null,null,null,null,null,null,null,null,null,null,null,null,null,null,null,null,null,null,null,null,null,null,null,null,null,null,null,null,null,{"$f":"SUMPRODUCT($G981:$J981,TRANSPOSE(Dados_v2!N$4:N$7))","v":0},{"$f":"SUMPRODUCT($G981:$J981,TRANSPOSE(Dados_v2!O$4:O$7))","v":0},{"$f":"SUMPRODUCT($G981:$J981,TRANSPOSE(Dados_v2!P$4:P$7))","v":0}]
[null,null,null,null,null,null,null,null,null,null,null,null,null,null,null,null,null,null,null,null,null,null,null,null,null,null,null,null,null,null,null,null,null,null,null,null,null,null,null,null,null,{"$f":"SUMPRODUCT($G982:$J982,TRANSPOSE(Dados_v2!N$4:N$7))","v":0},{"$f":"SUMPRODUCT($G982:$J982,TRANSPOSE(Dados_v2!O$4:O$7))","v":0},{"$f":"SUMPRODUCT($G982:$J982,TRANSPOSE(Dados_v2!P$4:P$7))","v":0}]
[null,null,null,null,null,null,null,null,null,null,null,null,null,null,null,null,null,null,null,null,null,null,null,null,null,null,null,null,null,null,null,null,null,null,null,null,null,null,null,null,null,{"$f":"SUMPRODUCT($G983:$J983,TRANSPOSE(Dados_v2!N$4:N$7))","v":0},{"$f":"SUMPRODUCT($G983:$J983,TRANSPOSE(Dados_v2!O$4:O$7))","v":0},{"$f":"SUMPRODUCT($G983:$J983,TRANSPOSE(Dados_v2!P$4:P$7))","v":0}]
[null,null,null,null,null,null,null,null,null,null,null,null,null,null,null,null,null,null,null,null,null,null,null,null,null,null,null,null,null,null,null,null,null,null,null,null,null,null,null,null,null,{"$f":"SUMPRODUCT($G984:$J984,TRANSPOSE(Dados_v2!N$4:N$7))","v":0},{"$f":"SUMPRODUCT($G984:$J984,TRANSPOSE(Dados_v2!O$4:O$7))","v":0},{"$f":"SUMPRODUCT($G984:$J984,TRANSPOSE(Dados_v2!P$4:P$7))","v":0}]
[null,null,null,null,null,null,null,null,null,null,null,null,null,null,null,null,null,null,null,null,null,null,null,null,null,null,null,null,null,null,null,null,null,null,null,null,null,null,null,null,null,{"$f":"SUMPRODUCT($G985:$J985,TRANSPOSE(Dados_v2!N$4:N$7))","v":0},{"$f":"SUMPRODUCT($G985:$J985,TRANSPOSE(Dados_v2!O$4:O$7))","v":0},{"$f":"SUMPRODUCT($G985:$J985,TRANSPOSE(Dados_v2!P$4:P$7))","v":0}]
[null,null,null,null,null,null,null,null,null,null,null,null,null,null,null,null,null,null,null,null,null,null,null,null,null,null,null,null,null,null,null,null,null,null,null,null,null,null,null,null,null,{"$f":"SUMPRODUCT($G986:$J986,TRANSPOSE(Dados_v2!N$4:N$7))","v":0},{"$f":"SUMPRODUCT($G986:$J986,TRANSPOSE(Dados_v2!O$4:O$7))","v":0},{"$f":"SUMPRODUCT($G986:$J986,TRANSPOSE(Dados_v2!P$4:P$7))","v":0}]
[null,null,null,null,null,null,null,null,null,null,null,null,null,null,null,null,null,null,null,null,null,null,null,null,null,null,null,null,null,null,null,null,null,null,null,null,null,null,null,null,null,{"$f":"SUMPRODUCT($G987:$J987,TRANSPOSE(Dados_v2!N$4:N$7))","v":0},{"$f":"SUMPRODUCT($G987:$J987,TRANSPOSE(Dados_v2!O$4:O$7))","v":0},{"$f":"SUMPRODUCT($G987:$J987,TRANSPOSE(Dados_v2!P$4:P$7))","v":0}]
[null,null,null,null,null,null,null,null,null,null,null,null,null,null,null,null,null,null,null,null,null,null,null,null,null,null,null,null,null,null,null,null,null,null,null,null,null,null,null,null,null,{"$f":"SUMPRODUCT($G988:$J988,TRANSPOSE(Dados_v2!N$4:N$7))","v":0},{"$f":"SUMPRODUCT($G988:$J988,TRANSPOSE(Dados_v2!O$4:O$7))","v":0},{"$f":"SUMPRODUCT($G988:$J988,TRANSPOSE(Dados_v2!P$4:P$7))","v":0}]
[null,null,null,null,null,null,null,null,null,null,null,null,null,null,null,null,null,null,null,null,null,null,null,null,null,null,null,null,null,null,null,null,null,null,null,null,null,null,null,null,null,{"$f":"SUMPRODUCT($G989:$J989,TRANSPOSE(Dados_v2!N$4:N$7))","v":0},{"$f":"SUMPRODUCT($G989:$J989,TRANSPOSE(Dados_v2!O$4:O$7))","v":0},{"$f":"SUMPRODUCT($G989:$J989,TRANSPOSE(Dados_v2!P$4:P$7))","v":0}]
[null,null,null,null,null,null,null,null,null,null,null,null,null,null,null,null,null,null,null,null,null,null,null,null,null,null,null,null,null,null,null,null,null,null,null,null,null,null,null,null,null,{"$f":"SUMPRODUCT($G990:$J990,TRANSPOSE(Dados_v2!N$4:N$7))","v":0},{"$f":"SUMPRODUCT($G990:$J990,TRANSPOSE(Dados_v2!O$4:O$7))","v":0},{"$f":"SUMPRODUCT($G990:$J990,TRANSPOSE(Dados_v2!P$4:P$7))","v":0}]
[null,null,null,null,null,null,null,null,null,null,null,null,null,null,null,null,null,null,null,null,null,null,null,null,null,null,null,null,null,null,null,null,null,null,null,null,null,null,null,null,null,{"$f":"SUMPRODUCT($G991:$J991,TRANSPOSE(Dados_v2!N$4:N$7))","v":0},{"$f":"SUMPRODUCT($G991:$J991,TRANSPOSE(Dados_v2!O$4:O$7))","v":0},{"$f":"SUMPRODUCT($G991:$J991,TRANSPOSE(Dados_v2!P$4:P$7))","v":0}]
[null,null,null,null,null,null,null,null,null,null,null,null,null,null,null,null,null,null,null,null,null,null,null,null,null,null,null,null,null,null,null,null,null,null,null,null,null,null,null,null,null,{"$f":"SUMPRODUCT($G992:$J992,TRANSPOSE(Dados_v2!N$4:N$7))","v":0},{"$f":"SUMPRODUCT($G992:$J992,TRANSPOSE(Dados_v2!O$4:O$7))","v":0},{"$f":"SUMPRODUCT($G992:$J992,TRANSPOSE(Dados_v2!P$4:P$7))","v":0}]
[null,null,null,null,null,null,null,null,null,null,null,null,null,null,null,null,null,null,null,null,null,null,null,null,null,null,null,null,null,null,null,null,null,null,null,null,null,null,null,null,null,{"$f":"SUMPRODUCT($G993:$J993,TRANSPOSE(Dados_v2!N$4:N$7))","v":0},{"$f":"SUMPRODUCT($G993:$J993,TRANSPOSE(Dados_v2!O$4:O$7))","v":0},{"$f":"SUMPRODUCT($G993:$J993,TRANSPOSE(Dados_v2!P$4:P$7))","v":0}]
[null,null,null,null,null,null,null,null,null,null,null,null,null,null,null,null,null,null,null,null,null,null,null,null,null,null,null,null,null,null,null,null,null,null,null,null,null,null,null,null,null,{"$f":"SUMPRODUCT($G994:$J994,TRANSPOSE(Dados_v2!N$4:N$7))","v":0},{"$f":"SUMPRODUCT($G994:$J994,TRANSPOSE(Dados_v2!O$4:O$7))","v":0},{"$f":"SUMPRODUCT($G994:$J994,TRANSPOSE(Dados_v2!P$4:P$7))","v":0}]
[null,null,null,null,null,null,null,null,null,null,null,null,null,null,null,null,null,null,null,null,null,null,null,null,null,null,null,null,null,null,null,null,null,null,null,null,null,null,null,null,null,{"$f":"SUMPRODUCT($G995:$J995,TRANSPOSE(Dados_v2!N$4:N$7))","v":0},{"$f":"SUMPRODUCT($G995:$J995,TRANSPOSE(Dados_v2!O$4:O$7))","v":0},{"$f":"SUMPRODUCT($G995:$J995,TRANSPOSE(Dados_v2!P$4:P$7))","v":0}]
[null,null,null,null,null,null,null,null,null,null,null,null,null,null,null,null,null,null,null,null,null,null,null,null,null,null,null,null,null,null,null,null,null,null,null,null,null,null,null,null,null,{"$f":"SUMPRODUCT($G996:$J996,TRANSPOSE(Dados_v2!N$4:N$7))","v":0},{"$f":"SUMPRODUCT($G996:$J996,TRANSPOSE(Dados_v2!O$4:O$7))","v":0},{"$f":"SUMPRODUCT($G996:$J996,TRANSPOSE(Dados_v2!P$4:P$7))","v":0}]
[null,null,null,null,null,null,null,null,null,null,null,null,null,null,null,null,null,null,null,null,null,null,null,null,null,null,null,null,null,null,null,null,null,null,null,null,null,null,null,null,null,{"$f":"SUMPRODUCT($G997:$J997,TRANSPOSE(Dados_v2!N$4:N$7))","v":0},{"$f":"SUMPRODUCT($G997:$J997,TRANSPOSE(Dados_v2!O$4:O$7))","v":0},{"$f":"SUMPRODUCT($G997:$J997,TRANSPOSE(Dados_v2!P$4:P$7))","v":0}]
[null,null,null,null,null,null,null,null,null,null,null,null,null,null,null,null,null,null,null,null,null,null,null,null,null,null,null,null,null,null,null,null,null,null,null,null,null,null,null,null,null,{"$f":"SUMPRODUCT($G998:$J998,TRANSPOSE(Dados_v2!N$4:N$7))","v":0},{"$f":"SUMPRODUCT($G998:$J998,TRANSPOSE(Dados_v2!O$4:O$7))","v":0},{"$f":"SUMPRODUCT($G998:$J998,TRANSPOSE(Dados_v2!P$4:P$7))","v":0}]
[null,null,null,null,null,null,null,null,null,null,null,null,null,null,null,null,null,null,null,null,null,null,null,null,null,null,null,null,null,null,null,null,null,null,null,null,null,null,null,null,null,{"$f":"SUMPRODUCT($G999:$J999,TRANSPOSE(Dados_v2!N$4:N$7))","v":0},{"$f":"SUMPRODUCT($G999:$J999,TRANSPOSE(Dados_v2!O$4:O$7))","v":0},{"$f":"SUMPRODUCT($G999:$J999,TRANSPOSE(Dados_v2!P$4:P$7))","v":0}]
[null,null,null,null,null,null,null,null,null,null,null,null,null,null,null,null,null,null,null,null,null,null,null,null,null,null,null,null,null,null,null,null,null,null,null,null,null,null,null,null,null,{"$f":"SUMPRODUCT($G1000:$J1000,TRANSPOSE(Dados_v2!N$4:N$7))","v":0},{"$f":"SUMPRODUCT($G1000:$J1000,TRANSPOSE(Dados_v2!O$4:O$7))","v":0},{"$f":"SUMPRODUCT($G1000:$J1000,TRANSPOSE(Dados_v2!P$4:P$7))","v":0}]
[null,null,null,null,null,null,null,null,null,null,null,null,null,null,null,null,null,null,null,null,null,null,null,null,null,null,null,null,null,null,null,null,null,null,null,null,null,null,null,null,null,{"$f":"SUMPRODUCT($G1001:$J1001,TRANSPOSE(Dados_v2!N$4:N$7))","v":0},{"$f":"SUMPRODUCT($G1001:$J1001,TRANSPOSE(Dados_v2!O$4:O$7))","v":0},{"$f":"SUMPRODUCT($G1001:$J1001,TRANSPOSE(Dados_v2!P$4:P$7))","v":0}]
[null,null,null,null,null,null,null,null,null,null,null,null,null,null,null,null,null,null,null,null,null,null,null,null,null,null,null,null,null,null,null,null,null,null,null,null,null,null,null,null,null,{"$f":"SUMPRODUCT($G1002:$J1002,TRANSPOSE(Dados_v2!N$4:N$7))","v":0},{"$f":"SUMPRODUCT($G1002:$J1002,TRANSPOSE(Dados_v2!O$4:O$7))","v":0},{"$f":"SUMPRODUCT($G1002:$J1002,TRANSPOSE(Dados_v2!P$4:P$7))","v":0}]
[null,null,null,null,null,null,null,null,null,null,null,null,null,null,null,null,null,null,null,null,null,null,null,null,null,null,null,null,null,null,null,null,null,null,null,null,null,null,null,null,null,{"$f":"SUMPRODUCT($G1003:$J1003,TRANSPOSE(Dados_v2!N$4:N$7))","v":0},{"$f":"SUMPRODUCT($G1003:$J1003,TRANSPOSE(Dados_v2!O$4:O$7))","v":0},{"$f":"SUMPRODUCT($G1003:$J1003,TRANSPOSE(Dados_v2!P$4:P$7))","v":0}]
[null,null,null,null,null,null,null,null,null,null,null,null,null,null,null,null,null,null,null,null,null,null,null,null,null,null,null,null,null,null,null,null,null,null,null,null,null,null,null,null,null,{"$f":"SUMPRODUCT($G1004:$J1004,TRANSPOSE(Dados_v2!N$4:N$7))","v":0},{"$f":"SUMPRODUCT($G1004:$J1004,TRANSPOSE(Dados_v2!O$4:O$7))","v":0},{"$f":"SUMPRODUCT($G1004:$J1004,TRANSPOSE(Dados_v2!P$4:P$7))","v":0}]
[null,null,null,null,null,null,null,null,null,null,null,null,null,null,null,null,null,null,null,null,null,null,null,null,null,null,null,null,null,null,null,null,null,null,null,null,null,null,null,null,null,{"$f":"SUMPRODUCT($G1005:$J1005,TRANSPOSE(Dados_v2!N$4:N$7))","v":0},{"$f":"SUMPRODUCT($G1005:$J1005,TRANSPOSE(Dados_v2!O$4:O$7))","v":0},{"$f":"SUMPRODUCT($G1005:$J1005,TRANSPOSE(Dados_v2!P$4:P$7))","v":0}]
[null,null,null,null,null,null,null,null,null,null,null,null,null,null,null,null,null,null,null,null,null,null,null,null,null,null,null,null,null,null,null,null,null,null,null,null,null,null,null,null,null,{"$f":"SUMPRODUCT($G1006:$J1006,TRANSPOSE(Dados_v2!N$4:N$7))","v":0},{"$f":"SUMPRODUCT($G1006:$J1006,TRANSPOSE(Dados_v2!O$4:O$7))","v":0},{"$f":"SUMPRODUCT($G1006:$J1006,TRANSPOSE(Dados_v2!P$4:P$7))","v":0}]
[null,null,null,null,null,null,null,null,null,null,null,null,null,null,null,null,null,null,null,null,null,null,null,null,null,null,null,null,null,null,null,null,null,null,null,null,null,null,null,null,null,{"$f":"SUMPRODUCT($G1007:$J1007,TRANSPOSE(Dados_v2!N$4:N$7))","v":0},{"$f":"SUMPRODUCT($G1007:$J1007,TRANSPOSE(Dados_v2!O$4:O$7))","v":0},{"$f":"SUMPRODUCT($G1007:$J1007,TRANSPOSE(Dados_v2!P$4:P$7))","v":0}]
[null,null,null,null,null,null,null,null,null,null,null,null,null,null,null,null,null,null,null,null,null,null,null,null,null,null,null,null,null,null,null,null,null,null,null,null,null,null,null,null,null,{"$f":"SUMPRODUCT($G1008:$J1008,TRANSPOSE(Dados_v2!N$4:N$7))","v":0},{"$f":"SUMPRODUCT($G1008:$J1008,TRANSPOSE(Dados_v2!O$4:O$7))","v":0},{"$f":"SUMPRODUCT($G1008:$J1008,TRANSPOSE(Dados_v2!P$4:P$7))","v":0}]
[null,null,null,null,null,null,null,null,null,null,null,null,null,null,null,null,null,null,null,null,null,null,null,null,null,null,null,null,null,null,null,null,null,null,null,null,null,null,null,null,null,{"$f":"SUMPRODUCT($G1009:$J1009,TRANSPOSE(Dados_v2!N$4:N$7))","v":0},{"$f":"SUMPRODUCT($G1009:$J1009,TRANSPOSE(Dados_v2!O$4:O$7))","v":0},{"$f":"SUMPRODUCT($G1009:$J1009,TRANSPOSE(Dados_v2!P$4:P$7))","v":0}]
[null,null,null,null,null,null,null,null,null,null,null,null,null,null,null,null,null,null,null,null,null,null,null,null,null,null,null,null,null,null,null,null,null,null,null,null,null,null,null,null,null,{"$f":"SUMPRODUCT($G1010:$J1010,TRANSPOSE(Dados_v2!N$4:N$7))","v":0},{"$f":"SUMPRODUCT($G1010:$J1010,TRANSPOSE(Dados_v2!O$4:O$7))","v":0},{"$f":"SUMPRODUCT($G1010:$J1010,TRANSPOSE(Dados_v2!P$4:P$7))","v":0}]
[null,null,null,null,null,null,null,null,null,null,null,null,null,null,null,null,null,null,null,null,null,null,null,null,null,null,null,null,null,null,null,null,null,null,null,null,null,null,null,null,null,{"$f":"SUMPRODUCT($G1011:$J1011,TRANSPOSE(Dados_v2!N$4:N$7))","v":0},{"$f":"SUMPRODUCT($G1011:$J1011,TRANSPOSE(Dados_v2!O$4:O$7))","v":0},{"$f":"SUMPRODUCT($G1011:$J1011,TRANSPOSE(Dados_v2!P$4:P$7))","v":0}]
[null,null,null,null,null,null,null,null,null,null,null,null,null,null,null,null,null,null,null,null,null,null,null,null,null,null,null,null,null,null,null,null,null,null,null,null,null,null,null,null,null,{"$f":"SUMPRODUCT($G1012:$J1012,TRANSPOSE(Dados_v2!N$4:N$7))","v":0},{"$f":"SUMPRODUCT($G1012:$J1012,TRANSPOSE(Dados_v2!O$4:O$7))","v":0},{"$f":"SUMPRODUCT($G1012:$J1012,TRANSPOSE(Dados_v2!P$4:P$7))","v":0}]
[null,null,null,null,null,null,null,null,null,null,null,null,null,null,null,null,null,null,null,null,null,null,null,null,null,null,null,null,null,null,null,null,null,null,null,null,null,null,null,null,"Total",{"$f":"SUM(AP8:AP1012)","v":2975507.3847328271},{"$f":"SUM(AQ8:AQ1012)","v":916448.32116640091},{"$f":"SUM(AR8:AR1012)","v":24471.733571744393}]

{"sheet":"Análise de Cenários","index":5,"n_rows":22,"n_cols":25,"rows_kept":22,"cut":false,"hidden":false,"merged":[]}
[]
[]
[]
[]
[]
[]
[]
[]
[]
[]
[]
[]
[]
[]
[]
[]
[]
[null,null,null,null,null,null,null,null,null,null,null,null,null,null,null,null,null,null,null,null,null,"Tipologia agrupada","CO (g/km)","NOx (g/km)","MP (g/km)"]
[null,null,null,null,null,null,null,null,null,null,null,null,null,null,null,null,null,null,null,null,null,"Automóveis",{"$f":"SUM('Dados de entrada'!$G$8:$G$1012)*Dados_v2!N4","v":2343462.2969945809},{"$f":"SUM('Dados de entrada'!$G$8:$G$1012)*Dados_v2!O4","v":322173.50770750653},{"$f":"SUM('Dados de entrada'!$G$8:$G$1012)*Dados_v2!P4","v":3638.0907578233196}]
[null,null,null,null,null,null,null,null,null,null,null,null,null,null,null,null,null,null,null,null,null,"Motos",{"$f":"SUM('Dados de entrada'!$H$8:$H$1012)*Dados_v2!N5","v":525420.5003198036},{"$f":"SUM('Dados de entrada'!$H$8:$H$1012)*Dados_v2!O5","v":25773.18151596254},{"$f":"SUM('Dados de entrada'!$H$8:$H$1012)*Dados_v2!P5","v":0}]
[null,null,null,null,null,null,null,null,null,null,null,null,null,null,null,null,null,null,null,null,null,"Ônibus",{"$f":"SUM('Dados de entrada'!$I$8:$I$1012)*Dados_v2!N6","v":95661.062502546571},{"$f":"SUM('Dados de entrada'!$I$8:$I$1012)*Dados_v2!O6","v":504259.45856675191},{"$f":"SUM('Dados de entrada'!$I$8:$I$1012)*Dados_v2!P6","v":18446.364304747396}]
[null,null,null,null,null,null,null,null,null,null,null,null,null,null,null,null,null,null,null,null,null,"Caminhões",{"$f":"SUM('Dados de entrada'!$J$8:$J$1012)*Dados_v2!N7","v":10963.52491589646},{"$f":"SUM('Dados de entrada'!$J$8:$J$1012)*Dados_v2!O7","v":64242.173376179926},{"$f":"SUM('Dados de entrada'!$J$8:$J$1012)*Dados_v2!P7","v":2387.2785091736687}]